{"text_format":"2","workbook":"xlsx","n_sheets":11,"sheets":["Revision","Instructions","Definitions","Declaration","Processor List","Checker","Product List","Smelter Look-up","L","C","SorP"],"not_rendered":{"charts":0,"images":1,"macros":0,"external_links":0,"defined_names":51,"comments":0,"pivot_tables":0},"unopened":[],"bounds":{"document_bytes":16777216,"sheet_cells":100000,"run_cost":"one","rows_first":2000,"rows_last":500,"rows_between":2000,"halvings":0,"cell_chars":16384,"cell_head_chars":4096},"cells_cut":0,"cells_raw":0,"read":"whole","date_system":"1900"}

{"sheet":"Revision","index":0,"n_rows":14,"n_cols":6,"rows_kept":14,"cut":false,"hidden":false,"merged":[[1,0,13,0],[13,1,13,5],[8,1,8,5],[9,1,10,5]]}
[]
[null,"DOCUMENT TITLE"]
[null,"Mica Reporting Template"]
[null,"SHEET"]
[null,"1 of 5"]
[]
[]
[]
[null,"REVISION HISTORY"]
[null,"• A change in the first digit of the revision number (e.g., 1.0 to 2.0) signifies that a set of major improvements have occurred and would likely include different data reporting requirements. \n• Changes to the first decimal places (2.10 to 2.20) indicate that minor changes have been made to the template and are not expected to result in substantial changes to the data being reported.  \n• Changes to the second decimal places (2.10 to 2.11) indicates an even more minor change, for example an update to the smelter reference list\n• Changes to alpha characters (e.g., \"a\", or \"b\", or \"c\") following the revision number indicates that the version is an alpha or a beta version; these only appear on pre-released versions and would be dropped once the version is released to the public.  A version with a letter (post version 4.xx) should not be used in commerce.  RMI recommends that companies reject these versions as they are pre-release and could contain errors or other inconsistencies which could impact the accuracy of the data.\n"]
[]
[null,"REVISION","ORIGINATOR","RELEASE DATE","DESCRIPTION OF FUNCTIONAL CHANGE","UPDATES TO PROCESSOR LIST"]
[null,1,"RMI","2020-10-28","New Release","Not applicable"]
[null,{"$f":"OFFSET(L!$C$1,MATCH(\"General\"&\"Cpy\",L!$A:$A,0)-1,SL,,)","v":"© 2020 Responsible Minerals Initiative. All rights reserved."}]

{"sheet":"Instructions","index":1,"n_rows":42,"n_cols":1,"rows_kept":42,"cut":false,"hidden":false,"merged":[]}
[{"$f":"OFFSET(L!$C$1,MATCH(\"Instructions\"&ADDRESS(ROW(),COLUMN(),4),L!$A:$A,0)-1,SL,,)","v":"RMI:www.responsiblemineralsinitiative.org/"}]
[{"$f":"OFFSET(L!$C$1,MATCH(\"Instructions\"&ADDRESS(ROW(),COLUMN(),4),L!$A:$A,0)-1,SL,,)","v":"Introduction"}]
[{"$f":"OFFSET(L!$C$1,MATCH(\"Instructions\"&ADDRESS(ROW(),COLUMN(),4),L!$A:$A,0)-1,SL,,)","v":"This Mica Reporting Template (MRT) is a free, standardized reporting template created by the Responsible Minerals Initiative (RMI). The Template facilitates the transfer of information through the supply chain regarding mineral country of origin and processors being utilized. The template also facilitates the identification of new processors to potentially undergo an assessment via the Responsible Minerals Assurance Process.\n\nThe MRT was designed for downstream companies to disclose information about their supply chains up to the processor. If you are a processor, we recommend you enter your own name in the processor list tab.\n\nWhen filling out the form, none of the cell entries should start with \"+\" or \"#\"."}]
[]
[{"$f":"OFFSET(L!$C$1,MATCH(\"Instructions\"&ADDRESS(ROW(),COLUMN(),4),L!$A:$A,0)-1,SL,,)","v":"Instructions for completing the Company Information questions (rows 8 - 14)\nProvide comments in ENGLISH only"}]
[{"$f":"OFFSET(L!$C$1,MATCH(\"Instructions\"&ADDRESS(ROW(),COLUMN(),4),L!$A:$A,0)-1,SL,,)","v":"Note:  Entries with (*) are mandatory fields. "}]
[{"$f":"OFFSET(L!$C$1,MATCH(\"Instructions\"&ADDRESS(ROW(),COLUMN(),4),L!$A:$A,0)-1,SL,,)","v":"1. Insert your company's Legal Name.  Please do not use abbreviations. In this field you have the option to add other commercial names, DBAs, etc."}]
[{"$f":"OFFSET(L!$C$1,MATCH(\"Instructions\"&ADDRESS(ROW(),COLUMN(),4),L!$A:$A,0)-1,SL,,)","v":"2. Insert your company’s unique identifier number or code (DUNS number, VAT number, customer-specific identifier, etc.)"}]
[{"$f":"OFFSET(L!$C$1,MATCH(\"Instructions\"&ADDRESS(ROW(),COLUMN(),4),L!$A:$A,0)-1,SL,,)","v":"3. Insert your full company address (street, city, state, country, postal code).  This field is optional."}]
[{"$f":"OFFSET(L!$C$1,MATCH(\"Instructions\"&ADDRESS(ROW(),COLUMN(),4),L!$A:$A,0)-1,SL,,)","v":"4. Insert the name of the person to contact regarding the contents of the declaration information. This field is mandatory."}]
[{"$f":"OFFSET(L!$C$1,MATCH(\"Instructions\"&ADDRESS(ROW(),COLUMN(),4),L!$A:$A,0)-1,SL,,)","v":"5. Insert the email address of the contact person.  If an email address is not available, state ‘‘not available’’ or ‘‘n/a.’’ A blank field may cause an error in form implementation.  This field is mandatory."}]
[{"$f":"OFFSET(L!$C$1,MATCH(\"Instructions\"&ADDRESS(ROW(),COLUMN(),4),L!$A:$A,0)-1,SL,,)","v":"6. Insert the telephone number for the contact. This field is mandatory."}]
[{"$f":"OFFSET(L!$C$1,MATCH(\"Instructions\"&ADDRESS(ROW(),COLUMN(),4),L!$A:$A,0)-1,SL,,)","v":"7. Please enter the Date of Completion for this form using the format DD-MMM-YYYY.  This field is mandatory."}]
[]
[{"$f":"OFFSET(L!$C$1,MATCH(\"Instructions\"&ADDRESS(ROW(),COLUMN(),4),L!$A:$A,0)-1,SL,,)","v":"Instructions for completing the Processor List tab.\nProvide comments in ENGLISH only"}]
[{"$f":"OFFSET(L!$C$1,MATCH(\"Instructions\"&ADDRESS(ROW(),COLUMN(),4),L!$A:$A,0)-1,SL,,)","v":"1. Processor Name - Fill in local processor name. This field is mandatory."}]
[{"$f":"OFFSET(L!$C$1,MATCH(\"Instructions\"&ADDRESS(ROW(),COLUMN(),4),L!$A:$A,0)-1,SL,,)","v":"2. Standard Processor Name - Fill in the processor's legal name.  If a company owns multiple processor facilities, the company's legal name should be filled in Column B and the individual facility name should be filled in Column A (ex. \"Local Processor\" in Column A, \"Global Processor Owner\" in Column B\"). This field is optional."}]
[{"$f":"OFFSET(L!$C$1,MATCH(\"Instructions\"&ADDRESS(ROW(),COLUMN(),4),L!$A:$A,0)-1,SL,,)","v":"3. Processor Location: Country - Use the pull down menu to select the country location of the Smelter. This field is mandatory."}]
[{"$f":"OFFSET(L!$C$1,MATCH(\"Instructions\"&ADDRESS(ROW(),COLUMN(),4),L!$A:$A,0)-1,SL,,)","v":"4. Processor ID (if assigned) - This is a unique identifier assigned to a processor according to an established processor identification system. It is expected that multiple names could be used to describe a single processor and therefore multiple names or aliases could be associated to a single 'Processor ID'. This field is optional."}]
[{"$f":"OFFSET(L!$C$1,MATCH(\"Instructions\"&ADDRESS(ROW(),COLUMN(),4),L!$A:$A,0)-1,SL,,)","v":"5. Source of Processor ID Number - This is the source of the Processor ID entered in Column D. This field is optional."}]
[{"$f":"OFFSET(L!$C$1,MATCH(\"Instructions\"&ADDRESS(ROW(),COLUMN(),4),L!$A:$A,0)-1,SL,,)","v":"6. Processor Street - Provide the street name on which the processor is located. This field is optional."}]
[{"$f":"OFFSET(L!$C$1,MATCH(\"Instructions\"&ADDRESS(ROW(),COLUMN(),4),L!$A:$A,0)-1,SL,,)","v":"7. Processor City - Provide the city name of where the processor is located. This field is optional."}]
[{"$f":"OFFSET(L!$C$1,MATCH(\"Instructions\"&ADDRESS(ROW(),COLUMN(),4),L!$A:$A,0)-1,SL,,)","v":"8. Processor State/Province - Provide the state or province where the smelter is located. This field is optional."}]
[{"$f":"OFFSET(L!$C$1,MATCH(\"Instructions\"&ADDRESS(ROW(),COLUMN(),4),L!$A:$A,0)-1,SL,,)","v":"9. Processor Contact Name - The Mica Reporting Template (MRT) is circulated among companies in the requesting company's supply chain.\n\nIf the template is circulated in a country where laws protecting personal information exist, sharing personal contact information in the MRT may violate related regulations. Therefore, it is recommended that the requesting company take precautions such as obtaining the contact person's permission to share the information with other companies in the supply chain when completing \"Processor Contact Name,\" \"Processor Contact Email\" and \"Processor Contact Phone Number\" columns.\n\nIf you have permission to share this information, please fill in the name of the Processor Facility Contact person who you worked with."}]
[{"$f":"OFFSET(L!$C$1,MATCH(\"Instructions\"&ADDRESS(ROW(),COLUMN(),4),L!$A:$A,0)-1,SL,,)","v":"10. Processor Contact Email - Fill in the email address of the Processor Facility contact person who was identified as the Processor Contact Name.  Example: John.Smith@SmelterXXX.com.  Please review the instructions for Processor Contact Name before completing this field."}]
[{"$f":"OFFSET(L!$C$1,MATCH(\"Instructions\"&ADDRESS(ROW(),COLUMN(),4),L!$A:$A,0)-1,SL,,)","v":"11. Processor Contact Phone Number - Fill in the phone number of the Processor Facility contact person who was identified as the Processor Contact Name.  Example:888-888-8888.  Please review the instructions for Processor Contact Name before completing this field."}]
[{"$f":"OFFSET(L!$C$1,MATCH(\"Instructions\"&ADDRESS(ROW(),COLUMN(),4),L!$A:$A,0)-1,SL,,)","v":"12. Name of Mine(s) supplying the Processor or if synthetic mica, enter \"synthetic\" - This field allows a company to define the actual mines being used by the processor.  Please enter the actual mine names if known.  If 100% of the processor's feedstock is synthetic mica, enter \"synthetic\" in place of the name of the mine in Column L. This field is optional."}]
[{"$f":"OFFSET(L!$C$1,MATCH(\"Instructions\"&ADDRESS(ROW(),COLUMN(),4),L!$A:$A,0)-1,SL,,)","v":"13. Location (Country) of Mine(s) or if synthetic mica, enter \"synthetic\" - This is a free form text field that allows a company to define the location of the mines being used by the processor.   Please enter the country of the mine(s).  If the country of origin is not known, enter \"Unknown\".   If 100% of the processor's feedstock is synthetic mica, enter \"synthetic\" in place of the country of origin.  This field is optional."}]
[{"$f":"OFFSET(L!$C$1,MATCH(\"Instructions\"&ADDRESS(ROW(),COLUMN(),4),L!$A:$A,0)-1,SL,,)","v":"14. Indicates whether the processor obtains inputs for its process(es) from artisanal or small scale mining. This field is optional.  Permissible responses to this question are:\n\n- Yes\n- No\n- Unknown"}]
[{"$f":"OFFSET(L!$C$1,MATCH(\"Instructions\"&ADDRESS(ROW(),COLUMN(),4),L!$A:$A,0)-1,SL,,)","v":"15. Indicates whether the processor uses solely synthetic mica as the input for its process(es). This field is optional.  Permissible responses to this question are:\n\n- Yes\n- No\n- Unknown"}]
[{"$f":"OFFSET(L!$C$1,MATCH(\"Instructions\"&ADDRESS(ROW(),COLUMN(),4),L!$A:$A,0)-1,SL,,)","v":"16. Comments – free form text field to enter any comments concerning the smelter.  Example: smelter is being acquired by Company YYY"}]
[]
[{"$f":"OFFSET(L!$C$1,MATCH(\"Instructions\"&ADDRESS(ROW(),COLUMN(),4),L!$A:$A,0)-1,SL,,)","v":"TERMS AND CONDITIONS"}]
[]
[{"$f":"OFFSET(L!$C$1,MATCH(\"Instructions\"&ADDRESS(ROW(),COLUMN(),4),L!$A:$A,0)-1,SL,,)","v":"RBA does not make any representations or warranties with respect to the List or any Tool. The List and Tools are provided on an \"AS IS\" and on an \"AS AVAILABLE\" basis. RBA hereby disclaim all warranties of any nature, express, implied or otherwise, or arising from trade or custom, including, without limitation, any implied warranties of merchantability, non-infringement, quality, title, fitness for a particular purpose, completeness or accuracy. "}]
[{"$f":"OFFSET(L!$C$1,MATCH(\"Instructions\"&ADDRESS(ROW(),COLUMN(),4),L!$A:$A,0)-1,SL,,)","v":"To the fullest extent permitted by applicable laws, RBA renounces any liability for any losses, expenses or damages of any nature, including, without limitation, special, incidental, punitive, direct, indirect or consequential damages or lost income or profits, resulting from or arising out of the User’s use of the List or any Tool, whether arising in tort, contract, statute, or otherwise, even if shown that they were advised of the possibility of such damages. "}]
[{"$f":"OFFSET(L!$C$1,MATCH(\"Instructions\"&ADDRESS(ROW(),COLUMN(),4),L!$A:$A,0)-1,SL,,)","v":"In consideration for access and use of the List and/or any Tool, THE USER hereby agrees to and does (a) release and forever discharge RBA as well as its officers, directors, agents, employees, volunteers, representatives, contractors, successors, and assigns, from any and all claims, actions, losses, suits, damages, judgments, levies, and executions, which the User has ever had, has, or ever can, shall, or may have or claim to have against RBA , as well as its officers, directors, agents, employees, volunteers, representatives, contractors, successors, and assigns, resulting from or arising out of the List or any Tool or use thereof, and agrees to (b) indemnify, defend and hold harmless RBA, as well as its officers, directors, agents, employees, volunteers, representatives, contractors, successors, and assigns, from any and all claims,  actions, losses, suits, damages, judgments, levies, and executions resulting from or arising out of the USER'S use of the List or any Tool."}]
[{"$f":"OFFSET(L!$C$1,MATCH(\"Instructions\"&ADDRESS(ROW(),COLUMN(),4),L!$A:$A,0)-1,SL,,)","v":"If any part of any provision of these Terms and Conditions shall be invalid or unenforceable under applicable law, said part shall be deemed ineffective to the extent of such invalidity or unenforceability only, without in any way affecting the remaining parts of said provision or the remaining provisions of these Terms and Conditions."}]
[{"$f":"OFFSET(L!$C$1,MATCH(\"Instructions\"&ADDRESS(ROW(),COLUMN(),4),L!$A:$A,0)-1,SL,,)","v":"By accessing and using the List or any Tool, and in consideration thereof, the User agrees to the foregoing."}]
[{"$f":"OFFSET(L!$C$1,MATCH(\"General\"&\"Cpy\",L!$A:$A,0)-1,SL,,)","v":"© 2020 Responsible Minerals Initiative. All rights reserved."}]
["Return to declaration tab"]
["Revision 1.0 October 28, 2020"]

{"sheet":"Definitions","index":2,"n_rows":9,"n_cols":5,"rows_kept":9,"cut":false,"hidden":false,"merged":[[0,0,0,3],[8,1,8,2],[1,3,9,3]]}
[]
[null,{"$f":"OFFSET(L!$C$1,MATCH(\"Definitions\"&ADDRESS(ROW(),COLUMN(),4),L!$A:$A,0)-1,SL,,)","v":"ITEM"},{"$f":"OFFSET(L!$C$1,MATCH(\"Definitions\"&ADDRESS(ROW(),COLUMN(),4),L!$A:$A,0)-1,SL,,)","v":"DEFINITION"}]
[null,{"$f":"OFFSET(L!$C$1,MATCH(\"Definitions\"&ADDRESS(ROW(),COLUMN(),4),L!$A:$A,0)-1,SL,,)","v":"Processor"},{"$f":"OFFSET(L!$C$1,MATCH(\"Definitions\"&ADDRESS(ROW(),COLUMN(),4),L!$A:$A,0)-1,SL,,)","v":"A mica processor is an entity that takes raw mined minerals such as pegmatites (schist), feldspar, kaolin, muscovite or phlogopite and subjects them to various physical or mechanical methods to separate non-mica components from mica components, then produce grades of mica products for use in downstream manufacturing processes. Raw mineral processing can include sorting, separation, milling, grinding, cutting, stampling and binding."}]
[null,{"$f":"OFFSET(L!$C$1,MATCH(\"Definitions\"&ADDRESS(ROW(),COLUMN(),4),L!$A:$A,0)-1,SL,,)","v":"Responsible Business Alliance (RBA)"},{"$f":"OFFSET(L!$C$1,MATCH(\"Definitions\"&ADDRESS(ROW(),COLUMN(),4),L!$A:$A,0)-1,SL,,)","v":"Founded in 2004 the Responsible Business Alliance is the world’s largest industry coalition dedicated to electronics supply chain responsibility. (http://www.responsiblebusiness.org)"},null,"\n\n\n"]
[null,{"$f":"OFFSET(L!$C$1,MATCH(\"Definitions\"&ADDRESS(ROW(),COLUMN(),4),L!$A:$A,0)-1,SL,,)","v":"Recycled or Scrap Sources"},{"$f":"OFFSET(L!$C$1,MATCH(\"Definitions\"&ADDRESS(ROW(),COLUMN(),4),L!$A:$A,0)-1,SL,,)","v":"Recycled or scrap sources are recycled cobalt that are reclaimed end-user or post-consumer products, or scrap processed cobalt created during product manufacturing."}]
[null,{"$f":"OFFSET(L!$C$1,MATCH(\"Definitions\"&ADDRESS(ROW(),COLUMN(),4),L!$A:$A,0)-1,SL,,)","v":"Responsible Minerals Assurance Process (RMAP)"},{"$f":"OFFSET(L!$C$1,MATCH(\"Definitions\"&ADDRESS(ROW(),COLUMN(),4),L!$A:$A,0)-1,SL,,)","v":"The Responsible Minerals Assurance Process (RMAP) is a program developed by the RBA and GeSI to enhance company capability to verify the responsible sourcing of metals. Further details of the RMAP can be found here: http://www.responsiblemineralsinitiative.org/smelter-introduction/"},null,"\n\n\n\n\n\n\n\n"]
[null,{"$f":"OFFSET(L!$C$1,MATCH(\"Definitions\"&ADDRESS(ROW(),COLUMN(),4),L!$A:$A,0)-1,SL,,)","v":"Responsible Minerals Initiative (RMI)"},{"$f":"OFFSET(L!$C$1,MATCH(\"Definitions\"&ADDRESS(ROW(),COLUMN(),4),L!$A:$A,0)-1,SL,,)","v":"Founded in 2008 by members of the Responsible Business Alliance and the Global e-Sustainability Initiative, the Responsible Minerals Initiative has grown into one of the most utilized and respected resources for companies addressing conflict minerals issues in their supply chains. Over 150 companies from seven different industries participate in the RMI today, contributing to a range of tools and resources including the Responsible Minerals Assurance Process, the Conflict Minerals Reporting Template, Reasonable Country of Origin Inquiry data and a range of guidance documents on conflict minerals sourcing. The RMI also runs regular workshops on conflict minerals issues and contributes to policy development and debates with leading civil society organizations and governments. Additional information is available at http://www.responsiblemineralsinitiative.org/. "},null,"\n\n"]
[null,{"$f":"OFFSET(L!$C$1,MATCH(\"Definitions\"&ADDRESS(ROW(),COLUMN(),4),L!$A:$A,0)-1,SL,,)","v":"Synthetic"},{"$f":"OFFSET(L!$C$1,MATCH(\"Definitions\"&ADDRESS(ROW(),COLUMN(),4),L!$A:$A,0)-1,SL,,)","v":"Fluorphlogopite mica, also called synthetic mica, is an artificial mica crystal created through smelting mica crystal. It is a component of plastic-free glitters, lustres and pigments."},null,"\n\n"]
[null,{"$f":"OFFSET(L!$C$1,MATCH(\"General\"&\"Cpy\",L!$A:$A,0)-1,SL,,)","v":"© 2020 Responsible Minerals Initiative. All rights reserved."}]

{"sheet":"Declaration","index":3,"n_rows":92,"n_cols":25,"rows_kept":92,"cut":false,"hidden":false,"merged":[[51,1,51,9],[65,3,65,4],[69,3,69,4],[61,3,61,4],[67,6,67,9],[57,3,57,4],[61,6,61,9],[53,6,53,9],[52,6,52,8],[52,3,52,4],[54,6,54,9],[53,3,53,4],[55,6,55,9],[55,3,55,4],[57,6,57,9],[71,0,71,9],[63,6,63,9],[70,1,70,9],[69,6,69,9],[59,3,59,4],[63,3,63,4],[67,3,67,4],[64,6,64,9],[65,6,65,9],[66,6,66,9],[59,6,59,9],[49,6,49,9],[47,6,47,9],[19,3,19,4],[16,6,16,9],[18,6,18,9],[18,3,18,4],[17,3,17,4],[24,6,24,9],[36,3,36,4],[23,3,23,4],[48,6,48,9],[49,3,49,4],[46,3,46,4],[45,7,45,9],[47,3,47,4],[48,3,48,4],[45,3,45,4],[43,3,43,4],[42,3,42,4],[46,6,46,9],[41,3,41,4],[41,6,41,9],[42,6,42,9],[40,3,40,4],[43,6,43,9],[40,6,40,9],[39,7,39,9],[21,3,21,4],[39,3,39,4],[30,6,30,9],[25,6,25,9],[27,3,27,4],[33,3,33,4],[30,3,30,4],[22,6,22,9],[37,6,37,9],[28,6,28,9],[29,3,29,4],[29,6,29,9],[0,0,0,10],[1,3,1,9],[7,3,7,9],[3,1,3,7],[9,3,9,9],[2,4,2,8],[8,3,8,9],[12,3,12,9],[11,3,11,9],[3,8,3,9],[6,1,6,9],[13,3,13,9],[5,1,5,9],[10,3,10,9],[14,1,14,9],[22,3,22,4],[23,6,23,9],[19,6,19,9],[17,6,17,9],[16,3,16,4],[21,7,21,9],[15,3,15,4],[28,3,28,4],[24,3,24,4],[25,3,25,4],[31,6,31,9],[37,3,37,4],[34,3,34,4],[34,6,34,9],[35,3,35,4],[31,3,31,4],[35,6,35,9],[36,6,36,9]]}
[]
[null,null,null,{"$f":"OFFSET(L!$C$1,MATCH(\"Declaration\"&ADDRESS(ROW(),COLUMN(),4),L!$A:$A,0)-1,SL,,)","v":"Mica Reporting Template (MRT)"}]
[null,"Select Language Preference Here:\n请选择你的语言:\n사용할 언어를 선택하시오 :\n表示言語をここから選択してください:\nSélectionner la langue préférée ici:",null,"English",{"$nulls":5},"Revision 1.0\nOctober 28, 2020",{"$nulls":5},{"$f":"MATCH($D$3,LN,0)","v":1}]
[null,{"$f":"OFFSET(L!$C$1,MATCH(\"Declaration\"&ADDRESS(ROW(),COLUMN(),4),L!$A:$A,0)-1,SL,,)","v":"The purpose of this document is to identify Mica related processors and mines."},{"$nulls":6},{"$f":"OFFSET(L!$C$1,MATCH(\"Declaration\"&ADDRESS(ROW(),COLUMN(),4),L!$A:$A,0)-1,SL,,)","v":"Link to Terms & Conditions"}]
[{"$f":"LEFT(D9,1)","v":""}]
[null,{"$f":"OFFSET(L!$C$1,MATCH(\"Declaration\"&ADDRESS(ROW(),COLUMN(),4),L!$A:$A,0)-1,SL,,)","v":"Mandatory fields are noted with an asterisk (*).  Consult the instructions tab for guidance on how to complete this form."},{"$nulls":9},"\n"]
[null,{"$f":"OFFSET(L!$C$1,MATCH(\"Declaration\"&ADDRESS(ROW(),COLUMN(),4),L!$A:$A,0)-1,SL,,)","v":"Company Information (company completing this form)"}]
[null,{"$f":"OFFSET(L!$C$1,MATCH(\"Declaration\"&ADDRESS(ROW(),COLUMN(),4),L!$A:$A,0)-1,SL,,)","v":"Company Name (*):"},null,"Samtec Inc."]
[null,{"$f":"OFFSET(L!$C$1,MATCH(\"Declaration\"&ADDRESS(ROW(),COLUMN(),4),L!$A:$A,0)-1,SL,,)","v":"Company Unique ID:"},{"$nulls":13},"A. Company","B. Product (or List of Products)","C. User defined [Specify in 'Description of scope']"]
[null,{"$f":"OFFSET(L!$C$1,MATCH(\"Declaration\"&ADDRESS(ROW(),COLUMN(),4),L!$A:$A,0)-1,SL,,)","v":"Address:"},null,"520 Park East Blvd. New Albany, IN 47150"]
[null,{"$f":"OFFSET(L!$C$1,MATCH(\"Declaration\"&ADDRESS(ROW(),COLUMN(),4),L!$A:$A,0)-1,SL,,)","v":"Contact Name (*):"},null,"Mark Bobo"]
[null,{"$f":"OFFSET(L!$C$1,MATCH(\"Declaration\"&ADDRESS(ROW(),COLUMN(),4),L!$A:$A,0)-1,SL,,)","v":"Email – Contact (*):"},null,"pec@samtec.com"]
[null,{"$f":"OFFSET(L!$C$1,MATCH(\"Declaration\"&ADDRESS(ROW(),COLUMN(),4),L!$A:$A,0)-1,SL,,)","v":"Phone – Contact (*):"},null,"(812) 944-8306"]
[null,{"$f":"OFFSET(L!$C$1,MATCH(\"Declaration\"&ADDRESS(ROW(),COLUMN(),4),L!$A:$A,0)-1,SL,,)","v":"Effective Date (*):"},null,"06/09/2021"]
[null,{"$f":"OFFSET(L!$C$1,MATCH(\"Declaration\"&ADDRESS(ROW(),COLUMN(),4),L!$A:$A,0)-1,SL,,)","v":{"$error":"#N/A"}}]
[null,{"$f":"OFFSET(L!$C$1,MATCH(\"Declaration\"&ADDRESS(ROW(),COLUMN(),4),L!$A:$A,0)-1,SL,,)","v":{"$error":"#N/A"}},null,{"$f":"OFFSET(L!$C$1,MATCH(\"Declaration\"&ADDRESS(ROW(),COLUMN(),4),L!$A:$A,0)-1,SL,,)","v":{"$error":"#N/A"}},null,null,{"$f":"OFFSET(L!$C$1,MATCH(\"Declaration\"&ADDRESS(ROW(),COLUMN(),4),L!$A:$A,0)-1,SL,,)","v":{"$error":"#N/A"}},{"$nulls":4},"\n\n"]
[null,{"$f":"OFFSET(L!$C$1,MATCH(\"Declaration\"&ADDRESS(ROW(),COLUMN(),4),L!$A:$A,0)-1,SL,,)&P17","v":{"$error":"#N/A"}},{"$nulls":13},{"$f":"IF(OR(D$17=\"No\",D$17=\"Unknown\"),\"\",\"(*)\")","v":"(*)"}]
[null,{"$f":"OFFSET(L!$C$1,MATCH(\"Declaration\"&ADDRESS(ROW(),COLUMN(),4),L!$A:$A,0)-1,SL,,)&P18","v":{"$error":"#N/A"}},null,"No",{"$nulls":11},{"$f":"IF(D$18=\"No\",\"\",\"(*)\")","v":""}]
[null,{"$f":"OFFSET(L!$C$1,MATCH(\"Declaration\"&ADDRESS(ROW(),COLUMN(),4),L!$A:$A,0)-1,SL,,)&P19","v":{"$error":"#N/A"}},null,"No",{"$nulls":11},{"$f":"IF(D$19=\"No\",\"\",\"(*)\")","v":""}]
[null,{"$f":"OFFSET(L!$C$1,MATCH(\"Declaration\"&ADDRESS(ROW(),COLUMN(),4),L!$A:$A,0)-1,SL,,)&P20","v":{"$error":"#N/A"}},null,"No",{"$nulls":11},{"$f":"IF(D$20=\"No\",\"\",\"(*)\")","v":""}]
[]
[null,{"$f":"OFFSET(L!$C$1,MATCH(\"Declaration\"&ADDRESS(ROW(),COLUMN(),4),L!$A:$A,0)-1,SL,,)&Q22","v":{"$error":"#N/A"}},null,{"$f":"D16","v":{"$error":"#N/A"}},null,null,{"$f":"G16","v":{"$error":"#N/A"}},{"$nulls":4},"\n",null,null,null,{"$f":"COUNTIF(D$17:D$20,\"No\")","v":3},{"$f":"IF(OR(D$17=\"No\",D$17=\"Unknown\"),\"\",\"(*)\")","v":"(*)"},{"$nulls":7},37]
[null,{"$f":"OFFSET(L!$C$1,MATCH(\"Declaration\"&ADDRESS(ROW(),COLUMN(),4),L!$A:$A,0)-1,SL,,)&P23","v":{"$error":"#N/A"}},{"$nulls":13},{"$f":"IF(OR(D$17=\"No\",D$17=\"Unknown\"),\"\",\"(*)\")","v":"(*)"},{"$nulls":8},38]
[null,{"$f":"OFFSET(L!$C$1,MATCH(\"Declaration\"&ADDRESS(ROW(),COLUMN(),4),L!$A:$A,0)-1,SL,,)","v":{"$error":"#N/A"}},{"$nulls":13},{"$f":"IF(D$24=\"No\",\"\",\"(*)\")","v":"(*)"},{"$nulls":8},39]
[null,{"$f":"OFFSET(L!$C$1,MATCH(\"Declaration\"&ADDRESS(ROW(),COLUMN(),4),L!$A:$A,0)-1,SL,,)","v":{"$error":"#N/A"}},{"$nulls":13},{"$f":"IF(D$25=\"No\",\"\",\"(*)\")","v":"(*)"},{"$nulls":8},40]
[null,{"$f":"OFFSET(L!$C$1,MATCH(\"Declaration\"&ADDRESS(ROW(),COLUMN(),4),L!$A:$A,0)-1,SL,,)","v":{"$error":"#N/A"}},{"$nulls":13},{"$f":"IF(D$26=\"No\",\"\",\"(*)\")","v":"(*)"},{"$nulls":8},41]
[{"$nulls":24},42]
[null,{"$f":"OFFSET(L!$C$1,MATCH(\"Declaration\"&ADDRESS(ROW(),COLUMN(),4),L!$A:$A,0)-1,SL,,)&Q22","v":{"$error":"#N/A"}},null,{"$f":"D16","v":{"$error":"#N/A"}},null,null,{"$f":"G16","v":{"$error":"#N/A"}},{"$nulls":4},"\n",{"$nulls":12},43]
[null,{"$f":"B23","v":{"$error":"#N/A"}},{"$nulls":22},44]
[null,{"$f":"B24","v":{"$error":"#N/A"}},{"$nulls":22},45]
[null,{"$f":"B25","v":{"$error":"#N/A"}},{"$nulls":22},46]
[null,{"$f":"B26","v":{"$error":"#N/A"}},{"$nulls":22},47]
[{"$nulls":24},48]
[null,{"$f":"OFFSET(L!$C$1,MATCH(\"Declaration\"&ADDRESS(ROW(),COLUMN(),4),L!$A:$A,0)-1,SL,,)&Q22","v":{"$error":"#N/A"}},null,{"$f":"D16","v":{"$error":"#N/A"}},null,null,{"$f":"G16","v":{"$error":"#N/A"}},{"$nulls":4},"\n",{"$nulls":12},49]
[null,{"$f":"B23","v":{"$error":"#N/A"}},{"$nulls":22},50]
[null,{"$f":"B24","v":{"$error":"#N/A"}},{"$nulls":22},51]
[null,{"$f":"B25","v":{"$error":"#N/A"}},{"$nulls":22},52]
[null,{"$f":"B26","v":{"$error":"#N/A"}},{"$nulls":22},53]
[{"$nulls":24},54]
[null,{"$f":"OFFSET(L!$C$1,MATCH(\"Declaration\"&ADDRESS(ROW(),COLUMN(),4),L!$A:$A,0)-1,SL,,)&Q22","v":{"$error":"#N/A"}},null,{"$f":"D16","v":{"$error":"#N/A"}},null,null,{"$f":"G16","v":{"$error":"#N/A"}},{"$nulls":4},"\n\n",{"$nulls":12},55]
[null,{"$f":"B23","v":{"$error":"#N/A"}},{"$nulls":22},56]
[null,{"$f":"B24","v":{"$error":"#N/A"}},{"$nulls":22},57]
[null,{"$f":"B25","v":{"$error":"#N/A"}},{"$nulls":22},58]
[null,{"$f":"B26","v":{"$error":"#N/A"}},{"$nulls":22},59]
[{"$nulls":24},60]
[null,{"$f":"OFFSET(L!$C$1,MATCH(\"Declaration\"&ADDRESS(ROW(),COLUMN(),4),L!$A:$A,0)-1,SL,,)&Q22","v":{"$error":"#N/A"}},null,{"$f":"D16","v":{"$error":"#N/A"}},null,null,{"$f":"G16","v":{"$error":"#N/A"}},{"$f":"IF(Q54=\"(*)\",\"Click here to enter smelter names\",\"\")","v":""},null,null,null,"\n\n",{"$nulls":12},61]
[null,{"$f":"B23","v":{"$error":"#N/A"}},{"$nulls":22},62]
[null,{"$f":"B24","v":{"$error":"#N/A"}},{"$nulls":22},63]
[null,{"$f":"B25","v":{"$error":"#N/A"}},{"$nulls":22},64]
[null,{"$f":"B26","v":{"$error":"#N/A"}},{"$nulls":22},65]
[{"$nulls":24},66]
[null,{"$f":"OFFSET(L!$C$1,MATCH(\"Declaration\"&ADDRESS(ROW(),COLUMN(),4),L!$A:$A,0)-1,SL,,)","v":{"$error":"#N/A"}},{"$nulls":22},67]
[null,{"$f":"OFFSET(L!$C$1,MATCH(\"Declaration\"&ADDRESS(ROW(),COLUMN(),4),L!$A:$A,0)-1,SL,,)","v":{"$error":"#N/A"}},null,{"$f":"D16","v":{"$error":"#N/A"}},null,null,{"$f":"G16","v":{"$error":"#N/A"}},{"$f":"HLOOKUP(SL,LT,$O53,0)","v":{"$error":"#NAME?"}},{"$f":"HLOOKUP(SL,LT,$O53,0)","v":{"$error":"#NAME?"}},{"$nulls":15},68]
[null,{"$f":"OFFSET(L!$C$1,MATCH(\"Declaration\"&ADDRESS(ROW(),COLUMN(),4),L!$A:$A,0)-1,SL,,)&P23","v":{"$error":"#N/A"}},{"$nulls":9},"\n",{"$nulls":12},69]
[{"$nulls":24},70]
[null,{"$f":"OFFSET(L!$C$1,MATCH(\"Declaration\"&ADDRESS(ROW(),COLUMN(),4),L!$A:$A,0)-1,SL,,)&P23","v":{"$error":"#N/A"}},{"$nulls":9},"\n",{"$nulls":12},71]
[{"$nulls":24},72]
[null,{"$f":"OFFSET(L!$C$1,MATCH(\"Declaration\"&ADDRESS(ROW(),COLUMN(),4),L!$A:$A,0)-1,SL,,)&P23","v":{"$error":"#N/A"}},{"$nulls":9},"\n",{"$nulls":12},73]
[{"$nulls":24},74]
[null,{"$f":"OFFSET(L!$C$1,MATCH(\"Declaration\"&ADDRESS(ROW(),COLUMN(),4),L!$A:$A,0)-1,SL,,)&P23","v":{"$error":"#N/A"}},{"$nulls":9},"\n\n",{"$nulls":12},75]
[{"$nulls":24},76]
[null,{"$f":"OFFSET(L!$C$1,MATCH(\"Declaration\"&ADDRESS(ROW(),COLUMN(),4),L!$A:$A,0)-1,SL,,)&P23","v":{"$error":"#N/A"}},{"$nulls":9},"\n",{"$nulls":12},77]
[{"$nulls":24},78]
[null,{"$f":"OFFSET(L!$C$1,MATCH(\"Declaration\"&ADDRESS(ROW(),COLUMN(),4),L!$A:$A,0)-1,SL,,)&P23","v":{"$error":"#N/A"}},{"$nulls":9},"\n",{"$nulls":11},"CHANGE DROP DOWN MENU: YES / NO",79]
[{"$nulls":24},80]
[null,{"$f":"OFFSET(L!$C$1,MATCH(\"Declaration\"&ADDRESS(ROW(),COLUMN(),4),L!$A:$A,0)-1,SL,,)&P23","v":{"$error":"#N/A"}},{"$nulls":9},"\n\n",{"$nulls":11},"CHANGE DROP DOWN MENU: YES, RMRT / YES, USING OTHER FORMAT (DESCRIBE) / NO",81]
[{"$nulls":24},82]
[null,{"$f":"OFFSET(L!$C$1,MATCH(\"Declaration\"&ADDRESS(ROW(),COLUMN(),4),L!$A:$A,0)-1,SL,,)&P23","v":{"$error":"#N/A"}},{"$nulls":9},"\n",{"$nulls":12},83]
[{"$nulls":24},84]
[null,{"$f":"OFFSET(L!$C$1,MATCH(\"Declaration\"&ADDRESS(ROW(),COLUMN(),4),L!$A:$A,0)-1,SL,,)&P23","v":{"$error":"#N/A"}},{"$nulls":9},"\n",{"$nulls":12},85]
[null,{"$f":"IF(OR($D$8=\"\",$I$3=\"\"),\"\",\"Click here to check required fields completion\")","v":""},{"$nulls":22},86]
[{"$f":"OFFSET(L!$C$1,MATCH(\"General\"&\"Cpy\",L!$A:$A,0)-1,SL,,)","v":"© 2020 Responsible Minerals Initiative. All rights reserved."},{"$nulls":23},87]
[]
[]
[]
[]
[null,"Yes"]
[null,"No"]
[null,"Unknown"]
[null,"DRC or adjoining countries only"]
[null,1]
[null,"Greater than 90%"]
[null,"Greater than 75%"]
[null,"Greater than 50%"]
[null,"50% or less"]
[null,"None"]
[null,"Yes, in conformance with IPC1755 (e.g., CMRT)"]
[null,"Yes"]
[null,"No"]
[null,"Yes, CRT"]
[null,"Yes, Using Other Format (Describe)"]
[null,"No"]

{"sheet":"Processor List","index":4,"n_rows":2500,"n_cols":35,"rows_kept":2500,"cut":false,"hidden":false,"merged":[[1,9,1,14],[2,6,2,8],[2,3,2,5]]}
[{"$nulls":21},"z"]
[{"$nulls":34},"Yes"]
[null,{"$f":"OFFSET(L!$C$1,MATCH(\"Smelter List\"&ADDRESS(ROW(),COLUMN(),4),L!$A:$A,0)-1,SL,,)","v":{"$error":"#N/A"}},null,{"$f":"OFFSET(L!$C$1,MATCH(\"Smelter List\"&ADDRESS(ROW(),COLUMN(),4),L!$A:$A,0)-1,SL,,)","v":"Mandatory fields are noted with an asterisk (*).  Consult the instructions tab for guidance on completing this form."},null,null,{"$f":"OFFSET(L!$C$1,MATCH(\"General\"&\"Cpy\",L!$A:$A,0)-1,SL,,)","v":"© 2020 Responsible Minerals Initiative. All rights reserved."},{"$nulls":10},"Revision 1.0\nOctober 28, 2020",{"$nulls":9},"Cobalt",{"$nulls":6},"No"]
[{"$f":"OFFSET(L!$C$1,MATCH(\"Smelter List\"&ADDRESS(ROW(),COLUMN(),4),L!$A:$A,0)-1,SL,,)","v":"Processor Name (*)"},{"$f":"OFFSET(L!$C$1,MATCH(\"Smelter List\"&ADDRESS(ROW(),COLUMN(),4),L!$A:$A,0)-1,SL,,)","v":"Metal (*)"},{"$f":"OFFSET(L!$C$1,MATCH(\"Smelter List\"&ADDRESS(ROW(),COLUMN(),4),L!$A:$A,0)-1,SL,,)","v":"Smelter Look-up (*)"},{"$f":"OFFSET(L!$C$1,MATCH(\"Smelter List\"&ADDRESS(ROW(),COLUMN(),4),L!$A:$A,0)-1,SL,,)","v":"Standard Processor Name (Official Name)"},{"$f":"OFFSET(L!$C$1,MATCH(\"Smelter List\"&ADDRESS(ROW(),COLUMN(),4),L!$A:$A,0)-1,SL,,)","v":"Processor Country (*)"},{"$f":"OFFSET(L!$C$1,MATCH(\"Smelter List\"&ADDRESS(ROW(),COLUMN(),4),L!$A:$A,0)-1,SL,,)","v":"Processor ID (if assigned)"},{"$f":"OFFSET(L!$C$1,MATCH(\"Smelter List\"&ADDRESS(ROW(),COLUMN(),4),L!$A:$A,0)-1,SL,,)","v":"Source of Processor ID Number"},{"$f":"OFFSET(L!$C$1,MATCH(\"Smelter List\"&ADDRESS(ROW(),COLUMN(),4),L!$A:$A,0)-1,SL,,)","v":"Processor Street "},{"$f":"OFFSET(L!$C$1,MATCH(\"Smelter List\"&ADDRESS(ROW(),COLUMN(),4),L!$A:$A,0)-1,SL,,)","v":"Processor City"},{"$f":"OFFSET(L!$C$1,MATCH(\"Smelter List\"&ADDRESS(ROW(),COLUMN(),4),L!$A:$A,0)-1,SL,,)","v":"Processor State / Province"},{"$f":"OFFSET(L!$C$1,MATCH(\"Smelter List\"&ADDRESS(ROW(),COLUMN(),4),L!$A:$A,0)-1,SL,,)","v":"Processor Contact Name"},{"$f":"OFFSET(L!$C$1,MATCH(\"Smelter List\"&ADDRESS(ROW(),COLUMN(),4),L!$A:$A,0)-1,SL,,)","v":"Processor Contact Email"},{"$f":"OFFSET(L!$C$1,MATCH(\"Smelter List\"&ADDRESS(ROW(),COLUMN(),4),L!$A:$A,0)-1,SL,,)","v":"Processor Contact Phone Number"},{"$f":"OFFSET(L!$C$1,MATCH(\"Smelter List\"&ADDRESS(ROW(),COLUMN(),4),L!$A:$A,0)-1,SL,,)","v":"Name of Mine(s) supplying the Processor or if synthetic mica, enter \"synthetic\""},{"$f":"OFFSET(L!$C$1,MATCH(\"Smelter List\"&ADDRESS(ROW(),COLUMN(),4),L!$A:$A,0)-1,SL,,)","v":"Location (Country) of Mine(s) or if synthetic mica, enter \"synthetic\""},{"$f":"OFFSET(L!$C$1,MATCH(\"Smelter List\"&ADDRESS(ROW(),COLUMN(),4),L!$A:$A,0)-1,SL,,)","v":"Does some (or all) of the Processor input originate from artisanal or small scale mining?"},{"$f":"OFFSET(L!$C$1,MATCH(\"Smelter List\"&ADDRESS(ROW(),COLUMN(),4),L!$A:$A,0)-1,SL,,)","v":"Does 100% of the smelter’s feedstock originate from synthetic sources?"},{"$f":"OFFSET(L!$C$1,MATCH(\"Smelter List\"&ADDRESS(ROW(),COLUMN(),4),L!$A:$A,0)-1,SL,,)","v":"Comments"},"Standard Smelter Name","Country Code","State / Province Code",null,null,"Smelter not yet identified","Smelter Not Listed",{"$nulls":9},"Unknown"]
["Chuzhou Wanqiao Juan Mica Powder Factory ",null,null,"Chuzhou Wanqiao Juan Mica Powder Factory ","CHINA",null,null,"Load Wanqiao, Chuzhou, Anhui","Chuzhou","Anhui","Mr. HAN, DAOHUI",null,"+86 (550) 3950495",{"$nulls":5},{"$f":"IF(ISERROR($W5),\"\",OFFSET('Smelter Look-up'!$C$4,$W5-4,0)&\"\")","v":""},{"$f":"IF(B5=\"\",\"\",IF(ISERROR(MATCH($E5,CL,0)),\"Unknown\",INDIRECT(\"'C'!$A$\"&MATCH($E5,CL,0)+1)))","v":""},{"$f":"IF(B5=\"\",\"\",IF(ISERROR(MATCH($J5,SorP!$B$1:$B$6230,0)),\"\",INDIRECT(\"'SorP'!$A$\"&MATCH($J5,SorP!$B$1:$B$6230,0))))","v":""},null,{"$f":"IF(C5=\"\",NA(),MATCH($B5&$C5,'Smelter Look-up'!$J:$J,0))","v":{"$error":"#N/A"}},null,{"$f":"IF(AND(C5=\"Smelter not listed\",OR(LEN(D5)=0,LEN(E5)=0)),1,0)","v":0},null,null,null,{"$f":"B5&C5","v":""}]
["Yamaguchi Mica",null,null,"Yamaguchi Mica","JAPAN",null,null,"2-10-2 Misono","Toyokawa"," Aichi","Takumi Yamaguchi","csr@ymsc.co.jp","81-533-72-2188",{"$nulls":5},{"$f":"IF(ISERROR($W6),\"\",OFFSET('Smelter Look-up'!$C$4,$W6-4,0)&\"\")","v":""},"",{"$f":"IF(B6=\"\",\"\",IF(ISERROR(MATCH($J6,SorP!$B$1:$B$6230,0)),\"\",INDIRECT(\"'SorP'!$A$\"&MATCH($J6,SorP!$B$1:$B$6230,0))))","v":""},null,{"$f":"IF(C6=\"\",NA(),MATCH($B6&$C6,'Smelter Look-up'!$J:$J,0))","v":{"$error":"#N/A"}},null,0,null,null,null,""]
[{"$nulls":18},{"$f":"IF(ISERROR($W7),\"\",OFFSET('Smelter Look-up'!$C$4,$W7-4,0)&\"\")","v":""},"",{"$f":"IF(B7=\"\",\"\",IF(ISERROR(MATCH($J7,SorP!$B$1:$B$6230,0)),\"\",INDIRECT(\"'SorP'!$A$\"&MATCH($J7,SorP!$B$1:$B$6230,0))))","v":""},null,{"$f":"IF(C7=\"\",NA(),MATCH($B7&$C7,'Smelter Look-up'!$J:$J,0))","v":{"$error":"#N/A"}},null,0,null,null,null,""]
[{"$nulls":18},{"$f":"IF(ISERROR($W8),\"\",OFFSET('Smelter Look-up'!$C$4,$W8-4,0)&\"\")","v":""},"",{"$f":"IF(B8=\"\",\"\",IF(ISERROR(MATCH($J8,SorP!$B$1:$B$6230,0)),\"\",INDIRECT(\"'SorP'!$A$\"&MATCH($J8,SorP!$B$1:$B$6230,0))))","v":""},null,{"$f":"IF(C8=\"\",NA(),MATCH($B8&$C8,'Smelter Look-up'!$J:$J,0))","v":{"$error":"#N/A"}},null,0,null,null,null,""]
[{"$nulls":18},{"$f":"IF(ISERROR($W9),\"\",OFFSET('Smelter Look-up'!$C$4,$W9-4,0)&\"\")","v":""},"",{"$f":"IF(B9=\"\",\"\",IF(ISERROR(MATCH($J9,SorP!$B$1:$B$6230,0)),\"\",INDIRECT(\"'SorP'!$A$\"&MATCH($J9,SorP!$B$1:$B$6230,0))))","v":""},null,{"$f":"IF(C9=\"\",NA(),MATCH($B9&$C9,'Smelter Look-up'!$J:$J,0))","v":{"$error":"#N/A"}},null,0,null,null,null,""]
[{"$nulls":18},{"$f":"IF(ISERROR($W10),\"\",OFFSET('Smelter Look-up'!$C$4,$W10-4,0)&\"\")","v":""},"",{"$f":"IF(B10=\"\",\"\",IF(ISERROR(MATCH($J10,SorP!$B$1:$B$6230,0)),\"\",INDIRECT(\"'SorP'!$A$\"&MATCH($J10,SorP!$B$1:$B$6230,0))))","v":""},null,{"$f":"IF(C10=\"\",NA(),MATCH($B10&$C10,'Smelter Look-up'!$J:$J,0))","v":{"$error":"#N/A"}},null,0,null,null,null,""]
[{"$nulls":18},{"$f":"IF(ISERROR($W11),\"\",OFFSET('Smelter Look-up'!$C$4,$W11-4,0)&\"\")","v":""},"",{"$f":"IF(B11=\"\",\"\",IF(ISERROR(MATCH($J11,SorP!$B$1:$B$6230,0)),\"\",INDIRECT(\"'SorP'!$A$\"&MATCH($J11,SorP!$B$1:$B$6230,0))))","v":""},null,{"$f":"IF(C11=\"\",NA(),MATCH($B11&$C11,'Smelter Look-up'!$J:$J,0))","v":{"$error":"#N/A"}},null,0,null,null,null,""]
[{"$nulls":18},{"$f":"IF(ISERROR($W12),\"\",OFFSET('Smelter Look-up'!$C$4,$W12-4,0)&\"\")","v":""},"",{"$f":"IF(B12=\"\",\"\",IF(ISERROR(MATCH($J12,SorP!$B$1:$B$6230,0)),\"\",INDIRECT(\"'SorP'!$A$\"&MATCH($J12,SorP!$B$1:$B$6230,0))))","v":""},null,{"$f":"IF(C12=\"\",NA(),MATCH($B12&$C12,'Smelter Look-up'!$J:$J,0))","v":{"$error":"#N/A"}},null,0,null,null,null,""]
[{"$nulls":18},{"$f":"IF(ISERROR($W13),\"\",OFFSET('Smelter Look-up'!$C$4,$W13-4,0)&\"\")","v":""},"",{"$f":"IF(B13=\"\",\"\",IF(ISERROR(MATCH($J13,SorP!$B$1:$B$6230,0)),\"\",INDIRECT(\"'SorP'!$A$\"&MATCH($J13,SorP!$B$1:$B$6230,0))))","v":""},null,{"$f":"IF(C13=\"\",NA(),MATCH($B13&$C13,'Smelter Look-up'!$J:$J,0))","v":{"$error":"#N/A"}},null,0,null,null,null,""]
[{"$nulls":18},{"$f":"IF(ISERROR($W14),\"\",OFFSET('Smelter Look-up'!$C$4,$W14-4,0)&\"\")","v":""},"",{"$f":"IF(B14=\"\",\"\",IF(ISERROR(MATCH($J14,SorP!$B$1:$B$6230,0)),\"\",INDIRECT(\"'SorP'!$A$\"&MATCH($J14,SorP!$B$1:$B$6230,0))))","v":""},null,{"$f":"IF(C14=\"\",NA(),MATCH($B14&$C14,'Smelter Look-up'!$J:$J,0))","v":{"$error":"#N/A"}},null,0,null,null,null,""]
[{"$nulls":18},{"$f":"IF(ISERROR($W15),\"\",OFFSET('Smelter Look-up'!$C$4,$W15-4,0)&\"\")","v":""},"",{"$f":"IF(B15=\"\",\"\",IF(ISERROR(MATCH($J15,SorP!$B$1:$B$6230,0)),\"\",INDIRECT(\"'SorP'!$A$\"&MATCH($J15,SorP!$B$1:$B$6230,0))))","v":""},null,{"$f":"IF(C15=\"\",NA(),MATCH($B15&$C15,'Smelter Look-up'!$J:$J,0))","v":{"$error":"#N/A"}},null,0,null,null,null,""]
[{"$nulls":18},{"$f":"IF(ISERROR($W16),\"\",OFFSET('Smelter Look-up'!$C$4,$W16-4,0)&\"\")","v":""},"",{"$f":"IF(B16=\"\",\"\",IF(ISERROR(MATCH($J16,SorP!$B$1:$B$6230,0)),\"\",INDIRECT(\"'SorP'!$A$\"&MATCH($J16,SorP!$B$1:$B$6230,0))))","v":""},null,{"$f":"IF(C16=\"\",NA(),MATCH($B16&$C16,'Smelter Look-up'!$J:$J,0))","v":{"$error":"#N/A"}},null,0,null,null,null,""]
[{"$nulls":18},{"$f":"IF(ISERROR($W17),\"\",OFFSET('Smelter Look-up'!$C$4,$W17-4,0)&\"\")","v":""},"",{"$f":"IF(B17=\"\",\"\",IF(ISERROR(MATCH($J17,SorP!$B$1:$B$6230,0)),\"\",INDIRECT(\"'SorP'!$A$\"&MATCH($J17,SorP!$B$1:$B$6230,0))))","v":""},null,{"$f":"IF(C17=\"\",NA(),MATCH($B17&$C17,'Smelter Look-up'!$J:$J,0))","v":{"$error":"#N/A"}},null,0,null,null,null,""]
[{"$nulls":18},{"$f":"IF(ISERROR($W18),\"\",OFFSET('Smelter Look-up'!$C$4,$W18-4,0)&\"\")","v":""},"",{"$f":"IF(B18=\"\",\"\",IF(ISERROR(MATCH($J18,SorP!$B$1:$B$6230,0)),\"\",INDIRECT(\"'SorP'!$A$\"&MATCH($J18,SorP!$B$1:$B$6230,0))))","v":""},null,{"$f":"IF(C18=\"\",NA(),MATCH($B18&$C18,'Smelter Look-up'!$J:$J,0))","v":{"$error":"#N/A"}},null,0,null,null,null,""]
[{"$nulls":18},{"$f":"IF(ISERROR($W19),\"\",OFFSET('Smelter Look-up'!$C$4,$W19-4,0)&\"\")","v":""},"",{"$f":"IF(B19=\"\",\"\",IF(ISERROR(MATCH($J19,SorP!$B$1:$B$6230,0)),\"\",INDIRECT(\"'SorP'!$A$\"&MATCH($J19,SorP!$B$1:$B$6230,0))))","v":""},null,{"$f":"IF(C19=\"\",NA(),MATCH($B19&$C19,'Smelter Look-up'!$J:$J,0))","v":{"$error":"#N/A"}},null,0,null,null,null,""]
[{"$nulls":18},{"$f":"IF(ISERROR($W20),\"\",OFFSET('Smelter Look-up'!$C$4,$W20-4,0)&\"\")","v":""},"",{"$f":"IF(B20=\"\",\"\",IF(ISERROR(MATCH($J20,SorP!$B$1:$B$6230,0)),\"\",INDIRECT(\"'SorP'!$A$\"&MATCH($J20,SorP!$B$1:$B$6230,0))))","v":""},null,{"$f":"IF(C20=\"\",NA(),MATCH($B20&$C20,'Smelter Look-up'!$J:$J,0))","v":{"$error":"#N/A"}},null,0,null,null,null,""]
[{"$nulls":18},{"$f":"IF(ISERROR($W21),\"\",OFFSET('Smelter Look-up'!$C$4,$W21-4,0)&\"\")","v":""},"",{"$f":"IF(B21=\"\",\"\",IF(ISERROR(MATCH($J21,SorP!$B$1:$B$6230,0)),\"\",INDIRECT(\"'SorP'!$A$\"&MATCH($J21,SorP!$B$1:$B$6230,0))))","v":""},null,{"$f":"IF(C21=\"\",NA(),MATCH($B21&$C21,'Smelter Look-up'!$J:$J,0))","v":{"$error":"#N/A"}},null,0,null,null,null,""]
[{"$nulls":18},{"$f":"IF(ISERROR($W22),\"\",OFFSET('Smelter Look-up'!$C$4,$W22-4,0)&\"\")","v":""},"",{"$f":"IF(B22=\"\",\"\",IF(ISERROR(MATCH($J22,SorP!$B$1:$B$6230,0)),\"\",INDIRECT(\"'SorP'!$A$\"&MATCH($J22,SorP!$B$1:$B$6230,0))))","v":""},null,{"$f":"IF(C22=\"\",NA(),MATCH($B22&$C22,'Smelter Look-up'!$J:$J,0))","v":{"$error":"#N/A"}},null,0,null,null,null,""]
[{"$nulls":18},{"$f":"IF(ISERROR($W23),\"\",OFFSET('Smelter Look-up'!$C$4,$W23-4,0)&\"\")","v":""},"",{"$f":"IF(B23=\"\",\"\",IF(ISERROR(MATCH($J23,SorP!$B$1:$B$6230,0)),\"\",INDIRECT(\"'SorP'!$A$\"&MATCH($J23,SorP!$B$1:$B$6230,0))))","v":""},null,{"$f":"IF(C23=\"\",NA(),MATCH($B23&$C23,'Smelter Look-up'!$J:$J,0))","v":{"$error":"#N/A"}},null,0,null,null,null,""]
[{"$nulls":18},{"$f":"IF(ISERROR($W24),\"\",OFFSET('Smelter Look-up'!$C$4,$W24-4,0)&\"\")","v":""},"",{"$f":"IF(B24=\"\",\"\",IF(ISERROR(MATCH($J24,SorP!$B$1:$B$6230,0)),\"\",INDIRECT(\"'SorP'!$A$\"&MATCH($J24,SorP!$B$1:$B$6230,0))))","v":""},null,{"$f":"IF(C24=\"\",NA(),MATCH($B24&$C24,'Smelter Look-up'!$J:$J,0))","v":{"$error":"#N/A"}},null,0,null,null,null,""]
[{"$nulls":18},{"$f":"IF(ISERROR($W25),\"\",OFFSET('Smelter Look-up'!$C$4,$W25-4,0)&\"\")","v":""},"",{"$f":"IF(B25=\"\",\"\",IF(ISERROR(MATCH($J25,SorP!$B$1:$B$6230,0)),\"\",INDIRECT(\"'SorP'!$A$\"&MATCH($J25,SorP!$B$1:$B$6230,0))))","v":""},null,{"$f":"IF(C25=\"\",NA(),MATCH($B25&$C25,'Smelter Look-up'!$J:$J,0))","v":{"$error":"#N/A"}},null,0,null,null,null,""]
[{"$nulls":18},{"$f":"IF(ISERROR($W26),\"\",OFFSET('Smelter Look-up'!$C$4,$W26-4,0)&\"\")","v":""},"",{"$f":"IF(B26=\"\",\"\",IF(ISERROR(MATCH($J26,SorP!$B$1:$B$6230,0)),\"\",INDIRECT(\"'SorP'!$A$\"&MATCH($J26,SorP!$B$1:$B$6230,0))))","v":""},null,{"$f":"IF(C26=\"\",NA(),MATCH($B26&$C26,'Smelter Look-up'!$J:$J,0))","v":{"$error":"#N/A"}},null,0,null,null,null,""]
[{"$nulls":18},{"$f":"IF(ISERROR($W27),\"\",OFFSET('Smelter Look-up'!$C$4,$W27-4,0)&\"\")","v":""},"",{"$f":"IF(B27=\"\",\"\",IF(ISERROR(MATCH($J27,SorP!$B$1:$B$6230,0)),\"\",INDIRECT(\"'SorP'!$A$\"&MATCH($J27,SorP!$B$1:$B$6230,0))))","v":""},null,{"$f":"IF(C27=\"\",NA(),MATCH($B27&$C27,'Smelter Look-up'!$J:$J,0))","v":{"$error":"#N/A"}},null,0,null,null,null,""]
[{"$nulls":18},{"$f":"IF(ISERROR($W28),\"\",OFFSET('Smelter Look-up'!$C$4,$W28-4,0)&\"\")","v":""},"",{"$f":"IF(B28=\"\",\"\",IF(ISERROR(MATCH($J28,SorP!$B$1:$B$6230,0)),\"\",INDIRECT(\"'SorP'!$A$\"&MATCH($J28,SorP!$B$1:$B$6230,0))))","v":""},null,{"$f":"IF(C28=\"\",NA(),MATCH($B28&$C28,'Smelter Look-up'!$J:$J,0))","v":{"$error":"#N/A"}},null,0,null,null,null,""]
[{"$nulls":18},{"$f":"IF(ISERROR($W29),\"\",OFFSET('Smelter Look-up'!$C$4,$W29-4,0)&\"\")","v":""},"",{"$f":"IF(B29=\"\",\"\",IF(ISERROR(MATCH($J29,SorP!$B$1:$B$6230,0)),\"\",INDIRECT(\"'SorP'!$A$\"&MATCH($J29,SorP!$B$1:$B$6230,0))))","v":""},null,{"$f":"IF(C29=\"\",NA(),MATCH($B29&$C29,'Smelter Look-up'!$J:$J,0))","v":{"$error":"#N/A"}},null,0,null,null,null,""]
[{"$nulls":18},{"$f":"IF(ISERROR($W30),\"\",OFFSET('Smelter Look-up'!$C$4,$W30-4,0)&\"\")","v":""},"",{"$f":"IF(B30=\"\",\"\",IF(ISERROR(MATCH($J30,SorP!$B$1:$B$6230,0)),\"\",INDIRECT(\"'SorP'!$A$\"&MATCH($J30,SorP!$B$1:$B$6230,0))))","v":""},null,{"$f":"IF(C30=\"\",NA(),MATCH($B30&$C30,'Smelter Look-up'!$J:$J,0))","v":{"$error":"#N/A"}},null,0,null,null,null,""]
[{"$nulls":18},{"$f":"IF(ISERROR($W31),\"\",OFFSET('Smelter Look-up'!$C$4,$W31-4,0)&\"\")","v":""},"",{"$f":"IF(B31=\"\",\"\",IF(ISERROR(MATCH($J31,SorP!$B$1:$B$6230,0)),\"\",INDIRECT(\"'SorP'!$A$\"&MATCH($J31,SorP!$B$1:$B$6230,0))))","v":""},null,{"$f":"IF(C31=\"\",NA(),MATCH($B31&$C31,'Smelter Look-up'!$J:$J,0))","v":{"$error":"#N/A"}},null,0,null,null,null,""]
[{"$nulls":18},{"$f":"IF(ISERROR($W32),\"\",OFFSET('Smelter Look-up'!$C$4,$W32-4,0)&\"\")","v":""},"",{"$f":"IF(B32=\"\",\"\",IF(ISERROR(MATCH($J32,SorP!$B$1:$B$6230,0)),\"\",INDIRECT(\"'SorP'!$A$\"&MATCH($J32,SorP!$B$1:$B$6230,0))))","v":""},null,{"$f":"IF(C32=\"\",NA(),MATCH($B32&$C32,'Smelter Look-up'!$J:$J,0))","v":{"$error":"#N/A"}},null,0,null,null,null,""]
[{"$nulls":18},{"$f":"IF(ISERROR($W33),\"\",OFFSET('Smelter Look-up'!$C$4,$W33-4,0)&\"\")","v":""},"",{"$f":"IF(B33=\"\",\"\",IF(ISERROR(MATCH($J33,SorP!$B$1:$B$6230,0)),\"\",INDIRECT(\"'SorP'!$A$\"&MATCH($J33,SorP!$B$1:$B$6230,0))))","v":""},null,{"$f":"IF(C33=\"\",NA(),MATCH($B33&$C33,'Smelter Look-up'!$J:$J,0))","v":{"$error":"#N/A"}},null,0,null,null,null,""]
[{"$nulls":18},{"$f":"IF(ISERROR($W34),\"\",OFFSET('Smelter Look-up'!$C$4,$W34-4,0)&\"\")","v":""},"",{"$f":"IF(B34=\"\",\"\",IF(ISERROR(MATCH($J34,SorP!$B$1:$B$6230,0)),\"\",INDIRECT(\"'SorP'!$A$\"&MATCH($J34,SorP!$B$1:$B$6230,0))))","v":""},null,{"$f":"IF(C34=\"\",NA(),MATCH($B34&$C34,'Smelter Look-up'!$J:$J,0))","v":{"$error":"#N/A"}},null,0,null,null,null,""]
[{"$nulls":18},{"$f":"IF(ISERROR($W35),\"\",OFFSET('Smelter Look-up'!$C$4,$W35-4,0)&\"\")","v":""},"",{"$f":"IF(B35=\"\",\"\",IF(ISERROR(MATCH($J35,SorP!$B$1:$B$6230,0)),\"\",INDIRECT(\"'SorP'!$A$\"&MATCH($J35,SorP!$B$1:$B$6230,0))))","v":""},null,{"$f":"IF(C35=\"\",NA(),MATCH($B35&$C35,'Smelter Look-up'!$J:$J,0))","v":{"$error":"#N/A"}},null,0,null,null,null,""]
[{"$nulls":18},{"$f":"IF(ISERROR($W36),\"\",OFFSET('Smelter Look-up'!$C$4,$W36-4,0)&\"\")","v":""},"",{"$f":"IF(B36=\"\",\"\",IF(ISERROR(MATCH($J36,SorP!$B$1:$B$6230,0)),\"\",INDIRECT(\"'SorP'!$A$\"&MATCH($J36,SorP!$B$1:$B$6230,0))))","v":""},null,{"$f":"IF(C36=\"\",NA(),MATCH($B36&$C36,'Smelter Look-up'!$J:$J,0))","v":{"$error":"#N/A"}},null,0,null,null,null,""]
[{"$nulls":18},{"$f":"IF(ISERROR($W37),\"\",OFFSET('Smelter Look-up'!$C$4,$W37-4,0)&\"\")","v":""},"",{"$f":"IF(B37=\"\",\"\",IF(ISERROR(MATCH($J37,SorP!$B$1:$B$6230,0)),\"\",INDIRECT(\"'SorP'!$A$\"&MATCH($J37,SorP!$B$1:$B$6230,0))))","v":""},null,{"$f":"IF(C37=\"\",NA(),MATCH($B37&$C37,'Smelter Look-up'!$J:$J,0))","v":{"$error":"#N/A"}},null,0,null,null,null,""]
[{"$nulls":18},{"$f":"IF(ISERROR($W38),\"\",OFFSET('Smelter Look-up'!$C$4,$W38-4,0)&\"\")","v":""},"",{"$f":"IF(B38=\"\",\"\",IF(ISERROR(MATCH($J38,SorP!$B$1:$B$6230,0)),\"\",INDIRECT(\"'SorP'!$A$\"&MATCH($J38,SorP!$B$1:$B$6230,0))))","v":""},null,{"$f":"IF(C38=\"\",NA(),MATCH($B38&$C38,'Smelter Look-up'!$J:$J,0))","v":{"$error":"#N/A"}},null,0,null,null,null,""]
[{"$nulls":18},{"$f":"IF(ISERROR($W39),\"\",OFFSET('Smelter Look-up'!$C$4,$W39-4,0)&\"\")","v":""},"",{"$f":"IF(B39=\"\",\"\",IF(ISERROR(MATCH($J39,SorP!$B$1:$B$6230,0)),\"\",INDIRECT(\"'SorP'!$A$\"&MATCH($J39,SorP!$B$1:$B$6230,0))))","v":""},null,{"$f":"IF(C39=\"\",NA(),MATCH($B39&$C39,'Smelter Look-up'!$J:$J,0))","v":{"$error":"#N/A"}},null,0,null,null,null,""]
[{"$nulls":18},{"$f":"IF(ISERROR($W40),\"\",OFFSET('Smelter Look-up'!$C$4,$W40-4,0)&\"\")","v":""},"",{"$f":"IF(B40=\"\",\"\",IF(ISERROR(MATCH($J40,SorP!$B$1:$B$6230,0)),\"\",INDIRECT(\"'SorP'!$A$\"&MATCH($J40,SorP!$B$1:$B$6230,0))))","v":""},null,{"$f":"IF(C40=\"\",NA(),MATCH($B40&$C40,'Smelter Look-up'!$J:$J,0))","v":{"$error":"#N/A"}},null,0,null,null,null,""]
[{"$nulls":18},{"$f":"IF(ISERROR($W41),\"\",OFFSET('Smelter Look-up'!$C$4,$W41-4,0)&\"\")","v":""},"",{"$f":"IF(B41=\"\",\"\",IF(ISERROR(MATCH($J41,SorP!$B$1:$B$6230,0)),\"\",INDIRECT(\"'SorP'!$A$\"&MATCH($J41,SorP!$B$1:$B$6230,0))))","v":""},null,{"$f":"IF(C41=\"\",NA(),MATCH($B41&$C41,'Smelter Look-up'!$J:$J,0))","v":{"$error":"#N/A"}},null,0,null,null,null,""]
[{"$nulls":18},{"$f":"IF(ISERROR($W42),\"\",OFFSET('Smelter Look-up'!$C$4,$W42-4,0)&\"\")","v":""},"",{"$f":"IF(B42=\"\",\"\",IF(ISERROR(MATCH($J42,SorP!$B$1:$B$6230,0)),\"\",INDIRECT(\"'SorP'!$A$\"&MATCH($J42,SorP!$B$1:$B$6230,0))))","v":""},null,{"$f":"IF(C42=\"\",NA(),MATCH($B42&$C42,'Smelter Look-up'!$J:$J,0))","v":{"$error":"#N/A"}},null,0,null,null,null,""]
[{"$nulls":18},{"$f":"IF(ISERROR($W43),\"\",OFFSET('Smelter Look-up'!$C$4,$W43-4,0)&\"\")","v":""},"",{"$f":"IF(B43=\"\",\"\",IF(ISERROR(MATCH($J43,SorP!$B$1:$B$6230,0)),\"\",INDIRECT(\"'SorP'!$A$\"&MATCH($J43,SorP!$B$1:$B$6230,0))))","v":""},null,{"$f":"IF(C43=\"\",NA(),MATCH($B43&$C43,'Smelter Look-up'!$J:$J,0))","v":{"$error":"#N/A"}},null,0,null,null,null,""]
[{"$nulls":18},{"$f":"IF(ISERROR($W44),\"\",OFFSET('Smelter Look-up'!$C$4,$W44-4,0)&\"\")","v":""},"",{"$f":"IF(B44=\"\",\"\",IF(ISERROR(MATCH($J44,SorP!$B$1:$B$6230,0)),\"\",INDIRECT(\"'SorP'!$A$\"&MATCH($J44,SorP!$B$1:$B$6230,0))))","v":""},null,{"$f":"IF(C44=\"\",NA(),MATCH($B44&$C44,'Smelter Look-up'!$J:$J,0))","v":{"$error":"#N/A"}},null,0,null,null,null,""]
[{"$nulls":18},{"$f":"IF(ISERROR($W45),\"\",OFFSET('Smelter Look-up'!$C$4,$W45-4,0)&\"\")","v":""},"",{"$f":"IF(B45=\"\",\"\",IF(ISERROR(MATCH($J45,SorP!$B$1:$B$6230,0)),\"\",INDIRECT(\"'SorP'!$A$\"&MATCH($J45,SorP!$B$1:$B$6230,0))))","v":""},null,{"$f":"IF(C45=\"\",NA(),MATCH($B45&$C45,'Smelter Look-up'!$J:$J,0))","v":{"$error":"#N/A"}},null,0,null,null,null,""]
[{"$nulls":18},{"$f":"IF(ISERROR($W46),\"\",OFFSET('Smelter Look-up'!$C$4,$W46-4,0)&\"\")","v":""},"",{"$f":"IF(B46=\"\",\"\",IF(ISERROR(MATCH($J46,SorP!$B$1:$B$6230,0)),\"\",INDIRECT(\"'SorP'!$A$\"&MATCH($J46,SorP!$B$1:$B$6230,0))))","v":""},null,{"$f":"IF(C46=\"\",NA(),MATCH($B46&$C46,'Smelter Look-up'!$J:$J,0))","v":{"$error":"#N/A"}},null,0,null,null,null,""]
[{"$nulls":18},{"$f":"IF(ISERROR($W47),\"\",OFFSET('Smelter Look-up'!$C$4,$W47-4,0)&\"\")","v":""},"",{"$f":"IF(B47=\"\",\"\",IF(ISERROR(MATCH($J47,SorP!$B$1:$B$6230,0)),\"\",INDIRECT(\"'SorP'!$A$\"&MATCH($J47,SorP!$B$1:$B$6230,0))))","v":""},null,{"$f":"IF(C47=\"\",NA(),MATCH($B47&$C47,'Smelter Look-up'!$J:$J,0))","v":{"$error":"#N/A"}},null,0,null,null,null,""]
[{"$nulls":18},{"$f":"IF(ISERROR($W48),\"\",OFFSET('Smelter Look-up'!$C$4,$W48-4,0)&\"\")","v":""},"",{"$f":"IF(B48=\"\",\"\",IF(ISERROR(MATCH($J48,SorP!$B$1:$B$6230,0)),\"\",INDIRECT(\"'SorP'!$A$\"&MATCH($J48,SorP!$B$1:$B$6230,0))))","v":""},null,{"$f":"IF(C48=\"\",NA(),MATCH($B48&$C48,'Smelter Look-up'!$J:$J,0))","v":{"$error":"#N/A"}},null,0,null,null,null,""]
[{"$nulls":18},{"$f":"IF(ISERROR($W49),\"\",OFFSET('Smelter Look-up'!$C$4,$W49-4,0)&\"\")","v":""},"",{"$f":"IF(B49=\"\",\"\",IF(ISERROR(MATCH($J49,SorP!$B$1:$B$6230,0)),\"\",INDIRECT(\"'SorP'!$A$\"&MATCH($J49,SorP!$B$1:$B$6230,0))))","v":""},null,{"$f":"IF(C49=\"\",NA(),MATCH($B49&$C49,'Smelter Look-up'!$J:$J,0))","v":{"$error":"#N/A"}},null,0,null,null,null,""]
[{"$nulls":18},{"$f":"IF(ISERROR($W50),\"\",OFFSET('Smelter Look-up'!$C$4,$W50-4,0)&\"\")","v":""},"",{"$f":"IF(B50=\"\",\"\",IF(ISERROR(MATCH($J50,SorP!$B$1:$B$6230,0)),\"\",INDIRECT(\"'SorP'!$A$\"&MATCH($J50,SorP!$B$1:$B$6230,0))))","v":""},null,{"$f":"IF(C50=\"\",NA(),MATCH($B50&$C50,'Smelter Look-up'!$J:$J,0))","v":{"$error":"#N/A"}},null,0,null,null,null,""]
[{"$nulls":18},{"$f":"IF(ISERROR($W51),\"\",OFFSET('Smelter Look-up'!$C$4,$W51-4,0)&\"\")","v":""},"",{"$f":"IF(B51=\"\",\"\",IF(ISERROR(MATCH($J51,SorP!$B$1:$B$6230,0)),\"\",INDIRECT(\"'SorP'!$A$\"&MATCH($J51,SorP!$B$1:$B$6230,0))))","v":""},null,{"$f":"IF(C51=\"\",NA(),MATCH($B51&$C51,'Smelter Look-up'!$J:$J,0))","v":{"$error":"#N/A"}},null,0,null,null,null,""]
[{"$nulls":18},{"$f":"IF(ISERROR($W52),\"\",OFFSET('Smelter Look-up'!$C$4,$W52-4,0)&\"\")","v":""},"",{"$f":"IF(B52=\"\",\"\",IF(ISERROR(MATCH($J52,SorP!$B$1:$B$6230,0)),\"\",INDIRECT(\"'SorP'!$A$\"&MATCH($J52,SorP!$B$1:$B$6230,0))))","v":""},null,{"$f":"IF(C52=\"\",NA(),MATCH($B52&$C52,'Smelter Look-up'!$J:$J,0))","v":{"$error":"#N/A"}},null,0,null,null,null,""]
[{"$nulls":18},{"$f":"IF(ISERROR($W53),\"\",OFFSET('Smelter Look-up'!$C$4,$W53-4,0)&\"\")","v":""},"",{"$f":"IF(B53=\"\",\"\",IF(ISERROR(MATCH($J53,SorP!$B$1:$B$6230,0)),\"\",INDIRECT(\"'SorP'!$A$\"&MATCH($J53,SorP!$B$1:$B$6230,0))))","v":""},null,{"$f":"IF(C53=\"\",NA(),MATCH($B53&$C53,'Smelter Look-up'!$J:$J,0))","v":{"$error":"#N/A"}},null,0,null,null,null,""]
[{"$nulls":18},{"$f":"IF(ISERROR($W54),\"\",OFFSET('Smelter Look-up'!$C$4,$W54-4,0)&\"\")","v":""},"",{"$f":"IF(B54=\"\",\"\",IF(ISERROR(MATCH($J54,SorP!$B$1:$B$6230,0)),\"\",INDIRECT(\"'SorP'!$A$\"&MATCH($J54,SorP!$B$1:$B$6230,0))))","v":""},null,{"$f":"IF(C54=\"\",NA(),MATCH($B54&$C54,'Smelter Look-up'!$J:$J,0))","v":{"$error":"#N/A"}},null,0,null,null,null,""]
[{"$nulls":18},{"$f":"IF(ISERROR($W55),\"\",OFFSET('Smelter Look-up'!$C$4,$W55-4,0)&\"\")","v":""},"",{"$f":"IF(B55=\"\",\"\",IF(ISERROR(MATCH($J55,SorP!$B$1:$B$6230,0)),\"\",INDIRECT(\"'SorP'!$A$\"&MATCH($J55,SorP!$B$1:$B$6230,0))))","v":""},null,{"$f":"IF(C55=\"\",NA(),MATCH($B55&$C55,'Smelter Look-up'!$J:$J,0))","v":{"$error":"#N/A"}},null,0,null,null,null,""]
[{"$nulls":18},{"$f":"IF(ISERROR($W56),\"\",OFFSET('Smelter Look-up'!$C$4,$W56-4,0)&\"\")","v":""},"",{"$f":"IF(B56=\"\",\"\",IF(ISERROR(MATCH($J56,SorP!$B$1:$B$6230,0)),\"\",INDIRECT(\"'SorP'!$A$\"&MATCH($J56,SorP!$B$1:$B$6230,0))))","v":""},null,{"$f":"IF(C56=\"\",NA(),MATCH($B56&$C56,'Smelter Look-up'!$J:$J,0))","v":{"$error":"#N/A"}},null,0,null,null,null,""]
[{"$nulls":18},{"$f":"IF(ISERROR($W57),\"\",OFFSET('Smelter Look-up'!$C$4,$W57-4,0)&\"\")","v":""},"",{"$f":"IF(B57=\"\",\"\",IF(ISERROR(MATCH($J57,SorP!$B$1:$B$6230,0)),\"\",INDIRECT(\"'SorP'!$A$\"&MATCH($J57,SorP!$B$1:$B$6230,0))))","v":""},null,{"$f":"IF(C57=\"\",NA(),MATCH($B57&$C57,'Smelter Look-up'!$J:$J,0))","v":{"$error":"#N/A"}},null,0,null,null,null,""]
[{"$nulls":18},{"$f":"IF(ISERROR($W58),\"\",OFFSET('Smelter Look-up'!$C$4,$W58-4,0)&\"\")","v":""},"",{"$f":"IF(B58=\"\",\"\",IF(ISERROR(MATCH($J58,SorP!$B$1:$B$6230,0)),\"\",INDIRECT(\"'SorP'!$A$\"&MATCH($J58,SorP!$B$1:$B$6230,0))))","v":""},null,{"$f":"IF(C58=\"\",NA(),MATCH($B58&$C58,'Smelter Look-up'!$J:$J,0))","v":{"$error":"#N/A"}},null,0,null,null,null,""]
[{"$nulls":18},{"$f":"IF(ISERROR($W59),\"\",OFFSET('Smelter Look-up'!$C$4,$W59-4,0)&\"\")","v":""},"",{"$f":"IF(B59=\"\",\"\",IF(ISERROR(MATCH($J59,SorP!$B$1:$B$6230,0)),\"\",INDIRECT(\"'SorP'!$A$\"&MATCH($J59,SorP!$B$1:$B$6230,0))))","v":""},null,{"$f":"IF(C59=\"\",NA(),MATCH($B59&$C59,'Smelter Look-up'!$J:$J,0))","v":{"$error":"#N/A"}},null,0,null,null,null,""]
[{"$nulls":18},{"$f":"IF(ISERROR($W60),\"\",OFFSET('Smelter Look-up'!$C$4,$W60-4,0)&\"\")","v":""},"",{"$f":"IF(B60=\"\",\"\",IF(ISERROR(MATCH($J60,SorP!$B$1:$B$6230,0)),\"\",INDIRECT(\"'SorP'!$A$\"&MATCH($J60,SorP!$B$1:$B$6230,0))))","v":""},null,{"$f":"IF(C60=\"\",NA(),MATCH($B60&$C60,'Smelter Look-up'!$J:$J,0))","v":{"$error":"#N/A"}},null,0,null,null,null,""]
[{"$nulls":18},{"$f":"IF(ISERROR($W61),\"\",OFFSET('Smelter Look-up'!$C$4,$W61-4,0)&\"\")","v":""},"",{"$f":"IF(B61=\"\",\"\",IF(ISERROR(MATCH($J61,SorP!$B$1:$B$6230,0)),\"\",INDIRECT(\"'SorP'!$A$\"&MATCH($J61,SorP!$B$1:$B$6230,0))))","v":""},null,{"$f":"IF(C61=\"\",NA(),MATCH($B61&$C61,'Smelter Look-up'!$J:$J,0))","v":{"$error":"#N/A"}},null,0,null,null,null,""]
[{"$nulls":18},{"$f":"IF(ISERROR($W62),\"\",OFFSET('Smelter Look-up'!$C$4,$W62-4,0)&\"\")","v":""},"",{"$f":"IF(B62=\"\",\"\",IF(ISERROR(MATCH($J62,SorP!$B$1:$B$6230,0)),\"\",INDIRECT(\"'SorP'!$A$\"&MATCH($J62,SorP!$B$1:$B$6230,0))))","v":""},null,{"$f":"IF(C62=\"\",NA(),MATCH($B62&$C62,'Smelter Look-up'!$J:$J,0))","v":{"$error":"#N/A"}},null,0,null,null,null,""]
[{"$nulls":18},{"$f":"IF(ISERROR($W63),\"\",OFFSET('Smelter Look-up'!$C$4,$W63-4,0)&\"\")","v":""},"",{"$f":"IF(B63=\"\",\"\",IF(ISERROR(MATCH($J63,SorP!$B$1:$B$6230,0)),\"\",INDIRECT(\"'SorP'!$A$\"&MATCH($J63,SorP!$B$1:$B$6230,0))))","v":""},null,{"$f":"IF(C63=\"\",NA(),MATCH($B63&$C63,'Smelter Look-up'!$J:$J,0))","v":{"$error":"#N/A"}},null,0,null,null,null,""]
[{"$nulls":18},{"$f":"IF(ISERROR($W64),\"\",OFFSET('Smelter Look-up'!$C$4,$W64-4,0)&\"\")","v":""},"",{"$f":"IF(B64=\"\",\"\",IF(ISERROR(MATCH($J64,SorP!$B$1:$B$6230,0)),\"\",INDIRECT(\"'SorP'!$A$\"&MATCH($J64,SorP!$B$1:$B$6230,0))))","v":""},null,{"$f":"IF(C64=\"\",NA(),MATCH($B64&$C64,'Smelter Look-up'!$J:$J,0))","v":{"$error":"#N/A"}},null,0,null,null,null,""]
[{"$nulls":18},{"$f":"IF(ISERROR($W65),\"\",OFFSET('Smelter Look-up'!$C$4,$W65-4,0)&\"\")","v":""},"",{"$f":"IF(B65=\"\",\"\",IF(ISERROR(MATCH($J65,SorP!$B$1:$B$6230,0)),\"\",INDIRECT(\"'SorP'!$A$\"&MATCH($J65,SorP!$B$1:$B$6230,0))))","v":""},null,{"$f":"IF(C65=\"\",NA(),MATCH($B65&$C65,'Smelter Look-up'!$J:$J,0))","v":{"$error":"#N/A"}},null,0,null,null,null,""]
[{"$nulls":18},{"$f":"IF(ISERROR($W66),\"\",OFFSET('Smelter Look-up'!$C$4,$W66-4,0)&\"\")","v":""},"",{"$f":"IF(B66=\"\",\"\",IF(ISERROR(MATCH($J66,SorP!$B$1:$B$6230,0)),\"\",INDIRECT(\"'SorP'!$A$\"&MATCH($J66,SorP!$B$1:$B$6230,0))))","v":""},null,{"$f":"IF(C66=\"\",NA(),MATCH($B66&$C66,'Smelter Look-up'!$J:$J,0))","v":{"$error":"#N/A"}},null,0,null,null,null,""]
[{"$nulls":18},{"$f":"IF(ISERROR($W67),\"\",OFFSET('Smelter Look-up'!$C$4,$W67-4,0)&\"\")","v":""},"",{"$f":"IF(B67=\"\",\"\",IF(ISERROR(MATCH($J67,SorP!$B$1:$B$6230,0)),\"\",INDIRECT(\"'SorP'!$A$\"&MATCH($J67,SorP!$B$1:$B$6230,0))))","v":""},null,{"$f":"IF(C67=\"\",NA(),MATCH($B67&$C67,'Smelter Look-up'!$J:$J,0))","v":{"$error":"#N/A"}},null,0,null,null,null,""]
[{"$nulls":18},{"$f":"IF(ISERROR($W68),\"\",OFFSET('Smelter Look-up'!$C$4,$W68-4,0)&\"\")","v":""},"",{"$f":"IF(B68=\"\",\"\",IF(ISERROR(MATCH($J68,SorP!$B$1:$B$6230,0)),\"\",INDIRECT(\"'SorP'!$A$\"&MATCH($J68,SorP!$B$1:$B$6230,0))))","v":""},null,{"$f":"IF(C68=\"\",NA(),MATCH($B68&$C68,'Smelter Look-up'!$J:$J,0))","v":{"$error":"#N/A"}},null,0,null,null,null,""]
[{"$nulls":18},{"$f":"IF(ISERROR($W69),\"\",OFFSET('Smelter Look-up'!$C$4,$W69-4,0)&\"\")","v":""},{"$f":"IF(B69=\"\",\"\",IF(ISERROR(MATCH($E69,CL,0)),\"Unknown\",INDIRECT(\"'C'!$A$\"&MATCH($E69,CL,0)+1)))","v":""},{"$f":"IF(B69=\"\",\"\",IF(ISERROR(MATCH($J69,SorP!$B$1:$B$6230,0)),\"\",INDIRECT(\"'SorP'!$A$\"&MATCH($J69,SorP!$B$1:$B$6230,0))))","v":""},null,{"$f":"IF(C69=\"\",NA(),MATCH($B69&$C69,'Smelter Look-up'!$J:$J,0))","v":{"$error":"#N/A"}},null,{"$f":"IF(AND(C69=\"Smelter not listed\",OR(LEN(D69)=0,LEN(E69)=0)),1,0)","v":0},null,null,null,{"$f":"B69&C69","v":""}]
[{"$nulls":18},{"$f":"IF(ISERROR($W70),\"\",OFFSET('Smelter Look-up'!$C$4,$W70-4,0)&\"\")","v":""},"",{"$f":"IF(B70=\"\",\"\",IF(ISERROR(MATCH($J70,SorP!$B$1:$B$6230,0)),\"\",INDIRECT(\"'SorP'!$A$\"&MATCH($J70,SorP!$B$1:$B$6230,0))))","v":""},null,{"$f":"IF(C70=\"\",NA(),MATCH($B70&$C70,'Smelter Look-up'!$J:$J,0))","v":{"$error":"#N/A"}},null,0,null,null,null,""]
[{"$nulls":18},{"$f":"IF(ISERROR($W71),\"\",OFFSET('Smelter Look-up'!$C$4,$W71-4,0)&\"\")","v":""},"",{"$f":"IF(B71=\"\",\"\",IF(ISERROR(MATCH($J71,SorP!$B$1:$B$6230,0)),\"\",INDIRECT(\"'SorP'!$A$\"&MATCH($J71,SorP!$B$1:$B$6230,0))))","v":""},null,{"$f":"IF(C71=\"\",NA(),MATCH($B71&$C71,'Smelter Look-up'!$J:$J,0))","v":{"$error":"#N/A"}},null,0,null,null,null,""]
[{"$nulls":18},{"$f":"IF(ISERROR($W72),\"\",OFFSET('Smelter Look-up'!$C$4,$W72-4,0)&\"\")","v":""},"",{"$f":"IF(B72=\"\",\"\",IF(ISERROR(MATCH($J72,SorP!$B$1:$B$6230,0)),\"\",INDIRECT(\"'SorP'!$A$\"&MATCH($J72,SorP!$B$1:$B$6230,0))))","v":""},null,{"$f":"IF(C72=\"\",NA(),MATCH($B72&$C72,'Smelter Look-up'!$J:$J,0))","v":{"$error":"#N/A"}},null,0,null,null,null,""]
[{"$nulls":18},{"$f":"IF(ISERROR($W73),\"\",OFFSET('Smelter Look-up'!$C$4,$W73-4,0)&\"\")","v":""},"",{"$f":"IF(B73=\"\",\"\",IF(ISERROR(MATCH($J73,SorP!$B$1:$B$6230,0)),\"\",INDIRECT(\"'SorP'!$A$\"&MATCH($J73,SorP!$B$1:$B$6230,0))))","v":""},null,{"$f":"IF(C73=\"\",NA(),MATCH($B73&$C73,'Smelter Look-up'!$J:$J,0))","v":{"$error":"#N/A"}},null,0,null,null,null,""]
[{"$nulls":18},{"$f":"IF(ISERROR($W74),\"\",OFFSET('Smelter Look-up'!$C$4,$W74-4,0)&\"\")","v":""},"",{"$f":"IF(B74=\"\",\"\",IF(ISERROR(MATCH($J74,SorP!$B$1:$B$6230,0)),\"\",INDIRECT(\"'SorP'!$A$\"&MATCH($J74,SorP!$B$1:$B$6230,0))))","v":""},null,{"$f":"IF(C74=\"\",NA(),MATCH($B74&$C74,'Smelter Look-up'!$J:$J,0))","v":{"$error":"#N/A"}},null,0,null,null,null,""]
[{"$nulls":18},{"$f":"IF(ISERROR($W75),\"\",OFFSET('Smelter Look-up'!$C$4,$W75-4,0)&\"\")","v":""},"",{"$f":"IF(B75=\"\",\"\",IF(ISERROR(MATCH($J75,SorP!$B$1:$B$6230,0)),\"\",INDIRECT(\"'SorP'!$A$\"&MATCH($J75,SorP!$B$1:$B$6230,0))))","v":""},null,{"$f":"IF(C75=\"\",NA(),MATCH($B75&$C75,'Smelter Look-up'!$J:$J,0))","v":{"$error":"#N/A"}},null,0,null,null,null,""]
[{"$nulls":18},{"$f":"IF(ISERROR($W76),\"\",OFFSET('Smelter Look-up'!$C$4,$W76-4,0)&\"\")","v":""},"",{"$f":"IF(B76=\"\",\"\",IF(ISERROR(MATCH($J76,SorP!$B$1:$B$6230,0)),\"\",INDIRECT(\"'SorP'!$A$\"&MATCH($J76,SorP!$B$1:$B$6230,0))))","v":""},null,{"$f":"IF(C76=\"\",NA(),MATCH($B76&$C76,'Smelter Look-up'!$J:$J,0))","v":{"$error":"#N/A"}},null,0,null,null,null,""]
[{"$nulls":18},{"$f":"IF(ISERROR($W77),\"\",OFFSET('Smelter Look-up'!$C$4,$W77-4,0)&\"\")","v":""},"",{"$f":"IF(B77=\"\",\"\",IF(ISERROR(MATCH($J77,SorP!$B$1:$B$6230,0)),\"\",INDIRECT(\"'SorP'!$A$\"&MATCH($J77,SorP!$B$1:$B$6230,0))))","v":""},null,{"$f":"IF(C77=\"\",NA(),MATCH($B77&$C77,'Smelter Look-up'!$J:$J,0))","v":{"$error":"#N/A"}},null,0,null,null,null,""]
[{"$nulls":18},{"$f":"IF(ISERROR($W78),\"\",OFFSET('Smelter Look-up'!$C$4,$W78-4,0)&\"\")","v":""},"",{"$f":"IF(B78=\"\",\"\",IF(ISERROR(MATCH($J78,SorP!$B$1:$B$6230,0)),\"\",INDIRECT(\"'SorP'!$A$\"&MATCH($J78,SorP!$B$1:$B$6230,0))))","v":""},null,{"$f":"IF(C78=\"\",NA(),MATCH($B78&$C78,'Smelter Look-up'!$J:$J,0))","v":{"$error":"#N/A"}},null,0,null,null,null,""]
[{"$nulls":18},{"$f":"IF(ISERROR($W79),\"\",OFFSET('Smelter Look-up'!$C$4,$W79-4,0)&\"\")","v":""},"",{"$f":"IF(B79=\"\",\"\",IF(ISERROR(MATCH($J79,SorP!$B$1:$B$6230,0)),\"\",INDIRECT(\"'SorP'!$A$\"&MATCH($J79,SorP!$B$1:$B$6230,0))))","v":""},null,{"$f":"IF(C79=\"\",NA(),MATCH($B79&$C79,'Smelter Look-up'!$J:$J,0))","v":{"$error":"#N/A"}},null,0,null,null,null,""]
[{"$nulls":18},{"$f":"IF(ISERROR($W80),\"\",OFFSET('Smelter Look-up'!$C$4,$W80-4,0)&\"\")","v":""},"",{"$f":"IF(B80=\"\",\"\",IF(ISERROR(MATCH($J80,SorP!$B$1:$B$6230,0)),\"\",INDIRECT(\"'SorP'!$A$\"&MATCH($J80,SorP!$B$1:$B$6230,0))))","v":""},null,{"$f":"IF(C80=\"\",NA(),MATCH($B80&$C80,'Smelter Look-up'!$J:$J,0))","v":{"$error":"#N/A"}},null,0,null,null,null,""]
[{"$nulls":18},{"$f":"IF(ISERROR($W81),\"\",OFFSET('Smelter Look-up'!$C$4,$W81-4,0)&\"\")","v":""},"",{"$f":"IF(B81=\"\",\"\",IF(ISERROR(MATCH($J81,SorP!$B$1:$B$6230,0)),\"\",INDIRECT(\"'SorP'!$A$\"&MATCH($J81,SorP!$B$1:$B$6230,0))))","v":""},null,{"$f":"IF(C81=\"\",NA(),MATCH($B81&$C81,'Smelter Look-up'!$J:$J,0))","v":{"$error":"#N/A"}},null,0,null,null,null,""]
[{"$nulls":18},{"$f":"IF(ISERROR($W82),\"\",OFFSET('Smelter Look-up'!$C$4,$W82-4,0)&\"\")","v":""},"",{"$f":"IF(B82=\"\",\"\",IF(ISERROR(MATCH($J82,SorP!$B$1:$B$6230,0)),\"\",INDIRECT(\"'SorP'!$A$\"&MATCH($J82,SorP!$B$1:$B$6230,0))))","v":""},null,{"$f":"IF(C82=\"\",NA(),MATCH($B82&$C82,'Smelter Look-up'!$J:$J,0))","v":{"$error":"#N/A"}},null,0,null,null,null,""]
[{"$nulls":18},{"$f":"IF(ISERROR($W83),\"\",OFFSET('Smelter Look-up'!$C$4,$W83-4,0)&\"\")","v":""},"",{"$f":"IF(B83=\"\",\"\",IF(ISERROR(MATCH($J83,SorP!$B$1:$B$6230,0)),\"\",INDIRECT(\"'SorP'!$A$\"&MATCH($J83,SorP!$B$1:$B$6230,0))))","v":""},null,{"$f":"IF(C83=\"\",NA(),MATCH($B83&$C83,'Smelter Look-up'!$J:$J,0))","v":{"$error":"#N/A"}},null,0,null,null,null,""]
[{"$nulls":18},{"$f":"IF(ISERROR($W84),\"\",OFFSET('Smelter Look-up'!$C$4,$W84-4,0)&\"\")","v":""},"",{"$f":"IF(B84=\"\",\"\",IF(ISERROR(MATCH($J84,SorP!$B$1:$B$6230,0)),\"\",INDIRECT(\"'SorP'!$A$\"&MATCH($J84,SorP!$B$1:$B$6230,0))))","v":""},null,{"$f":"IF(C84=\"\",NA(),MATCH($B84&$C84,'Smelter Look-up'!$J:$J,0))","v":{"$error":"#N/A"}},null,0,null,null,null,""]
[{"$nulls":18},{"$f":"IF(ISERROR($W85),\"\",OFFSET('Smelter Look-up'!$C$4,$W85-4,0)&\"\")","v":""},"",{"$f":"IF(B85=\"\",\"\",IF(ISERROR(MATCH($J85,SorP!$B$1:$B$6230,0)),\"\",INDIRECT(\"'SorP'!$A$\"&MATCH($J85,SorP!$B$1:$B$6230,0))))","v":""},null,{"$f":"IF(C85=\"\",NA(),MATCH($B85&$C85,'Smelter Look-up'!$J:$J,0))","v":{"$error":"#N/A"}},null,0,null,null,null,""]
[{"$nulls":18},{"$f":"IF(ISERROR($W86),\"\",OFFSET('Smelter Look-up'!$C$4,$W86-4,0)&\"\")","v":""},"",{"$f":"IF(B86=\"\",\"\",IF(ISERROR(MATCH($J86,SorP!$B$1:$B$6230,0)),\"\",INDIRECT(\"'SorP'!$A$\"&MATCH($J86,SorP!$B$1:$B$6230,0))))","v":""},null,{"$f":"IF(C86=\"\",NA(),MATCH($B86&$C86,'Smelter Look-up'!$J:$J,0))","v":{"$error":"#N/A"}},null,0,null,null,null,""]
[{"$nulls":18},{"$f":"IF(ISERROR($W87),\"\",OFFSET('Smelter Look-up'!$C$4,$W87-4,0)&\"\")","v":""},"",{"$f":"IF(B87=\"\",\"\",IF(ISERROR(MATCH($J87,SorP!$B$1:$B$6230,0)),\"\",INDIRECT(\"'SorP'!$A$\"&MATCH($J87,SorP!$B$1:$B$6230,0))))","v":""},null,{"$f":"IF(C87=\"\",NA(),MATCH($B87&$C87,'Smelter Look-up'!$J:$J,0))","v":{"$error":"#N/A"}},null,0,null,null,null,""]
[{"$nulls":18},{"$f":"IF(ISERROR($W88),\"\",OFFSET('Smelter Look-up'!$C$4,$W88-4,0)&\"\")","v":""},"",{"$f":"IF(B88=\"\",\"\",IF(ISERROR(MATCH($J88,SorP!$B$1:$B$6230,0)),\"\",INDIRECT(\"'SorP'!$A$\"&MATCH($J88,SorP!$B$1:$B$6230,0))))","v":""},null,{"$f":"IF(C88=\"\",NA(),MATCH($B88&$C88,'Smelter Look-up'!$J:$J,0))","v":{"$error":"#N/A"}},null,0,null,null,null,""]
[{"$nulls":18},{"$f":"IF(ISERROR($W89),\"\",OFFSET('Smelter Look-up'!$C$4,$W89-4,0)&\"\")","v":""},"",{"$f":"IF(B89=\"\",\"\",IF(ISERROR(MATCH($J89,SorP!$B$1:$B$6230,0)),\"\",INDIRECT(\"'SorP'!$A$\"&MATCH($J89,SorP!$B$1:$B$6230,0))))","v":""},null,{"$f":"IF(C89=\"\",NA(),MATCH($B89&$C89,'Smelter Look-up'!$J:$J,0))","v":{"$error":"#N/A"}},null,0,null,null,null,""]
[{"$nulls":18},{"$f":"IF(ISERROR($W90),\"\",OFFSET('Smelter Look-up'!$C$4,$W90-4,0)&\"\")","v":""},"",{"$f":"IF(B90=\"\",\"\",IF(ISERROR(MATCH($J90,SorP!$B$1:$B$6230,0)),\"\",INDIRECT(\"'SorP'!$A$\"&MATCH($J90,SorP!$B$1:$B$6230,0))))","v":""},null,{"$f":"IF(C90=\"\",NA(),MATCH($B90&$C90,'Smelter Look-up'!$J:$J,0))","v":{"$error":"#N/A"}},null,0,null,null,null,""]
[{"$nulls":18},{"$f":"IF(ISERROR($W91),\"\",OFFSET('Smelter Look-up'!$C$4,$W91-4,0)&\"\")","v":""},"",{"$f":"IF(B91=\"\",\"\",IF(ISERROR(MATCH($J91,SorP!$B$1:$B$6230,0)),\"\",INDIRECT(\"'SorP'!$A$\"&MATCH($J91,SorP!$B$1:$B$6230,0))))","v":""},null,{"$f":"IF(C91=\"\",NA(),MATCH($B91&$C91,'Smelter Look-up'!$J:$J,0))","v":{"$error":"#N/A"}},null,0,null,null,null,""]
[{"$nulls":18},{"$f":"IF(ISERROR($W92),\"\",OFFSET('Smelter Look-up'!$C$4,$W92-4,0)&\"\")","v":""},"",{"$f":"IF(B92=\"\",\"\",IF(ISERROR(MATCH($J92,SorP!$B$1:$B$6230,0)),\"\",INDIRECT(\"'SorP'!$A$\"&MATCH($J92,SorP!$B$1:$B$6230,0))))","v":""},null,{"$f":"IF(C92=\"\",NA(),MATCH($B92&$C92,'Smelter Look-up'!$J:$J,0))","v":{"$error":"#N/A"}},null,0,null,null,null,""]
[{"$nulls":18},{"$f":"IF(ISERROR($W93),\"\",OFFSET('Smelter Look-up'!$C$4,$W93-4,0)&\"\")","v":""},"",{"$f":"IF(B93=\"\",\"\",IF(ISERROR(MATCH($J93,SorP!$B$1:$B$6230,0)),\"\",INDIRECT(\"'SorP'!$A$\"&MATCH($J93,SorP!$B$1:$B$6230,0))))","v":""},null,{"$f":"IF(C93=\"\",NA(),MATCH($B93&$C93,'Smelter Look-up'!$J:$J,0))","v":{"$error":"#N/A"}},null,0,null,null,null,""]
[{"$nulls":18},{"$f":"IF(ISERROR($W94),\"\",OFFSET('Smelter Look-up'!$C$4,$W94-4,0)&\"\")","v":""},"",{"$f":"IF(B94=\"\",\"\",IF(ISERROR(MATCH($J94,SorP!$B$1:$B$6230,0)),\"\",INDIRECT(\"'SorP'!$A$\"&MATCH($J94,SorP!$B$1:$B$6230,0))))","v":""},null,{"$f":"IF(C94=\"\",NA(),MATCH($B94&$C94,'Smelter Look-up'!$J:$J,0))","v":{"$error":"#N/A"}},null,0,null,null,null,""]
[{"$nulls":18},{"$f":"IF(ISERROR($W95),\"\",OFFSET('Smelter Look-up'!$C$4,$W95-4,0)&\"\")","v":""},"",{"$f":"IF(B95=\"\",\"\",IF(ISERROR(MATCH($J95,SorP!$B$1:$B$6230,0)),\"\",INDIRECT(\"'SorP'!$A$\"&MATCH($J95,SorP!$B$1:$B$6230,0))))","v":""},null,{"$f":"IF(C95=\"\",NA(),MATCH($B95&$C95,'Smelter Look-up'!$J:$J,0))","v":{"$error":"#N/A"}},null,0,null,null,null,""]
[{"$nulls":18},{"$f":"IF(ISERROR($W96),\"\",OFFSET('Smelter Look-up'!$C$4,$W96-4,0)&\"\")","v":""},"",{"$f":"IF(B96=\"\",\"\",IF(ISERROR(MATCH($J96,SorP!$B$1:$B$6230,0)),\"\",INDIRECT(\"'SorP'!$A$\"&MATCH($J96,SorP!$B$1:$B$6230,0))))","v":""},null,{"$f":"IF(C96=\"\",NA(),MATCH($B96&$C96,'Smelter Look-up'!$J:$J,0))","v":{"$error":"#N/A"}},null,0,null,null,null,""]
[{"$nulls":18},{"$f":"IF(ISERROR($W97),\"\",OFFSET('Smelter Look-up'!$C$4,$W97-4,0)&\"\")","v":""},"",{"$f":"IF(B97=\"\",\"\",IF(ISERROR(MATCH($J97,SorP!$B$1:$B$6230,0)),\"\",INDIRECT(\"'SorP'!$A$\"&MATCH($J97,SorP!$B$1:$B$6230,0))))","v":""},null,{"$f":"IF(C97=\"\",NA(),MATCH($B97&$C97,'Smelter Look-up'!$J:$J,0))","v":{"$error":"#N/A"}},null,0,null,null,null,""]
[{"$nulls":18},{"$f":"IF(ISERROR($W98),\"\",OFFSET('Smelter Look-up'!$C$4,$W98-4,0)&\"\")","v":""},"",{"$f":"IF(B98=\"\",\"\",IF(ISERROR(MATCH($J98,SorP!$B$1:$B$6230,0)),\"\",INDIRECT(\"'SorP'!$A$\"&MATCH($J98,SorP!$B$1:$B$6230,0))))","v":""},null,{"$f":"IF(C98=\"\",NA(),MATCH($B98&$C98,'Smelter Look-up'!$J:$J,0))","v":{"$error":"#N/A"}},null,0,null,null,null,""]
[{"$nulls":18},{"$f":"IF(ISERROR($W99),\"\",OFFSET('Smelter Look-up'!$C$4,$W99-4,0)&\"\")","v":""},"",{"$f":"IF(B99=\"\",\"\",IF(ISERROR(MATCH($J99,SorP!$B$1:$B$6230,0)),\"\",INDIRECT(\"'SorP'!$A$\"&MATCH($J99,SorP!$B$1:$B$6230,0))))","v":""},null,{"$f":"IF(C99=\"\",NA(),MATCH($B99&$C99,'Smelter Look-up'!$J:$J,0))","v":{"$error":"#N/A"}},null,0,null,null,null,""]
[{"$nulls":18},{"$f":"IF(ISERROR($W100),\"\",OFFSET('Smelter Look-up'!$C$4,$W100-4,0)&\"\")","v":""},"",{"$f":"IF(B100=\"\",\"\",IF(ISERROR(MATCH($J100,SorP!$B$1:$B$6230,0)),\"\",INDIRECT(\"'SorP'!$A$\"&MATCH($J100,SorP!$B$1:$B$6230,0))))","v":""},null,{"$f":"IF(C100=\"\",NA(),MATCH($B100&$C100,'Smelter Look-up'!$J:$J,0))","v":{"$error":"#N/A"}},null,0,null,null,null,""]
[{"$nulls":18},{"$f":"IF(ISERROR($W101),\"\",OFFSET('Smelter Look-up'!$C$4,$W101-4,0)&\"\")","v":""},"",{"$f":"IF(B101=\"\",\"\",IF(ISERROR(MATCH($J101,SorP!$B$1:$B$6230,0)),\"\",INDIRECT(\"'SorP'!$A$\"&MATCH($J101,SorP!$B$1:$B$6230,0))))","v":""},null,{"$f":"IF(C101=\"\",NA(),MATCH($B101&$C101,'Smelter Look-up'!$J:$J,0))","v":{"$error":"#N/A"}},null,0,null,null,null,""]
[{"$nulls":18},{"$f":"IF(ISERROR($W102),\"\",OFFSET('Smelter Look-up'!$C$4,$W102-4,0)&\"\")","v":""},"",{"$f":"IF(B102=\"\",\"\",IF(ISERROR(MATCH($J102,SorP!$B$1:$B$6230,0)),\"\",INDIRECT(\"'SorP'!$A$\"&MATCH($J102,SorP!$B$1:$B$6230,0))))","v":""},null,{"$f":"IF(C102=\"\",NA(),MATCH($B102&$C102,'Smelter Look-up'!$J:$J,0))","v":{"$error":"#N/A"}},null,0,null,null,null,""]
[{"$nulls":18},{"$f":"IF(ISERROR($W103),\"\",OFFSET('Smelter Look-up'!$C$4,$W103-4,0)&\"\")","v":""},"",{"$f":"IF(B103=\"\",\"\",IF(ISERROR(MATCH($J103,SorP!$B$1:$B$6230,0)),\"\",INDIRECT(\"'SorP'!$A$\"&MATCH($J103,SorP!$B$1:$B$6230,0))))","v":""},null,{"$f":"IF(C103=\"\",NA(),MATCH($B103&$C103,'Smelter Look-up'!$J:$J,0))","v":{"$error":"#N/A"}},null,0,null,null,null,""]
[{"$nulls":18},{"$f":"IF(ISERROR($W104),\"\",OFFSET('Smelter Look-up'!$C$4,$W104-4,0)&\"\")","v":""},"",{"$f":"IF(B104=\"\",\"\",IF(ISERROR(MATCH($J104,SorP!$B$1:$B$6230,0)),\"\",INDIRECT(\"'SorP'!$A$\"&MATCH($J104,SorP!$B$1:$B$6230,0))))","v":""},null,{"$f":"IF(C104=\"\",NA(),MATCH($B104&$C104,'Smelter Look-up'!$J:$J,0))","v":{"$error":"#N/A"}},null,0,null,null,null,""]
[{"$nulls":18},{"$f":"IF(ISERROR($W105),\"\",OFFSET('Smelter Look-up'!$C$4,$W105-4,0)&\"\")","v":""},"",{"$f":"IF(B105=\"\",\"\",IF(ISERROR(MATCH($J105,SorP!$B$1:$B$6230,0)),\"\",INDIRECT(\"'SorP'!$A$\"&MATCH($J105,SorP!$B$1:$B$6230,0))))","v":""},null,{"$f":"IF(C105=\"\",NA(),MATCH($B105&$C105,'Smelter Look-up'!$J:$J,0))","v":{"$error":"#N/A"}},null,0,null,null,null,""]
[{"$nulls":18},{"$f":"IF(ISERROR($W106),\"\",OFFSET('Smelter Look-up'!$C$4,$W106-4,0)&\"\")","v":""},"",{"$f":"IF(B106=\"\",\"\",IF(ISERROR(MATCH($J106,SorP!$B$1:$B$6230,0)),\"\",INDIRECT(\"'SorP'!$A$\"&MATCH($J106,SorP!$B$1:$B$6230,0))))","v":""},null,{"$f":"IF(C106=\"\",NA(),MATCH($B106&$C106,'Smelter Look-up'!$J:$J,0))","v":{"$error":"#N/A"}},null,0,null,null,null,""]
[{"$nulls":18},{"$f":"IF(ISERROR($W107),\"\",OFFSET('Smelter Look-up'!$C$4,$W107-4,0)&\"\")","v":""},"",{"$f":"IF(B107=\"\",\"\",IF(ISERROR(MATCH($J107,SorP!$B$1:$B$6230,0)),\"\",INDIRECT(\"'SorP'!$A$\"&MATCH($J107,SorP!$B$1:$B$6230,0))))","v":""},null,{"$f":"IF(C107=\"\",NA(),MATCH($B107&$C107,'Smelter Look-up'!$J:$J,0))","v":{"$error":"#N/A"}},null,0,null,null,null,""]
[{"$nulls":18},{"$f":"IF(ISERROR($W108),\"\",OFFSET('Smelter Look-up'!$C$4,$W108-4,0)&\"\")","v":""},"",{"$f":"IF(B108=\"\",\"\",IF(ISERROR(MATCH($J108,SorP!$B$1:$B$6230,0)),\"\",INDIRECT(\"'SorP'!$A$\"&MATCH($J108,SorP!$B$1:$B$6230,0))))","v":""},null,{"$f":"IF(C108=\"\",NA(),MATCH($B108&$C108,'Smelter Look-up'!$J:$J,0))","v":{"$error":"#N/A"}},null,0,null,null,null,""]
[{"$nulls":18},{"$f":"IF(ISERROR($W109),\"\",OFFSET('Smelter Look-up'!$C$4,$W109-4,0)&\"\")","v":""},"",{"$f":"IF(B109=\"\",\"\",IF(ISERROR(MATCH($J109,SorP!$B$1:$B$6230,0)),\"\",INDIRECT(\"'SorP'!$A$\"&MATCH($J109,SorP!$B$1:$B$6230,0))))","v":""},null,{"$f":"IF(C109=\"\",NA(),MATCH($B109&$C109,'Smelter Look-up'!$J:$J,0))","v":{"$error":"#N/A"}},null,0,null,null,null,""]
[{"$nulls":18},{"$f":"IF(ISERROR($W110),\"\",OFFSET('Smelter Look-up'!$C$4,$W110-4,0)&\"\")","v":""},"",{"$f":"IF(B110=\"\",\"\",IF(ISERROR(MATCH($J110,SorP!$B$1:$B$6230,0)),\"\",INDIRECT(\"'SorP'!$A$\"&MATCH($J110,SorP!$B$1:$B$6230,0))))","v":""},null,{"$f":"IF(C110=\"\",NA(),MATCH($B110&$C110,'Smelter Look-up'!$J:$J,0))","v":{"$error":"#N/A"}},null,0,null,null,null,""]
[{"$nulls":18},{"$f":"IF(ISERROR($W111),\"\",OFFSET('Smelter Look-up'!$C$4,$W111-4,0)&\"\")","v":""},"",{"$f":"IF(B111=\"\",\"\",IF(ISERROR(MATCH($J111,SorP!$B$1:$B$6230,0)),\"\",INDIRECT(\"'SorP'!$A$\"&MATCH($J111,SorP!$B$1:$B$6230,0))))","v":""},null,{"$f":"IF(C111=\"\",NA(),MATCH($B111&$C111,'Smelter Look-up'!$J:$J,0))","v":{"$error":"#N/A"}},null,0,null,null,null,""]
[{"$nulls":18},{"$f":"IF(ISERROR($W112),\"\",OFFSET('Smelter Look-up'!$C$4,$W112-4,0)&\"\")","v":""},"",{"$f":"IF(B112=\"\",\"\",IF(ISERROR(MATCH($J112,SorP!$B$1:$B$6230,0)),\"\",INDIRECT(\"'SorP'!$A$\"&MATCH($J112,SorP!$B$1:$B$6230,0))))","v":""},null,{"$f":"IF(C112=\"\",NA(),MATCH($B112&$C112,'Smelter Look-up'!$J:$J,0))","v":{"$error":"#N/A"}},null,0,null,null,null,""]
[{"$nulls":18},{"$f":"IF(ISERROR($W113),\"\",OFFSET('Smelter Look-up'!$C$4,$W113-4,0)&\"\")","v":""},"",{"$f":"IF(B113=\"\",\"\",IF(ISERROR(MATCH($J113,SorP!$B$1:$B$6230,0)),\"\",INDIRECT(\"'SorP'!$A$\"&MATCH($J113,SorP!$B$1:$B$6230,0))))","v":""},null,{"$f":"IF(C113=\"\",NA(),MATCH($B113&$C113,'Smelter Look-up'!$J:$J,0))","v":{"$error":"#N/A"}},null,0,null,null,null,""]
[{"$nulls":18},{"$f":"IF(ISERROR($W114),\"\",OFFSET('Smelter Look-up'!$C$4,$W114-4,0)&\"\")","v":""},"",{"$f":"IF(B114=\"\",\"\",IF(ISERROR(MATCH($J114,SorP!$B$1:$B$6230,0)),\"\",INDIRECT(\"'SorP'!$A$\"&MATCH($J114,SorP!$B$1:$B$6230,0))))","v":""},null,{"$f":"IF(C114=\"\",NA(),MATCH($B114&$C114,'Smelter Look-up'!$J:$J,0))","v":{"$error":"#N/A"}},null,0,null,null,null,""]
[{"$nulls":18},{"$f":"IF(ISERROR($W115),\"\",OFFSET('Smelter Look-up'!$C$4,$W115-4,0)&\"\")","v":""},"",{"$f":"IF(B115=\"\",\"\",IF(ISERROR(MATCH($J115,SorP!$B$1:$B$6230,0)),\"\",INDIRECT(\"'SorP'!$A$\"&MATCH($J115,SorP!$B$1:$B$6230,0))))","v":""},null,{"$f":"IF(C115=\"\",NA(),MATCH($B115&$C115,'Smelter Look-up'!$J:$J,0))","v":{"$error":"#N/A"}},null,0,null,null,null,""]
[{"$nulls":18},{"$f":"IF(ISERROR($W116),\"\",OFFSET('Smelter Look-up'!$C$4,$W116-4,0)&\"\")","v":""},"",{"$f":"IF(B116=\"\",\"\",IF(ISERROR(MATCH($J116,SorP!$B$1:$B$6230,0)),\"\",INDIRECT(\"'SorP'!$A$\"&MATCH($J116,SorP!$B$1:$B$6230,0))))","v":""},null,{"$f":"IF(C116=\"\",NA(),MATCH($B116&$C116,'Smelter Look-up'!$J:$J,0))","v":{"$error":"#N/A"}},null,0,null,null,null,""]
[{"$nulls":18},{"$f":"IF(ISERROR($W117),\"\",OFFSET('Smelter Look-up'!$C$4,$W117-4,0)&\"\")","v":""},"",{"$f":"IF(B117=\"\",\"\",IF(ISERROR(MATCH($J117,SorP!$B$1:$B$6230,0)),\"\",INDIRECT(\"'SorP'!$A$\"&MATCH($J117,SorP!$B$1:$B$6230,0))))","v":""},null,{"$f":"IF(C117=\"\",NA(),MATCH($B117&$C117,'Smelter Look-up'!$J:$J,0))","v":{"$error":"#N/A"}},null,0,null,null,null,""]
[{"$nulls":18},{"$f":"IF(ISERROR($W118),\"\",OFFSET('Smelter Look-up'!$C$4,$W118-4,0)&\"\")","v":""},"",{"$f":"IF(B118=\"\",\"\",IF(ISERROR(MATCH($J118,SorP!$B$1:$B$6230,0)),\"\",INDIRECT(\"'SorP'!$A$\"&MATCH($J118,SorP!$B$1:$B$6230,0))))","v":""},null,{"$f":"IF(C118=\"\",NA(),MATCH($B118&$C118,'Smelter Look-up'!$J:$J,0))","v":{"$error":"#N/A"}},null,0,null,null,null,""]
[{"$nulls":18},{"$f":"IF(ISERROR($W119),\"\",OFFSET('Smelter Look-up'!$C$4,$W119-4,0)&\"\")","v":""},"",{"$f":"IF(B119=\"\",\"\",IF(ISERROR(MATCH($J119,SorP!$B$1:$B$6230,0)),\"\",INDIRECT(\"'SorP'!$A$\"&MATCH($J119,SorP!$B$1:$B$6230,0))))","v":""},null,{"$f":"IF(C119=\"\",NA(),MATCH($B119&$C119,'Smelter Look-up'!$J:$J,0))","v":{"$error":"#N/A"}},null,0,null,null,null,""]
[{"$nulls":18},{"$f":"IF(ISERROR($W120),\"\",OFFSET('Smelter Look-up'!$C$4,$W120-4,0)&\"\")","v":""},"",{"$f":"IF(B120=\"\",\"\",IF(ISERROR(MATCH($J120,SorP!$B$1:$B$6230,0)),\"\",INDIRECT(\"'SorP'!$A$\"&MATCH($J120,SorP!$B$1:$B$6230,0))))","v":""},null,{"$f":"IF(C120=\"\",NA(),MATCH($B120&$C120,'Smelter Look-up'!$J:$J,0))","v":{"$error":"#N/A"}},null,0,null,null,null,""]
[{"$nulls":18},{"$f":"IF(ISERROR($W121),\"\",OFFSET('Smelter Look-up'!$C$4,$W121-4,0)&\"\")","v":""},"",{"$f":"IF(B121=\"\",\"\",IF(ISERROR(MATCH($J121,SorP!$B$1:$B$6230,0)),\"\",INDIRECT(\"'SorP'!$A$\"&MATCH($J121,SorP!$B$1:$B$6230,0))))","v":""},null,{"$f":"IF(C121=\"\",NA(),MATCH($B121&$C121,'Smelter Look-up'!$J:$J,0))","v":{"$error":"#N/A"}},null,0,null,null,null,""]
[{"$nulls":18},{"$f":"IF(ISERROR($W122),\"\",OFFSET('Smelter Look-up'!$C$4,$W122-4,0)&\"\")","v":""},"",{"$f":"IF(B122=\"\",\"\",IF(ISERROR(MATCH($J122,SorP!$B$1:$B$6230,0)),\"\",INDIRECT(\"'SorP'!$A$\"&MATCH($J122,SorP!$B$1:$B$6230,0))))","v":""},null,{"$f":"IF(C122=\"\",NA(),MATCH($B122&$C122,'Smelter Look-up'!$J:$J,0))","v":{"$error":"#N/A"}},null,0,null,null,null,""]
[{"$nulls":18},{"$f":"IF(ISERROR($W123),\"\",OFFSET('Smelter Look-up'!$C$4,$W123-4,0)&\"\")","v":""},"",{"$f":"IF(B123=\"\",\"\",IF(ISERROR(MATCH($J123,SorP!$B$1:$B$6230,0)),\"\",INDIRECT(\"'SorP'!$A$\"&MATCH($J123,SorP!$B$1:$B$6230,0))))","v":""},null,{"$f":"IF(C123=\"\",NA(),MATCH($B123&$C123,'Smelter Look-up'!$J:$J,0))","v":{"$error":"#N/A"}},null,0,null,null,null,""]
[{"$nulls":18},{"$f":"IF(ISERROR($W124),\"\",OFFSET('Smelter Look-up'!$C$4,$W124-4,0)&\"\")","v":""},"",{"$f":"IF(B124=\"\",\"\",IF(ISERROR(MATCH($J124,SorP!$B$1:$B$6230,0)),\"\",INDIRECT(\"'SorP'!$A$\"&MATCH($J124,SorP!$B$1:$B$6230,0))))","v":""},null,{"$f":"IF(C124=\"\",NA(),MATCH($B124&$C124,'Smelter Look-up'!$J:$J,0))","v":{"$error":"#N/A"}},null,0,null,null,null,""]
[{"$nulls":18},{"$f":"IF(ISERROR($W125),\"\",OFFSET('Smelter Look-up'!$C$4,$W125-4,0)&\"\")","v":""},"",{"$f":"IF(B125=\"\",\"\",IF(ISERROR(MATCH($J125,SorP!$B$1:$B$6230,0)),\"\",INDIRECT(\"'SorP'!$A$\"&MATCH($J125,SorP!$B$1:$B$6230,0))))","v":""},null,{"$f":"IF(C125=\"\",NA(),MATCH($B125&$C125,'Smelter Look-up'!$J:$J,0))","v":{"$error":"#N/A"}},null,0,null,null,null,""]
[{"$nulls":18},{"$f":"IF(ISERROR($W126),\"\",OFFSET('Smelter Look-up'!$C$4,$W126-4,0)&\"\")","v":""},"",{"$f":"IF(B126=\"\",\"\",IF(ISERROR(MATCH($J126,SorP!$B$1:$B$6230,0)),\"\",INDIRECT(\"'SorP'!$A$\"&MATCH($J126,SorP!$B$1:$B$6230,0))))","v":""},null,{"$f":"IF(C126=\"\",NA(),MATCH($B126&$C126,'Smelter Look-up'!$J:$J,0))","v":{"$error":"#N/A"}},null,0,null,null,null,""]
[{"$nulls":18},{"$f":"IF(ISERROR($W127),\"\",OFFSET('Smelter Look-up'!$C$4,$W127-4,0)&\"\")","v":""},"",{"$f":"IF(B127=\"\",\"\",IF(ISERROR(MATCH($J127,SorP!$B$1:$B$6230,0)),\"\",INDIRECT(\"'SorP'!$A$\"&MATCH($J127,SorP!$B$1:$B$6230,0))))","v":""},null,{"$f":"IF(C127=\"\",NA(),MATCH($B127&$C127,'Smelter Look-up'!$J:$J,0))","v":{"$error":"#N/A"}},null,0,null,null,null,""]
[{"$nulls":18},{"$f":"IF(ISERROR($W128),\"\",OFFSET('Smelter Look-up'!$C$4,$W128-4,0)&\"\")","v":""},"",{"$f":"IF(B128=\"\",\"\",IF(ISERROR(MATCH($J128,SorP!$B$1:$B$6230,0)),\"\",INDIRECT(\"'SorP'!$A$\"&MATCH($J128,SorP!$B$1:$B$6230,0))))","v":""},null,{"$f":"IF(C128=\"\",NA(),MATCH($B128&$C128,'Smelter Look-up'!$J:$J,0))","v":{"$error":"#N/A"}},null,0,null,null,null,""]
[{"$nulls":18},{"$f":"IF(ISERROR($W129),\"\",OFFSET('Smelter Look-up'!$C$4,$W129-4,0)&\"\")","v":""},"",{"$f":"IF(B129=\"\",\"\",IF(ISERROR(MATCH($J129,SorP!$B$1:$B$6230,0)),\"\",INDIRECT(\"'SorP'!$A$\"&MATCH($J129,SorP!$B$1:$B$6230,0))))","v":""},null,{"$f":"IF(C129=\"\",NA(),MATCH($B129&$C129,'Smelter Look-up'!$J:$J,0))","v":{"$error":"#N/A"}},null,0,null,null,null,""]
[{"$nulls":18},{"$f":"IF(ISERROR($W130),\"\",OFFSET('Smelter Look-up'!$C$4,$W130-4,0)&\"\")","v":""},"",{"$f":"IF(B130=\"\",\"\",IF(ISERROR(MATCH($J130,SorP!$B$1:$B$6230,0)),\"\",INDIRECT(\"'SorP'!$A$\"&MATCH($J130,SorP!$B$1:$B$6230,0))))","v":""},null,{"$f":"IF(C130=\"\",NA(),MATCH($B130&$C130,'Smelter Look-up'!$J:$J,0))","v":{"$error":"#N/A"}},null,0,null,null,null,""]
[{"$nulls":18},{"$f":"IF(ISERROR($W131),\"\",OFFSET('Smelter Look-up'!$C$4,$W131-4,0)&\"\")","v":""},"",{"$f":"IF(B131=\"\",\"\",IF(ISERROR(MATCH($J131,SorP!$B$1:$B$6230,0)),\"\",INDIRECT(\"'SorP'!$A$\"&MATCH($J131,SorP!$B$1:$B$6230,0))))","v":""},null,{"$f":"IF(C131=\"\",NA(),MATCH($B131&$C131,'Smelter Look-up'!$J:$J,0))","v":{"$error":"#N/A"}},null,0,null,null,null,""]
[{"$nulls":18},{"$f":"IF(ISERROR($W132),\"\",OFFSET('Smelter Look-up'!$C$4,$W132-4,0)&\"\")","v":""},"",{"$f":"IF(B132=\"\",\"\",IF(ISERROR(MATCH($J132,SorP!$B$1:$B$6230,0)),\"\",INDIRECT(\"'SorP'!$A$\"&MATCH($J132,SorP!$B$1:$B$6230,0))))","v":""},null,{"$f":"IF(C132=\"\",NA(),MATCH($B132&$C132,'Smelter Look-up'!$J:$J,0))","v":{"$error":"#N/A"}},null,0,null,null,null,""]
[{"$nulls":18},{"$f":"IF(ISERROR($W133),\"\",OFFSET('Smelter Look-up'!$C$4,$W133-4,0)&\"\")","v":""},{"$f":"IF(B133=\"\",\"\",IF(ISERROR(MATCH($E133,CL,0)),\"Unknown\",INDIRECT(\"'C'!$A$\"&MATCH($E133,CL,0)+1)))","v":""},{"$f":"IF(B133=\"\",\"\",IF(ISERROR(MATCH($J133,SorP!$B$1:$B$6230,0)),\"\",INDIRECT(\"'SorP'!$A$\"&MATCH($J133,SorP!$B$1:$B$6230,0))))","v":""},null,{"$f":"IF(C133=\"\",NA(),MATCH($B133&$C133,'Smelter Look-up'!$J:$J,0))","v":{"$error":"#N/A"}},null,{"$f":"IF(AND(C133=\"Smelter not listed\",OR(LEN(D133)=0,LEN(E133)=0)),1,0)","v":0},null,null,null,{"$f":"B133&C133","v":""}]
[{"$nulls":18},{"$f":"IF(ISERROR($W134),\"\",OFFSET('Smelter Look-up'!$C$4,$W134-4,0)&\"\")","v":""},"",{"$f":"IF(B134=\"\",\"\",IF(ISERROR(MATCH($J134,SorP!$B$1:$B$6230,0)),\"\",INDIRECT(\"'SorP'!$A$\"&MATCH($J134,SorP!$B$1:$B$6230,0))))","v":""},null,{"$f":"IF(C134=\"\",NA(),MATCH($B134&$C134,'Smelter Look-up'!$J:$J,0))","v":{"$error":"#N/A"}},null,0,null,null,null,""]
[{"$nulls":18},{"$f":"IF(ISERROR($W135),\"\",OFFSET('Smelter Look-up'!$C$4,$W135-4,0)&\"\")","v":""},"",{"$f":"IF(B135=\"\",\"\",IF(ISERROR(MATCH($J135,SorP!$B$1:$B$6230,0)),\"\",INDIRECT(\"'SorP'!$A$\"&MATCH($J135,SorP!$B$1:$B$6230,0))))","v":""},null,{"$f":"IF(C135=\"\",NA(),MATCH($B135&$C135,'Smelter Look-up'!$J:$J,0))","v":{"$error":"#N/A"}},null,0,null,null,null,""]
[{"$nulls":18},{"$f":"IF(ISERROR($W136),\"\",OFFSET('Smelter Look-up'!$C$4,$W136-4,0)&\"\")","v":""},"",{"$f":"IF(B136=\"\",\"\",IF(ISERROR(MATCH($J136,SorP!$B$1:$B$6230,0)),\"\",INDIRECT(\"'SorP'!$A$\"&MATCH($J136,SorP!$B$1:$B$6230,0))))","v":""},null,{"$f":"IF(C136=\"\",NA(),MATCH($B136&$C136,'Smelter Look-up'!$J:$J,0))","v":{"$error":"#N/A"}},null,0,null,null,null,""]
[{"$nulls":18},{"$f":"IF(ISERROR($W137),\"\",OFFSET('Smelter Look-up'!$C$4,$W137-4,0)&\"\")","v":""},"",{"$f":"IF(B137=\"\",\"\",IF(ISERROR(MATCH($J137,SorP!$B$1:$B$6230,0)),\"\",INDIRECT(\"'SorP'!$A$\"&MATCH($J137,SorP!$B$1:$B$6230,0))))","v":""},null,{"$f":"IF(C137=\"\",NA(),MATCH($B137&$C137,'Smelter Look-up'!$J:$J,0))","v":{"$error":"#N/A"}},null,0,null,null,null,""]
[{"$nulls":18},{"$f":"IF(ISERROR($W138),\"\",OFFSET('Smelter Look-up'!$C$4,$W138-4,0)&\"\")","v":""},"",{"$f":"IF(B138=\"\",\"\",IF(ISERROR(MATCH($J138,SorP!$B$1:$B$6230,0)),\"\",INDIRECT(\"'SorP'!$A$\"&MATCH($J138,SorP!$B$1:$B$6230,0))))","v":""},null,{"$f":"IF(C138=\"\",NA(),MATCH($B138&$C138,'Smelter Look-up'!$J:$J,0))","v":{"$error":"#N/A"}},null,0,null,null,null,""]
[{"$nulls":18},{"$f":"IF(ISERROR($W139),\"\",OFFSET('Smelter Look-up'!$C$4,$W139-4,0)&\"\")","v":""},"",{"$f":"IF(B139=\"\",\"\",IF(ISERROR(MATCH($J139,SorP!$B$1:$B$6230,0)),\"\",INDIRECT(\"'SorP'!$A$\"&MATCH($J139,SorP!$B$1:$B$6230,0))))","v":""},null,{"$f":"IF(C139=\"\",NA(),MATCH($B139&$C139,'Smelter Look-up'!$J:$J,0))","v":{"$error":"#N/A"}},null,0,null,null,null,""]
[{"$nulls":18},{"$f":"IF(ISERROR($W140),\"\",OFFSET('Smelter Look-up'!$C$4,$W140-4,0)&\"\")","v":""},"",{"$f":"IF(B140=\"\",\"\",IF(ISERROR(MATCH($J140,SorP!$B$1:$B$6230,0)),\"\",INDIRECT(\"'SorP'!$A$\"&MATCH($J140,SorP!$B$1:$B$6230,0))))","v":""},null,{"$f":"IF(C140=\"\",NA(),MATCH($B140&$C140,'Smelter Look-up'!$J:$J,0))","v":{"$error":"#N/A"}},null,0,null,null,null,""]
[{"$nulls":18},{"$f":"IF(ISERROR($W141),\"\",OFFSET('Smelter Look-up'!$C$4,$W141-4,0)&\"\")","v":""},"",{"$f":"IF(B141=\"\",\"\",IF(ISERROR(MATCH($J141,SorP!$B$1:$B$6230,0)),\"\",INDIRECT(\"'SorP'!$A$\"&MATCH($J141,SorP!$B$1:$B$6230,0))))","v":""},null,{"$f":"IF(C141=\"\",NA(),MATCH($B141&$C141,'Smelter Look-up'!$J:$J,0))","v":{"$error":"#N/A"}},null,0,null,null,null,""]
[{"$nulls":18},{"$f":"IF(ISERROR($W142),\"\",OFFSET('Smelter Look-up'!$C$4,$W142-4,0)&\"\")","v":""},"",{"$f":"IF(B142=\"\",\"\",IF(ISERROR(MATCH($J142,SorP!$B$1:$B$6230,0)),\"\",INDIRECT(\"'SorP'!$A$\"&MATCH($J142,SorP!$B$1:$B$6230,0))))","v":""},null,{"$f":"IF(C142=\"\",NA(),MATCH($B142&$C142,'Smelter Look-up'!$J:$J,0))","v":{"$error":"#N/A"}},null,0,null,null,null,""]
[{"$nulls":18},{"$f":"IF(ISERROR($W143),\"\",OFFSET('Smelter Look-up'!$C$4,$W143-4,0)&\"\")","v":""},"",{"$f":"IF(B143=\"\",\"\",IF(ISERROR(MATCH($J143,SorP!$B$1:$B$6230,0)),\"\",INDIRECT(\"'SorP'!$A$\"&MATCH($J143,SorP!$B$1:$B$6230,0))))","v":""},null,{"$f":"IF(C143=\"\",NA(),MATCH($B143&$C143,'Smelter Look-up'!$J:$J,0))","v":{"$error":"#N/A"}},null,0,null,null,null,""]
[{"$nulls":18},{"$f":"IF(ISERROR($W144),\"\",OFFSET('Smelter Look-up'!$C$4,$W144-4,0)&\"\")","v":""},"",{"$f":"IF(B144=\"\",\"\",IF(ISERROR(MATCH($J144,SorP!$B$1:$B$6230,0)),\"\",INDIRECT(\"'SorP'!$A$\"&MATCH($J144,SorP!$B$1:$B$6230,0))))","v":""},null,{"$f":"IF(C144=\"\",NA(),MATCH($B144&$C144,'Smelter Look-up'!$J:$J,0))","v":{"$error":"#N/A"}},null,0,null,null,null,""]
[{"$nulls":18},{"$f":"IF(ISERROR($W145),\"\",OFFSET('Smelter Look-up'!$C$4,$W145-4,0)&\"\")","v":""},"",{"$f":"IF(B145=\"\",\"\",IF(ISERROR(MATCH($J145,SorP!$B$1:$B$6230,0)),\"\",INDIRECT(\"'SorP'!$A$\"&MATCH($J145,SorP!$B$1:$B$6230,0))))","v":""},null,{"$f":"IF(C145=\"\",NA(),MATCH($B145&$C145,'Smelter Look-up'!$J:$J,0))","v":{"$error":"#N/A"}},null,0,null,null,null,""]
[{"$nulls":18},{"$f":"IF(ISERROR($W146),\"\",OFFSET('Smelter Look-up'!$C$4,$W146-4,0)&\"\")","v":""},"",{"$f":"IF(B146=\"\",\"\",IF(ISERROR(MATCH($J146,SorP!$B$1:$B$6230,0)),\"\",INDIRECT(\"'SorP'!$A$\"&MATCH($J146,SorP!$B$1:$B$6230,0))))","v":""},null,{"$f":"IF(C146=\"\",NA(),MATCH($B146&$C146,'Smelter Look-up'!$J:$J,0))","v":{"$error":"#N/A"}},null,0,null,null,null,""]
[{"$nulls":18},{"$f":"IF(ISERROR($W147),\"\",OFFSET('Smelter Look-up'!$C$4,$W147-4,0)&\"\")","v":""},"",{"$f":"IF(B147=\"\",\"\",IF(ISERROR(MATCH($J147,SorP!$B$1:$B$6230,0)),\"\",INDIRECT(\"'SorP'!$A$\"&MATCH($J147,SorP!$B$1:$B$6230,0))))","v":""},null,{"$f":"IF(C147=\"\",NA(),MATCH($B147&$C147,'Smelter Look-up'!$J:$J,0))","v":{"$error":"#N/A"}},null,0,null,null,null,""]
[{"$nulls":18},{"$f":"IF(ISERROR($W148),\"\",OFFSET('Smelter Look-up'!$C$4,$W148-4,0)&\"\")","v":""},"",{"$f":"IF(B148=\"\",\"\",IF(ISERROR(MATCH($J148,SorP!$B$1:$B$6230,0)),\"\",INDIRECT(\"'SorP'!$A$\"&MATCH($J148,SorP!$B$1:$B$6230,0))))","v":""},null,{"$f":"IF(C148=\"\",NA(),MATCH($B148&$C148,'Smelter Look-up'!$J:$J,0))","v":{"$error":"#N/A"}},null,0,null,null,null,""]
[{"$nulls":18},{"$f":"IF(ISERROR($W149),\"\",OFFSET('Smelter Look-up'!$C$4,$W149-4,0)&\"\")","v":""},"",{"$f":"IF(B149=\"\",\"\",IF(ISERROR(MATCH($J149,SorP!$B$1:$B$6230,0)),\"\",INDIRECT(\"'SorP'!$A$\"&MATCH($J149,SorP!$B$1:$B$6230,0))))","v":""},null,{"$f":"IF(C149=\"\",NA(),MATCH($B149&$C149,'Smelter Look-up'!$J:$J,0))","v":{"$error":"#N/A"}},null,0,null,null,null,""]
[{"$nulls":18},{"$f":"IF(ISERROR($W150),\"\",OFFSET('Smelter Look-up'!$C$4,$W150-4,0)&\"\")","v":""},"",{"$f":"IF(B150=\"\",\"\",IF(ISERROR(MATCH($J150,SorP!$B$1:$B$6230,0)),\"\",INDIRECT(\"'SorP'!$A$\"&MATCH($J150,SorP!$B$1:$B$6230,0))))","v":""},null,{"$f":"IF(C150=\"\",NA(),MATCH($B150&$C150,'Smelter Look-up'!$J:$J,0))","v":{"$error":"#N/A"}},null,0,null,null,null,""]
[{"$nulls":18},{"$f":"IF(ISERROR($W151),\"\",OFFSET('Smelter Look-up'!$C$4,$W151-4,0)&\"\")","v":""},"",{"$f":"IF(B151=\"\",\"\",IF(ISERROR(MATCH($J151,SorP!$B$1:$B$6230,0)),\"\",INDIRECT(\"'SorP'!$A$\"&MATCH($J151,SorP!$B$1:$B$6230,0))))","v":""},null,{"$f":"IF(C151=\"\",NA(),MATCH($B151&$C151,'Smelter Look-up'!$J:$J,0))","v":{"$error":"#N/A"}},null,0,null,null,null,""]
[{"$nulls":18},{"$f":"IF(ISERROR($W152),\"\",OFFSET('Smelter Look-up'!$C$4,$W152-4,0)&\"\")","v":""},"",{"$f":"IF(B152=\"\",\"\",IF(ISERROR(MATCH($J152,SorP!$B$1:$B$6230,0)),\"\",INDIRECT(\"'SorP'!$A$\"&MATCH($J152,SorP!$B$1:$B$6230,0))))","v":""},null,{"$f":"IF(C152=\"\",NA(),MATCH($B152&$C152,'Smelter Look-up'!$J:$J,0))","v":{"$error":"#N/A"}},null,0,null,null,null,""]
[{"$nulls":18},{"$f":"IF(ISERROR($W153),\"\",OFFSET('Smelter Look-up'!$C$4,$W153-4,0)&\"\")","v":""},"",{"$f":"IF(B153=\"\",\"\",IF(ISERROR(MATCH($J153,SorP!$B$1:$B$6230,0)),\"\",INDIRECT(\"'SorP'!$A$\"&MATCH($J153,SorP!$B$1:$B$6230,0))))","v":""},null,{"$f":"IF(C153=\"\",NA(),MATCH($B153&$C153,'Smelter Look-up'!$J:$J,0))","v":{"$error":"#N/A"}},null,0,null,null,null,""]
[{"$nulls":18},{"$f":"IF(ISERROR($W154),\"\",OFFSET('Smelter Look-up'!$C$4,$W154-4,0)&\"\")","v":""},"",{"$f":"IF(B154=\"\",\"\",IF(ISERROR(MATCH($J154,SorP!$B$1:$B$6230,0)),\"\",INDIRECT(\"'SorP'!$A$\"&MATCH($J154,SorP!$B$1:$B$6230,0))))","v":""},null,{"$f":"IF(C154=\"\",NA(),MATCH($B154&$C154,'Smelter Look-up'!$J:$J,0))","v":{"$error":"#N/A"}},null,0,null,null,null,""]
[{"$nulls":18},{"$f":"IF(ISERROR($W155),\"\",OFFSET('Smelter Look-up'!$C$4,$W155-4,0)&\"\")","v":""},"",{"$f":"IF(B155=\"\",\"\",IF(ISERROR(MATCH($J155,SorP!$B$1:$B$6230,0)),\"\",INDIRECT(\"'SorP'!$A$\"&MATCH($J155,SorP!$B$1:$B$6230,0))))","v":""},null,{"$f":"IF(C155=\"\",NA(),MATCH($B155&$C155,'Smelter Look-up'!$J:$J,0))","v":{"$error":"#N/A"}},null,0,null,null,null,""]
[{"$nulls":18},{"$f":"IF(ISERROR($W156),\"\",OFFSET('Smelter Look-up'!$C$4,$W156-4,0)&\"\")","v":""},"",{"$f":"IF(B156=\"\",\"\",IF(ISERROR(MATCH($J156,SorP!$B$1:$B$6230,0)),\"\",INDIRECT(\"'SorP'!$A$\"&MATCH($J156,SorP!$B$1:$B$6230,0))))","v":""},null,{"$f":"IF(C156=\"\",NA(),MATCH($B156&$C156,'Smelter Look-up'!$J:$J,0))","v":{"$error":"#N/A"}},null,0,null,null,null,""]
[{"$nulls":18},{"$f":"IF(ISERROR($W157),\"\",OFFSET('Smelter Look-up'!$C$4,$W157-4,0)&\"\")","v":""},"",{"$f":"IF(B157=\"\",\"\",IF(ISERROR(MATCH($J157,SorP!$B$1:$B$6230,0)),\"\",INDIRECT(\"'SorP'!$A$\"&MATCH($J157,SorP!$B$1:$B$6230,0))))","v":""},null,{"$f":"IF(C157=\"\",NA(),MATCH($B157&$C157,'Smelter Look-up'!$J:$J,0))","v":{"$error":"#N/A"}},null,0,null,null,null,""]
[{"$nulls":18},{"$f":"IF(ISERROR($W158),\"\",OFFSET('Smelter Look-up'!$C$4,$W158-4,0)&\"\")","v":""},"",{"$f":"IF(B158=\"\",\"\",IF(ISERROR(MATCH($J158,SorP!$B$1:$B$6230,0)),\"\",INDIRECT(\"'SorP'!$A$\"&MATCH($J158,SorP!$B$1:$B$6230,0))))","v":""},null,{"$f":"IF(C158=\"\",NA(),MATCH($B158&$C158,'Smelter Look-up'!$J:$J,0))","v":{"$error":"#N/A"}},null,0,null,null,null,""]
[{"$nulls":18},{"$f":"IF(ISERROR($W159),\"\",OFFSET('Smelter Look-up'!$C$4,$W159-4,0)&\"\")","v":""},"",{"$f":"IF(B159=\"\",\"\",IF(ISERROR(MATCH($J159,SorP!$B$1:$B$6230,0)),\"\",INDIRECT(\"'SorP'!$A$\"&MATCH($J159,SorP!$B$1:$B$6230,0))))","v":""},null,{"$f":"IF(C159=\"\",NA(),MATCH($B159&$C159,'Smelter Look-up'!$J:$J,0))","v":{"$error":"#N/A"}},null,0,null,null,null,""]
[{"$nulls":18},{"$f":"IF(ISERROR($W160),\"\",OFFSET('Smelter Look-up'!$C$4,$W160-4,0)&\"\")","v":""},"",{"$f":"IF(B160=\"\",\"\",IF(ISERROR(MATCH($J160,SorP!$B$1:$B$6230,0)),\"\",INDIRECT(\"'SorP'!$A$\"&MATCH($J160,SorP!$B$1:$B$6230,0))))","v":""},null,{"$f":"IF(C160=\"\",NA(),MATCH($B160&$C160,'Smelter Look-up'!$J:$J,0))","v":{"$error":"#N/A"}},null,0,null,null,null,""]
[{"$nulls":18},{"$f":"IF(ISERROR($W161),\"\",OFFSET('Smelter Look-up'!$C$4,$W161-4,0)&\"\")","v":""},"",{"$f":"IF(B161=\"\",\"\",IF(ISERROR(MATCH($J161,SorP!$B$1:$B$6230,0)),\"\",INDIRECT(\"'SorP'!$A$\"&MATCH($J161,SorP!$B$1:$B$6230,0))))","v":""},null,{"$f":"IF(C161=\"\",NA(),MATCH($B161&$C161,'Smelter Look-up'!$J:$J,0))","v":{"$error":"#N/A"}},null,0,null,null,null,""]
[{"$nulls":18},{"$f":"IF(ISERROR($W162),\"\",OFFSET('Smelter Look-up'!$C$4,$W162-4,0)&\"\")","v":""},"",{"$f":"IF(B162=\"\",\"\",IF(ISERROR(MATCH($J162,SorP!$B$1:$B$6230,0)),\"\",INDIRECT(\"'SorP'!$A$\"&MATCH($J162,SorP!$B$1:$B$6230,0))))","v":""},null,{"$f":"IF(C162=\"\",NA(),MATCH($B162&$C162,'Smelter Look-up'!$J:$J,0))","v":{"$error":"#N/A"}},null,0,null,null,null,""]
[{"$nulls":18},{"$f":"IF(ISERROR($W163),\"\",OFFSET('Smelter Look-up'!$C$4,$W163-4,0)&\"\")","v":""},"",{"$f":"IF(B163=\"\",\"\",IF(ISERROR(MATCH($J163,SorP!$B$1:$B$6230,0)),\"\",INDIRECT(\"'SorP'!$A$\"&MATCH($J163,SorP!$B$1:$B$6230,0))))","v":""},null,{"$f":"IF(C163=\"\",NA(),MATCH($B163&$C163,'Smelter Look-up'!$J:$J,0))","v":{"$error":"#N/A"}},null,0,null,null,null,""]
[{"$nulls":18},{"$f":"IF(ISERROR($W164),\"\",OFFSET('Smelter Look-up'!$C$4,$W164-4,0)&\"\")","v":""},"",{"$f":"IF(B164=\"\",\"\",IF(ISERROR(MATCH($J164,SorP!$B$1:$B$6230,0)),\"\",INDIRECT(\"'SorP'!$A$\"&MATCH($J164,SorP!$B$1:$B$6230,0))))","v":""},null,{"$f":"IF(C164=\"\",NA(),MATCH($B164&$C164,'Smelter Look-up'!$J:$J,0))","v":{"$error":"#N/A"}},null,0,null,null,null,""]
[{"$nulls":18},{"$f":"IF(ISERROR($W165),\"\",OFFSET('Smelter Look-up'!$C$4,$W165-4,0)&\"\")","v":""},"",{"$f":"IF(B165=\"\",\"\",IF(ISERROR(MATCH($J165,SorP!$B$1:$B$6230,0)),\"\",INDIRECT(\"'SorP'!$A$\"&MATCH($J165,SorP!$B$1:$B$6230,0))))","v":""},null,{"$f":"IF(C165=\"\",NA(),MATCH($B165&$C165,'Smelter Look-up'!$J:$J,0))","v":{"$error":"#N/A"}},null,0,null,null,null,""]
[{"$nulls":18},{"$f":"IF(ISERROR($W166),\"\",OFFSET('Smelter Look-up'!$C$4,$W166-4,0)&\"\")","v":""},"",{"$f":"IF(B166=\"\",\"\",IF(ISERROR(MATCH($J166,SorP!$B$1:$B$6230,0)),\"\",INDIRECT(\"'SorP'!$A$\"&MATCH($J166,SorP!$B$1:$B$6230,0))))","v":""},null,{"$f":"IF(C166=\"\",NA(),MATCH($B166&$C166,'Smelter Look-up'!$J:$J,0))","v":{"$error":"#N/A"}},null,0,null,null,null,""]
[{"$nulls":18},{"$f":"IF(ISERROR($W167),\"\",OFFSET('Smelter Look-up'!$C$4,$W167-4,0)&\"\")","v":""},"",{"$f":"IF(B167=\"\",\"\",IF(ISERROR(MATCH($J167,SorP!$B$1:$B$6230,0)),\"\",INDIRECT(\"'SorP'!$A$\"&MATCH($J167,SorP!$B$1:$B$6230,0))))","v":""},null,{"$f":"IF(C167=\"\",NA(),MATCH($B167&$C167,'Smelter Look-up'!$J:$J,0))","v":{"$error":"#N/A"}},null,0,null,null,null,""]
[{"$nulls":18},{"$f":"IF(ISERROR($W168),\"\",OFFSET('Smelter Look-up'!$C$4,$W168-4,0)&\"\")","v":""},"",{"$f":"IF(B168=\"\",\"\",IF(ISERROR(MATCH($J168,SorP!$B$1:$B$6230,0)),\"\",INDIRECT(\"'SorP'!$A$\"&MATCH($J168,SorP!$B$1:$B$6230,0))))","v":""},null,{"$f":"IF(C168=\"\",NA(),MATCH($B168&$C168,'Smelter Look-up'!$J:$J,0))","v":{"$error":"#N/A"}},null,0,null,null,null,""]
[{"$nulls":18},{"$f":"IF(ISERROR($W169),\"\",OFFSET('Smelter Look-up'!$C$4,$W169-4,0)&\"\")","v":""},"",{"$f":"IF(B169=\"\",\"\",IF(ISERROR(MATCH($J169,SorP!$B$1:$B$6230,0)),\"\",INDIRECT(\"'SorP'!$A$\"&MATCH($J169,SorP!$B$1:$B$6230,0))))","v":""},null,{"$f":"IF(C169=\"\",NA(),MATCH($B169&$C169,'Smelter Look-up'!$J:$J,0))","v":{"$error":"#N/A"}},null,0,null,null,null,""]
[{"$nulls":18},{"$f":"IF(ISERROR($W170),\"\",OFFSET('Smelter Look-up'!$C$4,$W170-4,0)&\"\")","v":""},"",{"$f":"IF(B170=\"\",\"\",IF(ISERROR(MATCH($J170,SorP!$B$1:$B$6230,0)),\"\",INDIRECT(\"'SorP'!$A$\"&MATCH($J170,SorP!$B$1:$B$6230,0))))","v":""},null,{"$f":"IF(C170=\"\",NA(),MATCH($B170&$C170,'Smelter Look-up'!$J:$J,0))","v":{"$error":"#N/A"}},null,0,null,null,null,""]
[{"$nulls":18},{"$f":"IF(ISERROR($W171),\"\",OFFSET('Smelter Look-up'!$C$4,$W171-4,0)&\"\")","v":""},"",{"$f":"IF(B171=\"\",\"\",IF(ISERROR(MATCH($J171,SorP!$B$1:$B$6230,0)),\"\",INDIRECT(\"'SorP'!$A$\"&MATCH($J171,SorP!$B$1:$B$6230,0))))","v":""},null,{"$f":"IF(C171=\"\",NA(),MATCH($B171&$C171,'Smelter Look-up'!$J:$J,0))","v":{"$error":"#N/A"}},null,0,null,null,null,""]
[{"$nulls":18},{"$f":"IF(ISERROR($W172),\"\",OFFSET('Smelter Look-up'!$C$4,$W172-4,0)&\"\")","v":""},"",{"$f":"IF(B172=\"\",\"\",IF(ISERROR(MATCH($J172,SorP!$B$1:$B$6230,0)),\"\",INDIRECT(\"'SorP'!$A$\"&MATCH($J172,SorP!$B$1:$B$6230,0))))","v":""},null,{"$f":"IF(C172=\"\",NA(),MATCH($B172&$C172,'Smelter Look-up'!$J:$J,0))","v":{"$error":"#N/A"}},null,0,null,null,null,""]
[{"$nulls":18},{"$f":"IF(ISERROR($W173),\"\",OFFSET('Smelter Look-up'!$C$4,$W173-4,0)&\"\")","v":""},"",{"$f":"IF(B173=\"\",\"\",IF(ISERROR(MATCH($J173,SorP!$B$1:$B$6230,0)),\"\",INDIRECT(\"'SorP'!$A$\"&MATCH($J173,SorP!$B$1:$B$6230,0))))","v":""},null,{"$f":"IF(C173=\"\",NA(),MATCH($B173&$C173,'Smelter Look-up'!$J:$J,0))","v":{"$error":"#N/A"}},null,0,null,null,null,""]
[{"$nulls":18},{"$f":"IF(ISERROR($W174),\"\",OFFSET('Smelter Look-up'!$C$4,$W174-4,0)&\"\")","v":""},"",{"$f":"IF(B174=\"\",\"\",IF(ISERROR(MATCH($J174,SorP!$B$1:$B$6230,0)),\"\",INDIRECT(\"'SorP'!$A$\"&MATCH($J174,SorP!$B$1:$B$6230,0))))","v":""},null,{"$f":"IF(C174=\"\",NA(),MATCH($B174&$C174,'Smelter Look-up'!$J:$J,0))","v":{"$error":"#N/A"}},null,0,null,null,null,""]
[{"$nulls":18},{"$f":"IF(ISERROR($W175),\"\",OFFSET('Smelter Look-up'!$C$4,$W175-4,0)&\"\")","v":""},"",{"$f":"IF(B175=\"\",\"\",IF(ISERROR(MATCH($J175,SorP!$B$1:$B$6230,0)),\"\",INDIRECT(\"'SorP'!$A$\"&MATCH($J175,SorP!$B$1:$B$6230,0))))","v":""},null,{"$f":"IF(C175=\"\",NA(),MATCH($B175&$C175,'Smelter Look-up'!$J:$J,0))","v":{"$error":"#N/A"}},null,0,null,null,null,""]
[{"$nulls":18},{"$f":"IF(ISERROR($W176),\"\",OFFSET('Smelter Look-up'!$C$4,$W176-4,0)&\"\")","v":""},"",{"$f":"IF(B176=\"\",\"\",IF(ISERROR(MATCH($J176,SorP!$B$1:$B$6230,0)),\"\",INDIRECT(\"'SorP'!$A$\"&MATCH($J176,SorP!$B$1:$B$6230,0))))","v":""},null,{"$f":"IF(C176=\"\",NA(),MATCH($B176&$C176,'Smelter Look-up'!$J:$J,0))","v":{"$error":"#N/A"}},null,0,null,null,null,""]
[{"$nulls":18},{"$f":"IF(ISERROR($W177),\"\",OFFSET('Smelter Look-up'!$C$4,$W177-4,0)&\"\")","v":""},"",{"$f":"IF(B177=\"\",\"\",IF(ISERROR(MATCH($J177,SorP!$B$1:$B$6230,0)),\"\",INDIRECT(\"'SorP'!$A$\"&MATCH($J177,SorP!$B$1:$B$6230,0))))","v":""},null,{"$f":"IF(C177=\"\",NA(),MATCH($B177&$C177,'Smelter Look-up'!$J:$J,0))","v":{"$error":"#N/A"}},null,0,null,null,null,""]
[{"$nulls":18},{"$f":"IF(ISERROR($W178),\"\",OFFSET('Smelter Look-up'!$C$4,$W178-4,0)&\"\")","v":""},"",{"$f":"IF(B178=\"\",\"\",IF(ISERROR(MATCH($J178,SorP!$B$1:$B$6230,0)),\"\",INDIRECT(\"'SorP'!$A$\"&MATCH($J178,SorP!$B$1:$B$6230,0))))","v":""},null,{"$f":"IF(C178=\"\",NA(),MATCH($B178&$C178,'Smelter Look-up'!$J:$J,0))","v":{"$error":"#N/A"}},null,0,null,null,null,""]
[{"$nulls":18},{"$f":"IF(ISERROR($W179),\"\",OFFSET('Smelter Look-up'!$C$4,$W179-4,0)&\"\")","v":""},"",{"$f":"IF(B179=\"\",\"\",IF(ISERROR(MATCH($J179,SorP!$B$1:$B$6230,0)),\"\",INDIRECT(\"'SorP'!$A$\"&MATCH($J179,SorP!$B$1:$B$6230,0))))","v":""},null,{"$f":"IF(C179=\"\",NA(),MATCH($B179&$C179,'Smelter Look-up'!$J:$J,0))","v":{"$error":"#N/A"}},null,0,null,null,null,""]
[{"$nulls":18},{"$f":"IF(ISERROR($W180),\"\",OFFSET('Smelter Look-up'!$C$4,$W180-4,0)&\"\")","v":""},"",{"$f":"IF(B180=\"\",\"\",IF(ISERROR(MATCH($J180,SorP!$B$1:$B$6230,0)),\"\",INDIRECT(\"'SorP'!$A$\"&MATCH($J180,SorP!$B$1:$B$6230,0))))","v":""},null,{"$f":"IF(C180=\"\",NA(),MATCH($B180&$C180,'Smelter Look-up'!$J:$J,0))","v":{"$error":"#N/A"}},null,0,null,null,null,""]
[{"$nulls":18},{"$f":"IF(ISERROR($W181),\"\",OFFSET('Smelter Look-up'!$C$4,$W181-4,0)&\"\")","v":""},"",{"$f":"IF(B181=\"\",\"\",IF(ISERROR(MATCH($J181,SorP!$B$1:$B$6230,0)),\"\",INDIRECT(\"'SorP'!$A$\"&MATCH($J181,SorP!$B$1:$B$6230,0))))","v":""},null,{"$f":"IF(C181=\"\",NA(),MATCH($B181&$C181,'Smelter Look-up'!$J:$J,0))","v":{"$error":"#N/A"}},null,0,null,null,null,""]
[{"$nulls":18},{"$f":"IF(ISERROR($W182),\"\",OFFSET('Smelter Look-up'!$C$4,$W182-4,0)&\"\")","v":""},"",{"$f":"IF(B182=\"\",\"\",IF(ISERROR(MATCH($J182,SorP!$B$1:$B$6230,0)),\"\",INDIRECT(\"'SorP'!$A$\"&MATCH($J182,SorP!$B$1:$B$6230,0))))","v":""},null,{"$f":"IF(C182=\"\",NA(),MATCH($B182&$C182,'Smelter Look-up'!$J:$J,0))","v":{"$error":"#N/A"}},null,0,null,null,null,""]
[{"$nulls":18},{"$f":"IF(ISERROR($W183),\"\",OFFSET('Smelter Look-up'!$C$4,$W183-4,0)&\"\")","v":""},"",{"$f":"IF(B183=\"\",\"\",IF(ISERROR(MATCH($J183,SorP!$B$1:$B$6230,0)),\"\",INDIRECT(\"'SorP'!$A$\"&MATCH($J183,SorP!$B$1:$B$6230,0))))","v":""},null,{"$f":"IF(C183=\"\",NA(),MATCH($B183&$C183,'Smelter Look-up'!$J:$J,0))","v":{"$error":"#N/A"}},null,0,null,null,null,""]
[{"$nulls":18},{"$f":"IF(ISERROR($W184),\"\",OFFSET('Smelter Look-up'!$C$4,$W184-4,0)&\"\")","v":""},"",{"$f":"IF(B184=\"\",\"\",IF(ISERROR(MATCH($J184,SorP!$B$1:$B$6230,0)),\"\",INDIRECT(\"'SorP'!$A$\"&MATCH($J184,SorP!$B$1:$B$6230,0))))","v":""},null,{"$f":"IF(C184=\"\",NA(),MATCH($B184&$C184,'Smelter Look-up'!$J:$J,0))","v":{"$error":"#N/A"}},null,0,null,null,null,""]
[{"$nulls":18},{"$f":"IF(ISERROR($W185),\"\",OFFSET('Smelter Look-up'!$C$4,$W185-4,0)&\"\")","v":""},"",{"$f":"IF(B185=\"\",\"\",IF(ISERROR(MATCH($J185,SorP!$B$1:$B$6230,0)),\"\",INDIRECT(\"'SorP'!$A$\"&MATCH($J185,SorP!$B$1:$B$6230,0))))","v":""},null,{"$f":"IF(C185=\"\",NA(),MATCH($B185&$C185,'Smelter Look-up'!$J:$J,0))","v":{"$error":"#N/A"}},null,0,null,null,null,""]
[{"$nulls":18},{"$f":"IF(ISERROR($W186),\"\",OFFSET('Smelter Look-up'!$C$4,$W186-4,0)&\"\")","v":""},"",{"$f":"IF(B186=\"\",\"\",IF(ISERROR(MATCH($J186,SorP!$B$1:$B$6230,0)),\"\",INDIRECT(\"'SorP'!$A$\"&MATCH($J186,SorP!$B$1:$B$6230,0))))","v":""},null,{"$f":"IF(C186=\"\",NA(),MATCH($B186&$C186,'Smelter Look-up'!$J:$J,0))","v":{"$error":"#N/A"}},null,0,null,null,null,""]
[{"$nulls":18},{"$f":"IF(ISERROR($W187),\"\",OFFSET('Smelter Look-up'!$C$4,$W187-4,0)&\"\")","v":""},"",{"$f":"IF(B187=\"\",\"\",IF(ISERROR(MATCH($J187,SorP!$B$1:$B$6230,0)),\"\",INDIRECT(\"'SorP'!$A$\"&MATCH($J187,SorP!$B$1:$B$6230,0))))","v":""},null,{"$f":"IF(C187=\"\",NA(),MATCH($B187&$C187,'Smelter Look-up'!$J:$J,0))","v":{"$error":"#N/A"}},null,0,null,null,null,""]
[{"$nulls":18},{"$f":"IF(ISERROR($W188),\"\",OFFSET('Smelter Look-up'!$C$4,$W188-4,0)&\"\")","v":""},"",{"$f":"IF(B188=\"\",\"\",IF(ISERROR(MATCH($J188,SorP!$B$1:$B$6230,0)),\"\",INDIRECT(\"'SorP'!$A$\"&MATCH($J188,SorP!$B$1:$B$6230,0))))","v":""},null,{"$f":"IF(C188=\"\",NA(),MATCH($B188&$C188,'Smelter Look-up'!$J:$J,0))","v":{"$error":"#N/A"}},null,0,null,null,null,""]
[{"$nulls":18},{"$f":"IF(ISERROR($W189),\"\",OFFSET('Smelter Look-up'!$C$4,$W189-4,0)&\"\")","v":""},"",{"$f":"IF(B189=\"\",\"\",IF(ISERROR(MATCH($J189,SorP!$B$1:$B$6230,0)),\"\",INDIRECT(\"'SorP'!$A$\"&MATCH($J189,SorP!$B$1:$B$6230,0))))","v":""},null,{"$f":"IF(C189=\"\",NA(),MATCH($B189&$C189,'Smelter Look-up'!$J:$J,0))","v":{"$error":"#N/A"}},null,0,null,null,null,""]
[{"$nulls":18},{"$f":"IF(ISERROR($W190),\"\",OFFSET('Smelter Look-up'!$C$4,$W190-4,0)&\"\")","v":""},"",{"$f":"IF(B190=\"\",\"\",IF(ISERROR(MATCH($J190,SorP!$B$1:$B$6230,0)),\"\",INDIRECT(\"'SorP'!$A$\"&MATCH($J190,SorP!$B$1:$B$6230,0))))","v":""},null,{"$f":"IF(C190=\"\",NA(),MATCH($B190&$C190,'Smelter Look-up'!$J:$J,0))","v":{"$error":"#N/A"}},null,0,null,null,null,""]
[{"$nulls":18},{"$f":"IF(ISERROR($W191),\"\",OFFSET('Smelter Look-up'!$C$4,$W191-4,0)&\"\")","v":""},"",{"$f":"IF(B191=\"\",\"\",IF(ISERROR(MATCH($J191,SorP!$B$1:$B$6230,0)),\"\",INDIRECT(\"'SorP'!$A$\"&MATCH($J191,SorP!$B$1:$B$6230,0))))","v":""},null,{"$f":"IF(C191=\"\",NA(),MATCH($B191&$C191,'Smelter Look-up'!$J:$J,0))","v":{"$error":"#N/A"}},null,0,null,null,null,""]
[{"$nulls":18},{"$f":"IF(ISERROR($W192),\"\",OFFSET('Smelter Look-up'!$C$4,$W192-4,0)&\"\")","v":""},"",{"$f":"IF(B192=\"\",\"\",IF(ISERROR(MATCH($J192,SorP!$B$1:$B$6230,0)),\"\",INDIRECT(\"'SorP'!$A$\"&MATCH($J192,SorP!$B$1:$B$6230,0))))","v":""},null,{"$f":"IF(C192=\"\",NA(),MATCH($B192&$C192,'Smelter Look-up'!$J:$J,0))","v":{"$error":"#N/A"}},null,0,null,null,null,""]
[{"$nulls":18},{"$f":"IF(ISERROR($W193),\"\",OFFSET('Smelter Look-up'!$C$4,$W193-4,0)&\"\")","v":""},"",{"$f":"IF(B193=\"\",\"\",IF(ISERROR(MATCH($J193,SorP!$B$1:$B$6230,0)),\"\",INDIRECT(\"'SorP'!$A$\"&MATCH($J193,SorP!$B$1:$B$6230,0))))","v":""},null,{"$f":"IF(C193=\"\",NA(),MATCH($B193&$C193,'Smelter Look-up'!$J:$J,0))","v":{"$error":"#N/A"}},null,0,null,null,null,""]
[{"$nulls":18},{"$f":"IF(ISERROR($W194),\"\",OFFSET('Smelter Look-up'!$C$4,$W194-4,0)&\"\")","v":""},"",{"$f":"IF(B194=\"\",\"\",IF(ISERROR(MATCH($J194,SorP!$B$1:$B$6230,0)),\"\",INDIRECT(\"'SorP'!$A$\"&MATCH($J194,SorP!$B$1:$B$6230,0))))","v":""},null,{"$f":"IF(C194=\"\",NA(),MATCH($B194&$C194,'Smelter Look-up'!$J:$J,0))","v":{"$error":"#N/A"}},null,0,null,null,null,""]
[{"$nulls":18},{"$f":"IF(ISERROR($W195),\"\",OFFSET('Smelter Look-up'!$C$4,$W195-4,0)&\"\")","v":""},"",{"$f":"IF(B195=\"\",\"\",IF(ISERROR(MATCH($J195,SorP!$B$1:$B$6230,0)),\"\",INDIRECT(\"'SorP'!$A$\"&MATCH($J195,SorP!$B$1:$B$6230,0))))","v":""},null,{"$f":"IF(C195=\"\",NA(),MATCH($B195&$C195,'Smelter Look-up'!$J:$J,0))","v":{"$error":"#N/A"}},null,0,null,null,null,""]
[{"$nulls":18},{"$f":"IF(ISERROR($W196),\"\",OFFSET('Smelter Look-up'!$C$4,$W196-4,0)&\"\")","v":""},"",{"$f":"IF(B196=\"\",\"\",IF(ISERROR(MATCH($J196,SorP!$B$1:$B$6230,0)),\"\",INDIRECT(\"'SorP'!$A$\"&MATCH($J196,SorP!$B$1:$B$6230,0))))","v":""},null,{"$f":"IF(C196=\"\",NA(),MATCH($B196&$C196,'Smelter Look-up'!$J:$J,0))","v":{"$error":"#N/A"}},null,0,null,null,null,""]
[{"$nulls":18},{"$f":"IF(ISERROR($W197),\"\",OFFSET('Smelter Look-up'!$C$4,$W197-4,0)&\"\")","v":""},{"$f":"IF(B197=\"\",\"\",IF(ISERROR(MATCH($E197,CL,0)),\"Unknown\",INDIRECT(\"'C'!$A$\"&MATCH($E197,CL,0)+1)))","v":""},{"$f":"IF(B197=\"\",\"\",IF(ISERROR(MATCH($J197,SorP!$B$1:$B$6230,0)),\"\",INDIRECT(\"'SorP'!$A$\"&MATCH($J197,SorP!$B$1:$B$6230,0))))","v":""},null,{"$f":"IF(C197=\"\",NA(),MATCH($B197&$C197,'Smelter Look-up'!$J:$J,0))","v":{"$error":"#N/A"}},null,{"$f":"IF(AND(C197=\"Smelter not listed\",OR(LEN(D197)=0,LEN(E197)=0)),1,0)","v":0},null,null,null,{"$f":"B197&C197","v":""}]
[{"$nulls":18},{"$f":"IF(ISERROR($W198),\"\",OFFSET('Smelter Look-up'!$C$4,$W198-4,0)&\"\")","v":""},"",{"$f":"IF(B198=\"\",\"\",IF(ISERROR(MATCH($J198,SorP!$B$1:$B$6230,0)),\"\",INDIRECT(\"'SorP'!$A$\"&MATCH($J198,SorP!$B$1:$B$6230,0))))","v":""},null,{"$f":"IF(C198=\"\",NA(),MATCH($B198&$C198,'Smelter Look-up'!$J:$J,0))","v":{"$error":"#N/A"}},null,0,null,null,null,""]
[{"$nulls":18},{"$f":"IF(ISERROR($W199),\"\",OFFSET('Smelter Look-up'!$C$4,$W199-4,0)&\"\")","v":""},"",{"$f":"IF(B199=\"\",\"\",IF(ISERROR(MATCH($J199,SorP!$B$1:$B$6230,0)),\"\",INDIRECT(\"'SorP'!$A$\"&MATCH($J199,SorP!$B$1:$B$6230,0))))","v":""},null,{"$f":"IF(C199=\"\",NA(),MATCH($B199&$C199,'Smelter Look-up'!$J:$J,0))","v":{"$error":"#N/A"}},null,0,null,null,null,""]
[{"$nulls":18},{"$f":"IF(ISERROR($W200),\"\",OFFSET('Smelter Look-up'!$C$4,$W200-4,0)&\"\")","v":""},"",{"$f":"IF(B200=\"\",\"\",IF(ISERROR(MATCH($J200,SorP!$B$1:$B$6230,0)),\"\",INDIRECT(\"'SorP'!$A$\"&MATCH($J200,SorP!$B$1:$B$6230,0))))","v":""},null,{"$f":"IF(C200=\"\",NA(),MATCH($B200&$C200,'Smelter Look-up'!$J:$J,0))","v":{"$error":"#N/A"}},null,0,null,null,null,""]
[{"$nulls":18},{"$f":"IF(ISERROR($W201),\"\",OFFSET('Smelter Look-up'!$C$4,$W201-4,0)&\"\")","v":""},"",{"$f":"IF(B201=\"\",\"\",IF(ISERROR(MATCH($J201,SorP!$B$1:$B$6230,0)),\"\",INDIRECT(\"'SorP'!$A$\"&MATCH($J201,SorP!$B$1:$B$6230,0))))","v":""},null,{"$f":"IF(C201=\"\",NA(),MATCH($B201&$C201,'Smelter Look-up'!$J:$J,0))","v":{"$error":"#N/A"}},null,0,null,null,null,""]
[{"$nulls":18},{"$f":"IF(ISERROR($W202),\"\",OFFSET('Smelter Look-up'!$C$4,$W202-4,0)&\"\")","v":""},"",{"$f":"IF(B202=\"\",\"\",IF(ISERROR(MATCH($J202,SorP!$B$1:$B$6230,0)),\"\",INDIRECT(\"'SorP'!$A$\"&MATCH($J202,SorP!$B$1:$B$6230,0))))","v":""},null,{"$f":"IF(C202=\"\",NA(),MATCH($B202&$C202,'Smelter Look-up'!$J:$J,0))","v":{"$error":"#N/A"}},null,0,null,null,null,""]
[{"$nulls":18},{"$f":"IF(ISERROR($W203),\"\",OFFSET('Smelter Look-up'!$C$4,$W203-4,0)&\"\")","v":""},"",{"$f":"IF(B203=\"\",\"\",IF(ISERROR(MATCH($J203,SorP!$B$1:$B$6230,0)),\"\",INDIRECT(\"'SorP'!$A$\"&MATCH($J203,SorP!$B$1:$B$6230,0))))","v":""},null,{"$f":"IF(C203=\"\",NA(),MATCH($B203&$C203,'Smelter Look-up'!$J:$J,0))","v":{"$error":"#N/A"}},null,0,null,null,null,""]
[{"$nulls":18},{"$f":"IF(ISERROR($W204),\"\",OFFSET('Smelter Look-up'!$C$4,$W204-4,0)&\"\")","v":""},"",{"$f":"IF(B204=\"\",\"\",IF(ISERROR(MATCH($J204,SorP!$B$1:$B$6230,0)),\"\",INDIRECT(\"'SorP'!$A$\"&MATCH($J204,SorP!$B$1:$B$6230,0))))","v":""},null,{"$f":"IF(C204=\"\",NA(),MATCH($B204&$C204,'Smelter Look-up'!$J:$J,0))","v":{"$error":"#N/A"}},null,0,null,null,null,""]
[{"$nulls":18},{"$f":"IF(ISERROR($W205),\"\",OFFSET('Smelter Look-up'!$C$4,$W205-4,0)&\"\")","v":""},"",{"$f":"IF(B205=\"\",\"\",IF(ISERROR(MATCH($J205,SorP!$B$1:$B$6230,0)),\"\",INDIRECT(\"'SorP'!$A$\"&MATCH($J205,SorP!$B$1:$B$6230,0))))","v":""},null,{"$f":"IF(C205=\"\",NA(),MATCH($B205&$C205,'Smelter Look-up'!$J:$J,0))","v":{"$error":"#N/A"}},null,0,null,null,null,""]
[{"$nulls":18},{"$f":"IF(ISERROR($W206),\"\",OFFSET('Smelter Look-up'!$C$4,$W206-4,0)&\"\")","v":""},"",{"$f":"IF(B206=\"\",\"\",IF(ISERROR(MATCH($J206,SorP!$B$1:$B$6230,0)),\"\",INDIRECT(\"'SorP'!$A$\"&MATCH($J206,SorP!$B$1:$B$6230,0))))","v":""},null,{"$f":"IF(C206=\"\",NA(),MATCH($B206&$C206,'Smelter Look-up'!$J:$J,0))","v":{"$error":"#N/A"}},null,0,null,null,null,""]
[{"$nulls":18},{"$f":"IF(ISERROR($W207),\"\",OFFSET('Smelter Look-up'!$C$4,$W207-4,0)&\"\")","v":""},"",{"$f":"IF(B207=\"\",\"\",IF(ISERROR(MATCH($J207,SorP!$B$1:$B$6230,0)),\"\",INDIRECT(\"'SorP'!$A$\"&MATCH($J207,SorP!$B$1:$B$6230,0))))","v":""},null,{"$f":"IF(C207=\"\",NA(),MATCH($B207&$C207,'Smelter Look-up'!$J:$J,0))","v":{"$error":"#N/A"}},null,0,null,null,null,""]
[{"$nulls":18},{"$f":"IF(ISERROR($W208),\"\",OFFSET('Smelter Look-up'!$C$4,$W208-4,0)&\"\")","v":""},"",{"$f":"IF(B208=\"\",\"\",IF(ISERROR(MATCH($J208,SorP!$B$1:$B$6230,0)),\"\",INDIRECT(\"'SorP'!$A$\"&MATCH($J208,SorP!$B$1:$B$6230,0))))","v":""},null,{"$f":"IF(C208=\"\",NA(),MATCH($B208&$C208,'Smelter Look-up'!$J:$J,0))","v":{"$error":"#N/A"}},null,0,null,null,null,""]
[{"$nulls":18},{"$f":"IF(ISERROR($W209),\"\",OFFSET('Smelter Look-up'!$C$4,$W209-4,0)&\"\")","v":""},"",{"$f":"IF(B209=\"\",\"\",IF(ISERROR(MATCH($J209,SorP!$B$1:$B$6230,0)),\"\",INDIRECT(\"'SorP'!$A$\"&MATCH($J209,SorP!$B$1:$B$6230,0))))","v":""},null,{"$f":"IF(C209=\"\",NA(),MATCH($B209&$C209,'Smelter Look-up'!$J:$J,0))","v":{"$error":"#N/A"}},null,0,null,null,null,""]
[{"$nulls":18},{"$f":"IF(ISERROR($W210),\"\",OFFSET('Smelter Look-up'!$C$4,$W210-4,0)&\"\")","v":""},"",{"$f":"IF(B210=\"\",\"\",IF(ISERROR(MATCH($J210,SorP!$B$1:$B$6230,0)),\"\",INDIRECT(\"'SorP'!$A$\"&MATCH($J210,SorP!$B$1:$B$6230,0))))","v":""},null,{"$f":"IF(C210=\"\",NA(),MATCH($B210&$C210,'Smelter Look-up'!$J:$J,0))","v":{"$error":"#N/A"}},null,0,null,null,null,""]
[{"$nulls":18},{"$f":"IF(ISERROR($W211),\"\",OFFSET('Smelter Look-up'!$C$4,$W211-4,0)&\"\")","v":""},"",{"$f":"IF(B211=\"\",\"\",IF(ISERROR(MATCH($J211,SorP!$B$1:$B$6230,0)),\"\",INDIRECT(\"'SorP'!$A$\"&MATCH($J211,SorP!$B$1:$B$6230,0))))","v":""},null,{"$f":"IF(C211=\"\",NA(),MATCH($B211&$C211,'Smelter Look-up'!$J:$J,0))","v":{"$error":"#N/A"}},null,0,null,null,null,""]
[{"$nulls":18},{"$f":"IF(ISERROR($W212),\"\",OFFSET('Smelter Look-up'!$C$4,$W212-4,0)&\"\")","v":""},"",{"$f":"IF(B212=\"\",\"\",IF(ISERROR(MATCH($J212,SorP!$B$1:$B$6230,0)),\"\",INDIRECT(\"'SorP'!$A$\"&MATCH($J212,SorP!$B$1:$B$6230,0))))","v":""},null,{"$f":"IF(C212=\"\",NA(),MATCH($B212&$C212,'Smelter Look-up'!$J:$J,0))","v":{"$error":"#N/A"}},null,0,null,null,null,""]
[{"$nulls":18},{"$f":"IF(ISERROR($W213),\"\",OFFSET('Smelter Look-up'!$C$4,$W213-4,0)&\"\")","v":""},"",{"$f":"IF(B213=\"\",\"\",IF(ISERROR(MATCH($J213,SorP!$B$1:$B$6230,0)),\"\",INDIRECT(\"'SorP'!$A$\"&MATCH($J213,SorP!$B$1:$B$6230,0))))","v":""},null,{"$f":"IF(C213=\"\",NA(),MATCH($B213&$C213,'Smelter Look-up'!$J:$J,0))","v":{"$error":"#N/A"}},null,0,null,null,null,""]
[{"$nulls":18},{"$f":"IF(ISERROR($W214),\"\",OFFSET('Smelter Look-up'!$C$4,$W214-4,0)&\"\")","v":""},"",{"$f":"IF(B214=\"\",\"\",IF(ISERROR(MATCH($J214,SorP!$B$1:$B$6230,0)),\"\",INDIRECT(\"'SorP'!$A$\"&MATCH($J214,SorP!$B$1:$B$6230,0))))","v":""},null,{"$f":"IF(C214=\"\",NA(),MATCH($B214&$C214,'Smelter Look-up'!$J:$J,0))","v":{"$error":"#N/A"}},null,0,null,null,null,""]
[{"$nulls":18},{"$f":"IF(ISERROR($W215),\"\",OFFSET('Smelter Look-up'!$C$4,$W215-4,0)&\"\")","v":""},"",{"$f":"IF(B215=\"\",\"\",IF(ISERROR(MATCH($J215,SorP!$B$1:$B$6230,0)),\"\",INDIRECT(\"'SorP'!$A$\"&MATCH($J215,SorP!$B$1:$B$6230,0))))","v":""},null,{"$f":"IF(C215=\"\",NA(),MATCH($B215&$C215,'Smelter Look-up'!$J:$J,0))","v":{"$error":"#N/A"}},null,0,null,null,null,""]
[{"$nulls":18},{"$f":"IF(ISERROR($W216),\"\",OFFSET('Smelter Look-up'!$C$4,$W216-4,0)&\"\")","v":""},"",{"$f":"IF(B216=\"\",\"\",IF(ISERROR(MATCH($J216,SorP!$B$1:$B$6230,0)),\"\",INDIRECT(\"'SorP'!$A$\"&MATCH($J216,SorP!$B$1:$B$6230,0))))","v":""},null,{"$f":"IF(C216=\"\",NA(),MATCH($B216&$C216,'Smelter Look-up'!$J:$J,0))","v":{"$error":"#N/A"}},null,0,null,null,null,""]
[{"$nulls":18},{"$f":"IF(ISERROR($W217),\"\",OFFSET('Smelter Look-up'!$C$4,$W217-4,0)&\"\")","v":""},"",{"$f":"IF(B217=\"\",\"\",IF(ISERROR(MATCH($J217,SorP!$B$1:$B$6230,0)),\"\",INDIRECT(\"'SorP'!$A$\"&MATCH($J217,SorP!$B$1:$B$6230,0))))","v":""},null,{"$f":"IF(C217=\"\",NA(),MATCH($B217&$C217,'Smelter Look-up'!$J:$J,0))","v":{"$error":"#N/A"}},null,0,null,null,null,""]
[{"$nulls":18},{"$f":"IF(ISERROR($W218),\"\",OFFSET('Smelter Look-up'!$C$4,$W218-4,0)&\"\")","v":""},"",{"$f":"IF(B218=\"\",\"\",IF(ISERROR(MATCH($J218,SorP!$B$1:$B$6230,0)),\"\",INDIRECT(\"'SorP'!$A$\"&MATCH($J218,SorP!$B$1:$B$6230,0))))","v":""},null,{"$f":"IF(C218=\"\",NA(),MATCH($B218&$C218,'Smelter Look-up'!$J:$J,0))","v":{"$error":"#N/A"}},null,0,null,null,null,""]
[{"$nulls":18},{"$f":"IF(ISERROR($W219),\"\",OFFSET('Smelter Look-up'!$C$4,$W219-4,0)&\"\")","v":""},"",{"$f":"IF(B219=\"\",\"\",IF(ISERROR(MATCH($J219,SorP!$B$1:$B$6230,0)),\"\",INDIRECT(\"'SorP'!$A$\"&MATCH($J219,SorP!$B$1:$B$6230,0))))","v":""},null,{"$f":"IF(C219=\"\",NA(),MATCH($B219&$C219,'Smelter Look-up'!$J:$J,0))","v":{"$error":"#N/A"}},null,0,null,null,null,""]
[{"$nulls":18},{"$f":"IF(ISERROR($W220),\"\",OFFSET('Smelter Look-up'!$C$4,$W220-4,0)&\"\")","v":""},"",{"$f":"IF(B220=\"\",\"\",IF(ISERROR(MATCH($J220,SorP!$B$1:$B$6230,0)),\"\",INDIRECT(\"'SorP'!$A$\"&MATCH($J220,SorP!$B$1:$B$6230,0))))","v":""},null,{"$f":"IF(C220=\"\",NA(),MATCH($B220&$C220,'Smelter Look-up'!$J:$J,0))","v":{"$error":"#N/A"}},null,0,null,null,null,""]
[{"$nulls":18},{"$f":"IF(ISERROR($W221),\"\",OFFSET('Smelter Look-up'!$C$4,$W221-4,0)&\"\")","v":""},"",{"$f":"IF(B221=\"\",\"\",IF(ISERROR(MATCH($J221,SorP!$B$1:$B$6230,0)),\"\",INDIRECT(\"'SorP'!$A$\"&MATCH($J221,SorP!$B$1:$B$6230,0))))","v":""},null,{"$f":"IF(C221=\"\",NA(),MATCH($B221&$C221,'Smelter Look-up'!$J:$J,0))","v":{"$error":"#N/A"}},null,0,null,null,null,""]
[{"$nulls":18},{"$f":"IF(ISERROR($W222),\"\",OFFSET('Smelter Look-up'!$C$4,$W222-4,0)&\"\")","v":""},"",{"$f":"IF(B222=\"\",\"\",IF(ISERROR(MATCH($J222,SorP!$B$1:$B$6230,0)),\"\",INDIRECT(\"'SorP'!$A$\"&MATCH($J222,SorP!$B$1:$B$6230,0))))","v":""},null,{"$f":"IF(C222=\"\",NA(),MATCH($B222&$C222,'Smelter Look-up'!$J:$J,0))","v":{"$error":"#N/A"}},null,0,null,null,null,""]
[{"$nulls":18},{"$f":"IF(ISERROR($W223),\"\",OFFSET('Smelter Look-up'!$C$4,$W223-4,0)&\"\")","v":""},"",{"$f":"IF(B223=\"\",\"\",IF(ISERROR(MATCH($J223,SorP!$B$1:$B$6230,0)),\"\",INDIRECT(\"'SorP'!$A$\"&MATCH($J223,SorP!$B$1:$B$6230,0))))","v":""},null,{"$f":"IF(C223=\"\",NA(),MATCH($B223&$C223,'Smelter Look-up'!$J:$J,0))","v":{"$error":"#N/A"}},null,0,null,null,null,""]
[{"$nulls":18},{"$f":"IF(ISERROR($W224),\"\",OFFSET('Smelter Look-up'!$C$4,$W224-4,0)&\"\")","v":""},"",{"$f":"IF(B224=\"\",\"\",IF(ISERROR(MATCH($J224,SorP!$B$1:$B$6230,0)),\"\",INDIRECT(\"'SorP'!$A$\"&MATCH($J224,SorP!$B$1:$B$6230,0))))","v":""},null,{"$f":"IF(C224=\"\",NA(),MATCH($B224&$C224,'Smelter Look-up'!$J:$J,0))","v":{"$error":"#N/A"}},null,0,null,null,null,""]
[{"$nulls":18},{"$f":"IF(ISERROR($W225),\"\",OFFSET('Smelter Look-up'!$C$4,$W225-4,0)&\"\")","v":""},"",{"$f":"IF(B225=\"\",\"\",IF(ISERROR(MATCH($J225,SorP!$B$1:$B$6230,0)),\"\",INDIRECT(\"'SorP'!$A$\"&MATCH($J225,SorP!$B$1:$B$6230,0))))","v":""},null,{"$f":"IF(C225=\"\",NA(),MATCH($B225&$C225,'Smelter Look-up'!$J:$J,0))","v":{"$error":"#N/A"}},null,0,null,null,null,""]
[{"$nulls":18},{"$f":"IF(ISERROR($W226),\"\",OFFSET('Smelter Look-up'!$C$4,$W226-4,0)&\"\")","v":""},"",{"$f":"IF(B226=\"\",\"\",IF(ISERROR(MATCH($J226,SorP!$B$1:$B$6230,0)),\"\",INDIRECT(\"'SorP'!$A$\"&MATCH($J226,SorP!$B$1:$B$6230,0))))","v":""},null,{"$f":"IF(C226=\"\",NA(),MATCH($B226&$C226,'Smelter Look-up'!$J:$J,0))","v":{"$error":"#N/A"}},null,0,null,null,null,""]
[{"$nulls":18},{"$f":"IF(ISERROR($W227),\"\",OFFSET('Smelter Look-up'!$C$4,$W227-4,0)&\"\")","v":""},"",{"$f":"IF(B227=\"\",\"\",IF(ISERROR(MATCH($J227,SorP!$B$1:$B$6230,0)),\"\",INDIRECT(\"'SorP'!$A$\"&MATCH($J227,SorP!$B$1:$B$6230,0))))","v":""},null,{"$f":"IF(C227=\"\",NA(),MATCH($B227&$C227,'Smelter Look-up'!$J:$J,0))","v":{"$error":"#N/A"}},null,0,null,null,null,""]
[{"$nulls":18},{"$f":"IF(ISERROR($W228),\"\",OFFSET('Smelter Look-up'!$C$4,$W228-4,0)&\"\")","v":""},"",{"$f":"IF(B228=\"\",\"\",IF(ISERROR(MATCH($J228,SorP!$B$1:$B$6230,0)),\"\",INDIRECT(\"'SorP'!$A$\"&MATCH($J228,SorP!$B$1:$B$6230,0))))","v":""},null,{"$f":"IF(C228=\"\",NA(),MATCH($B228&$C228,'Smelter Look-up'!$J:$J,0))","v":{"$error":"#N/A"}},null,0,null,null,null,""]
[{"$nulls":18},{"$f":"IF(ISERROR($W229),\"\",OFFSET('Smelter Look-up'!$C$4,$W229-4,0)&\"\")","v":""},"",{"$f":"IF(B229=\"\",\"\",IF(ISERROR(MATCH($J229,SorP!$B$1:$B$6230,0)),\"\",INDIRECT(\"'SorP'!$A$\"&MATCH($J229,SorP!$B$1:$B$6230,0))))","v":""},null,{"$f":"IF(C229=\"\",NA(),MATCH($B229&$C229,'Smelter Look-up'!$J:$J,0))","v":{"$error":"#N/A"}},null,0,null,null,null,""]
[{"$nulls":18},{"$f":"IF(ISERROR($W230),\"\",OFFSET('Smelter Look-up'!$C$4,$W230-4,0)&\"\")","v":""},"",{"$f":"IF(B230=\"\",\"\",IF(ISERROR(MATCH($J230,SorP!$B$1:$B$6230,0)),\"\",INDIRECT(\"'SorP'!$A$\"&MATCH($J230,SorP!$B$1:$B$6230,0))))","v":""},null,{"$f":"IF(C230=\"\",NA(),MATCH($B230&$C230,'Smelter Look-up'!$J:$J,0))","v":{"$error":"#N/A"}},null,0,null,null,null,""]
[{"$nulls":18},{"$f":"IF(ISERROR($W231),\"\",OFFSET('Smelter Look-up'!$C$4,$W231-4,0)&\"\")","v":""},"",{"$f":"IF(B231=\"\",\"\",IF(ISERROR(MATCH($J231,SorP!$B$1:$B$6230,0)),\"\",INDIRECT(\"'SorP'!$A$\"&MATCH($J231,SorP!$B$1:$B$6230,0))))","v":""},null,{"$f":"IF(C231=\"\",NA(),MATCH($B231&$C231,'Smelter Look-up'!$J:$J,0))","v":{"$error":"#N/A"}},null,0,null,null,null,""]
[{"$nulls":18},{"$f":"IF(ISERROR($W232),\"\",OFFSET('Smelter Look-up'!$C$4,$W232-4,0)&\"\")","v":""},"",{"$f":"IF(B232=\"\",\"\",IF(ISERROR(MATCH($J232,SorP!$B$1:$B$6230,0)),\"\",INDIRECT(\"'SorP'!$A$\"&MATCH($J232,SorP!$B$1:$B$6230,0))))","v":""},null,{"$f":"IF(C232=\"\",NA(),MATCH($B232&$C232,'Smelter Look-up'!$J:$J,0))","v":{"$error":"#N/A"}},null,0,null,null,null,""]
[{"$nulls":18},{"$f":"IF(ISERROR($W233),\"\",OFFSET('Smelter Look-up'!$C$4,$W233-4,0)&\"\")","v":""},"",{"$f":"IF(B233=\"\",\"\",IF(ISERROR(MATCH($J233,SorP!$B$1:$B$6230,0)),\"\",INDIRECT(\"'SorP'!$A$\"&MATCH($J233,SorP!$B$1:$B$6230,0))))","v":""},null,{"$f":"IF(C233=\"\",NA(),MATCH($B233&$C233,'Smelter Look-up'!$J:$J,0))","v":{"$error":"#N/A"}},null,0,null,null,null,""]
[{"$nulls":18},{"$f":"IF(ISERROR($W234),\"\",OFFSET('Smelter Look-up'!$C$4,$W234-4,0)&\"\")","v":""},"",{"$f":"IF(B234=\"\",\"\",IF(ISERROR(MATCH($J234,SorP!$B$1:$B$6230,0)),\"\",INDIRECT(\"'SorP'!$A$\"&MATCH($J234,SorP!$B$1:$B$6230,0))))","v":""},null,{"$f":"IF(C234=\"\",NA(),MATCH($B234&$C234,'Smelter Look-up'!$J:$J,0))","v":{"$error":"#N/A"}},null,0,null,null,null,""]
[{"$nulls":18},{"$f":"IF(ISERROR($W235),\"\",OFFSET('Smelter Look-up'!$C$4,$W235-4,0)&\"\")","v":""},"",{"$f":"IF(B235=\"\",\"\",IF(ISERROR(MATCH($J235,SorP!$B$1:$B$6230,0)),\"\",INDIRECT(\"'SorP'!$A$\"&MATCH($J235,SorP!$B$1:$B$6230,0))))","v":""},null,{"$f":"IF(C235=\"\",NA(),MATCH($B235&$C235,'Smelter Look-up'!$J:$J,0))","v":{"$error":"#N/A"}},null,0,null,null,null,""]
[{"$nulls":18},{"$f":"IF(ISERROR($W236),\"\",OFFSET('Smelter Look-up'!$C$4,$W236-4,0)&\"\")","v":""},"",{"$f":"IF(B236=\"\",\"\",IF(ISERROR(MATCH($J236,SorP!$B$1:$B$6230,0)),\"\",INDIRECT(\"'SorP'!$A$\"&MATCH($J236,SorP!$B$1:$B$6230,0))))","v":""},null,{"$f":"IF(C236=\"\",NA(),MATCH($B236&$C236,'Smelter Look-up'!$J:$J,0))","v":{"$error":"#N/A"}},null,0,null,null,null,""]
[{"$nulls":18},{"$f":"IF(ISERROR($W237),\"\",OFFSET('Smelter Look-up'!$C$4,$W237-4,0)&\"\")","v":""},"",{"$f":"IF(B237=\"\",\"\",IF(ISERROR(MATCH($J237,SorP!$B$1:$B$6230,0)),\"\",INDIRECT(\"'SorP'!$A$\"&MATCH($J237,SorP!$B$1:$B$6230,0))))","v":""},null,{"$f":"IF(C237=\"\",NA(),MATCH($B237&$C237,'Smelter Look-up'!$J:$J,0))","v":{"$error":"#N/A"}},null,0,null,null,null,""]
[{"$nulls":18},{"$f":"IF(ISERROR($W238),\"\",OFFSET('Smelter Look-up'!$C$4,$W238-4,0)&\"\")","v":""},"",{"$f":"IF(B238=\"\",\"\",IF(ISERROR(MATCH($J238,SorP!$B$1:$B$6230,0)),\"\",INDIRECT(\"'SorP'!$A$\"&MATCH($J238,SorP!$B$1:$B$6230,0))))","v":""},null,{"$f":"IF(C238=\"\",NA(),MATCH($B238&$C238,'Smelter Look-up'!$J:$J,0))","v":{"$error":"#N/A"}},null,0,null,null,null,""]
[{"$nulls":18},{"$f":"IF(ISERROR($W239),\"\",OFFSET('Smelter Look-up'!$C$4,$W239-4,0)&\"\")","v":""},"",{"$f":"IF(B239=\"\",\"\",IF(ISERROR(MATCH($J239,SorP!$B$1:$B$6230,0)),\"\",INDIRECT(\"'SorP'!$A$\"&MATCH($J239,SorP!$B$1:$B$6230,0))))","v":""},null,{"$f":"IF(C239=\"\",NA(),MATCH($B239&$C239,'Smelter Look-up'!$J:$J,0))","v":{"$error":"#N/A"}},null,0,null,null,null,""]
[{"$nulls":18},{"$f":"IF(ISERROR($W240),\"\",OFFSET('Smelter Look-up'!$C$4,$W240-4,0)&\"\")","v":""},"",{"$f":"IF(B240=\"\",\"\",IF(ISERROR(MATCH($J240,SorP!$B$1:$B$6230,0)),\"\",INDIRECT(\"'SorP'!$A$\"&MATCH($J240,SorP!$B$1:$B$6230,0))))","v":""},null,{"$f":"IF(C240=\"\",NA(),MATCH($B240&$C240,'Smelter Look-up'!$J:$J,0))","v":{"$error":"#N/A"}},null,0,null,null,null,""]
[{"$nulls":18},{"$f":"IF(ISERROR($W241),\"\",OFFSET('Smelter Look-up'!$C$4,$W241-4,0)&\"\")","v":""},"",{"$f":"IF(B241=\"\",\"\",IF(ISERROR(MATCH($J241,SorP!$B$1:$B$6230,0)),\"\",INDIRECT(\"'SorP'!$A$\"&MATCH($J241,SorP!$B$1:$B$6230,0))))","v":""},null,{"$f":"IF(C241=\"\",NA(),MATCH($B241&$C241,'Smelter Look-up'!$J:$J,0))","v":{"$error":"#N/A"}},null,0,null,null,null,""]
[{"$nulls":18},{"$f":"IF(ISERROR($W242),\"\",OFFSET('Smelter Look-up'!$C$4,$W242-4,0)&\"\")","v":""},"",{"$f":"IF(B242=\"\",\"\",IF(ISERROR(MATCH($J242,SorP!$B$1:$B$6230,0)),\"\",INDIRECT(\"'SorP'!$A$\"&MATCH($J242,SorP!$B$1:$B$6230,0))))","v":""},null,{"$f":"IF(C242=\"\",NA(),MATCH($B242&$C242,'Smelter Look-up'!$J:$J,0))","v":{"$error":"#N/A"}},null,0,null,null,null,""]
[{"$nulls":18},{"$f":"IF(ISERROR($W243),\"\",OFFSET('Smelter Look-up'!$C$4,$W243-4,0)&\"\")","v":""},"",{"$f":"IF(B243=\"\",\"\",IF(ISERROR(MATCH($J243,SorP!$B$1:$B$6230,0)),\"\",INDIRECT(\"'SorP'!$A$\"&MATCH($J243,SorP!$B$1:$B$6230,0))))","v":""},null,{"$f":"IF(C243=\"\",NA(),MATCH($B243&$C243,'Smelter Look-up'!$J:$J,0))","v":{"$error":"#N/A"}},null,0,null,null,null,""]
[{"$nulls":18},{"$f":"IF(ISERROR($W244),\"\",OFFSET('Smelter Look-up'!$C$4,$W244-4,0)&\"\")","v":""},"",{"$f":"IF(B244=\"\",\"\",IF(ISERROR(MATCH($J244,SorP!$B$1:$B$6230,0)),\"\",INDIRECT(\"'SorP'!$A$\"&MATCH($J244,SorP!$B$1:$B$6230,0))))","v":""},null,{"$f":"IF(C244=\"\",NA(),MATCH($B244&$C244,'Smelter Look-up'!$J:$J,0))","v":{"$error":"#N/A"}},null,0,null,null,null,""]
[{"$nulls":18},{"$f":"IF(ISERROR($W245),\"\",OFFSET('Smelter Look-up'!$C$4,$W245-4,0)&\"\")","v":""},"",{"$f":"IF(B245=\"\",\"\",IF(ISERROR(MATCH($J245,SorP!$B$1:$B$6230,0)),\"\",INDIRECT(\"'SorP'!$A$\"&MATCH($J245,SorP!$B$1:$B$6230,0))))","v":""},null,{"$f":"IF(C245=\"\",NA(),MATCH($B245&$C245,'Smelter Look-up'!$J:$J,0))","v":{"$error":"#N/A"}},null,0,null,null,null,""]
[{"$nulls":18},{"$f":"IF(ISERROR($W246),\"\",OFFSET('Smelter Look-up'!$C$4,$W246-4,0)&\"\")","v":""},"",{"$f":"IF(B246=\"\",\"\",IF(ISERROR(MATCH($J246,SorP!$B$1:$B$6230,0)),\"\",INDIRECT(\"'SorP'!$A$\"&MATCH($J246,SorP!$B$1:$B$6230,0))))","v":""},null,{"$f":"IF(C246=\"\",NA(),MATCH($B246&$C246,'Smelter Look-up'!$J:$J,0))","v":{"$error":"#N/A"}},null,0,null,null,null,""]
[{"$nulls":18},{"$f":"IF(ISERROR($W247),\"\",OFFSET('Smelter Look-up'!$C$4,$W247-4,0)&\"\")","v":""},"",{"$f":"IF(B247=\"\",\"\",IF(ISERROR(MATCH($J247,SorP!$B$1:$B$6230,0)),\"\",INDIRECT(\"'SorP'!$A$\"&MATCH($J247,SorP!$B$1:$B$6230,0))))","v":""},null,{"$f":"IF(C247=\"\",NA(),MATCH($B247&$C247,'Smelter Look-up'!$J:$J,0))","v":{"$error":"#N/A"}},null,0,null,null,null,""]
[{"$nulls":18},{"$f":"IF(ISERROR($W248),\"\",OFFSET('Smelter Look-up'!$C$4,$W248-4,0)&\"\")","v":""},"",{"$f":"IF(B248=\"\",\"\",IF(ISERROR(MATCH($J248,SorP!$B$1:$B$6230,0)),\"\",INDIRECT(\"'SorP'!$A$\"&MATCH($J248,SorP!$B$1:$B$6230,0))))","v":""},null,{"$f":"IF(C248=\"\",NA(),MATCH($B248&$C248,'Smelter Look-up'!$J:$J,0))","v":{"$error":"#N/A"}},null,0,null,null,null,""]
[{"$nulls":18},{"$f":"IF(ISERROR($W249),\"\",OFFSET('Smelter Look-up'!$C$4,$W249-4,0)&\"\")","v":""},"",{"$f":"IF(B249=\"\",\"\",IF(ISERROR(MATCH($J249,SorP!$B$1:$B$6230,0)),\"\",INDIRECT(\"'SorP'!$A$\"&MATCH($J249,SorP!$B$1:$B$6230,0))))","v":""},null,{"$f":"IF(C249=\"\",NA(),MATCH($B249&$C249,'Smelter Look-up'!$J:$J,0))","v":{"$error":"#N/A"}},null,0,null,null,null,""]
[{"$nulls":18},{"$f":"IF(ISERROR($W250),\"\",OFFSET('Smelter Look-up'!$C$4,$W250-4,0)&\"\")","v":""},"",{"$f":"IF(B250=\"\",\"\",IF(ISERROR(MATCH($J250,SorP!$B$1:$B$6230,0)),\"\",INDIRECT(\"'SorP'!$A$\"&MATCH($J250,SorP!$B$1:$B$6230,0))))","v":""},null,{"$f":"IF(C250=\"\",NA(),MATCH($B250&$C250,'Smelter Look-up'!$J:$J,0))","v":{"$error":"#N/A"}},null,0,null,null,null,""]
[{"$nulls":18},{"$f":"IF(ISERROR($W251),\"\",OFFSET('Smelter Look-up'!$C$4,$W251-4,0)&\"\")","v":""},"",{"$f":"IF(B251=\"\",\"\",IF(ISERROR(MATCH($J251,SorP!$B$1:$B$6230,0)),\"\",INDIRECT(\"'SorP'!$A$\"&MATCH($J251,SorP!$B$1:$B$6230,0))))","v":""},null,{"$f":"IF(C251=\"\",NA(),MATCH($B251&$C251,'Smelter Look-up'!$J:$J,0))","v":{"$error":"#N/A"}},null,0,null,null,null,""]
[{"$nulls":18},{"$f":"IF(ISERROR($W252),\"\",OFFSET('Smelter Look-up'!$C$4,$W252-4,0)&\"\")","v":""},"",{"$f":"IF(B252=\"\",\"\",IF(ISERROR(MATCH($J252,SorP!$B$1:$B$6230,0)),\"\",INDIRECT(\"'SorP'!$A$\"&MATCH($J252,SorP!$B$1:$B$6230,0))))","v":""},null,{"$f":"IF(C252=\"\",NA(),MATCH($B252&$C252,'Smelter Look-up'!$J:$J,0))","v":{"$error":"#N/A"}},null,0,null,null,null,""]
[{"$nulls":18},{"$f":"IF(ISERROR($W253),\"\",OFFSET('Smelter Look-up'!$C$4,$W253-4,0)&\"\")","v":""},"",{"$f":"IF(B253=\"\",\"\",IF(ISERROR(MATCH($J253,SorP!$B$1:$B$6230,0)),\"\",INDIRECT(\"'SorP'!$A$\"&MATCH($J253,SorP!$B$1:$B$6230,0))))","v":""},null,{"$f":"IF(C253=\"\",NA(),MATCH($B253&$C253,'Smelter Look-up'!$J:$J,0))","v":{"$error":"#N/A"}},null,0,null,null,null,""]
[{"$nulls":18},{"$f":"IF(ISERROR($W254),\"\",OFFSET('Smelter Look-up'!$C$4,$W254-4,0)&\"\")","v":""},"",{"$f":"IF(B254=\"\",\"\",IF(ISERROR(MATCH($J254,SorP!$B$1:$B$6230,0)),\"\",INDIRECT(\"'SorP'!$A$\"&MATCH($J254,SorP!$B$1:$B$6230,0))))","v":""},null,{"$f":"IF(C254=\"\",NA(),MATCH($B254&$C254,'Smelter Look-up'!$J:$J,0))","v":{"$error":"#N/A"}},null,0,null,null,null,""]
[{"$nulls":18},{"$f":"IF(ISERROR($W255),\"\",OFFSET('Smelter Look-up'!$C$4,$W255-4,0)&\"\")","v":""},"",{"$f":"IF(B255=\"\",\"\",IF(ISERROR(MATCH($J255,SorP!$B$1:$B$6230,0)),\"\",INDIRECT(\"'SorP'!$A$\"&MATCH($J255,SorP!$B$1:$B$6230,0))))","v":""},null,{"$f":"IF(C255=\"\",NA(),MATCH($B255&$C255,'Smelter Look-up'!$J:$J,0))","v":{"$error":"#N/A"}},null,0,null,null,null,""]
[{"$nulls":18},{"$f":"IF(ISERROR($W256),\"\",OFFSET('Smelter Look-up'!$C$4,$W256-4,0)&\"\")","v":""},"",{"$f":"IF(B256=\"\",\"\",IF(ISERROR(MATCH($J256,SorP!$B$1:$B$6230,0)),\"\",INDIRECT(\"'SorP'!$A$\"&MATCH($J256,SorP!$B$1:$B$6230,0))))","v":""},null,{"$f":"IF(C256=\"\",NA(),MATCH($B256&$C256,'Smelter Look-up'!$J:$J,0))","v":{"$error":"#N/A"}},null,0,null,null,null,""]
[{"$nulls":18},{"$f":"IF(ISERROR($W257),\"\",OFFSET('Smelter Look-up'!$C$4,$W257-4,0)&\"\")","v":""},"",{"$f":"IF(B257=\"\",\"\",IF(ISERROR(MATCH($J257,SorP!$B$1:$B$6230,0)),\"\",INDIRECT(\"'SorP'!$A$\"&MATCH($J257,SorP!$B$1:$B$6230,0))))","v":""},null,{"$f":"IF(C257=\"\",NA(),MATCH($B257&$C257,'Smelter Look-up'!$J:$J,0))","v":{"$error":"#N/A"}},null,0,null,null,null,""]
[{"$nulls":18},{"$f":"IF(ISERROR($W258),\"\",OFFSET('Smelter Look-up'!$C$4,$W258-4,0)&\"\")","v":""},"",{"$f":"IF(B258=\"\",\"\",IF(ISERROR(MATCH($J258,SorP!$B$1:$B$6230,0)),\"\",INDIRECT(\"'SorP'!$A$\"&MATCH($J258,SorP!$B$1:$B$6230,0))))","v":""},null,{"$f":"IF(C258=\"\",NA(),MATCH($B258&$C258,'Smelter Look-up'!$J:$J,0))","v":{"$error":"#N/A"}},null,0,null,null,null,""]
[{"$nulls":18},{"$f":"IF(ISERROR($W259),\"\",OFFSET('Smelter Look-up'!$C$4,$W259-4,0)&\"\")","v":""},"",{"$f":"IF(B259=\"\",\"\",IF(ISERROR(MATCH($J259,SorP!$B$1:$B$6230,0)),\"\",INDIRECT(\"'SorP'!$A$\"&MATCH($J259,SorP!$B$1:$B$6230,0))))","v":""},null,{"$f":"IF(C259=\"\",NA(),MATCH($B259&$C259,'Smelter Look-up'!$J:$J,0))","v":{"$error":"#N/A"}},null,0,null,null,null,""]
[{"$nulls":18},{"$f":"IF(ISERROR($W260),\"\",OFFSET('Smelter Look-up'!$C$4,$W260-4,0)&\"\")","v":""},"",{"$f":"IF(B260=\"\",\"\",IF(ISERROR(MATCH($J260,SorP!$B$1:$B$6230,0)),\"\",INDIRECT(\"'SorP'!$A$\"&MATCH($J260,SorP!$B$1:$B$6230,0))))","v":""},null,{"$f":"IF(C260=\"\",NA(),MATCH($B260&$C260,'Smelter Look-up'!$J:$J,0))","v":{"$error":"#N/A"}},null,0,null,null,null,""]
[{"$nulls":18},{"$f":"IF(ISERROR($W261),\"\",OFFSET('Smelter Look-up'!$C$4,$W261-4,0)&\"\")","v":""},{"$f":"IF(B261=\"\",\"\",IF(ISERROR(MATCH($E261,CL,0)),\"Unknown\",INDIRECT(\"'C'!$A$\"&MATCH($E261,CL,0)+1)))","v":""},{"$f":"IF(B261=\"\",\"\",IF(ISERROR(MATCH($J261,SorP!$B$1:$B$6230,0)),\"\",INDIRECT(\"'SorP'!$A$\"&MATCH($J261,SorP!$B$1:$B$6230,0))))","v":""},null,{"$f":"IF(C261=\"\",NA(),MATCH($B261&$C261,'Smelter Look-up'!$J:$J,0))","v":{"$error":"#N/A"}},null,{"$f":"IF(AND(C261=\"Smelter not listed\",OR(LEN(D261)=0,LEN(E261)=0)),1,0)","v":0},null,null,null,{"$f":"B261&C261","v":""}]
[{"$nulls":18},{"$f":"IF(ISERROR($W262),\"\",OFFSET('Smelter Look-up'!$C$4,$W262-4,0)&\"\")","v":""},"",{"$f":"IF(B262=\"\",\"\",IF(ISERROR(MATCH($J262,SorP!$B$1:$B$6230,0)),\"\",INDIRECT(\"'SorP'!$A$\"&MATCH($J262,SorP!$B$1:$B$6230,0))))","v":""},null,{"$f":"IF(C262=\"\",NA(),MATCH($B262&$C262,'Smelter Look-up'!$J:$J,0))","v":{"$error":"#N/A"}},null,0,null,null,null,""]
[{"$nulls":18},{"$f":"IF(ISERROR($W263),\"\",OFFSET('Smelter Look-up'!$C$4,$W263-4,0)&\"\")","v":""},"",{"$f":"IF(B263=\"\",\"\",IF(ISERROR(MATCH($J263,SorP!$B$1:$B$6230,0)),\"\",INDIRECT(\"'SorP'!$A$\"&MATCH($J263,SorP!$B$1:$B$6230,0))))","v":""},null,{"$f":"IF(C263=\"\",NA(),MATCH($B263&$C263,'Smelter Look-up'!$J:$J,0))","v":{"$error":"#N/A"}},null,0,null,null,null,""]
[{"$nulls":18},{"$f":"IF(ISERROR($W264),\"\",OFFSET('Smelter Look-up'!$C$4,$W264-4,0)&\"\")","v":""},"",{"$f":"IF(B264=\"\",\"\",IF(ISERROR(MATCH($J264,SorP!$B$1:$B$6230,0)),\"\",INDIRECT(\"'SorP'!$A$\"&MATCH($J264,SorP!$B$1:$B$6230,0))))","v":""},null,{"$f":"IF(C264=\"\",NA(),MATCH($B264&$C264,'Smelter Look-up'!$J:$J,0))","v":{"$error":"#N/A"}},null,0,null,null,null,""]
[{"$nulls":18},{"$f":"IF(ISERROR($W265),\"\",OFFSET('Smelter Look-up'!$C$4,$W265-4,0)&\"\")","v":""},"",{"$f":"IF(B265=\"\",\"\",IF(ISERROR(MATCH($J265,SorP!$B$1:$B$6230,0)),\"\",INDIRECT(\"'SorP'!$A$\"&MATCH($J265,SorP!$B$1:$B$6230,0))))","v":""},null,{"$f":"IF(C265=\"\",NA(),MATCH($B265&$C265,'Smelter Look-up'!$J:$J,0))","v":{"$error":"#N/A"}},null,0,null,null,null,""]
[{"$nulls":18},{"$f":"IF(ISERROR($W266),\"\",OFFSET('Smelter Look-up'!$C$4,$W266-4,0)&\"\")","v":""},"",{"$f":"IF(B266=\"\",\"\",IF(ISERROR(MATCH($J266,SorP!$B$1:$B$6230,0)),\"\",INDIRECT(\"'SorP'!$A$\"&MATCH($J266,SorP!$B$1:$B$6230,0))))","v":""},null,{"$f":"IF(C266=\"\",NA(),MATCH($B266&$C266,'Smelter Look-up'!$J:$J,0))","v":{"$error":"#N/A"}},null,0,null,null,null,""]
[{"$nulls":18},{"$f":"IF(ISERROR($W267),\"\",OFFSET('Smelter Look-up'!$C$4,$W267-4,0)&\"\")","v":""},"",{"$f":"IF(B267=\"\",\"\",IF(ISERROR(MATCH($J267,SorP!$B$1:$B$6230,0)),\"\",INDIRECT(\"'SorP'!$A$\"&MATCH($J267,SorP!$B$1:$B$6230,0))))","v":""},null,{"$f":"IF(C267=\"\",NA(),MATCH($B267&$C267,'Smelter Look-up'!$J:$J,0))","v":{"$error":"#N/A"}},null,0,null,null,null,""]
[{"$nulls":18},{"$f":"IF(ISERROR($W268),\"\",OFFSET('Smelter Look-up'!$C$4,$W268-4,0)&\"\")","v":""},"",{"$f":"IF(B268=\"\",\"\",IF(ISERROR(MATCH($J268,SorP!$B$1:$B$6230,0)),\"\",INDIRECT(\"'SorP'!$A$\"&MATCH($J268,SorP!$B$1:$B$6230,0))))","v":""},null,{"$f":"IF(C268=\"\",NA(),MATCH($B268&$C268,'Smelter Look-up'!$J:$J,0))","v":{"$error":"#N/A"}},null,0,null,null,null,""]
[{"$nulls":18},{"$f":"IF(ISERROR($W269),\"\",OFFSET('Smelter Look-up'!$C$4,$W269-4,0)&\"\")","v":""},"",{"$f":"IF(B269=\"\",\"\",IF(ISERROR(MATCH($J269,SorP!$B$1:$B$6230,0)),\"\",INDIRECT(\"'SorP'!$A$\"&MATCH($J269,SorP!$B$1:$B$6230,0))))","v":""},null,{"$f":"IF(C269=\"\",NA(),MATCH($B269&$C269,'Smelter Look-up'!$J:$J,0))","v":{"$error":"#N/A"}},null,0,null,null,null,""]
[{"$nulls":18},{"$f":"IF(ISERROR($W270),\"\",OFFSET('Smelter Look-up'!$C$4,$W270-4,0)&\"\")","v":""},"",{"$f":"IF(B270=\"\",\"\",IF(ISERROR(MATCH($J270,SorP!$B$1:$B$6230,0)),\"\",INDIRECT(\"'SorP'!$A$\"&MATCH($J270,SorP!$B$1:$B$6230,0))))","v":""},null,{"$f":"IF(C270=\"\",NA(),MATCH($B270&$C270,'Smelter Look-up'!$J:$J,0))","v":{"$error":"#N/A"}},null,0,null,null,null,""]
[{"$nulls":18},{"$f":"IF(ISERROR($W271),\"\",OFFSET('Smelter Look-up'!$C$4,$W271-4,0)&\"\")","v":""},"",{"$f":"IF(B271=\"\",\"\",IF(ISERROR(MATCH($J271,SorP!$B$1:$B$6230,0)),\"\",INDIRECT(\"'SorP'!$A$\"&MATCH($J271,SorP!$B$1:$B$6230,0))))","v":""},null,{"$f":"IF(C271=\"\",NA(),MATCH($B271&$C271,'Smelter Look-up'!$J:$J,0))","v":{"$error":"#N/A"}},null,0,null,null,null,""]
[{"$nulls":18},{"$f":"IF(ISERROR($W272),\"\",OFFSET('Smelter Look-up'!$C$4,$W272-4,0)&\"\")","v":""},"",{"$f":"IF(B272=\"\",\"\",IF(ISERROR(MATCH($J272,SorP!$B$1:$B$6230,0)),\"\",INDIRECT(\"'SorP'!$A$\"&MATCH($J272,SorP!$B$1:$B$6230,0))))","v":""},null,{"$f":"IF(C272=\"\",NA(),MATCH($B272&$C272,'Smelter Look-up'!$J:$J,0))","v":{"$error":"#N/A"}},null,0,null,null,null,""]
[{"$nulls":18},{"$f":"IF(ISERROR($W273),\"\",OFFSET('Smelter Look-up'!$C$4,$W273-4,0)&\"\")","v":""},"",{"$f":"IF(B273=\"\",\"\",IF(ISERROR(MATCH($J273,SorP!$B$1:$B$6230,0)),\"\",INDIRECT(\"'SorP'!$A$\"&MATCH($J273,SorP!$B$1:$B$6230,0))))","v":""},null,{"$f":"IF(C273=\"\",NA(),MATCH($B273&$C273,'Smelter Look-up'!$J:$J,0))","v":{"$error":"#N/A"}},null,0,null,null,null,""]
[{"$nulls":18},{"$f":"IF(ISERROR($W274),\"\",OFFSET('Smelter Look-up'!$C$4,$W274-4,0)&\"\")","v":""},"",{"$f":"IF(B274=\"\",\"\",IF(ISERROR(MATCH($J274,SorP!$B$1:$B$6230,0)),\"\",INDIRECT(\"'SorP'!$A$\"&MATCH($J274,SorP!$B$1:$B$6230,0))))","v":""},null,{"$f":"IF(C274=\"\",NA(),MATCH($B274&$C274,'Smelter Look-up'!$J:$J,0))","v":{"$error":"#N/A"}},null,0,null,null,null,""]
[{"$nulls":18},{"$f":"IF(ISERROR($W275),\"\",OFFSET('Smelter Look-up'!$C$4,$W275-4,0)&\"\")","v":""},"",{"$f":"IF(B275=\"\",\"\",IF(ISERROR(MATCH($J275,SorP!$B$1:$B$6230,0)),\"\",INDIRECT(\"'SorP'!$A$\"&MATCH($J275,SorP!$B$1:$B$6230,0))))","v":""},null,{"$f":"IF(C275=\"\",NA(),MATCH($B275&$C275,'Smelter Look-up'!$J:$J,0))","v":{"$error":"#N/A"}},null,0,null,null,null,""]
[{"$nulls":18},{"$f":"IF(ISERROR($W276),\"\",OFFSET('Smelter Look-up'!$C$4,$W276-4,0)&\"\")","v":""},"",{"$f":"IF(B276=\"\",\"\",IF(ISERROR(MATCH($J276,SorP!$B$1:$B$6230,0)),\"\",INDIRECT(\"'SorP'!$A$\"&MATCH($J276,SorP!$B$1:$B$6230,0))))","v":""},null,{"$f":"IF(C276=\"\",NA(),MATCH($B276&$C276,'Smelter Look-up'!$J:$J,0))","v":{"$error":"#N/A"}},null,0,null,null,null,""]
[{"$nulls":18},{"$f":"IF(ISERROR($W277),\"\",OFFSET('Smelter Look-up'!$C$4,$W277-4,0)&\"\")","v":""},"",{"$f":"IF(B277=\"\",\"\",IF(ISERROR(MATCH($J277,SorP!$B$1:$B$6230,0)),\"\",INDIRECT(\"'SorP'!$A$\"&MATCH($J277,SorP!$B$1:$B$6230,0))))","v":""},null,{"$f":"IF(C277=\"\",NA(),MATCH($B277&$C277,'Smelter Look-up'!$J:$J,0))","v":{"$error":"#N/A"}},null,0,null,null,null,""]
[{"$nulls":18},{"$f":"IF(ISERROR($W278),\"\",OFFSET('Smelter Look-up'!$C$4,$W278-4,0)&\"\")","v":""},"",{"$f":"IF(B278=\"\",\"\",IF(ISERROR(MATCH($J278,SorP!$B$1:$B$6230,0)),\"\",INDIRECT(\"'SorP'!$A$\"&MATCH($J278,SorP!$B$1:$B$6230,0))))","v":""},null,{"$f":"IF(C278=\"\",NA(),MATCH($B278&$C278,'Smelter Look-up'!$J:$J,0))","v":{"$error":"#N/A"}},null,0,null,null,null,""]
[{"$nulls":18},{"$f":"IF(ISERROR($W279),\"\",OFFSET('Smelter Look-up'!$C$4,$W279-4,0)&\"\")","v":""},"",{"$f":"IF(B279=\"\",\"\",IF(ISERROR(MATCH($J279,SorP!$B$1:$B$6230,0)),\"\",INDIRECT(\"'SorP'!$A$\"&MATCH($J279,SorP!$B$1:$B$6230,0))))","v":""},null,{"$f":"IF(C279=\"\",NA(),MATCH($B279&$C279,'Smelter Look-up'!$J:$J,0))","v":{"$error":"#N/A"}},null,0,null,null,null,""]
[{"$nulls":18},{"$f":"IF(ISERROR($W280),\"\",OFFSET('Smelter Look-up'!$C$4,$W280-4,0)&\"\")","v":""},"",{"$f":"IF(B280=\"\",\"\",IF(ISERROR(MATCH($J280,SorP!$B$1:$B$6230,0)),\"\",INDIRECT(\"'SorP'!$A$\"&MATCH($J280,SorP!$B$1:$B$6230,0))))","v":""},null,{"$f":"IF(C280=\"\",NA(),MATCH($B280&$C280,'Smelter Look-up'!$J:$J,0))","v":{"$error":"#N/A"}},null,0,null,null,null,""]
[{"$nulls":18},{"$f":"IF(ISERROR($W281),\"\",OFFSET('Smelter Look-up'!$C$4,$W281-4,0)&\"\")","v":""},"",{"$f":"IF(B281=\"\",\"\",IF(ISERROR(MATCH($J281,SorP!$B$1:$B$6230,0)),\"\",INDIRECT(\"'SorP'!$A$\"&MATCH($J281,SorP!$B$1:$B$6230,0))))","v":""},null,{"$f":"IF(C281=\"\",NA(),MATCH($B281&$C281,'Smelter Look-up'!$J:$J,0))","v":{"$error":"#N/A"}},null,0,null,null,null,""]
[{"$nulls":18},{"$f":"IF(ISERROR($W282),\"\",OFFSET('Smelter Look-up'!$C$4,$W282-4,0)&\"\")","v":""},"",{"$f":"IF(B282=\"\",\"\",IF(ISERROR(MATCH($J282,SorP!$B$1:$B$6230,0)),\"\",INDIRECT(\"'SorP'!$A$\"&MATCH($J282,SorP!$B$1:$B$6230,0))))","v":""},null,{"$f":"IF(C282=\"\",NA(),MATCH($B282&$C282,'Smelter Look-up'!$J:$J,0))","v":{"$error":"#N/A"}},null,0,null,null,null,""]
[{"$nulls":18},{"$f":"IF(ISERROR($W283),\"\",OFFSET('Smelter Look-up'!$C$4,$W283-4,0)&\"\")","v":""},"",{"$f":"IF(B283=\"\",\"\",IF(ISERROR(MATCH($J283,SorP!$B$1:$B$6230,0)),\"\",INDIRECT(\"'SorP'!$A$\"&MATCH($J283,SorP!$B$1:$B$6230,0))))","v":""},null,{"$f":"IF(C283=\"\",NA(),MATCH($B283&$C283,'Smelter Look-up'!$J:$J,0))","v":{"$error":"#N/A"}},null,0,null,null,null,""]
[{"$nulls":18},{"$f":"IF(ISERROR($W284),\"\",OFFSET('Smelter Look-up'!$C$4,$W284-4,0)&\"\")","v":""},"",{"$f":"IF(B284=\"\",\"\",IF(ISERROR(MATCH($J284,SorP!$B$1:$B$6230,0)),\"\",INDIRECT(\"'SorP'!$A$\"&MATCH($J284,SorP!$B$1:$B$6230,0))))","v":""},null,{"$f":"IF(C284=\"\",NA(),MATCH($B284&$C284,'Smelter Look-up'!$J:$J,0))","v":{"$error":"#N/A"}},null,0,null,null,null,""]
[{"$nulls":18},{"$f":"IF(ISERROR($W285),\"\",OFFSET('Smelter Look-up'!$C$4,$W285-4,0)&\"\")","v":""},"",{"$f":"IF(B285=\"\",\"\",IF(ISERROR(MATCH($J285,SorP!$B$1:$B$6230,0)),\"\",INDIRECT(\"'SorP'!$A$\"&MATCH($J285,SorP!$B$1:$B$6230,0))))","v":""},null,{"$f":"IF(C285=\"\",NA(),MATCH($B285&$C285,'Smelter Look-up'!$J:$J,0))","v":{"$error":"#N/A"}},null,0,null,null,null,""]
[{"$nulls":18},{"$f":"IF(ISERROR($W286),\"\",OFFSET('Smelter Look-up'!$C$4,$W286-4,0)&\"\")","v":""},"",{"$f":"IF(B286=\"\",\"\",IF(ISERROR(MATCH($J286,SorP!$B$1:$B$6230,0)),\"\",INDIRECT(\"'SorP'!$A$\"&MATCH($J286,SorP!$B$1:$B$6230,0))))","v":""},null,{"$f":"IF(C286=\"\",NA(),MATCH($B286&$C286,'Smelter Look-up'!$J:$J,0))","v":{"$error":"#N/A"}},null,0,null,null,null,""]
[{"$nulls":18},{"$f":"IF(ISERROR($W287),\"\",OFFSET('Smelter Look-up'!$C$4,$W287-4,0)&\"\")","v":""},"",{"$f":"IF(B287=\"\",\"\",IF(ISERROR(MATCH($J287,SorP!$B$1:$B$6230,0)),\"\",INDIRECT(\"'SorP'!$A$\"&MATCH($J287,SorP!$B$1:$B$6230,0))))","v":""},null,{"$f":"IF(C287=\"\",NA(),MATCH($B287&$C287,'Smelter Look-up'!$J:$J,0))","v":{"$error":"#N/A"}},null,0,null,null,null,""]
[{"$nulls":18},{"$f":"IF(ISERROR($W288),\"\",OFFSET('Smelter Look-up'!$C$4,$W288-4,0)&\"\")","v":""},"",{"$f":"IF(B288=\"\",\"\",IF(ISERROR(MATCH($J288,SorP!$B$1:$B$6230,0)),\"\",INDIRECT(\"'SorP'!$A$\"&MATCH($J288,SorP!$B$1:$B$6230,0))))","v":""},null,{"$f":"IF(C288=\"\",NA(),MATCH($B288&$C288,'Smelter Look-up'!$J:$J,0))","v":{"$error":"#N/A"}},null,0,null,null,null,""]
[{"$nulls":18},{"$f":"IF(ISERROR($W289),\"\",OFFSET('Smelter Look-up'!$C$4,$W289-4,0)&\"\")","v":""},"",{"$f":"IF(B289=\"\",\"\",IF(ISERROR(MATCH($J289,SorP!$B$1:$B$6230,0)),\"\",INDIRECT(\"'SorP'!$A$\"&MATCH($J289,SorP!$B$1:$B$6230,0))))","v":""},null,{"$f":"IF(C289=\"\",NA(),MATCH($B289&$C289,'Smelter Look-up'!$J:$J,0))","v":{"$error":"#N/A"}},null,0,null,null,null,""]
[{"$nulls":18},{"$f":"IF(ISERROR($W290),\"\",OFFSET('Smelter Look-up'!$C$4,$W290-4,0)&\"\")","v":""},"",{"$f":"IF(B290=\"\",\"\",IF(ISERROR(MATCH($J290,SorP!$B$1:$B$6230,0)),\"\",INDIRECT(\"'SorP'!$A$\"&MATCH($J290,SorP!$B$1:$B$6230,0))))","v":""},null,{"$f":"IF(C290=\"\",NA(),MATCH($B290&$C290,'Smelter Look-up'!$J:$J,0))","v":{"$error":"#N/A"}},null,0,null,null,null,""]
[{"$nulls":18},{"$f":"IF(ISERROR($W291),\"\",OFFSET('Smelter Look-up'!$C$4,$W291-4,0)&\"\")","v":""},"",{"$f":"IF(B291=\"\",\"\",IF(ISERROR(MATCH($J291,SorP!$B$1:$B$6230,0)),\"\",INDIRECT(\"'SorP'!$A$\"&MATCH($J291,SorP!$B$1:$B$6230,0))))","v":""},null,{"$f":"IF(C291=\"\",NA(),MATCH($B291&$C291,'Smelter Look-up'!$J:$J,0))","v":{"$error":"#N/A"}},null,0,null,null,null,""]
[{"$nulls":18},{"$f":"IF(ISERROR($W292),\"\",OFFSET('Smelter Look-up'!$C$4,$W292-4,0)&\"\")","v":""},"",{"$f":"IF(B292=\"\",\"\",IF(ISERROR(MATCH($J292,SorP!$B$1:$B$6230,0)),\"\",INDIRECT(\"'SorP'!$A$\"&MATCH($J292,SorP!$B$1:$B$6230,0))))","v":""},null,{"$f":"IF(C292=\"\",NA(),MATCH($B292&$C292,'Smelter Look-up'!$J:$J,0))","v":{"$error":"#N/A"}},null,0,null,null,null,""]
[{"$nulls":18},{"$f":"IF(ISERROR($W293),\"\",OFFSET('Smelter Look-up'!$C$4,$W293-4,0)&\"\")","v":""},"",{"$f":"IF(B293=\"\",\"\",IF(ISERROR(MATCH($J293,SorP!$B$1:$B$6230,0)),\"\",INDIRECT(\"'SorP'!$A$\"&MATCH($J293,SorP!$B$1:$B$6230,0))))","v":""},null,{"$f":"IF(C293=\"\",NA(),MATCH($B293&$C293,'Smelter Look-up'!$J:$J,0))","v":{"$error":"#N/A"}},null,0,null,null,null,""]
[{"$nulls":18},{"$f":"IF(ISERROR($W294),\"\",OFFSET('Smelter Look-up'!$C$4,$W294-4,0)&\"\")","v":""},"",{"$f":"IF(B294=\"\",\"\",IF(ISERROR(MATCH($J294,SorP!$B$1:$B$6230,0)),\"\",INDIRECT(\"'SorP'!$A$\"&MATCH($J294,SorP!$B$1:$B$6230,0))))","v":""},null,{"$f":"IF(C294=\"\",NA(),MATCH($B294&$C294,'Smelter Look-up'!$J:$J,0))","v":{"$error":"#N/A"}},null,0,null,null,null,""]
[{"$nulls":18},{"$f":"IF(ISERROR($W295),\"\",OFFSET('Smelter Look-up'!$C$4,$W295-4,0)&\"\")","v":""},"",{"$f":"IF(B295=\"\",\"\",IF(ISERROR(MATCH($J295,SorP!$B$1:$B$6230,0)),\"\",INDIRECT(\"'SorP'!$A$\"&MATCH($J295,SorP!$B$1:$B$6230,0))))","v":""},null,{"$f":"IF(C295=\"\",NA(),MATCH($B295&$C295,'Smelter Look-up'!$J:$J,0))","v":{"$error":"#N/A"}},null,0,null,null,null,""]
[{"$nulls":18},{"$f":"IF(ISERROR($W296),\"\",OFFSET('Smelter Look-up'!$C$4,$W296-4,0)&\"\")","v":""},"",{"$f":"IF(B296=\"\",\"\",IF(ISERROR(MATCH($J296,SorP!$B$1:$B$6230,0)),\"\",INDIRECT(\"'SorP'!$A$\"&MATCH($J296,SorP!$B$1:$B$6230,0))))","v":""},null,{"$f":"IF(C296=\"\",NA(),MATCH($B296&$C296,'Smelter Look-up'!$J:$J,0))","v":{"$error":"#N/A"}},null,0,null,null,null,""]
[{"$nulls":18},{"$f":"IF(ISERROR($W297),\"\",OFFSET('Smelter Look-up'!$C$4,$W297-4,0)&\"\")","v":""},"",{"$f":"IF(B297=\"\",\"\",IF(ISERROR(MATCH($J297,SorP!$B$1:$B$6230,0)),\"\",INDIRECT(\"'SorP'!$A$\"&MATCH($J297,SorP!$B$1:$B$6230,0))))","v":""},null,{"$f":"IF(C297=\"\",NA(),MATCH($B297&$C297,'Smelter Look-up'!$J:$J,0))","v":{"$error":"#N/A"}},null,0,null,null,null,""]
[{"$nulls":18},{"$f":"IF(ISERROR($W298),\"\",OFFSET('Smelter Look-up'!$C$4,$W298-4,0)&\"\")","v":""},"",{"$f":"IF(B298=\"\",\"\",IF(ISERROR(MATCH($J298,SorP!$B$1:$B$6230,0)),\"\",INDIRECT(\"'SorP'!$A$\"&MATCH($J298,SorP!$B$1:$B$6230,0))))","v":""},null,{"$f":"IF(C298=\"\",NA(),MATCH($B298&$C298,'Smelter Look-up'!$J:$J,0))","v":{"$error":"#N/A"}},null,0,null,null,null,""]
[{"$nulls":18},{"$f":"IF(ISERROR($W299),\"\",OFFSET('Smelter Look-up'!$C$4,$W299-4,0)&\"\")","v":""},"",{"$f":"IF(B299=\"\",\"\",IF(ISERROR(MATCH($J299,SorP!$B$1:$B$6230,0)),\"\",INDIRECT(\"'SorP'!$A$\"&MATCH($J299,SorP!$B$1:$B$6230,0))))","v":""},null,{"$f":"IF(C299=\"\",NA(),MATCH($B299&$C299,'Smelter Look-up'!$J:$J,0))","v":{"$error":"#N/A"}},null,0,null,null,null,""]
[{"$nulls":18},{"$f":"IF(ISERROR($W300),\"\",OFFSET('Smelter Look-up'!$C$4,$W300-4,0)&\"\")","v":""},"",{"$f":"IF(B300=\"\",\"\",IF(ISERROR(MATCH($J300,SorP!$B$1:$B$6230,0)),\"\",INDIRECT(\"'SorP'!$A$\"&MATCH($J300,SorP!$B$1:$B$6230,0))))","v":""},null,{"$f":"IF(C300=\"\",NA(),MATCH($B300&$C300,'Smelter Look-up'!$J:$J,0))","v":{"$error":"#N/A"}},null,0,null,null,null,""]
[{"$nulls":18},{"$f":"IF(ISERROR($W301),\"\",OFFSET('Smelter Look-up'!$C$4,$W301-4,0)&\"\")","v":""},"",{"$f":"IF(B301=\"\",\"\",IF(ISERROR(MATCH($J301,SorP!$B$1:$B$6230,0)),\"\",INDIRECT(\"'SorP'!$A$\"&MATCH($J301,SorP!$B$1:$B$6230,0))))","v":""},null,{"$f":"IF(C301=\"\",NA(),MATCH($B301&$C301,'Smelter Look-up'!$J:$J,0))","v":{"$error":"#N/A"}},null,0,null,null,null,""]
[{"$nulls":18},{"$f":"IF(ISERROR($W302),\"\",OFFSET('Smelter Look-up'!$C$4,$W302-4,0)&\"\")","v":""},"",{"$f":"IF(B302=\"\",\"\",IF(ISERROR(MATCH($J302,SorP!$B$1:$B$6230,0)),\"\",INDIRECT(\"'SorP'!$A$\"&MATCH($J302,SorP!$B$1:$B$6230,0))))","v":""},null,{"$f":"IF(C302=\"\",NA(),MATCH($B302&$C302,'Smelter Look-up'!$J:$J,0))","v":{"$error":"#N/A"}},null,0,null,null,null,""]
[{"$nulls":18},{"$f":"IF(ISERROR($W303),\"\",OFFSET('Smelter Look-up'!$C$4,$W303-4,0)&\"\")","v":""},"",{"$f":"IF(B303=\"\",\"\",IF(ISERROR(MATCH($J303,SorP!$B$1:$B$6230,0)),\"\",INDIRECT(\"'SorP'!$A$\"&MATCH($J303,SorP!$B$1:$B$6230,0))))","v":""},null,{"$f":"IF(C303=\"\",NA(),MATCH($B303&$C303,'Smelter Look-up'!$J:$J,0))","v":{"$error":"#N/A"}},null,0,null,null,null,""]
[{"$nulls":18},{"$f":"IF(ISERROR($W304),\"\",OFFSET('Smelter Look-up'!$C$4,$W304-4,0)&\"\")","v":""},"",{"$f":"IF(B304=\"\",\"\",IF(ISERROR(MATCH($J304,SorP!$B$1:$B$6230,0)),\"\",INDIRECT(\"'SorP'!$A$\"&MATCH($J304,SorP!$B$1:$B$6230,0))))","v":""},null,{"$f":"IF(C304=\"\",NA(),MATCH($B304&$C304,'Smelter Look-up'!$J:$J,0))","v":{"$error":"#N/A"}},null,0,null,null,null,""]
[{"$nulls":18},{"$f":"IF(ISERROR($W305),\"\",OFFSET('Smelter Look-up'!$C$4,$W305-4,0)&\"\")","v":""},"",{"$f":"IF(B305=\"\",\"\",IF(ISERROR(MATCH($J305,SorP!$B$1:$B$6230,0)),\"\",INDIRECT(\"'SorP'!$A$\"&MATCH($J305,SorP!$B$1:$B$6230,0))))","v":""},null,{"$f":"IF(C305=\"\",NA(),MATCH($B305&$C305,'Smelter Look-up'!$J:$J,0))","v":{"$error":"#N/A"}},null,0,null,null,null,""]
[{"$nulls":18},{"$f":"IF(ISERROR($W306),\"\",OFFSET('Smelter Look-up'!$C$4,$W306-4,0)&\"\")","v":""},"",{"$f":"IF(B306=\"\",\"\",IF(ISERROR(MATCH($J306,SorP!$B$1:$B$6230,0)),\"\",INDIRECT(\"'SorP'!$A$\"&MATCH($J306,SorP!$B$1:$B$6230,0))))","v":""},null,{"$f":"IF(C306=\"\",NA(),MATCH($B306&$C306,'Smelter Look-up'!$J:$J,0))","v":{"$error":"#N/A"}},null,0,null,null,null,""]
[{"$nulls":18},{"$f":"IF(ISERROR($W307),\"\",OFFSET('Smelter Look-up'!$C$4,$W307-4,0)&\"\")","v":""},"",{"$f":"IF(B307=\"\",\"\",IF(ISERROR(MATCH($J307,SorP!$B$1:$B$6230,0)),\"\",INDIRECT(\"'SorP'!$A$\"&MATCH($J307,SorP!$B$1:$B$6230,0))))","v":""},null,{"$f":"IF(C307=\"\",NA(),MATCH($B307&$C307,'Smelter Look-up'!$J:$J,0))","v":{"$error":"#N/A"}},null,0,null,null,null,""]
[{"$nulls":18},{"$f":"IF(ISERROR($W308),\"\",OFFSET('Smelter Look-up'!$C$4,$W308-4,0)&\"\")","v":""},"",{"$f":"IF(B308=\"\",\"\",IF(ISERROR(MATCH($J308,SorP!$B$1:$B$6230,0)),\"\",INDIRECT(\"'SorP'!$A$\"&MATCH($J308,SorP!$B$1:$B$6230,0))))","v":""},null,{"$f":"IF(C308=\"\",NA(),MATCH($B308&$C308,'Smelter Look-up'!$J:$J,0))","v":{"$error":"#N/A"}},null,0,null,null,null,""]
[{"$nulls":18},{"$f":"IF(ISERROR($W309),\"\",OFFSET('Smelter Look-up'!$C$4,$W309-4,0)&\"\")","v":""},"",{"$f":"IF(B309=\"\",\"\",IF(ISERROR(MATCH($J309,SorP!$B$1:$B$6230,0)),\"\",INDIRECT(\"'SorP'!$A$\"&MATCH($J309,SorP!$B$1:$B$6230,0))))","v":""},null,{"$f":"IF(C309=\"\",NA(),MATCH($B309&$C309,'Smelter Look-up'!$J:$J,0))","v":{"$error":"#N/A"}},null,0,null,null,null,""]
[{"$nulls":18},{"$f":"IF(ISERROR($W310),\"\",OFFSET('Smelter Look-up'!$C$4,$W310-4,0)&\"\")","v":""},"",{"$f":"IF(B310=\"\",\"\",IF(ISERROR(MATCH($J310,SorP!$B$1:$B$6230,0)),\"\",INDIRECT(\"'SorP'!$A$\"&MATCH($J310,SorP!$B$1:$B$6230,0))))","v":""},null,{"$f":"IF(C310=\"\",NA(),MATCH($B310&$C310,'Smelter Look-up'!$J:$J,0))","v":{"$error":"#N/A"}},null,0,null,null,null,""]
[{"$nulls":18},{"$f":"IF(ISERROR($W311),\"\",OFFSET('Smelter Look-up'!$C$4,$W311-4,0)&\"\")","v":""},"",{"$f":"IF(B311=\"\",\"\",IF(ISERROR(MATCH($J311,SorP!$B$1:$B$6230,0)),\"\",INDIRECT(\"'SorP'!$A$\"&MATCH($J311,SorP!$B$1:$B$6230,0))))","v":""},null,{"$f":"IF(C311=\"\",NA(),MATCH($B311&$C311,'Smelter Look-up'!$J:$J,0))","v":{"$error":"#N/A"}},null,0,null,null,null,""]
[{"$nulls":18},{"$f":"IF(ISERROR($W312),\"\",OFFSET('Smelter Look-up'!$C$4,$W312-4,0)&\"\")","v":""},"",{"$f":"IF(B312=\"\",\"\",IF(ISERROR(MATCH($J312,SorP!$B$1:$B$6230,0)),\"\",INDIRECT(\"'SorP'!$A$\"&MATCH($J312,SorP!$B$1:$B$6230,0))))","v":""},null,{"$f":"IF(C312=\"\",NA(),MATCH($B312&$C312,'Smelter Look-up'!$J:$J,0))","v":{"$error":"#N/A"}},null,0,null,null,null,""]
[{"$nulls":18},{"$f":"IF(ISERROR($W313),\"\",OFFSET('Smelter Look-up'!$C$4,$W313-4,0)&\"\")","v":""},"",{"$f":"IF(B313=\"\",\"\",IF(ISERROR(MATCH($J313,SorP!$B$1:$B$6230,0)),\"\",INDIRECT(\"'SorP'!$A$\"&MATCH($J313,SorP!$B$1:$B$6230,0))))","v":""},null,{"$f":"IF(C313=\"\",NA(),MATCH($B313&$C313,'Smelter Look-up'!$J:$J,0))","v":{"$error":"#N/A"}},null,0,null,null,null,""]
[{"$nulls":18},{"$f":"IF(ISERROR($W314),\"\",OFFSET('Smelter Look-up'!$C$4,$W314-4,0)&\"\")","v":""},"",{"$f":"IF(B314=\"\",\"\",IF(ISERROR(MATCH($J314,SorP!$B$1:$B$6230,0)),\"\",INDIRECT(\"'SorP'!$A$\"&MATCH($J314,SorP!$B$1:$B$6230,0))))","v":""},null,{"$f":"IF(C314=\"\",NA(),MATCH($B314&$C314,'Smelter Look-up'!$J:$J,0))","v":{"$error":"#N/A"}},null,0,null,null,null,""]
[{"$nulls":18},{"$f":"IF(ISERROR($W315),\"\",OFFSET('Smelter Look-up'!$C$4,$W315-4,0)&\"\")","v":""},"",{"$f":"IF(B315=\"\",\"\",IF(ISERROR(MATCH($J315,SorP!$B$1:$B$6230,0)),\"\",INDIRECT(\"'SorP'!$A$\"&MATCH($J315,SorP!$B$1:$B$6230,0))))","v":""},null,{"$f":"IF(C315=\"\",NA(),MATCH($B315&$C315,'Smelter Look-up'!$J:$J,0))","v":{"$error":"#N/A"}},null,0,null,null,null,""]
[{"$nulls":18},{"$f":"IF(ISERROR($W316),\"\",OFFSET('Smelter Look-up'!$C$4,$W316-4,0)&\"\")","v":""},"",{"$f":"IF(B316=\"\",\"\",IF(ISERROR(MATCH($J316,SorP!$B$1:$B$6230,0)),\"\",INDIRECT(\"'SorP'!$A$\"&MATCH($J316,SorP!$B$1:$B$6230,0))))","v":""},null,{"$f":"IF(C316=\"\",NA(),MATCH($B316&$C316,'Smelter Look-up'!$J:$J,0))","v":{"$error":"#N/A"}},null,0,null,null,null,""]
[{"$nulls":18},{"$f":"IF(ISERROR($W317),\"\",OFFSET('Smelter Look-up'!$C$4,$W317-4,0)&\"\")","v":""},"",{"$f":"IF(B317=\"\",\"\",IF(ISERROR(MATCH($J317,SorP!$B$1:$B$6230,0)),\"\",INDIRECT(\"'SorP'!$A$\"&MATCH($J317,SorP!$B$1:$B$6230,0))))","v":""},null,{"$f":"IF(C317=\"\",NA(),MATCH($B317&$C317,'Smelter Look-up'!$J:$J,0))","v":{"$error":"#N/A"}},null,0,null,null,null,""]
[{"$nulls":18},{"$f":"IF(ISERROR($W318),\"\",OFFSET('Smelter Look-up'!$C$4,$W318-4,0)&\"\")","v":""},"",{"$f":"IF(B318=\"\",\"\",IF(ISERROR(MATCH($J318,SorP!$B$1:$B$6230,0)),\"\",INDIRECT(\"'SorP'!$A$\"&MATCH($J318,SorP!$B$1:$B$6230,0))))","v":""},null,{"$f":"IF(C318=\"\",NA(),MATCH($B318&$C318,'Smelter Look-up'!$J:$J,0))","v":{"$error":"#N/A"}},null,0,null,null,null,""]
[{"$nulls":18},{"$f":"IF(ISERROR($W319),\"\",OFFSET('Smelter Look-up'!$C$4,$W319-4,0)&\"\")","v":""},"",{"$f":"IF(B319=\"\",\"\",IF(ISERROR(MATCH($J319,SorP!$B$1:$B$6230,0)),\"\",INDIRECT(\"'SorP'!$A$\"&MATCH($J319,SorP!$B$1:$B$6230,0))))","v":""},null,{"$f":"IF(C319=\"\",NA(),MATCH($B319&$C319,'Smelter Look-up'!$J:$J,0))","v":{"$error":"#N/A"}},null,0,null,null,null,""]
[{"$nulls":18},{"$f":"IF(ISERROR($W320),\"\",OFFSET('Smelter Look-up'!$C$4,$W320-4,0)&\"\")","v":""},"",{"$f":"IF(B320=\"\",\"\",IF(ISERROR(MATCH($J320,SorP!$B$1:$B$6230,0)),\"\",INDIRECT(\"'SorP'!$A$\"&MATCH($J320,SorP!$B$1:$B$6230,0))))","v":""},null,{"$f":"IF(C320=\"\",NA(),MATCH($B320&$C320,'Smelter Look-up'!$J:$J,0))","v":{"$error":"#N/A"}},null,0,null,null,null,""]
[{"$nulls":18},{"$f":"IF(ISERROR($W321),\"\",OFFSET('Smelter Look-up'!$C$4,$W321-4,0)&\"\")","v":""},"",{"$f":"IF(B321=\"\",\"\",IF(ISERROR(MATCH($J321,SorP!$B$1:$B$6230,0)),\"\",INDIRECT(\"'SorP'!$A$\"&MATCH($J321,SorP!$B$1:$B$6230,0))))","v":""},null,{"$f":"IF(C321=\"\",NA(),MATCH($B321&$C321,'Smelter Look-up'!$J:$J,0))","v":{"$error":"#N/A"}},null,0,null,null,null,""]
[{"$nulls":18},{"$f":"IF(ISERROR($W322),\"\",OFFSET('Smelter Look-up'!$C$4,$W322-4,0)&\"\")","v":""},"",{"$f":"IF(B322=\"\",\"\",IF(ISERROR(MATCH($J322,SorP!$B$1:$B$6230,0)),\"\",INDIRECT(\"'SorP'!$A$\"&MATCH($J322,SorP!$B$1:$B$6230,0))))","v":""},null,{"$f":"IF(C322=\"\",NA(),MATCH($B322&$C322,'Smelter Look-up'!$J:$J,0))","v":{"$error":"#N/A"}},null,0,null,null,null,""]
[{"$nulls":18},{"$f":"IF(ISERROR($W323),\"\",OFFSET('Smelter Look-up'!$C$4,$W323-4,0)&\"\")","v":""},"",{"$f":"IF(B323=\"\",\"\",IF(ISERROR(MATCH($J323,SorP!$B$1:$B$6230,0)),\"\",INDIRECT(\"'SorP'!$A$\"&MATCH($J323,SorP!$B$1:$B$6230,0))))","v":""},null,{"$f":"IF(C323=\"\",NA(),MATCH($B323&$C323,'Smelter Look-up'!$J:$J,0))","v":{"$error":"#N/A"}},null,0,null,null,null,""]
[{"$nulls":18},{"$f":"IF(ISERROR($W324),\"\",OFFSET('Smelter Look-up'!$C$4,$W324-4,0)&\"\")","v":""},"",{"$f":"IF(B324=\"\",\"\",IF(ISERROR(MATCH($J324,SorP!$B$1:$B$6230,0)),\"\",INDIRECT(\"'SorP'!$A$\"&MATCH($J324,SorP!$B$1:$B$6230,0))))","v":""},null,{"$f":"IF(C324=\"\",NA(),MATCH($B324&$C324,'Smelter Look-up'!$J:$J,0))","v":{"$error":"#N/A"}},null,0,null,null,null,""]
[{"$nulls":18},{"$f":"IF(ISERROR($W325),\"\",OFFSET('Smelter Look-up'!$C$4,$W325-4,0)&\"\")","v":""},{"$f":"IF(B325=\"\",\"\",IF(ISERROR(MATCH($E325,CL,0)),\"Unknown\",INDIRECT(\"'C'!$A$\"&MATCH($E325,CL,0)+1)))","v":""},{"$f":"IF(B325=\"\",\"\",IF(ISERROR(MATCH($J325,SorP!$B$1:$B$6230,0)),\"\",INDIRECT(\"'SorP'!$A$\"&MATCH($J325,SorP!$B$1:$B$6230,0))))","v":""},null,{"$f":"IF(C325=\"\",NA(),MATCH($B325&$C325,'Smelter Look-up'!$J:$J,0))","v":{"$error":"#N/A"}},null,{"$f":"IF(AND(C325=\"Smelter not listed\",OR(LEN(D325)=0,LEN(E325)=0)),1,0)","v":0},null,null,null,{"$f":"B325&C325","v":""}]
[{"$nulls":18},{"$f":"IF(ISERROR($W326),\"\",OFFSET('Smelter Look-up'!$C$4,$W326-4,0)&\"\")","v":""},"",{"$f":"IF(B326=\"\",\"\",IF(ISERROR(MATCH($J326,SorP!$B$1:$B$6230,0)),\"\",INDIRECT(\"'SorP'!$A$\"&MATCH($J326,SorP!$B$1:$B$6230,0))))","v":""},null,{"$f":"IF(C326=\"\",NA(),MATCH($B326&$C326,'Smelter Look-up'!$J:$J,0))","v":{"$error":"#N/A"}},null,0,null,null,null,""]
[{"$nulls":18},{"$f":"IF(ISERROR($W327),\"\",OFFSET('Smelter Look-up'!$C$4,$W327-4,0)&\"\")","v":""},"",{"$f":"IF(B327=\"\",\"\",IF(ISERROR(MATCH($J327,SorP!$B$1:$B$6230,0)),\"\",INDIRECT(\"'SorP'!$A$\"&MATCH($J327,SorP!$B$1:$B$6230,0))))","v":""},null,{"$f":"IF(C327=\"\",NA(),MATCH($B327&$C327,'Smelter Look-up'!$J:$J,0))","v":{"$error":"#N/A"}},null,0,null,null,null,""]
[{"$nulls":18},{"$f":"IF(ISERROR($W328),\"\",OFFSET('Smelter Look-up'!$C$4,$W328-4,0)&\"\")","v":""},"",{"$f":"IF(B328=\"\",\"\",IF(ISERROR(MATCH($J328,SorP!$B$1:$B$6230,0)),\"\",INDIRECT(\"'SorP'!$A$\"&MATCH($J328,SorP!$B$1:$B$6230,0))))","v":""},null,{"$f":"IF(C328=\"\",NA(),MATCH($B328&$C328,'Smelter Look-up'!$J:$J,0))","v":{"$error":"#N/A"}},null,0,null,null,null,""]
[{"$nulls":18},{"$f":"IF(ISERROR($W329),\"\",OFFSET('Smelter Look-up'!$C$4,$W329-4,0)&\"\")","v":""},"",{"$f":"IF(B329=\"\",\"\",IF(ISERROR(MATCH($J329,SorP!$B$1:$B$6230,0)),\"\",INDIRECT(\"'SorP'!$A$\"&MATCH($J329,SorP!$B$1:$B$6230,0))))","v":""},null,{"$f":"IF(C329=\"\",NA(),MATCH($B329&$C329,'Smelter Look-up'!$J:$J,0))","v":{"$error":"#N/A"}},null,0,null,null,null,""]
[{"$nulls":18},{"$f":"IF(ISERROR($W330),\"\",OFFSET('Smelter Look-up'!$C$4,$W330-4,0)&\"\")","v":""},"",{"$f":"IF(B330=\"\",\"\",IF(ISERROR(MATCH($J330,SorP!$B$1:$B$6230,0)),\"\",INDIRECT(\"'SorP'!$A$\"&MATCH($J330,SorP!$B$1:$B$6230,0))))","v":""},null,{"$f":"IF(C330=\"\",NA(),MATCH($B330&$C330,'Smelter Look-up'!$J:$J,0))","v":{"$error":"#N/A"}},null,0,null,null,null,""]
[{"$nulls":18},{"$f":"IF(ISERROR($W331),\"\",OFFSET('Smelter Look-up'!$C$4,$W331-4,0)&\"\")","v":""},"",{"$f":"IF(B331=\"\",\"\",IF(ISERROR(MATCH($J331,SorP!$B$1:$B$6230,0)),\"\",INDIRECT(\"'SorP'!$A$\"&MATCH($J331,SorP!$B$1:$B$6230,0))))","v":""},null,{"$f":"IF(C331=\"\",NA(),MATCH($B331&$C331,'Smelter Look-up'!$J:$J,0))","v":{"$error":"#N/A"}},null,0,null,null,null,""]
[{"$nulls":18},{"$f":"IF(ISERROR($W332),\"\",OFFSET('Smelter Look-up'!$C$4,$W332-4,0)&\"\")","v":""},"",{"$f":"IF(B332=\"\",\"\",IF(ISERROR(MATCH($J332,SorP!$B$1:$B$6230,0)),\"\",INDIRECT(\"'SorP'!$A$\"&MATCH($J332,SorP!$B$1:$B$6230,0))))","v":""},null,{"$f":"IF(C332=\"\",NA(),MATCH($B332&$C332,'Smelter Look-up'!$J:$J,0))","v":{"$error":"#N/A"}},null,0,null,null,null,""]
[{"$nulls":18},{"$f":"IF(ISERROR($W333),\"\",OFFSET('Smelter Look-up'!$C$4,$W333-4,0)&\"\")","v":""},"",{"$f":"IF(B333=\"\",\"\",IF(ISERROR(MATCH($J333,SorP!$B$1:$B$6230,0)),\"\",INDIRECT(\"'SorP'!$A$\"&MATCH($J333,SorP!$B$1:$B$6230,0))))","v":""},null,{"$f":"IF(C333=\"\",NA(),MATCH($B333&$C333,'Smelter Look-up'!$J:$J,0))","v":{"$error":"#N/A"}},null,0,null,null,null,""]
[{"$nulls":18},{"$f":"IF(ISERROR($W334),\"\",OFFSET('Smelter Look-up'!$C$4,$W334-4,0)&\"\")","v":""},"",{"$f":"IF(B334=\"\",\"\",IF(ISERROR(MATCH($J334,SorP!$B$1:$B$6230,0)),\"\",INDIRECT(\"'SorP'!$A$\"&MATCH($J334,SorP!$B$1:$B$6230,0))))","v":""},null,{"$f":"IF(C334=\"\",NA(),MATCH($B334&$C334,'Smelter Look-up'!$J:$J,0))","v":{"$error":"#N/A"}},null,0,null,null,null,""]
[{"$nulls":18},{"$f":"IF(ISERROR($W335),\"\",OFFSET('Smelter Look-up'!$C$4,$W335-4,0)&\"\")","v":""},"",{"$f":"IF(B335=\"\",\"\",IF(ISERROR(MATCH($J335,SorP!$B$1:$B$6230,0)),\"\",INDIRECT(\"'SorP'!$A$\"&MATCH($J335,SorP!$B$1:$B$6230,0))))","v":""},null,{"$f":"IF(C335=\"\",NA(),MATCH($B335&$C335,'Smelter Look-up'!$J:$J,0))","v":{"$error":"#N/A"}},null,0,null,null,null,""]
[{"$nulls":18},{"$f":"IF(ISERROR($W336),\"\",OFFSET('Smelter Look-up'!$C$4,$W336-4,0)&\"\")","v":""},"",{"$f":"IF(B336=\"\",\"\",IF(ISERROR(MATCH($J336,SorP!$B$1:$B$6230,0)),\"\",INDIRECT(\"'SorP'!$A$\"&MATCH($J336,SorP!$B$1:$B$6230,0))))","v":""},null,{"$f":"IF(C336=\"\",NA(),MATCH($B336&$C336,'Smelter Look-up'!$J:$J,0))","v":{"$error":"#N/A"}},null,0,null,null,null,""]
[{"$nulls":18},{"$f":"IF(ISERROR($W337),\"\",OFFSET('Smelter Look-up'!$C$4,$W337-4,0)&\"\")","v":""},"",{"$f":"IF(B337=\"\",\"\",IF(ISERROR(MATCH($J337,SorP!$B$1:$B$6230,0)),\"\",INDIRECT(\"'SorP'!$A$\"&MATCH($J337,SorP!$B$1:$B$6230,0))))","v":""},null,{"$f":"IF(C337=\"\",NA(),MATCH($B337&$C337,'Smelter Look-up'!$J:$J,0))","v":{"$error":"#N/A"}},null,0,null,null,null,""]
[{"$nulls":18},{"$f":"IF(ISERROR($W338),\"\",OFFSET('Smelter Look-up'!$C$4,$W338-4,0)&\"\")","v":""},"",{"$f":"IF(B338=\"\",\"\",IF(ISERROR(MATCH($J338,SorP!$B$1:$B$6230,0)),\"\",INDIRECT(\"'SorP'!$A$\"&MATCH($J338,SorP!$B$1:$B$6230,0))))","v":""},null,{"$f":"IF(C338=\"\",NA(),MATCH($B338&$C338,'Smelter Look-up'!$J:$J,0))","v":{"$error":"#N/A"}},null,0,null,null,null,""]
[{"$nulls":18},{"$f":"IF(ISERROR($W339),\"\",OFFSET('Smelter Look-up'!$C$4,$W339-4,0)&\"\")","v":""},"",{"$f":"IF(B339=\"\",\"\",IF(ISERROR(MATCH($J339,SorP!$B$1:$B$6230,0)),\"\",INDIRECT(\"'SorP'!$A$\"&MATCH($J339,SorP!$B$1:$B$6230,0))))","v":""},null,{"$f":"IF(C339=\"\",NA(),MATCH($B339&$C339,'Smelter Look-up'!$J:$J,0))","v":{"$error":"#N/A"}},null,0,null,null,null,""]
[{"$nulls":18},{"$f":"IF(ISERROR($W340),\"\",OFFSET('Smelter Look-up'!$C$4,$W340-4,0)&\"\")","v":""},"",{"$f":"IF(B340=\"\",\"\",IF(ISERROR(MATCH($J340,SorP!$B$1:$B$6230,0)),\"\",INDIRECT(\"'SorP'!$A$\"&MATCH($J340,SorP!$B$1:$B$6230,0))))","v":""},null,{"$f":"IF(C340=\"\",NA(),MATCH($B340&$C340,'Smelter Look-up'!$J:$J,0))","v":{"$error":"#N/A"}},null,0,null,null,null,""]
[{"$nulls":18},{"$f":"IF(ISERROR($W341),\"\",OFFSET('Smelter Look-up'!$C$4,$W341-4,0)&\"\")","v":""},"",{"$f":"IF(B341=\"\",\"\",IF(ISERROR(MATCH($J341,SorP!$B$1:$B$6230,0)),\"\",INDIRECT(\"'SorP'!$A$\"&MATCH($J341,SorP!$B$1:$B$6230,0))))","v":""},null,{"$f":"IF(C341=\"\",NA(),MATCH($B341&$C341,'Smelter Look-up'!$J:$J,0))","v":{"$error":"#N/A"}},null,0,null,null,null,""]
[{"$nulls":18},{"$f":"IF(ISERROR($W342),\"\",OFFSET('Smelter Look-up'!$C$4,$W342-4,0)&\"\")","v":""},"",{"$f":"IF(B342=\"\",\"\",IF(ISERROR(MATCH($J342,SorP!$B$1:$B$6230,0)),\"\",INDIRECT(\"'SorP'!$A$\"&MATCH($J342,SorP!$B$1:$B$6230,0))))","v":""},null,{"$f":"IF(C342=\"\",NA(),MATCH($B342&$C342,'Smelter Look-up'!$J:$J,0))","v":{"$error":"#N/A"}},null,0,null,null,null,""]
[{"$nulls":18},{"$f":"IF(ISERROR($W343),\"\",OFFSET('Smelter Look-up'!$C$4,$W343-4,0)&\"\")","v":""},"",{"$f":"IF(B343=\"\",\"\",IF(ISERROR(MATCH($J343,SorP!$B$1:$B$6230,0)),\"\",INDIRECT(\"'SorP'!$A$\"&MATCH($J343,SorP!$B$1:$B$6230,0))))","v":""},null,{"$f":"IF(C343=\"\",NA(),MATCH($B343&$C343,'Smelter Look-up'!$J:$J,0))","v":{"$error":"#N/A"}},null,0,null,null,null,""]
[{"$nulls":18},{"$f":"IF(ISERROR($W344),\"\",OFFSET('Smelter Look-up'!$C$4,$W344-4,0)&\"\")","v":""},"",{"$f":"IF(B344=\"\",\"\",IF(ISERROR(MATCH($J344,SorP!$B$1:$B$6230,0)),\"\",INDIRECT(\"'SorP'!$A$\"&MATCH($J344,SorP!$B$1:$B$6230,0))))","v":""},null,{"$f":"IF(C344=\"\",NA(),MATCH($B344&$C344,'Smelter Look-up'!$J:$J,0))","v":{"$error":"#N/A"}},null,0,null,null,null,""]
[{"$nulls":18},{"$f":"IF(ISERROR($W345),\"\",OFFSET('Smelter Look-up'!$C$4,$W345-4,0)&\"\")","v":""},"",{"$f":"IF(B345=\"\",\"\",IF(ISERROR(MATCH($J345,SorP!$B$1:$B$6230,0)),\"\",INDIRECT(\"'SorP'!$A$\"&MATCH($J345,SorP!$B$1:$B$6230,0))))","v":""},null,{"$f":"IF(C345=\"\",NA(),MATCH($B345&$C345,'Smelter Look-up'!$J:$J,0))","v":{"$error":"#N/A"}},null,0,null,null,null,""]
[{"$nulls":18},{"$f":"IF(ISERROR($W346),\"\",OFFSET('Smelter Look-up'!$C$4,$W346-4,0)&\"\")","v":""},"",{"$f":"IF(B346=\"\",\"\",IF(ISERROR(MATCH($J346,SorP!$B$1:$B$6230,0)),\"\",INDIRECT(\"'SorP'!$A$\"&MATCH($J346,SorP!$B$1:$B$6230,0))))","v":""},null,{"$f":"IF(C346=\"\",NA(),MATCH($B346&$C346,'Smelter Look-up'!$J:$J,0))","v":{"$error":"#N/A"}},null,0,null,null,null,""]
[{"$nulls":18},{"$f":"IF(ISERROR($W347),\"\",OFFSET('Smelter Look-up'!$C$4,$W347-4,0)&\"\")","v":""},"",{"$f":"IF(B347=\"\",\"\",IF(ISERROR(MATCH($J347,SorP!$B$1:$B$6230,0)),\"\",INDIRECT(\"'SorP'!$A$\"&MATCH($J347,SorP!$B$1:$B$6230,0))))","v":""},null,{"$f":"IF(C347=\"\",NA(),MATCH($B347&$C347,'Smelter Look-up'!$J:$J,0))","v":{"$error":"#N/A"}},null,0,null,null,null,""]
[{"$nulls":18},{"$f":"IF(ISERROR($W348),\"\",OFFSET('Smelter Look-up'!$C$4,$W348-4,0)&\"\")","v":""},"",{"$f":"IF(B348=\"\",\"\",IF(ISERROR(MATCH($J348,SorP!$B$1:$B$6230,0)),\"\",INDIRECT(\"'SorP'!$A$\"&MATCH($J348,SorP!$B$1:$B$6230,0))))","v":""},null,{"$f":"IF(C348=\"\",NA(),MATCH($B348&$C348,'Smelter Look-up'!$J:$J,0))","v":{"$error":"#N/A"}},null,0,null,null,null,""]
[{"$nulls":18},{"$f":"IF(ISERROR($W349),\"\",OFFSET('Smelter Look-up'!$C$4,$W349-4,0)&\"\")","v":""},"",{"$f":"IF(B349=\"\",\"\",IF(ISERROR(MATCH($J349,SorP!$B$1:$B$6230,0)),\"\",INDIRECT(\"'SorP'!$A$\"&MATCH($J349,SorP!$B$1:$B$6230,0))))","v":""},null,{"$f":"IF(C349=\"\",NA(),MATCH($B349&$C349,'Smelter Look-up'!$J:$J,0))","v":{"$error":"#N/A"}},null,0,null,null,null,""]
[{"$nulls":18},{"$f":"IF(ISERROR($W350),\"\",OFFSET('Smelter Look-up'!$C$4,$W350-4,0)&\"\")","v":""},"",{"$f":"IF(B350=\"\",\"\",IF(ISERROR(MATCH($J350,SorP!$B$1:$B$6230,0)),\"\",INDIRECT(\"'SorP'!$A$\"&MATCH($J350,SorP!$B$1:$B$6230,0))))","v":""},null,{"$f":"IF(C350=\"\",NA(),MATCH($B350&$C350,'Smelter Look-up'!$J:$J,0))","v":{"$error":"#N/A"}},null,0,null,null,null,""]
[{"$nulls":18},{"$f":"IF(ISERROR($W351),\"\",OFFSET('Smelter Look-up'!$C$4,$W351-4,0)&\"\")","v":""},"",{"$f":"IF(B351=\"\",\"\",IF(ISERROR(MATCH($J351,SorP!$B$1:$B$6230,0)),\"\",INDIRECT(\"'SorP'!$A$\"&MATCH($J351,SorP!$B$1:$B$6230,0))))","v":""},null,{"$f":"IF(C351=\"\",NA(),MATCH($B351&$C351,'Smelter Look-up'!$J:$J,0))","v":{"$error":"#N/A"}},null,0,null,null,null,""]
[{"$nulls":18},{"$f":"IF(ISERROR($W352),\"\",OFFSET('Smelter Look-up'!$C$4,$W352-4,0)&\"\")","v":""},"",{"$f":"IF(B352=\"\",\"\",IF(ISERROR(MATCH($J352,SorP!$B$1:$B$6230,0)),\"\",INDIRECT(\"'SorP'!$A$\"&MATCH($J352,SorP!$B$1:$B$6230,0))))","v":""},null,{"$f":"IF(C352=\"\",NA(),MATCH($B352&$C352,'Smelter Look-up'!$J:$J,0))","v":{"$error":"#N/A"}},null,0,null,null,null,""]
[{"$nulls":18},{"$f":"IF(ISERROR($W353),\"\",OFFSET('Smelter Look-up'!$C$4,$W353-4,0)&\"\")","v":""},"",{"$f":"IF(B353=\"\",\"\",IF(ISERROR(MATCH($J353,SorP!$B$1:$B$6230,0)),\"\",INDIRECT(\"'SorP'!$A$\"&MATCH($J353,SorP!$B$1:$B$6230,0))))","v":""},null,{"$f":"IF(C353=\"\",NA(),MATCH($B353&$C353,'Smelter Look-up'!$J:$J,0))","v":{"$error":"#N/A"}},null,0,null,null,null,""]
[{"$nulls":18},{"$f":"IF(ISERROR($W354),\"\",OFFSET('Smelter Look-up'!$C$4,$W354-4,0)&\"\")","v":""},"",{"$f":"IF(B354=\"\",\"\",IF(ISERROR(MATCH($J354,SorP!$B$1:$B$6230,0)),\"\",INDIRECT(\"'SorP'!$A$\"&MATCH($J354,SorP!$B$1:$B$6230,0))))","v":""},null,{"$f":"IF(C354=\"\",NA(),MATCH($B354&$C354,'Smelter Look-up'!$J:$J,0))","v":{"$error":"#N/A"}},null,0,null,null,null,""]
[{"$nulls":18},{"$f":"IF(ISERROR($W355),\"\",OFFSET('Smelter Look-up'!$C$4,$W355-4,0)&\"\")","v":""},"",{"$f":"IF(B355=\"\",\"\",IF(ISERROR(MATCH($J355,SorP!$B$1:$B$6230,0)),\"\",INDIRECT(\"'SorP'!$A$\"&MATCH($J355,SorP!$B$1:$B$6230,0))))","v":""},null,{"$f":"IF(C355=\"\",NA(),MATCH($B355&$C355,'Smelter Look-up'!$J:$J,0))","v":{"$error":"#N/A"}},null,0,null,null,null,""]
[{"$nulls":18},{"$f":"IF(ISERROR($W356),\"\",OFFSET('Smelter Look-up'!$C$4,$W356-4,0)&\"\")","v":""},"",{"$f":"IF(B356=\"\",\"\",IF(ISERROR(MATCH($J356,SorP!$B$1:$B$6230,0)),\"\",INDIRECT(\"'SorP'!$A$\"&MATCH($J356,SorP!$B$1:$B$6230,0))))","v":""},null,{"$f":"IF(C356=\"\",NA(),MATCH($B356&$C356,'Smelter Look-up'!$J:$J,0))","v":{"$error":"#N/A"}},null,0,null,null,null,""]
[{"$nulls":18},{"$f":"IF(ISERROR($W357),\"\",OFFSET('Smelter Look-up'!$C$4,$W357-4,0)&\"\")","v":""},"",{"$f":"IF(B357=\"\",\"\",IF(ISERROR(MATCH($J357,SorP!$B$1:$B$6230,0)),\"\",INDIRECT(\"'SorP'!$A$\"&MATCH($J357,SorP!$B$1:$B$6230,0))))","v":""},null,{"$f":"IF(C357=\"\",NA(),MATCH($B357&$C357,'Smelter Look-up'!$J:$J,0))","v":{"$error":"#N/A"}},null,0,null,null,null,""]
[{"$nulls":18},{"$f":"IF(ISERROR($W358),\"\",OFFSET('Smelter Look-up'!$C$4,$W358-4,0)&\"\")","v":""},"",{"$f":"IF(B358=\"\",\"\",IF(ISERROR(MATCH($J358,SorP!$B$1:$B$6230,0)),\"\",INDIRECT(\"'SorP'!$A$\"&MATCH($J358,SorP!$B$1:$B$6230,0))))","v":""},null,{"$f":"IF(C358=\"\",NA(),MATCH($B358&$C358,'Smelter Look-up'!$J:$J,0))","v":{"$error":"#N/A"}},null,0,null,null,null,""]
[{"$nulls":18},{"$f":"IF(ISERROR($W359),\"\",OFFSET('Smelter Look-up'!$C$4,$W359-4,0)&\"\")","v":""},"",{"$f":"IF(B359=\"\",\"\",IF(ISERROR(MATCH($J359,SorP!$B$1:$B$6230,0)),\"\",INDIRECT(\"'SorP'!$A$\"&MATCH($J359,SorP!$B$1:$B$6230,0))))","v":""},null,{"$f":"IF(C359=\"\",NA(),MATCH($B359&$C359,'Smelter Look-up'!$J:$J,0))","v":{"$error":"#N/A"}},null,0,null,null,null,""]
[{"$nulls":18},{"$f":"IF(ISERROR($W360),\"\",OFFSET('Smelter Look-up'!$C$4,$W360-4,0)&\"\")","v":""},"",{"$f":"IF(B360=\"\",\"\",IF(ISERROR(MATCH($J360,SorP!$B$1:$B$6230,0)),\"\",INDIRECT(\"'SorP'!$A$\"&MATCH($J360,SorP!$B$1:$B$6230,0))))","v":""},null,{"$f":"IF(C360=\"\",NA(),MATCH($B360&$C360,'Smelter Look-up'!$J:$J,0))","v":{"$error":"#N/A"}},null,0,null,null,null,""]
[{"$nulls":18},{"$f":"IF(ISERROR($W361),\"\",OFFSET('Smelter Look-up'!$C$4,$W361-4,0)&\"\")","v":""},"",{"$f":"IF(B361=\"\",\"\",IF(ISERROR(MATCH($J361,SorP!$B$1:$B$6230,0)),\"\",INDIRECT(\"'SorP'!$A$\"&MATCH($J361,SorP!$B$1:$B$6230,0))))","v":""},null,{"$f":"IF(C361=\"\",NA(),MATCH($B361&$C361,'Smelter Look-up'!$J:$J,0))","v":{"$error":"#N/A"}},null,0,null,null,null,""]
[{"$nulls":18},{"$f":"IF(ISERROR($W362),\"\",OFFSET('Smelter Look-up'!$C$4,$W362-4,0)&\"\")","v":""},"",{"$f":"IF(B362=\"\",\"\",IF(ISERROR(MATCH($J362,SorP!$B$1:$B$6230,0)),\"\",INDIRECT(\"'SorP'!$A$\"&MATCH($J362,SorP!$B$1:$B$6230,0))))","v":""},null,{"$f":"IF(C362=\"\",NA(),MATCH($B362&$C362,'Smelter Look-up'!$J:$J,0))","v":{"$error":"#N/A"}},null,0,null,null,null,""]
[{"$nulls":18},{"$f":"IF(ISERROR($W363),\"\",OFFSET('Smelter Look-up'!$C$4,$W363-4,0)&\"\")","v":""},"",{"$f":"IF(B363=\"\",\"\",IF(ISERROR(MATCH($J363,SorP!$B$1:$B$6230,0)),\"\",INDIRECT(\"'SorP'!$A$\"&MATCH($J363,SorP!$B$1:$B$6230,0))))","v":""},null,{"$f":"IF(C363=\"\",NA(),MATCH($B363&$C363,'Smelter Look-up'!$J:$J,0))","v":{"$error":"#N/A"}},null,0,null,null,null,""]
[{"$nulls":18},{"$f":"IF(ISERROR($W364),\"\",OFFSET('Smelter Look-up'!$C$4,$W364-4,0)&\"\")","v":""},"",{"$f":"IF(B364=\"\",\"\",IF(ISERROR(MATCH($J364,SorP!$B$1:$B$6230,0)),\"\",INDIRECT(\"'SorP'!$A$\"&MATCH($J364,SorP!$B$1:$B$6230,0))))","v":""},null,{"$f":"IF(C364=\"\",NA(),MATCH($B364&$C364,'Smelter Look-up'!$J:$J,0))","v":{"$error":"#N/A"}},null,0,null,null,null,""]
[{"$nulls":18},{"$f":"IF(ISERROR($W365),\"\",OFFSET('Smelter Look-up'!$C$4,$W365-4,0)&\"\")","v":""},"",{"$f":"IF(B365=\"\",\"\",IF(ISERROR(MATCH($J365,SorP!$B$1:$B$6230,0)),\"\",INDIRECT(\"'SorP'!$A$\"&MATCH($J365,SorP!$B$1:$B$6230,0))))","v":""},null,{"$f":"IF(C365=\"\",NA(),MATCH($B365&$C365,'Smelter Look-up'!$J:$J,0))","v":{"$error":"#N/A"}},null,0,null,null,null,""]
[{"$nulls":18},{"$f":"IF(ISERROR($W366),\"\",OFFSET('Smelter Look-up'!$C$4,$W366-4,0)&\"\")","v":""},"",{"$f":"IF(B366=\"\",\"\",IF(ISERROR(MATCH($J366,SorP!$B$1:$B$6230,0)),\"\",INDIRECT(\"'SorP'!$A$\"&MATCH($J366,SorP!$B$1:$B$6230,0))))","v":""},null,{"$f":"IF(C366=\"\",NA(),MATCH($B366&$C366,'Smelter Look-up'!$J:$J,0))","v":{"$error":"#N/A"}},null,0,null,null,null,""]
[{"$nulls":18},{"$f":"IF(ISERROR($W367),\"\",OFFSET('Smelter Look-up'!$C$4,$W367-4,0)&\"\")","v":""},"",{"$f":"IF(B367=\"\",\"\",IF(ISERROR(MATCH($J367,SorP!$B$1:$B$6230,0)),\"\",INDIRECT(\"'SorP'!$A$\"&MATCH($J367,SorP!$B$1:$B$6230,0))))","v":""},null,{"$f":"IF(C367=\"\",NA(),MATCH($B367&$C367,'Smelter Look-up'!$J:$J,0))","v":{"$error":"#N/A"}},null,0,null,null,null,""]
[{"$nulls":18},{"$f":"IF(ISERROR($W368),\"\",OFFSET('Smelter Look-up'!$C$4,$W368-4,0)&\"\")","v":""},"",{"$f":"IF(B368=\"\",\"\",IF(ISERROR(MATCH($J368,SorP!$B$1:$B$6230,0)),\"\",INDIRECT(\"'SorP'!$A$\"&MATCH($J368,SorP!$B$1:$B$6230,0))))","v":""},null,{"$f":"IF(C368=\"\",NA(),MATCH($B368&$C368,'Smelter Look-up'!$J:$J,0))","v":{"$error":"#N/A"}},null,0,null,null,null,""]
[{"$nulls":18},{"$f":"IF(ISERROR($W369),\"\",OFFSET('Smelter Look-up'!$C$4,$W369-4,0)&\"\")","v":""},"",{"$f":"IF(B369=\"\",\"\",IF(ISERROR(MATCH($J369,SorP!$B$1:$B$6230,0)),\"\",INDIRECT(\"'SorP'!$A$\"&MATCH($J369,SorP!$B$1:$B$6230,0))))","v":""},null,{"$f":"IF(C369=\"\",NA(),MATCH($B369&$C369,'Smelter Look-up'!$J:$J,0))","v":{"$error":"#N/A"}},null,0,null,null,null,""]
[{"$nulls":18},{"$f":"IF(ISERROR($W370),\"\",OFFSET('Smelter Look-up'!$C$4,$W370-4,0)&\"\")","v":""},"",{"$f":"IF(B370=\"\",\"\",IF(ISERROR(MATCH($J370,SorP!$B$1:$B$6230,0)),\"\",INDIRECT(\"'SorP'!$A$\"&MATCH($J370,SorP!$B$1:$B$6230,0))))","v":""},null,{"$f":"IF(C370=\"\",NA(),MATCH($B370&$C370,'Smelter Look-up'!$J:$J,0))","v":{"$error":"#N/A"}},null,0,null,null,null,""]
[{"$nulls":18},{"$f":"IF(ISERROR($W371),\"\",OFFSET('Smelter Look-up'!$C$4,$W371-4,0)&\"\")","v":""},"",{"$f":"IF(B371=\"\",\"\",IF(ISERROR(MATCH($J371,SorP!$B$1:$B$6230,0)),\"\",INDIRECT(\"'SorP'!$A$\"&MATCH($J371,SorP!$B$1:$B$6230,0))))","v":""},null,{"$f":"IF(C371=\"\",NA(),MATCH($B371&$C371,'Smelter Look-up'!$J:$J,0))","v":{"$error":"#N/A"}},null,0,null,null,null,""]
[{"$nulls":18},{"$f":"IF(ISERROR($W372),\"\",OFFSET('Smelter Look-up'!$C$4,$W372-4,0)&\"\")","v":""},"",{"$f":"IF(B372=\"\",\"\",IF(ISERROR(MATCH($J372,SorP!$B$1:$B$6230,0)),\"\",INDIRECT(\"'SorP'!$A$\"&MATCH($J372,SorP!$B$1:$B$6230,0))))","v":""},null,{"$f":"IF(C372=\"\",NA(),MATCH($B372&$C372,'Smelter Look-up'!$J:$J,0))","v":{"$error":"#N/A"}},null,0,null,null,null,""]
[{"$nulls":18},{"$f":"IF(ISERROR($W373),\"\",OFFSET('Smelter Look-up'!$C$4,$W373-4,0)&\"\")","v":""},"",{"$f":"IF(B373=\"\",\"\",IF(ISERROR(MATCH($J373,SorP!$B$1:$B$6230,0)),\"\",INDIRECT(\"'SorP'!$A$\"&MATCH($J373,SorP!$B$1:$B$6230,0))))","v":""},null,{"$f":"IF(C373=\"\",NA(),MATCH($B373&$C373,'Smelter Look-up'!$J:$J,0))","v":{"$error":"#N/A"}},null,0,null,null,null,""]
[{"$nulls":18},{"$f":"IF(ISERROR($W374),\"\",OFFSET('Smelter Look-up'!$C$4,$W374-4,0)&\"\")","v":""},"",{"$f":"IF(B374=\"\",\"\",IF(ISERROR(MATCH($J374,SorP!$B$1:$B$6230,0)),\"\",INDIRECT(\"'SorP'!$A$\"&MATCH($J374,SorP!$B$1:$B$6230,0))))","v":""},null,{"$f":"IF(C374=\"\",NA(),MATCH($B374&$C374,'Smelter Look-up'!$J:$J,0))","v":{"$error":"#N/A"}},null,0,null,null,null,""]
[{"$nulls":18},{"$f":"IF(ISERROR($W375),\"\",OFFSET('Smelter Look-up'!$C$4,$W375-4,0)&\"\")","v":""},"",{"$f":"IF(B375=\"\",\"\",IF(ISERROR(MATCH($J375,SorP!$B$1:$B$6230,0)),\"\",INDIRECT(\"'SorP'!$A$\"&MATCH($J375,SorP!$B$1:$B$6230,0))))","v":""},null,{"$f":"IF(C375=\"\",NA(),MATCH($B375&$C375,'Smelter Look-up'!$J:$J,0))","v":{"$error":"#N/A"}},null,0,null,null,null,""]
[{"$nulls":18},{"$f":"IF(ISERROR($W376),\"\",OFFSET('Smelter Look-up'!$C$4,$W376-4,0)&\"\")","v":""},"",{"$f":"IF(B376=\"\",\"\",IF(ISERROR(MATCH($J376,SorP!$B$1:$B$6230,0)),\"\",INDIRECT(\"'SorP'!$A$\"&MATCH($J376,SorP!$B$1:$B$6230,0))))","v":""},null,{"$f":"IF(C376=\"\",NA(),MATCH($B376&$C376,'Smelter Look-up'!$J:$J,0))","v":{"$error":"#N/A"}},null,0,null,null,null,""]
[{"$nulls":18},{"$f":"IF(ISERROR($W377),\"\",OFFSET('Smelter Look-up'!$C$4,$W377-4,0)&\"\")","v":""},"",{"$f":"IF(B377=\"\",\"\",IF(ISERROR(MATCH($J377,SorP!$B$1:$B$6230,0)),\"\",INDIRECT(\"'SorP'!$A$\"&MATCH($J377,SorP!$B$1:$B$6230,0))))","v":""},null,{"$f":"IF(C377=\"\",NA(),MATCH($B377&$C377,'Smelter Look-up'!$J:$J,0))","v":{"$error":"#N/A"}},null,0,null,null,null,""]
[{"$nulls":18},{"$f":"IF(ISERROR($W378),\"\",OFFSET('Smelter Look-up'!$C$4,$W378-4,0)&\"\")","v":""},"",{"$f":"IF(B378=\"\",\"\",IF(ISERROR(MATCH($J378,SorP!$B$1:$B$6230,0)),\"\",INDIRECT(\"'SorP'!$A$\"&MATCH($J378,SorP!$B$1:$B$6230,0))))","v":""},null,{"$f":"IF(C378=\"\",NA(),MATCH($B378&$C378,'Smelter Look-up'!$J:$J,0))","v":{"$error":"#N/A"}},null,0,null,null,null,""]
[{"$nulls":18},{"$f":"IF(ISERROR($W379),\"\",OFFSET('Smelter Look-up'!$C$4,$W379-4,0)&\"\")","v":""},"",{"$f":"IF(B379=\"\",\"\",IF(ISERROR(MATCH($J379,SorP!$B$1:$B$6230,0)),\"\",INDIRECT(\"'SorP'!$A$\"&MATCH($J379,SorP!$B$1:$B$6230,0))))","v":""},null,{"$f":"IF(C379=\"\",NA(),MATCH($B379&$C379,'Smelter Look-up'!$J:$J,0))","v":{"$error":"#N/A"}},null,0,null,null,null,""]
[{"$nulls":18},{"$f":"IF(ISERROR($W380),\"\",OFFSET('Smelter Look-up'!$C$4,$W380-4,0)&\"\")","v":""},"",{"$f":"IF(B380=\"\",\"\",IF(ISERROR(MATCH($J380,SorP!$B$1:$B$6230,0)),\"\",INDIRECT(\"'SorP'!$A$\"&MATCH($J380,SorP!$B$1:$B$6230,0))))","v":""},null,{"$f":"IF(C380=\"\",NA(),MATCH($B380&$C380,'Smelter Look-up'!$J:$J,0))","v":{"$error":"#N/A"}},null,0,null,null,null,""]
[{"$nulls":18},{"$f":"IF(ISERROR($W381),\"\",OFFSET('Smelter Look-up'!$C$4,$W381-4,0)&\"\")","v":""},"",{"$f":"IF(B381=\"\",\"\",IF(ISERROR(MATCH($J381,SorP!$B$1:$B$6230,0)),\"\",INDIRECT(\"'SorP'!$A$\"&MATCH($J381,SorP!$B$1:$B$6230,0))))","v":""},null,{"$f":"IF(C381=\"\",NA(),MATCH($B381&$C381,'Smelter Look-up'!$J:$J,0))","v":{"$error":"#N/A"}},null,0,null,null,null,""]
[{"$nulls":18},{"$f":"IF(ISERROR($W382),\"\",OFFSET('Smelter Look-up'!$C$4,$W382-4,0)&\"\")","v":""},"",{"$f":"IF(B382=\"\",\"\",IF(ISERROR(MATCH($J382,SorP!$B$1:$B$6230,0)),\"\",INDIRECT(\"'SorP'!$A$\"&MATCH($J382,SorP!$B$1:$B$6230,0))))","v":""},null,{"$f":"IF(C382=\"\",NA(),MATCH($B382&$C382,'Smelter Look-up'!$J:$J,0))","v":{"$error":"#N/A"}},null,0,null,null,null,""]
[{"$nulls":18},{"$f":"IF(ISERROR($W383),\"\",OFFSET('Smelter Look-up'!$C$4,$W383-4,0)&\"\")","v":""},"",{"$f":"IF(B383=\"\",\"\",IF(ISERROR(MATCH($J383,SorP!$B$1:$B$6230,0)),\"\",INDIRECT(\"'SorP'!$A$\"&MATCH($J383,SorP!$B$1:$B$6230,0))))","v":""},null,{"$f":"IF(C383=\"\",NA(),MATCH($B383&$C383,'Smelter Look-up'!$J:$J,0))","v":{"$error":"#N/A"}},null,0,null,null,null,""]
[{"$nulls":18},{"$f":"IF(ISERROR($W384),\"\",OFFSET('Smelter Look-up'!$C$4,$W384-4,0)&\"\")","v":""},"",{"$f":"IF(B384=\"\",\"\",IF(ISERROR(MATCH($J384,SorP!$B$1:$B$6230,0)),\"\",INDIRECT(\"'SorP'!$A$\"&MATCH($J384,SorP!$B$1:$B$6230,0))))","v":""},null,{"$f":"IF(C384=\"\",NA(),MATCH($B384&$C384,'Smelter Look-up'!$J:$J,0))","v":{"$error":"#N/A"}},null,0,null,null,null,""]
[{"$nulls":18},{"$f":"IF(ISERROR($W385),\"\",OFFSET('Smelter Look-up'!$C$4,$W385-4,0)&\"\")","v":""},"",{"$f":"IF(B385=\"\",\"\",IF(ISERROR(MATCH($J385,SorP!$B$1:$B$6230,0)),\"\",INDIRECT(\"'SorP'!$A$\"&MATCH($J385,SorP!$B$1:$B$6230,0))))","v":""},null,{"$f":"IF(C385=\"\",NA(),MATCH($B385&$C385,'Smelter Look-up'!$J:$J,0))","v":{"$error":"#N/A"}},null,0,null,null,null,""]
[{"$nulls":18},{"$f":"IF(ISERROR($W386),\"\",OFFSET('Smelter Look-up'!$C$4,$W386-4,0)&\"\")","v":""},"",{"$f":"IF(B386=\"\",\"\",IF(ISERROR(MATCH($J386,SorP!$B$1:$B$6230,0)),\"\",INDIRECT(\"'SorP'!$A$\"&MATCH($J386,SorP!$B$1:$B$6230,0))))","v":""},null,{"$f":"IF(C386=\"\",NA(),MATCH($B386&$C386,'Smelter Look-up'!$J:$J,0))","v":{"$error":"#N/A"}},null,0,null,null,null,""]
[{"$nulls":18},{"$f":"IF(ISERROR($W387),\"\",OFFSET('Smelter Look-up'!$C$4,$W387-4,0)&\"\")","v":""},"",{"$f":"IF(B387=\"\",\"\",IF(ISERROR(MATCH($J387,SorP!$B$1:$B$6230,0)),\"\",INDIRECT(\"'SorP'!$A$\"&MATCH($J387,SorP!$B$1:$B$6230,0))))","v":""},null,{"$f":"IF(C387=\"\",NA(),MATCH($B387&$C387,'Smelter Look-up'!$J:$J,0))","v":{"$error":"#N/A"}},null,0,null,null,null,""]
[{"$nulls":18},{"$f":"IF(ISERROR($W388),\"\",OFFSET('Smelter Look-up'!$C$4,$W388-4,0)&\"\")","v":""},"",{"$f":"IF(B388=\"\",\"\",IF(ISERROR(MATCH($J388,SorP!$B$1:$B$6230,0)),\"\",INDIRECT(\"'SorP'!$A$\"&MATCH($J388,SorP!$B$1:$B$6230,0))))","v":""},null,{"$f":"IF(C388=\"\",NA(),MATCH($B388&$C388,'Smelter Look-up'!$J:$J,0))","v":{"$error":"#N/A"}},null,0,null,null,null,""]
[{"$nulls":18},{"$f":"IF(ISERROR($W389),\"\",OFFSET('Smelter Look-up'!$C$4,$W389-4,0)&\"\")","v":""},{"$f":"IF(B389=\"\",\"\",IF(ISERROR(MATCH($E389,CL,0)),\"Unknown\",INDIRECT(\"'C'!$A$\"&MATCH($E389,CL,0)+1)))","v":""},{"$f":"IF(B389=\"\",\"\",IF(ISERROR(MATCH($J389,SorP!$B$1:$B$6230,0)),\"\",INDIRECT(\"'SorP'!$A$\"&MATCH($J389,SorP!$B$1:$B$6230,0))))","v":""},null,{"$f":"IF(C389=\"\",NA(),MATCH($B389&$C389,'Smelter Look-up'!$J:$J,0))","v":{"$error":"#N/A"}},null,{"$f":"IF(AND(C389=\"Smelter not listed\",OR(LEN(D389)=0,LEN(E389)=0)),1,0)","v":0},null,null,null,{"$f":"B389&C389","v":""}]
[{"$nulls":18},{"$f":"IF(ISERROR($W390),\"\",OFFSET('Smelter Look-up'!$C$4,$W390-4,0)&\"\")","v":""},"",{"$f":"IF(B390=\"\",\"\",IF(ISERROR(MATCH($J390,SorP!$B$1:$B$6230,0)),\"\",INDIRECT(\"'SorP'!$A$\"&MATCH($J390,SorP!$B$1:$B$6230,0))))","v":""},null,{"$f":"IF(C390=\"\",NA(),MATCH($B390&$C390,'Smelter Look-up'!$J:$J,0))","v":{"$error":"#N/A"}},null,0,null,null,null,""]
[{"$nulls":18},{"$f":"IF(ISERROR($W391),\"\",OFFSET('Smelter Look-up'!$C$4,$W391-4,0)&\"\")","v":""},"",{"$f":"IF(B391=\"\",\"\",IF(ISERROR(MATCH($J391,SorP!$B$1:$B$6230,0)),\"\",INDIRECT(\"'SorP'!$A$\"&MATCH($J391,SorP!$B$1:$B$6230,0))))","v":""},null,{"$f":"IF(C391=\"\",NA(),MATCH($B391&$C391,'Smelter Look-up'!$J:$J,0))","v":{"$error":"#N/A"}},null,0,null,null,null,""]
[{"$nulls":18},{"$f":"IF(ISERROR($W392),\"\",OFFSET('Smelter Look-up'!$C$4,$W392-4,0)&\"\")","v":""},"",{"$f":"IF(B392=\"\",\"\",IF(ISERROR(MATCH($J392,SorP!$B$1:$B$6230,0)),\"\",INDIRECT(\"'SorP'!$A$\"&MATCH($J392,SorP!$B$1:$B$6230,0))))","v":""},null,{"$f":"IF(C392=\"\",NA(),MATCH($B392&$C392,'Smelter Look-up'!$J:$J,0))","v":{"$error":"#N/A"}},null,0,null,null,null,""]
[{"$nulls":18},{"$f":"IF(ISERROR($W393),\"\",OFFSET('Smelter Look-up'!$C$4,$W393-4,0)&\"\")","v":""},"",{"$f":"IF(B393=\"\",\"\",IF(ISERROR(MATCH($J393,SorP!$B$1:$B$6230,0)),\"\",INDIRECT(\"'SorP'!$A$\"&MATCH($J393,SorP!$B$1:$B$6230,0))))","v":""},null,{"$f":"IF(C393=\"\",NA(),MATCH($B393&$C393,'Smelter Look-up'!$J:$J,0))","v":{"$error":"#N/A"}},null,0,null,null,null,""]
[{"$nulls":18},{"$f":"IF(ISERROR($W394),\"\",OFFSET('Smelter Look-up'!$C$4,$W394-4,0)&\"\")","v":""},"",{"$f":"IF(B394=\"\",\"\",IF(ISERROR(MATCH($J394,SorP!$B$1:$B$6230,0)),\"\",INDIRECT(\"'SorP'!$A$\"&MATCH($J394,SorP!$B$1:$B$6230,0))))","v":""},null,{"$f":"IF(C394=\"\",NA(),MATCH($B394&$C394,'Smelter Look-up'!$J:$J,0))","v":{"$error":"#N/A"}},null,0,null,null,null,""]
[{"$nulls":18},{"$f":"IF(ISERROR($W395),\"\",OFFSET('Smelter Look-up'!$C$4,$W395-4,0)&\"\")","v":""},"",{"$f":"IF(B395=\"\",\"\",IF(ISERROR(MATCH($J395,SorP!$B$1:$B$6230,0)),\"\",INDIRECT(\"'SorP'!$A$\"&MATCH($J395,SorP!$B$1:$B$6230,0))))","v":""},null,{"$f":"IF(C395=\"\",NA(),MATCH($B395&$C395,'Smelter Look-up'!$J:$J,0))","v":{"$error":"#N/A"}},null,0,null,null,null,""]
[{"$nulls":18},{"$f":"IF(ISERROR($W396),\"\",OFFSET('Smelter Look-up'!$C$4,$W396-4,0)&\"\")","v":""},"",{"$f":"IF(B396=\"\",\"\",IF(ISERROR(MATCH($J396,SorP!$B$1:$B$6230,0)),\"\",INDIRECT(\"'SorP'!$A$\"&MATCH($J396,SorP!$B$1:$B$6230,0))))","v":""},null,{"$f":"IF(C396=\"\",NA(),MATCH($B396&$C396,'Smelter Look-up'!$J:$J,0))","v":{"$error":"#N/A"}},null,0,null,null,null,""]
[{"$nulls":18},{"$f":"IF(ISERROR($W397),\"\",OFFSET('Smelter Look-up'!$C$4,$W397-4,0)&\"\")","v":""},"",{"$f":"IF(B397=\"\",\"\",IF(ISERROR(MATCH($J397,SorP!$B$1:$B$6230,0)),\"\",INDIRECT(\"'SorP'!$A$\"&MATCH($J397,SorP!$B$1:$B$6230,0))))","v":""},null,{"$f":"IF(C397=\"\",NA(),MATCH($B397&$C397,'Smelter Look-up'!$J:$J,0))","v":{"$error":"#N/A"}},null,0,null,null,null,""]
[{"$nulls":18},{"$f":"IF(ISERROR($W398),\"\",OFFSET('Smelter Look-up'!$C$4,$W398-4,0)&\"\")","v":""},"",{"$f":"IF(B398=\"\",\"\",IF(ISERROR(MATCH($J398,SorP!$B$1:$B$6230,0)),\"\",INDIRECT(\"'SorP'!$A$\"&MATCH($J398,SorP!$B$1:$B$6230,0))))","v":""},null,{"$f":"IF(C398=\"\",NA(),MATCH($B398&$C398,'Smelter Look-up'!$J:$J,0))","v":{"$error":"#N/A"}},null,0,null,null,null,""]
[{"$nulls":18},{"$f":"IF(ISERROR($W399),\"\",OFFSET('Smelter Look-up'!$C$4,$W399-4,0)&\"\")","v":""},"",{"$f":"IF(B399=\"\",\"\",IF(ISERROR(MATCH($J399,SorP!$B$1:$B$6230,0)),\"\",INDIRECT(\"'SorP'!$A$\"&MATCH($J399,SorP!$B$1:$B$6230,0))))","v":""},null,{"$f":"IF(C399=\"\",NA(),MATCH($B399&$C399,'Smelter Look-up'!$J:$J,0))","v":{"$error":"#N/A"}},null,0,null,null,null,""]
[{"$nulls":18},{"$f":"IF(ISERROR($W400),\"\",OFFSET('Smelter Look-up'!$C$4,$W400-4,0)&\"\")","v":""},"",{"$f":"IF(B400=\"\",\"\",IF(ISERROR(MATCH($J400,SorP!$B$1:$B$6230,0)),\"\",INDIRECT(\"'SorP'!$A$\"&MATCH($J400,SorP!$B$1:$B$6230,0))))","v":""},null,{"$f":"IF(C400=\"\",NA(),MATCH($B400&$C400,'Smelter Look-up'!$J:$J,0))","v":{"$error":"#N/A"}},null,0,null,null,null,""]
[{"$nulls":18},{"$f":"IF(ISERROR($W401),\"\",OFFSET('Smelter Look-up'!$C$4,$W401-4,0)&\"\")","v":""},"",{"$f":"IF(B401=\"\",\"\",IF(ISERROR(MATCH($J401,SorP!$B$1:$B$6230,0)),\"\",INDIRECT(\"'SorP'!$A$\"&MATCH($J401,SorP!$B$1:$B$6230,0))))","v":""},null,{"$f":"IF(C401=\"\",NA(),MATCH($B401&$C401,'Smelter Look-up'!$J:$J,0))","v":{"$error":"#N/A"}},null,0,null,null,null,""]
[{"$nulls":18},{"$f":"IF(ISERROR($W402),\"\",OFFSET('Smelter Look-up'!$C$4,$W402-4,0)&\"\")","v":""},"",{"$f":"IF(B402=\"\",\"\",IF(ISERROR(MATCH($J402,SorP!$B$1:$B$6230,0)),\"\",INDIRECT(\"'SorP'!$A$\"&MATCH($J402,SorP!$B$1:$B$6230,0))))","v":""},null,{"$f":"IF(C402=\"\",NA(),MATCH($B402&$C402,'Smelter Look-up'!$J:$J,0))","v":{"$error":"#N/A"}},null,0,null,null,null,""]
[{"$nulls":18},{"$f":"IF(ISERROR($W403),\"\",OFFSET('Smelter Look-up'!$C$4,$W403-4,0)&\"\")","v":""},"",{"$f":"IF(B403=\"\",\"\",IF(ISERROR(MATCH($J403,SorP!$B$1:$B$6230,0)),\"\",INDIRECT(\"'SorP'!$A$\"&MATCH($J403,SorP!$B$1:$B$6230,0))))","v":""},null,{"$f":"IF(C403=\"\",NA(),MATCH($B403&$C403,'Smelter Look-up'!$J:$J,0))","v":{"$error":"#N/A"}},null,0,null,null,null,""]
[{"$nulls":18},{"$f":"IF(ISERROR($W404),\"\",OFFSET('Smelter Look-up'!$C$4,$W404-4,0)&\"\")","v":""},"",{"$f":"IF(B404=\"\",\"\",IF(ISERROR(MATCH($J404,SorP!$B$1:$B$6230,0)),\"\",INDIRECT(\"'SorP'!$A$\"&MATCH($J404,SorP!$B$1:$B$6230,0))))","v":""},null,{"$f":"IF(C404=\"\",NA(),MATCH($B404&$C404,'Smelter Look-up'!$J:$J,0))","v":{"$error":"#N/A"}},null,0,null,null,null,""]
[{"$nulls":18},{"$f":"IF(ISERROR($W405),\"\",OFFSET('Smelter Look-up'!$C$4,$W405-4,0)&\"\")","v":""},"",{"$f":"IF(B405=\"\",\"\",IF(ISERROR(MATCH($J405,SorP!$B$1:$B$6230,0)),\"\",INDIRECT(\"'SorP'!$A$\"&MATCH($J405,SorP!$B$1:$B$6230,0))))","v":""},null,{"$f":"IF(C405=\"\",NA(),MATCH($B405&$C405,'Smelter Look-up'!$J:$J,0))","v":{"$error":"#N/A"}},null,0,null,null,null,""]
[{"$nulls":18},{"$f":"IF(ISERROR($W406),\"\",OFFSET('Smelter Look-up'!$C$4,$W406-4,0)&\"\")","v":""},"",{"$f":"IF(B406=\"\",\"\",IF(ISERROR(MATCH($J406,SorP!$B$1:$B$6230,0)),\"\",INDIRECT(\"'SorP'!$A$\"&MATCH($J406,SorP!$B$1:$B$6230,0))))","v":""},null,{"$f":"IF(C406=\"\",NA(),MATCH($B406&$C406,'Smelter Look-up'!$J:$J,0))","v":{"$error":"#N/A"}},null,0,null,null,null,""]
[{"$nulls":18},{"$f":"IF(ISERROR($W407),\"\",OFFSET('Smelter Look-up'!$C$4,$W407-4,0)&\"\")","v":""},"",{"$f":"IF(B407=\"\",\"\",IF(ISERROR(MATCH($J407,SorP!$B$1:$B$6230,0)),\"\",INDIRECT(\"'SorP'!$A$\"&MATCH($J407,SorP!$B$1:$B$6230,0))))","v":""},null,{"$f":"IF(C407=\"\",NA(),MATCH($B407&$C407,'Smelter Look-up'!$J:$J,0))","v":{"$error":"#N/A"}},null,0,null,null,null,""]
[{"$nulls":18},{"$f":"IF(ISERROR($W408),\"\",OFFSET('Smelter Look-up'!$C$4,$W408-4,0)&\"\")","v":""},"",{"$f":"IF(B408=\"\",\"\",IF(ISERROR(MATCH($J408,SorP!$B$1:$B$6230,0)),\"\",INDIRECT(\"'SorP'!$A$\"&MATCH($J408,SorP!$B$1:$B$6230,0))))","v":""},null,{"$f":"IF(C408=\"\",NA(),MATCH($B408&$C408,'Smelter Look-up'!$J:$J,0))","v":{"$error":"#N/A"}},null,0,null,null,null,""]
[{"$nulls":18},{"$f":"IF(ISERROR($W409),\"\",OFFSET('Smelter Look-up'!$C$4,$W409-4,0)&\"\")","v":""},"",{"$f":"IF(B409=\"\",\"\",IF(ISERROR(MATCH($J409,SorP!$B$1:$B$6230,0)),\"\",INDIRECT(\"'SorP'!$A$\"&MATCH($J409,SorP!$B$1:$B$6230,0))))","v":""},null,{"$f":"IF(C409=\"\",NA(),MATCH($B409&$C409,'Smelter Look-up'!$J:$J,0))","v":{"$error":"#N/A"}},null,0,null,null,null,""]
[{"$nulls":18},{"$f":"IF(ISERROR($W410),\"\",OFFSET('Smelter Look-up'!$C$4,$W410-4,0)&\"\")","v":""},"",{"$f":"IF(B410=\"\",\"\",IF(ISERROR(MATCH($J410,SorP!$B$1:$B$6230,0)),\"\",INDIRECT(\"'SorP'!$A$\"&MATCH($J410,SorP!$B$1:$B$6230,0))))","v":""},null,{"$f":"IF(C410=\"\",NA(),MATCH($B410&$C410,'Smelter Look-up'!$J:$J,0))","v":{"$error":"#N/A"}},null,0,null,null,null,""]
[{"$nulls":18},{"$f":"IF(ISERROR($W411),\"\",OFFSET('Smelter Look-up'!$C$4,$W411-4,0)&\"\")","v":""},"",{"$f":"IF(B411=\"\",\"\",IF(ISERROR(MATCH($J411,SorP!$B$1:$B$6230,0)),\"\",INDIRECT(\"'SorP'!$A$\"&MATCH($J411,SorP!$B$1:$B$6230,0))))","v":""},null,{"$f":"IF(C411=\"\",NA(),MATCH($B411&$C411,'Smelter Look-up'!$J:$J,0))","v":{"$error":"#N/A"}},null,0,null,null,null,""]
[{"$nulls":18},{"$f":"IF(ISERROR($W412),\"\",OFFSET('Smelter Look-up'!$C$4,$W412-4,0)&\"\")","v":""},"",{"$f":"IF(B412=\"\",\"\",IF(ISERROR(MATCH($J412,SorP!$B$1:$B$6230,0)),\"\",INDIRECT(\"'SorP'!$A$\"&MATCH($J412,SorP!$B$1:$B$6230,0))))","v":""},null,{"$f":"IF(C412=\"\",NA(),MATCH($B412&$C412,'Smelter Look-up'!$J:$J,0))","v":{"$error":"#N/A"}},null,0,null,null,null,""]
[{"$nulls":18},{"$f":"IF(ISERROR($W413),\"\",OFFSET('Smelter Look-up'!$C$4,$W413-4,0)&\"\")","v":""},"",{"$f":"IF(B413=\"\",\"\",IF(ISERROR(MATCH($J413,SorP!$B$1:$B$6230,0)),\"\",INDIRECT(\"'SorP'!$A$\"&MATCH($J413,SorP!$B$1:$B$6230,0))))","v":""},null,{"$f":"IF(C413=\"\",NA(),MATCH($B413&$C413,'Smelter Look-up'!$J:$J,0))","v":{"$error":"#N/A"}},null,0,null,null,null,""]
[{"$nulls":18},{"$f":"IF(ISERROR($W414),\"\",OFFSET('Smelter Look-up'!$C$4,$W414-4,0)&\"\")","v":""},"",{"$f":"IF(B414=\"\",\"\",IF(ISERROR(MATCH($J414,SorP!$B$1:$B$6230,0)),\"\",INDIRECT(\"'SorP'!$A$\"&MATCH($J414,SorP!$B$1:$B$6230,0))))","v":""},null,{"$f":"IF(C414=\"\",NA(),MATCH($B414&$C414,'Smelter Look-up'!$J:$J,0))","v":{"$error":"#N/A"}},null,0,null,null,null,""]
[{"$nulls":18},{"$f":"IF(ISERROR($W415),\"\",OFFSET('Smelter Look-up'!$C$4,$W415-4,0)&\"\")","v":""},"",{"$f":"IF(B415=\"\",\"\",IF(ISERROR(MATCH($J415,SorP!$B$1:$B$6230,0)),\"\",INDIRECT(\"'SorP'!$A$\"&MATCH($J415,SorP!$B$1:$B$6230,0))))","v":""},null,{"$f":"IF(C415=\"\",NA(),MATCH($B415&$C415,'Smelter Look-up'!$J:$J,0))","v":{"$error":"#N/A"}},null,0,null,null,null,""]
[{"$nulls":18},{"$f":"IF(ISERROR($W416),\"\",OFFSET('Smelter Look-up'!$C$4,$W416-4,0)&\"\")","v":""},"",{"$f":"IF(B416=\"\",\"\",IF(ISERROR(MATCH($J416,SorP!$B$1:$B$6230,0)),\"\",INDIRECT(\"'SorP'!$A$\"&MATCH($J416,SorP!$B$1:$B$6230,0))))","v":""},null,{"$f":"IF(C416=\"\",NA(),MATCH($B416&$C416,'Smelter Look-up'!$J:$J,0))","v":{"$error":"#N/A"}},null,0,null,null,null,""]
[{"$nulls":18},{"$f":"IF(ISERROR($W417),\"\",OFFSET('Smelter Look-up'!$C$4,$W417-4,0)&\"\")","v":""},"",{"$f":"IF(B417=\"\",\"\",IF(ISERROR(MATCH($J417,SorP!$B$1:$B$6230,0)),\"\",INDIRECT(\"'SorP'!$A$\"&MATCH($J417,SorP!$B$1:$B$6230,0))))","v":""},null,{"$f":"IF(C417=\"\",NA(),MATCH($B417&$C417,'Smelter Look-up'!$J:$J,0))","v":{"$error":"#N/A"}},null,0,null,null,null,""]
[{"$nulls":18},{"$f":"IF(ISERROR($W418),\"\",OFFSET('Smelter Look-up'!$C$4,$W418-4,0)&\"\")","v":""},"",{"$f":"IF(B418=\"\",\"\",IF(ISERROR(MATCH($J418,SorP!$B$1:$B$6230,0)),\"\",INDIRECT(\"'SorP'!$A$\"&MATCH($J418,SorP!$B$1:$B$6230,0))))","v":""},null,{"$f":"IF(C418=\"\",NA(),MATCH($B418&$C418,'Smelter Look-up'!$J:$J,0))","v":{"$error":"#N/A"}},null,0,null,null,null,""]
[{"$nulls":18},{"$f":"IF(ISERROR($W419),\"\",OFFSET('Smelter Look-up'!$C$4,$W419-4,0)&\"\")","v":""},"",{"$f":"IF(B419=\"\",\"\",IF(ISERROR(MATCH($J419,SorP!$B$1:$B$6230,0)),\"\",INDIRECT(\"'SorP'!$A$\"&MATCH($J419,SorP!$B$1:$B$6230,0))))","v":""},null,{"$f":"IF(C419=\"\",NA(),MATCH($B419&$C419,'Smelter Look-up'!$J:$J,0))","v":{"$error":"#N/A"}},null,0,null,null,null,""]
[{"$nulls":18},{"$f":"IF(ISERROR($W420),\"\",OFFSET('Smelter Look-up'!$C$4,$W420-4,0)&\"\")","v":""},"",{"$f":"IF(B420=\"\",\"\",IF(ISERROR(MATCH($J420,SorP!$B$1:$B$6230,0)),\"\",INDIRECT(\"'SorP'!$A$\"&MATCH($J420,SorP!$B$1:$B$6230,0))))","v":""},null,{"$f":"IF(C420=\"\",NA(),MATCH($B420&$C420,'Smelter Look-up'!$J:$J,0))","v":{"$error":"#N/A"}},null,0,null,null,null,""]
[{"$nulls":18},{"$f":"IF(ISERROR($W421),\"\",OFFSET('Smelter Look-up'!$C$4,$W421-4,0)&\"\")","v":""},"",{"$f":"IF(B421=\"\",\"\",IF(ISERROR(MATCH($J421,SorP!$B$1:$B$6230,0)),\"\",INDIRECT(\"'SorP'!$A$\"&MATCH($J421,SorP!$B$1:$B$6230,0))))","v":""},null,{"$f":"IF(C421=\"\",NA(),MATCH($B421&$C421,'Smelter Look-up'!$J:$J,0))","v":{"$error":"#N/A"}},null,0,null,null,null,""]
[{"$nulls":18},{"$f":"IF(ISERROR($W422),\"\",OFFSET('Smelter Look-up'!$C$4,$W422-4,0)&\"\")","v":""},"",{"$f":"IF(B422=\"\",\"\",IF(ISERROR(MATCH($J422,SorP!$B$1:$B$6230,0)),\"\",INDIRECT(\"'SorP'!$A$\"&MATCH($J422,SorP!$B$1:$B$6230,0))))","v":""},null,{"$f":"IF(C422=\"\",NA(),MATCH($B422&$C422,'Smelter Look-up'!$J:$J,0))","v":{"$error":"#N/A"}},null,0,null,null,null,""]
[{"$nulls":18},{"$f":"IF(ISERROR($W423),\"\",OFFSET('Smelter Look-up'!$C$4,$W423-4,0)&\"\")","v":""},"",{"$f":"IF(B423=\"\",\"\",IF(ISERROR(MATCH($J423,SorP!$B$1:$B$6230,0)),\"\",INDIRECT(\"'SorP'!$A$\"&MATCH($J423,SorP!$B$1:$B$6230,0))))","v":""},null,{"$f":"IF(C423=\"\",NA(),MATCH($B423&$C423,'Smelter Look-up'!$J:$J,0))","v":{"$error":"#N/A"}},null,0,null,null,null,""]
[{"$nulls":18},{"$f":"IF(ISERROR($W424),\"\",OFFSET('Smelter Look-up'!$C$4,$W424-4,0)&\"\")","v":""},"",{"$f":"IF(B424=\"\",\"\",IF(ISERROR(MATCH($J424,SorP!$B$1:$B$6230,0)),\"\",INDIRECT(\"'SorP'!$A$\"&MATCH($J424,SorP!$B$1:$B$6230,0))))","v":""},null,{"$f":"IF(C424=\"\",NA(),MATCH($B424&$C424,'Smelter Look-up'!$J:$J,0))","v":{"$error":"#N/A"}},null,0,null,null,null,""]
[{"$nulls":18},{"$f":"IF(ISERROR($W425),\"\",OFFSET('Smelter Look-up'!$C$4,$W425-4,0)&\"\")","v":""},"",{"$f":"IF(B425=\"\",\"\",IF(ISERROR(MATCH($J425,SorP!$B$1:$B$6230,0)),\"\",INDIRECT(\"'SorP'!$A$\"&MATCH($J425,SorP!$B$1:$B$6230,0))))","v":""},null,{"$f":"IF(C425=\"\",NA(),MATCH($B425&$C425,'Smelter Look-up'!$J:$J,0))","v":{"$error":"#N/A"}},null,0,null,null,null,""]
[{"$nulls":18},{"$f":"IF(ISERROR($W426),\"\",OFFSET('Smelter Look-up'!$C$4,$W426-4,0)&\"\")","v":""},"",{"$f":"IF(B426=\"\",\"\",IF(ISERROR(MATCH($J426,SorP!$B$1:$B$6230,0)),\"\",INDIRECT(\"'SorP'!$A$\"&MATCH($J426,SorP!$B$1:$B$6230,0))))","v":""},null,{"$f":"IF(C426=\"\",NA(),MATCH($B426&$C426,'Smelter Look-up'!$J:$J,0))","v":{"$error":"#N/A"}},null,0,null,null,null,""]
[{"$nulls":18},{"$f":"IF(ISERROR($W427),\"\",OFFSET('Smelter Look-up'!$C$4,$W427-4,0)&\"\")","v":""},"",{"$f":"IF(B427=\"\",\"\",IF(ISERROR(MATCH($J427,SorP!$B$1:$B$6230,0)),\"\",INDIRECT(\"'SorP'!$A$\"&MATCH($J427,SorP!$B$1:$B$6230,0))))","v":""},null,{"$f":"IF(C427=\"\",NA(),MATCH($B427&$C427,'Smelter Look-up'!$J:$J,0))","v":{"$error":"#N/A"}},null,0,null,null,null,""]
[{"$nulls":18},{"$f":"IF(ISERROR($W428),\"\",OFFSET('Smelter Look-up'!$C$4,$W428-4,0)&\"\")","v":""},"",{"$f":"IF(B428=\"\",\"\",IF(ISERROR(MATCH($J428,SorP!$B$1:$B$6230,0)),\"\",INDIRECT(\"'SorP'!$A$\"&MATCH($J428,SorP!$B$1:$B$6230,0))))","v":""},null,{"$f":"IF(C428=\"\",NA(),MATCH($B428&$C428,'Smelter Look-up'!$J:$J,0))","v":{"$error":"#N/A"}},null,0,null,null,null,""]
[{"$nulls":18},{"$f":"IF(ISERROR($W429),\"\",OFFSET('Smelter Look-up'!$C$4,$W429-4,0)&\"\")","v":""},"",{"$f":"IF(B429=\"\",\"\",IF(ISERROR(MATCH($J429,SorP!$B$1:$B$6230,0)),\"\",INDIRECT(\"'SorP'!$A$\"&MATCH($J429,SorP!$B$1:$B$6230,0))))","v":""},null,{"$f":"IF(C429=\"\",NA(),MATCH($B429&$C429,'Smelter Look-up'!$J:$J,0))","v":{"$error":"#N/A"}},null,0,null,null,null,""]
[{"$nulls":18},{"$f":"IF(ISERROR($W430),\"\",OFFSET('Smelter Look-up'!$C$4,$W430-4,0)&\"\")","v":""},"",{"$f":"IF(B430=\"\",\"\",IF(ISERROR(MATCH($J430,SorP!$B$1:$B$6230,0)),\"\",INDIRECT(\"'SorP'!$A$\"&MATCH($J430,SorP!$B$1:$B$6230,0))))","v":""},null,{"$f":"IF(C430=\"\",NA(),MATCH($B430&$C430,'Smelter Look-up'!$J:$J,0))","v":{"$error":"#N/A"}},null,0,null,null,null,""]
[{"$nulls":18},{"$f":"IF(ISERROR($W431),\"\",OFFSET('Smelter Look-up'!$C$4,$W431-4,0)&\"\")","v":""},"",{"$f":"IF(B431=\"\",\"\",IF(ISERROR(MATCH($J431,SorP!$B$1:$B$6230,0)),\"\",INDIRECT(\"'SorP'!$A$\"&MATCH($J431,SorP!$B$1:$B$6230,0))))","v":""},null,{"$f":"IF(C431=\"\",NA(),MATCH($B431&$C431,'Smelter Look-up'!$J:$J,0))","v":{"$error":"#N/A"}},null,0,null,null,null,""]
[{"$nulls":18},{"$f":"IF(ISERROR($W432),\"\",OFFSET('Smelter Look-up'!$C$4,$W432-4,0)&\"\")","v":""},"",{"$f":"IF(B432=\"\",\"\",IF(ISERROR(MATCH($J432,SorP!$B$1:$B$6230,0)),\"\",INDIRECT(\"'SorP'!$A$\"&MATCH($J432,SorP!$B$1:$B$6230,0))))","v":""},null,{"$f":"IF(C432=\"\",NA(),MATCH($B432&$C432,'Smelter Look-up'!$J:$J,0))","v":{"$error":"#N/A"}},null,0,null,null,null,""]
[{"$nulls":18},{"$f":"IF(ISERROR($W433),\"\",OFFSET('Smelter Look-up'!$C$4,$W433-4,0)&\"\")","v":""},"",{"$f":"IF(B433=\"\",\"\",IF(ISERROR(MATCH($J433,SorP!$B$1:$B$6230,0)),\"\",INDIRECT(\"'SorP'!$A$\"&MATCH($J433,SorP!$B$1:$B$6230,0))))","v":""},null,{"$f":"IF(C433=\"\",NA(),MATCH($B433&$C433,'Smelter Look-up'!$J:$J,0))","v":{"$error":"#N/A"}},null,0,null,null,null,""]
[{"$nulls":18},{"$f":"IF(ISERROR($W434),\"\",OFFSET('Smelter Look-up'!$C$4,$W434-4,0)&\"\")","v":""},"",{"$f":"IF(B434=\"\",\"\",IF(ISERROR(MATCH($J434,SorP!$B$1:$B$6230,0)),\"\",INDIRECT(\"'SorP'!$A$\"&MATCH($J434,SorP!$B$1:$B$6230,0))))","v":""},null,{"$f":"IF(C434=\"\",NA(),MATCH($B434&$C434,'Smelter Look-up'!$J:$J,0))","v":{"$error":"#N/A"}},null,0,null,null,null,""]
[{"$nulls":18},{"$f":"IF(ISERROR($W435),\"\",OFFSET('Smelter Look-up'!$C$4,$W435-4,0)&\"\")","v":""},"",{"$f":"IF(B435=\"\",\"\",IF(ISERROR(MATCH($J435,SorP!$B$1:$B$6230,0)),\"\",INDIRECT(\"'SorP'!$A$\"&MATCH($J435,SorP!$B$1:$B$6230,0))))","v":""},null,{"$f":"IF(C435=\"\",NA(),MATCH($B435&$C435,'Smelter Look-up'!$J:$J,0))","v":{"$error":"#N/A"}},null,0,null,null,null,""]
[{"$nulls":18},{"$f":"IF(ISERROR($W436),\"\",OFFSET('Smelter Look-up'!$C$4,$W436-4,0)&\"\")","v":""},"",{"$f":"IF(B436=\"\",\"\",IF(ISERROR(MATCH($J436,SorP!$B$1:$B$6230,0)),\"\",INDIRECT(\"'SorP'!$A$\"&MATCH($J436,SorP!$B$1:$B$6230,0))))","v":""},null,{"$f":"IF(C436=\"\",NA(),MATCH($B436&$C436,'Smelter Look-up'!$J:$J,0))","v":{"$error":"#N/A"}},null,0,null,null,null,""]
[{"$nulls":18},{"$f":"IF(ISERROR($W437),\"\",OFFSET('Smelter Look-up'!$C$4,$W437-4,0)&\"\")","v":""},"",{"$f":"IF(B437=\"\",\"\",IF(ISERROR(MATCH($J437,SorP!$B$1:$B$6230,0)),\"\",INDIRECT(\"'SorP'!$A$\"&MATCH($J437,SorP!$B$1:$B$6230,0))))","v":""},null,{"$f":"IF(C437=\"\",NA(),MATCH($B437&$C437,'Smelter Look-up'!$J:$J,0))","v":{"$error":"#N/A"}},null,0,null,null,null,""]
[{"$nulls":18},{"$f":"IF(ISERROR($W438),\"\",OFFSET('Smelter Look-up'!$C$4,$W438-4,0)&\"\")","v":""},"",{"$f":"IF(B438=\"\",\"\",IF(ISERROR(MATCH($J438,SorP!$B$1:$B$6230,0)),\"\",INDIRECT(\"'SorP'!$A$\"&MATCH($J438,SorP!$B$1:$B$6230,0))))","v":""},null,{"$f":"IF(C438=\"\",NA(),MATCH($B438&$C438,'Smelter Look-up'!$J:$J,0))","v":{"$error":"#N/A"}},null,0,null,null,null,""]
[{"$nulls":18},{"$f":"IF(ISERROR($W439),\"\",OFFSET('Smelter Look-up'!$C$4,$W439-4,0)&\"\")","v":""},"",{"$f":"IF(B439=\"\",\"\",IF(ISERROR(MATCH($J439,SorP!$B$1:$B$6230,0)),\"\",INDIRECT(\"'SorP'!$A$\"&MATCH($J439,SorP!$B$1:$B$6230,0))))","v":""},null,{"$f":"IF(C439=\"\",NA(),MATCH($B439&$C439,'Smelter Look-up'!$J:$J,0))","v":{"$error":"#N/A"}},null,0,null,null,null,""]
[{"$nulls":18},{"$f":"IF(ISERROR($W440),\"\",OFFSET('Smelter Look-up'!$C$4,$W440-4,0)&\"\")","v":""},"",{"$f":"IF(B440=\"\",\"\",IF(ISERROR(MATCH($J440,SorP!$B$1:$B$6230,0)),\"\",INDIRECT(\"'SorP'!$A$\"&MATCH($J440,SorP!$B$1:$B$6230,0))))","v":""},null,{"$f":"IF(C440=\"\",NA(),MATCH($B440&$C440,'Smelter Look-up'!$J:$J,0))","v":{"$error":"#N/A"}},null,0,null,null,null,""]
[{"$nulls":18},{"$f":"IF(ISERROR($W441),\"\",OFFSET('Smelter Look-up'!$C$4,$W441-4,0)&\"\")","v":""},"",{"$f":"IF(B441=\"\",\"\",IF(ISERROR(MATCH($J441,SorP!$B$1:$B$6230,0)),\"\",INDIRECT(\"'SorP'!$A$\"&MATCH($J441,SorP!$B$1:$B$6230,0))))","v":""},null,{"$f":"IF(C441=\"\",NA(),MATCH($B441&$C441,'Smelter Look-up'!$J:$J,0))","v":{"$error":"#N/A"}},null,0,null,null,null,""]
[{"$nulls":18},{"$f":"IF(ISERROR($W442),\"\",OFFSET('Smelter Look-up'!$C$4,$W442-4,0)&\"\")","v":""},"",{"$f":"IF(B442=\"\",\"\",IF(ISERROR(MATCH($J442,SorP!$B$1:$B$6230,0)),\"\",INDIRECT(\"'SorP'!$A$\"&MATCH($J442,SorP!$B$1:$B$6230,0))))","v":""},null,{"$f":"IF(C442=\"\",NA(),MATCH($B442&$C442,'Smelter Look-up'!$J:$J,0))","v":{"$error":"#N/A"}},null,0,null,null,null,""]
[{"$nulls":18},{"$f":"IF(ISERROR($W443),\"\",OFFSET('Smelter Look-up'!$C$4,$W443-4,0)&\"\")","v":""},"",{"$f":"IF(B443=\"\",\"\",IF(ISERROR(MATCH($J443,SorP!$B$1:$B$6230,0)),\"\",INDIRECT(\"'SorP'!$A$\"&MATCH($J443,SorP!$B$1:$B$6230,0))))","v":""},null,{"$f":"IF(C443=\"\",NA(),MATCH($B443&$C443,'Smelter Look-up'!$J:$J,0))","v":{"$error":"#N/A"}},null,0,null,null,null,""]
[{"$nulls":18},{"$f":"IF(ISERROR($W444),\"\",OFFSET('Smelter Look-up'!$C$4,$W444-4,0)&\"\")","v":""},"",{"$f":"IF(B444=\"\",\"\",IF(ISERROR(MATCH($J444,SorP!$B$1:$B$6230,0)),\"\",INDIRECT(\"'SorP'!$A$\"&MATCH($J444,SorP!$B$1:$B$6230,0))))","v":""},null,{"$f":"IF(C444=\"\",NA(),MATCH($B444&$C444,'Smelter Look-up'!$J:$J,0))","v":{"$error":"#N/A"}},null,0,null,null,null,""]
[{"$nulls":18},{"$f":"IF(ISERROR($W445),\"\",OFFSET('Smelter Look-up'!$C$4,$W445-4,0)&\"\")","v":""},"",{"$f":"IF(B445=\"\",\"\",IF(ISERROR(MATCH($J445,SorP!$B$1:$B$6230,0)),\"\",INDIRECT(\"'SorP'!$A$\"&MATCH($J445,SorP!$B$1:$B$6230,0))))","v":""},null,{"$f":"IF(C445=\"\",NA(),MATCH($B445&$C445,'Smelter Look-up'!$J:$J,0))","v":{"$error":"#N/A"}},null,0,null,null,null,""]
[{"$nulls":18},{"$f":"IF(ISERROR($W446),\"\",OFFSET('Smelter Look-up'!$C$4,$W446-4,0)&\"\")","v":""},"",{"$f":"IF(B446=\"\",\"\",IF(ISERROR(MATCH($J446,SorP!$B$1:$B$6230,0)),\"\",INDIRECT(\"'SorP'!$A$\"&MATCH($J446,SorP!$B$1:$B$6230,0))))","v":""},null,{"$f":"IF(C446=\"\",NA(),MATCH($B446&$C446,'Smelter Look-up'!$J:$J,0))","v":{"$error":"#N/A"}},null,0,null,null,null,""]
[{"$nulls":18},{"$f":"IF(ISERROR($W447),\"\",OFFSET('Smelter Look-up'!$C$4,$W447-4,0)&\"\")","v":""},"",{"$f":"IF(B447=\"\",\"\",IF(ISERROR(MATCH($J447,SorP!$B$1:$B$6230,0)),\"\",INDIRECT(\"'SorP'!$A$\"&MATCH($J447,SorP!$B$1:$B$6230,0))))","v":""},null,{"$f":"IF(C447=\"\",NA(),MATCH($B447&$C447,'Smelter Look-up'!$J:$J,0))","v":{"$error":"#N/A"}},null,0,null,null,null,""]
[{"$nulls":18},{"$f":"IF(ISERROR($W448),\"\",OFFSET('Smelter Look-up'!$C$4,$W448-4,0)&\"\")","v":""},"",{"$f":"IF(B448=\"\",\"\",IF(ISERROR(MATCH($J448,SorP!$B$1:$B$6230,0)),\"\",INDIRECT(\"'SorP'!$A$\"&MATCH($J448,SorP!$B$1:$B$6230,0))))","v":""},null,{"$f":"IF(C448=\"\",NA(),MATCH($B448&$C448,'Smelter Look-up'!$J:$J,0))","v":{"$error":"#N/A"}},null,0,null,null,null,""]
[{"$nulls":18},{"$f":"IF(ISERROR($W449),\"\",OFFSET('Smelter Look-up'!$C$4,$W449-4,0)&\"\")","v":""},"",{"$f":"IF(B449=\"\",\"\",IF(ISERROR(MATCH($J449,SorP!$B$1:$B$6230,0)),\"\",INDIRECT(\"'SorP'!$A$\"&MATCH($J449,SorP!$B$1:$B$6230,0))))","v":""},null,{"$f":"IF(C449=\"\",NA(),MATCH($B449&$C449,'Smelter Look-up'!$J:$J,0))","v":{"$error":"#N/A"}},null,0,null,null,null,""]
[{"$nulls":18},{"$f":"IF(ISERROR($W450),\"\",OFFSET('Smelter Look-up'!$C$4,$W450-4,0)&\"\")","v":""},"",{"$f":"IF(B450=\"\",\"\",IF(ISERROR(MATCH($J450,SorP!$B$1:$B$6230,0)),\"\",INDIRECT(\"'SorP'!$A$\"&MATCH($J450,SorP!$B$1:$B$6230,0))))","v":""},null,{"$f":"IF(C450=\"\",NA(),MATCH($B450&$C450,'Smelter Look-up'!$J:$J,0))","v":{"$error":"#N/A"}},null,0,null,null,null,""]
[{"$nulls":18},{"$f":"IF(ISERROR($W451),\"\",OFFSET('Smelter Look-up'!$C$4,$W451-4,0)&\"\")","v":""},"",{"$f":"IF(B451=\"\",\"\",IF(ISERROR(MATCH($J451,SorP!$B$1:$B$6230,0)),\"\",INDIRECT(\"'SorP'!$A$\"&MATCH($J451,SorP!$B$1:$B$6230,0))))","v":""},null,{"$f":"IF(C451=\"\",NA(),MATCH($B451&$C451,'Smelter Look-up'!$J:$J,0))","v":{"$error":"#N/A"}},null,0,null,null,null,""]
[{"$nulls":18},{"$f":"IF(ISERROR($W452),\"\",OFFSET('Smelter Look-up'!$C$4,$W452-4,0)&\"\")","v":""},"",{"$f":"IF(B452=\"\",\"\",IF(ISERROR(MATCH($J452,SorP!$B$1:$B$6230,0)),\"\",INDIRECT(\"'SorP'!$A$\"&MATCH($J452,SorP!$B$1:$B$6230,0))))","v":""},null,{"$f":"IF(C452=\"\",NA(),MATCH($B452&$C452,'Smelter Look-up'!$J:$J,0))","v":{"$error":"#N/A"}},null,0,null,null,null,""]
[{"$nulls":18},{"$f":"IF(ISERROR($W453),\"\",OFFSET('Smelter Look-up'!$C$4,$W453-4,0)&\"\")","v":""},{"$f":"IF(B453=\"\",\"\",IF(ISERROR(MATCH($E453,CL,0)),\"Unknown\",INDIRECT(\"'C'!$A$\"&MATCH($E453,CL,0)+1)))","v":""},{"$f":"IF(B453=\"\",\"\",IF(ISERROR(MATCH($J453,SorP!$B$1:$B$6230,0)),\"\",INDIRECT(\"'SorP'!$A$\"&MATCH($J453,SorP!$B$1:$B$6230,0))))","v":""},null,{"$f":"IF(C453=\"\",NA(),MATCH($B453&$C453,'Smelter Look-up'!$J:$J,0))","v":{"$error":"#N/A"}},null,{"$f":"IF(AND(C453=\"Smelter not listed\",OR(LEN(D453)=0,LEN(E453)=0)),1,0)","v":0},null,null,null,{"$f":"B453&C453","v":""}]
[{"$nulls":18},{"$f":"IF(ISERROR($W454),\"\",OFFSET('Smelter Look-up'!$C$4,$W454-4,0)&\"\")","v":""},"",{"$f":"IF(B454=\"\",\"\",IF(ISERROR(MATCH($J454,SorP!$B$1:$B$6230,0)),\"\",INDIRECT(\"'SorP'!$A$\"&MATCH($J454,SorP!$B$1:$B$6230,0))))","v":""},null,{"$f":"IF(C454=\"\",NA(),MATCH($B454&$C454,'Smelter Look-up'!$J:$J,0))","v":{"$error":"#N/A"}},null,0,null,null,null,""]
[{"$nulls":18},{"$f":"IF(ISERROR($W455),\"\",OFFSET('Smelter Look-up'!$C$4,$W455-4,0)&\"\")","v":""},"",{"$f":"IF(B455=\"\",\"\",IF(ISERROR(MATCH($J455,SorP!$B$1:$B$6230,0)),\"\",INDIRECT(\"'SorP'!$A$\"&MATCH($J455,SorP!$B$1:$B$6230,0))))","v":""},null,{"$f":"IF(C455=\"\",NA(),MATCH($B455&$C455,'Smelter Look-up'!$J:$J,0))","v":{"$error":"#N/A"}},null,0,null,null,null,""]
[{"$nulls":18},{"$f":"IF(ISERROR($W456),\"\",OFFSET('Smelter Look-up'!$C$4,$W456-4,0)&\"\")","v":""},"",{"$f":"IF(B456=\"\",\"\",IF(ISERROR(MATCH($J456,SorP!$B$1:$B$6230,0)),\"\",INDIRECT(\"'SorP'!$A$\"&MATCH($J456,SorP!$B$1:$B$6230,0))))","v":""},null,{"$f":"IF(C456=\"\",NA(),MATCH($B456&$C456,'Smelter Look-up'!$J:$J,0))","v":{"$error":"#N/A"}},null,0,null,null,null,""]
[{"$nulls":18},{"$f":"IF(ISERROR($W457),\"\",OFFSET('Smelter Look-up'!$C$4,$W457-4,0)&\"\")","v":""},"",{"$f":"IF(B457=\"\",\"\",IF(ISERROR(MATCH($J457,SorP!$B$1:$B$6230,0)),\"\",INDIRECT(\"'SorP'!$A$\"&MATCH($J457,SorP!$B$1:$B$6230,0))))","v":""},null,{"$f":"IF(C457=\"\",NA(),MATCH($B457&$C457,'Smelter Look-up'!$J:$J,0))","v":{"$error":"#N/A"}},null,0,null,null,null,""]
[{"$nulls":18},{"$f":"IF(ISERROR($W458),\"\",OFFSET('Smelter Look-up'!$C$4,$W458-4,0)&\"\")","v":""},"",{"$f":"IF(B458=\"\",\"\",IF(ISERROR(MATCH($J458,SorP!$B$1:$B$6230,0)),\"\",INDIRECT(\"'SorP'!$A$\"&MATCH($J458,SorP!$B$1:$B$6230,0))))","v":""},null,{"$f":"IF(C458=\"\",NA(),MATCH($B458&$C458,'Smelter Look-up'!$J:$J,0))","v":{"$error":"#N/A"}},null,0,null,null,null,""]
[{"$nulls":18},{"$f":"IF(ISERROR($W459),\"\",OFFSET('Smelter Look-up'!$C$4,$W459-4,0)&\"\")","v":""},"",{"$f":"IF(B459=\"\",\"\",IF(ISERROR(MATCH($J459,SorP!$B$1:$B$6230,0)),\"\",INDIRECT(\"'SorP'!$A$\"&MATCH($J459,SorP!$B$1:$B$6230,0))))","v":""},null,{"$f":"IF(C459=\"\",NA(),MATCH($B459&$C459,'Smelter Look-up'!$J:$J,0))","v":{"$error":"#N/A"}},null,0,null,null,null,""]
[{"$nulls":18},{"$f":"IF(ISERROR($W460),\"\",OFFSET('Smelter Look-up'!$C$4,$W460-4,0)&\"\")","v":""},"",{"$f":"IF(B460=\"\",\"\",IF(ISERROR(MATCH($J460,SorP!$B$1:$B$6230,0)),\"\",INDIRECT(\"'SorP'!$A$\"&MATCH($J460,SorP!$B$1:$B$6230,0))))","v":""},null,{"$f":"IF(C460=\"\",NA(),MATCH($B460&$C460,'Smelter Look-up'!$J:$J,0))","v":{"$error":"#N/A"}},null,0,null,null,null,""]
[{"$nulls":18},{"$f":"IF(ISERROR($W461),\"\",OFFSET('Smelter Look-up'!$C$4,$W461-4,0)&\"\")","v":""},"",{"$f":"IF(B461=\"\",\"\",IF(ISERROR(MATCH($J461,SorP!$B$1:$B$6230,0)),\"\",INDIRECT(\"'SorP'!$A$\"&MATCH($J461,SorP!$B$1:$B$6230,0))))","v":""},null,{"$f":"IF(C461=\"\",NA(),MATCH($B461&$C461,'Smelter Look-up'!$J:$J,0))","v":{"$error":"#N/A"}},null,0,null,null,null,""]
[{"$nulls":18},{"$f":"IF(ISERROR($W462),\"\",OFFSET('Smelter Look-up'!$C$4,$W462-4,0)&\"\")","v":""},"",{"$f":"IF(B462=\"\",\"\",IF(ISERROR(MATCH($J462,SorP!$B$1:$B$6230,0)),\"\",INDIRECT(\"'SorP'!$A$\"&MATCH($J462,SorP!$B$1:$B$6230,0))))","v":""},null,{"$f":"IF(C462=\"\",NA(),MATCH($B462&$C462,'Smelter Look-up'!$J:$J,0))","v":{"$error":"#N/A"}},null,0,null,null,null,""]
[{"$nulls":18},{"$f":"IF(ISERROR($W463),\"\",OFFSET('Smelter Look-up'!$C$4,$W463-4,0)&\"\")","v":""},"",{"$f":"IF(B463=\"\",\"\",IF(ISERROR(MATCH($J463,SorP!$B$1:$B$6230,0)),\"\",INDIRECT(\"'SorP'!$A$\"&MATCH($J463,SorP!$B$1:$B$6230,0))))","v":""},null,{"$f":"IF(C463=\"\",NA(),MATCH($B463&$C463,'Smelter Look-up'!$J:$J,0))","v":{"$error":"#N/A"}},null,0,null,null,null,""]
[{"$nulls":18},{"$f":"IF(ISERROR($W464),\"\",OFFSET('Smelter Look-up'!$C$4,$W464-4,0)&\"\")","v":""},"",{"$f":"IF(B464=\"\",\"\",IF(ISERROR(MATCH($J464,SorP!$B$1:$B$6230,0)),\"\",INDIRECT(\"'SorP'!$A$\"&MATCH($J464,SorP!$B$1:$B$6230,0))))","v":""},null,{"$f":"IF(C464=\"\",NA(),MATCH($B464&$C464,'Smelter Look-up'!$J:$J,0))","v":{"$error":"#N/A"}},null,0,null,null,null,""]
[{"$nulls":18},{"$f":"IF(ISERROR($W465),\"\",OFFSET('Smelter Look-up'!$C$4,$W465-4,0)&\"\")","v":""},"",{"$f":"IF(B465=\"\",\"\",IF(ISERROR(MATCH($J465,SorP!$B$1:$B$6230,0)),\"\",INDIRECT(\"'SorP'!$A$\"&MATCH($J465,SorP!$B$1:$B$6230,0))))","v":""},null,{"$f":"IF(C465=\"\",NA(),MATCH($B465&$C465,'Smelter Look-up'!$J:$J,0))","v":{"$error":"#N/A"}},null,0,null,null,null,""]
[{"$nulls":18},{"$f":"IF(ISERROR($W466),\"\",OFFSET('Smelter Look-up'!$C$4,$W466-4,0)&\"\")","v":""},"",{"$f":"IF(B466=\"\",\"\",IF(ISERROR(MATCH($J466,SorP!$B$1:$B$6230,0)),\"\",INDIRECT(\"'SorP'!$A$\"&MATCH($J466,SorP!$B$1:$B$6230,0))))","v":""},null,{"$f":"IF(C466=\"\",NA(),MATCH($B466&$C466,'Smelter Look-up'!$J:$J,0))","v":{"$error":"#N/A"}},null,0,null,null,null,""]
[{"$nulls":18},{"$f":"IF(ISERROR($W467),\"\",OFFSET('Smelter Look-up'!$C$4,$W467-4,0)&\"\")","v":""},"",{"$f":"IF(B467=\"\",\"\",IF(ISERROR(MATCH($J467,SorP!$B$1:$B$6230,0)),\"\",INDIRECT(\"'SorP'!$A$\"&MATCH($J467,SorP!$B$1:$B$6230,0))))","v":""},null,{"$f":"IF(C467=\"\",NA(),MATCH($B467&$C467,'Smelter Look-up'!$J:$J,0))","v":{"$error":"#N/A"}},null,0,null,null,null,""]
[{"$nulls":18},{"$f":"IF(ISERROR($W468),\"\",OFFSET('Smelter Look-up'!$C$4,$W468-4,0)&\"\")","v":""},"",{"$f":"IF(B468=\"\",\"\",IF(ISERROR(MATCH($J468,SorP!$B$1:$B$6230,0)),\"\",INDIRECT(\"'SorP'!$A$\"&MATCH($J468,SorP!$B$1:$B$6230,0))))","v":""},null,{"$f":"IF(C468=\"\",NA(),MATCH($B468&$C468,'Smelter Look-up'!$J:$J,0))","v":{"$error":"#N/A"}},null,0,null,null,null,""]
[{"$nulls":18},{"$f":"IF(ISERROR($W469),\"\",OFFSET('Smelter Look-up'!$C$4,$W469-4,0)&\"\")","v":""},"",{"$f":"IF(B469=\"\",\"\",IF(ISERROR(MATCH($J469,SorP!$B$1:$B$6230,0)),\"\",INDIRECT(\"'SorP'!$A$\"&MATCH($J469,SorP!$B$1:$B$6230,0))))","v":""},null,{"$f":"IF(C469=\"\",NA(),MATCH($B469&$C469,'Smelter Look-up'!$J:$J,0))","v":{"$error":"#N/A"}},null,0,null,null,null,""]
[{"$nulls":18},{"$f":"IF(ISERROR($W470),\"\",OFFSET('Smelter Look-up'!$C$4,$W470-4,0)&\"\")","v":""},"",{"$f":"IF(B470=\"\",\"\",IF(ISERROR(MATCH($J470,SorP!$B$1:$B$6230,0)),\"\",INDIRECT(\"'SorP'!$A$\"&MATCH($J470,SorP!$B$1:$B$6230,0))))","v":""},null,{"$f":"IF(C470=\"\",NA(),MATCH($B470&$C470,'Smelter Look-up'!$J:$J,0))","v":{"$error":"#N/A"}},null,0,null,null,null,""]
[{"$nulls":18},{"$f":"IF(ISERROR($W471),\"\",OFFSET('Smelter Look-up'!$C$4,$W471-4,0)&\"\")","v":""},"",{"$f":"IF(B471=\"\",\"\",IF(ISERROR(MATCH($J471,SorP!$B$1:$B$6230,0)),\"\",INDIRECT(\"'SorP'!$A$\"&MATCH($J471,SorP!$B$1:$B$6230,0))))","v":""},null,{"$f":"IF(C471=\"\",NA(),MATCH($B471&$C471,'Smelter Look-up'!$J:$J,0))","v":{"$error":"#N/A"}},null,0,null,null,null,""]
[{"$nulls":18},{"$f":"IF(ISERROR($W472),\"\",OFFSET('Smelter Look-up'!$C$4,$W472-4,0)&\"\")","v":""},"",{"$f":"IF(B472=\"\",\"\",IF(ISERROR(MATCH($J472,SorP!$B$1:$B$6230,0)),\"\",INDIRECT(\"'SorP'!$A$\"&MATCH($J472,SorP!$B$1:$B$6230,0))))","v":""},null,{"$f":"IF(C472=\"\",NA(),MATCH($B472&$C472,'Smelter Look-up'!$J:$J,0))","v":{"$error":"#N/A"}},null,0,null,null,null,""]
[{"$nulls":18},{"$f":"IF(ISERROR($W473),\"\",OFFSET('Smelter Look-up'!$C$4,$W473-4,0)&\"\")","v":""},"",{"$f":"IF(B473=\"\",\"\",IF(ISERROR(MATCH($J473,SorP!$B$1:$B$6230,0)),\"\",INDIRECT(\"'SorP'!$A$\"&MATCH($J473,SorP!$B$1:$B$6230,0))))","v":""},null,{"$f":"IF(C473=\"\",NA(),MATCH($B473&$C473,'Smelter Look-up'!$J:$J,0))","v":{"$error":"#N/A"}},null,0,null,null,null,""]
[{"$nulls":18},{"$f":"IF(ISERROR($W474),\"\",OFFSET('Smelter Look-up'!$C$4,$W474-4,0)&\"\")","v":""},"",{"$f":"IF(B474=\"\",\"\",IF(ISERROR(MATCH($J474,SorP!$B$1:$B$6230,0)),\"\",INDIRECT(\"'SorP'!$A$\"&MATCH($J474,SorP!$B$1:$B$6230,0))))","v":""},null,{"$f":"IF(C474=\"\",NA(),MATCH($B474&$C474,'Smelter Look-up'!$J:$J,0))","v":{"$error":"#N/A"}},null,0,null,null,null,""]
[{"$nulls":18},{"$f":"IF(ISERROR($W475),\"\",OFFSET('Smelter Look-up'!$C$4,$W475-4,0)&\"\")","v":""},"",{"$f":"IF(B475=\"\",\"\",IF(ISERROR(MATCH($J475,SorP!$B$1:$B$6230,0)),\"\",INDIRECT(\"'SorP'!$A$\"&MATCH($J475,SorP!$B$1:$B$6230,0))))","v":""},null,{"$f":"IF(C475=\"\",NA(),MATCH($B475&$C475,'Smelter Look-up'!$J:$J,0))","v":{"$error":"#N/A"}},null,0,null,null,null,""]
[{"$nulls":18},{"$f":"IF(ISERROR($W476),\"\",OFFSET('Smelter Look-up'!$C$4,$W476-4,0)&\"\")","v":""},"",{"$f":"IF(B476=\"\",\"\",IF(ISERROR(MATCH($J476,SorP!$B$1:$B$6230,0)),\"\",INDIRECT(\"'SorP'!$A$\"&MATCH($J476,SorP!$B$1:$B$6230,0))))","v":""},null,{"$f":"IF(C476=\"\",NA(),MATCH($B476&$C476,'Smelter Look-up'!$J:$J,0))","v":{"$error":"#N/A"}},null,0,null,null,null,""]
[{"$nulls":18},{"$f":"IF(ISERROR($W477),\"\",OFFSET('Smelter Look-up'!$C$4,$W477-4,0)&\"\")","v":""},"",{"$f":"IF(B477=\"\",\"\",IF(ISERROR(MATCH($J477,SorP!$B$1:$B$6230,0)),\"\",INDIRECT(\"'SorP'!$A$\"&MATCH($J477,SorP!$B$1:$B$6230,0))))","v":""},null,{"$f":"IF(C477=\"\",NA(),MATCH($B477&$C477,'Smelter Look-up'!$J:$J,0))","v":{"$error":"#N/A"}},null,0,null,null,null,""]
[{"$nulls":18},{"$f":"IF(ISERROR($W478),\"\",OFFSET('Smelter Look-up'!$C$4,$W478-4,0)&\"\")","v":""},"",{"$f":"IF(B478=\"\",\"\",IF(ISERROR(MATCH($J478,SorP!$B$1:$B$6230,0)),\"\",INDIRECT(\"'SorP'!$A$\"&MATCH($J478,SorP!$B$1:$B$6230,0))))","v":""},null,{"$f":"IF(C478=\"\",NA(),MATCH($B478&$C478,'Smelter Look-up'!$J:$J,0))","v":{"$error":"#N/A"}},null,0,null,null,null,""]
[{"$nulls":18},{"$f":"IF(ISERROR($W479),\"\",OFFSET('Smelter Look-up'!$C$4,$W479-4,0)&\"\")","v":""},"",{"$f":"IF(B479=\"\",\"\",IF(ISERROR(MATCH($J479,SorP!$B$1:$B$6230,0)),\"\",INDIRECT(\"'SorP'!$A$\"&MATCH($J479,SorP!$B$1:$B$6230,0))))","v":""},null,{"$f":"IF(C479=\"\",NA(),MATCH($B479&$C479,'Smelter Look-up'!$J:$J,0))","v":{"$error":"#N/A"}},null,0,null,null,null,""]
[{"$nulls":18},{"$f":"IF(ISERROR($W480),\"\",OFFSET('Smelter Look-up'!$C$4,$W480-4,0)&\"\")","v":""},"",{"$f":"IF(B480=\"\",\"\",IF(ISERROR(MATCH($J480,SorP!$B$1:$B$6230,0)),\"\",INDIRECT(\"'SorP'!$A$\"&MATCH($J480,SorP!$B$1:$B$6230,0))))","v":""},null,{"$f":"IF(C480=\"\",NA(),MATCH($B480&$C480,'Smelter Look-up'!$J:$J,0))","v":{"$error":"#N/A"}},null,0,null,null,null,""]
[{"$nulls":18},{"$f":"IF(ISERROR($W481),\"\",OFFSET('Smelter Look-up'!$C$4,$W481-4,0)&\"\")","v":""},"",{"$f":"IF(B481=\"\",\"\",IF(ISERROR(MATCH($J481,SorP!$B$1:$B$6230,0)),\"\",INDIRECT(\"'SorP'!$A$\"&MATCH($J481,SorP!$B$1:$B$6230,0))))","v":""},null,{"$f":"IF(C481=\"\",NA(),MATCH($B481&$C481,'Smelter Look-up'!$J:$J,0))","v":{"$error":"#N/A"}},null,0,null,null,null,""]
[{"$nulls":18},{"$f":"IF(ISERROR($W482),\"\",OFFSET('Smelter Look-up'!$C$4,$W482-4,0)&\"\")","v":""},"",{"$f":"IF(B482=\"\",\"\",IF(ISERROR(MATCH($J482,SorP!$B$1:$B$6230,0)),\"\",INDIRECT(\"'SorP'!$A$\"&MATCH($J482,SorP!$B$1:$B$6230,0))))","v":""},null,{"$f":"IF(C482=\"\",NA(),MATCH($B482&$C482,'Smelter Look-up'!$J:$J,0))","v":{"$error":"#N/A"}},null,0,null,null,null,""]
[{"$nulls":18},{"$f":"IF(ISERROR($W483),\"\",OFFSET('Smelter Look-up'!$C$4,$W483-4,0)&\"\")","v":""},"",{"$f":"IF(B483=\"\",\"\",IF(ISERROR(MATCH($J483,SorP!$B$1:$B$6230,0)),\"\",INDIRECT(\"'SorP'!$A$\"&MATCH($J483,SorP!$B$1:$B$6230,0))))","v":""},null,{"$f":"IF(C483=\"\",NA(),MATCH($B483&$C483,'Smelter Look-up'!$J:$J,0))","v":{"$error":"#N/A"}},null,0,null,null,null,""]
[{"$nulls":18},{"$f":"IF(ISERROR($W484),\"\",OFFSET('Smelter Look-up'!$C$4,$W484-4,0)&\"\")","v":""},"",{"$f":"IF(B484=\"\",\"\",IF(ISERROR(MATCH($J484,SorP!$B$1:$B$6230,0)),\"\",INDIRECT(\"'SorP'!$A$\"&MATCH($J484,SorP!$B$1:$B$6230,0))))","v":""},null,{"$f":"IF(C484=\"\",NA(),MATCH($B484&$C484,'Smelter Look-up'!$J:$J,0))","v":{"$error":"#N/A"}},null,0,null,null,null,""]
[{"$nulls":18},{"$f":"IF(ISERROR($W485),\"\",OFFSET('Smelter Look-up'!$C$4,$W485-4,0)&\"\")","v":""},"",{"$f":"IF(B485=\"\",\"\",IF(ISERROR(MATCH($J485,SorP!$B$1:$B$6230,0)),\"\",INDIRECT(\"'SorP'!$A$\"&MATCH($J485,SorP!$B$1:$B$6230,0))))","v":""},null,{"$f":"IF(C485=\"\",NA(),MATCH($B485&$C485,'Smelter Look-up'!$J:$J,0))","v":{"$error":"#N/A"}},null,0,null,null,null,""]
[{"$nulls":18},{"$f":"IF(ISERROR($W486),\"\",OFFSET('Smelter Look-up'!$C$4,$W486-4,0)&\"\")","v":""},"",{"$f":"IF(B486=\"\",\"\",IF(ISERROR(MATCH($J486,SorP!$B$1:$B$6230,0)),\"\",INDIRECT(\"'SorP'!$A$\"&MATCH($J486,SorP!$B$1:$B$6230,0))))","v":""},null,{"$f":"IF(C486=\"\",NA(),MATCH($B486&$C486,'Smelter Look-up'!$J:$J,0))","v":{"$error":"#N/A"}},null,0,null,null,null,""]
[{"$nulls":18},{"$f":"IF(ISERROR($W487),\"\",OFFSET('Smelter Look-up'!$C$4,$W487-4,0)&\"\")","v":""},"",{"$f":"IF(B487=\"\",\"\",IF(ISERROR(MATCH($J487,SorP!$B$1:$B$6230,0)),\"\",INDIRECT(\"'SorP'!$A$\"&MATCH($J487,SorP!$B$1:$B$6230,0))))","v":""},null,{"$f":"IF(C487=\"\",NA(),MATCH($B487&$C487,'Smelter Look-up'!$J:$J,0))","v":{"$error":"#N/A"}},null,0,null,null,null,""]
[{"$nulls":18},{"$f":"IF(ISERROR($W488),\"\",OFFSET('Smelter Look-up'!$C$4,$W488-4,0)&\"\")","v":""},"",{"$f":"IF(B488=\"\",\"\",IF(ISERROR(MATCH($J488,SorP!$B$1:$B$6230,0)),\"\",INDIRECT(\"'SorP'!$A$\"&MATCH($J488,SorP!$B$1:$B$6230,0))))","v":""},null,{"$f":"IF(C488=\"\",NA(),MATCH($B488&$C488,'Smelter Look-up'!$J:$J,0))","v":{"$error":"#N/A"}},null,0,null,null,null,""]
[{"$nulls":18},{"$f":"IF(ISERROR($W489),\"\",OFFSET('Smelter Look-up'!$C$4,$W489-4,0)&\"\")","v":""},"",{"$f":"IF(B489=\"\",\"\",IF(ISERROR(MATCH($J489,SorP!$B$1:$B$6230,0)),\"\",INDIRECT(\"'SorP'!$A$\"&MATCH($J489,SorP!$B$1:$B$6230,0))))","v":""},null,{"$f":"IF(C489=\"\",NA(),MATCH($B489&$C489,'Smelter Look-up'!$J:$J,0))","v":{"$error":"#N/A"}},null,0,null,null,null,""]
[{"$nulls":18},{"$f":"IF(ISERROR($W490),\"\",OFFSET('Smelter Look-up'!$C$4,$W490-4,0)&\"\")","v":""},"",{"$f":"IF(B490=\"\",\"\",IF(ISERROR(MATCH($J490,SorP!$B$1:$B$6230,0)),\"\",INDIRECT(\"'SorP'!$A$\"&MATCH($J490,SorP!$B$1:$B$6230,0))))","v":""},null,{"$f":"IF(C490=\"\",NA(),MATCH($B490&$C490,'Smelter Look-up'!$J:$J,0))","v":{"$error":"#N/A"}},null,0,null,null,null,""]
[{"$nulls":18},{"$f":"IF(ISERROR($W491),\"\",OFFSET('Smelter Look-up'!$C$4,$W491-4,0)&\"\")","v":""},"",{"$f":"IF(B491=\"\",\"\",IF(ISERROR(MATCH($J491,SorP!$B$1:$B$6230,0)),\"\",INDIRECT(\"'SorP'!$A$\"&MATCH($J491,SorP!$B$1:$B$6230,0))))","v":""},null,{"$f":"IF(C491=\"\",NA(),MATCH($B491&$C491,'Smelter Look-up'!$J:$J,0))","v":{"$error":"#N/A"}},null,0,null,null,null,""]
[{"$nulls":18},{"$f":"IF(ISERROR($W492),\"\",OFFSET('Smelter Look-up'!$C$4,$W492-4,0)&\"\")","v":""},"",{"$f":"IF(B492=\"\",\"\",IF(ISERROR(MATCH($J492,SorP!$B$1:$B$6230,0)),\"\",INDIRECT(\"'SorP'!$A$\"&MATCH($J492,SorP!$B$1:$B$6230,0))))","v":""},null,{"$f":"IF(C492=\"\",NA(),MATCH($B492&$C492,'Smelter Look-up'!$J:$J,0))","v":{"$error":"#N/A"}},null,0,null,null,null,""]
[{"$nulls":18},{"$f":"IF(ISERROR($W493),\"\",OFFSET('Smelter Look-up'!$C$4,$W493-4,0)&\"\")","v":""},"",{"$f":"IF(B493=\"\",\"\",IF(ISERROR(MATCH($J493,SorP!$B$1:$B$6230,0)),\"\",INDIRECT(\"'SorP'!$A$\"&MATCH($J493,SorP!$B$1:$B$6230,0))))","v":""},null,{"$f":"IF(C493=\"\",NA(),MATCH($B493&$C493,'Smelter Look-up'!$J:$J,0))","v":{"$error":"#N/A"}},null,0,null,null,null,""]
[{"$nulls":18},{"$f":"IF(ISERROR($W494),\"\",OFFSET('Smelter Look-up'!$C$4,$W494-4,0)&\"\")","v":""},"",{"$f":"IF(B494=\"\",\"\",IF(ISERROR(MATCH($J494,SorP!$B$1:$B$6230,0)),\"\",INDIRECT(\"'SorP'!$A$\"&MATCH($J494,SorP!$B$1:$B$6230,0))))","v":""},null,{"$f":"IF(C494=\"\",NA(),MATCH($B494&$C494,'Smelter Look-up'!$J:$J,0))","v":{"$error":"#N/A"}},null,0,null,null,null,""]
[{"$nulls":18},{"$f":"IF(ISERROR($W495),\"\",OFFSET('Smelter Look-up'!$C$4,$W495-4,0)&\"\")","v":""},"",{"$f":"IF(B495=\"\",\"\",IF(ISERROR(MATCH($J495,SorP!$B$1:$B$6230,0)),\"\",INDIRECT(\"'SorP'!$A$\"&MATCH($J495,SorP!$B$1:$B$6230,0))))","v":""},null,{"$f":"IF(C495=\"\",NA(),MATCH($B495&$C495,'Smelter Look-up'!$J:$J,0))","v":{"$error":"#N/A"}},null,0,null,null,null,""]
[{"$nulls":18},{"$f":"IF(ISERROR($W496),\"\",OFFSET('Smelter Look-up'!$C$4,$W496-4,0)&\"\")","v":""},"",{"$f":"IF(B496=\"\",\"\",IF(ISERROR(MATCH($J496,SorP!$B$1:$B$6230,0)),\"\",INDIRECT(\"'SorP'!$A$\"&MATCH($J496,SorP!$B$1:$B$6230,0))))","v":""},null,{"$f":"IF(C496=\"\",NA(),MATCH($B496&$C496,'Smelter Look-up'!$J:$J,0))","v":{"$error":"#N/A"}},null,0,null,null,null,""]
[{"$nulls":18},{"$f":"IF(ISERROR($W497),\"\",OFFSET('Smelter Look-up'!$C$4,$W497-4,0)&\"\")","v":""},"",{"$f":"IF(B497=\"\",\"\",IF(ISERROR(MATCH($J497,SorP!$B$1:$B$6230,0)),\"\",INDIRECT(\"'SorP'!$A$\"&MATCH($J497,SorP!$B$1:$B$6230,0))))","v":""},null,{"$f":"IF(C497=\"\",NA(),MATCH($B497&$C497,'Smelter Look-up'!$J:$J,0))","v":{"$error":"#N/A"}},null,0,null,null,null,""]
[{"$nulls":18},{"$f":"IF(ISERROR($W498),\"\",OFFSET('Smelter Look-up'!$C$4,$W498-4,0)&\"\")","v":""},"",{"$f":"IF(B498=\"\",\"\",IF(ISERROR(MATCH($J498,SorP!$B$1:$B$6230,0)),\"\",INDIRECT(\"'SorP'!$A$\"&MATCH($J498,SorP!$B$1:$B$6230,0))))","v":""},null,{"$f":"IF(C498=\"\",NA(),MATCH($B498&$C498,'Smelter Look-up'!$J:$J,0))","v":{"$error":"#N/A"}},null,0,null,null,null,""]
[{"$nulls":18},{"$f":"IF(ISERROR($W499),\"\",OFFSET('Smelter Look-up'!$C$4,$W499-4,0)&\"\")","v":""},"",{"$f":"IF(B499=\"\",\"\",IF(ISERROR(MATCH($J499,SorP!$B$1:$B$6230,0)),\"\",INDIRECT(\"'SorP'!$A$\"&MATCH($J499,SorP!$B$1:$B$6230,0))))","v":""},null,{"$f":"IF(C499=\"\",NA(),MATCH($B499&$C499,'Smelter Look-up'!$J:$J,0))","v":{"$error":"#N/A"}},null,0,null,null,null,""]
[{"$nulls":18},{"$f":"IF(ISERROR($W500),\"\",OFFSET('Smelter Look-up'!$C$4,$W500-4,0)&\"\")","v":""},"",{"$f":"IF(B500=\"\",\"\",IF(ISERROR(MATCH($J500,SorP!$B$1:$B$6230,0)),\"\",INDIRECT(\"'SorP'!$A$\"&MATCH($J500,SorP!$B$1:$B$6230,0))))","v":""},null,{"$f":"IF(C500=\"\",NA(),MATCH($B500&$C500,'Smelter Look-up'!$J:$J,0))","v":{"$error":"#N/A"}},null,0,null,null,null,""]
[{"$nulls":18},{"$f":"IF(ISERROR($W501),\"\",OFFSET('Smelter Look-up'!$C$4,$W501-4,0)&\"\")","v":""},"",{"$f":"IF(B501=\"\",\"\",IF(ISERROR(MATCH($J501,SorP!$B$1:$B$6230,0)),\"\",INDIRECT(\"'SorP'!$A$\"&MATCH($J501,SorP!$B$1:$B$6230,0))))","v":""},null,{"$f":"IF(C501=\"\",NA(),MATCH($B501&$C501,'Smelter Look-up'!$J:$J,0))","v":{"$error":"#N/A"}},null,0,null,null,null,""]
[{"$nulls":18},{"$f":"IF(ISERROR($W502),\"\",OFFSET('Smelter Look-up'!$C$4,$W502-4,0)&\"\")","v":""},"",{"$f":"IF(B502=\"\",\"\",IF(ISERROR(MATCH($J502,SorP!$B$1:$B$6230,0)),\"\",INDIRECT(\"'SorP'!$A$\"&MATCH($J502,SorP!$B$1:$B$6230,0))))","v":""},null,{"$f":"IF(C502=\"\",NA(),MATCH($B502&$C502,'Smelter Look-up'!$J:$J,0))","v":{"$error":"#N/A"}},null,0,null,null,null,""]
[{"$nulls":18},{"$f":"IF(ISERROR($W503),\"\",OFFSET('Smelter Look-up'!$C$4,$W503-4,0)&\"\")","v":""},"",{"$f":"IF(B503=\"\",\"\",IF(ISERROR(MATCH($J503,SorP!$B$1:$B$6230,0)),\"\",INDIRECT(\"'SorP'!$A$\"&MATCH($J503,SorP!$B$1:$B$6230,0))))","v":""},null,{"$f":"IF(C503=\"\",NA(),MATCH($B503&$C503,'Smelter Look-up'!$J:$J,0))","v":{"$error":"#N/A"}},null,0,null,null,null,""]
[{"$nulls":18},{"$f":"IF(ISERROR($W504),\"\",OFFSET('Smelter Look-up'!$C$4,$W504-4,0)&\"\")","v":""},"",{"$f":"IF(B504=\"\",\"\",IF(ISERROR(MATCH($J504,SorP!$B$1:$B$6230,0)),\"\",INDIRECT(\"'SorP'!$A$\"&MATCH($J504,SorP!$B$1:$B$6230,0))))","v":""},null,{"$f":"IF(C504=\"\",NA(),MATCH($B504&$C504,'Smelter Look-up'!$J:$J,0))","v":{"$error":"#N/A"}},null,0,null,null,null,""]
[{"$nulls":18},{"$f":"IF(ISERROR($W505),\"\",OFFSET('Smelter Look-up'!$C$4,$W505-4,0)&\"\")","v":""},"",{"$f":"IF(B505=\"\",\"\",IF(ISERROR(MATCH($J505,SorP!$B$1:$B$6230,0)),\"\",INDIRECT(\"'SorP'!$A$\"&MATCH($J505,SorP!$B$1:$B$6230,0))))","v":""},null,{"$f":"IF(C505=\"\",NA(),MATCH($B505&$C505,'Smelter Look-up'!$J:$J,0))","v":{"$error":"#N/A"}},null,0,null,null,null,""]
[{"$nulls":18},{"$f":"IF(ISERROR($W506),\"\",OFFSET('Smelter Look-up'!$C$4,$W506-4,0)&\"\")","v":""},"",{"$f":"IF(B506=\"\",\"\",IF(ISERROR(MATCH($J506,SorP!$B$1:$B$6230,0)),\"\",INDIRECT(\"'SorP'!$A$\"&MATCH($J506,SorP!$B$1:$B$6230,0))))","v":""},null,{"$f":"IF(C506=\"\",NA(),MATCH($B506&$C506,'Smelter Look-up'!$J:$J,0))","v":{"$error":"#N/A"}},null,0,null,null,null,""]
[{"$nulls":18},{"$f":"IF(ISERROR($W507),\"\",OFFSET('Smelter Look-up'!$C$4,$W507-4,0)&\"\")","v":""},"",{"$f":"IF(B507=\"\",\"\",IF(ISERROR(MATCH($J507,SorP!$B$1:$B$6230,0)),\"\",INDIRECT(\"'SorP'!$A$\"&MATCH($J507,SorP!$B$1:$B$6230,0))))","v":""},null,{"$f":"IF(C507=\"\",NA(),MATCH($B507&$C507,'Smelter Look-up'!$J:$J,0))","v":{"$error":"#N/A"}},null,0,null,null,null,""]
[{"$nulls":18},{"$f":"IF(ISERROR($W508),\"\",OFFSET('Smelter Look-up'!$C$4,$W508-4,0)&\"\")","v":""},"",{"$f":"IF(B508=\"\",\"\",IF(ISERROR(MATCH($J508,SorP!$B$1:$B$6230,0)),\"\",INDIRECT(\"'SorP'!$A$\"&MATCH($J508,SorP!$B$1:$B$6230,0))))","v":""},null,{"$f":"IF(C508=\"\",NA(),MATCH($B508&$C508,'Smelter Look-up'!$J:$J,0))","v":{"$error":"#N/A"}},null,0,null,null,null,""]
[{"$nulls":18},{"$f":"IF(ISERROR($W509),\"\",OFFSET('Smelter Look-up'!$C$4,$W509-4,0)&\"\")","v":""},"",{"$f":"IF(B509=\"\",\"\",IF(ISERROR(MATCH($J509,SorP!$B$1:$B$6230,0)),\"\",INDIRECT(\"'SorP'!$A$\"&MATCH($J509,SorP!$B$1:$B$6230,0))))","v":""},null,{"$f":"IF(C509=\"\",NA(),MATCH($B509&$C509,'Smelter Look-up'!$J:$J,0))","v":{"$error":"#N/A"}},null,0,null,null,null,""]
[{"$nulls":18},{"$f":"IF(ISERROR($W510),\"\",OFFSET('Smelter Look-up'!$C$4,$W510-4,0)&\"\")","v":""},"",{"$f":"IF(B510=\"\",\"\",IF(ISERROR(MATCH($J510,SorP!$B$1:$B$6230,0)),\"\",INDIRECT(\"'SorP'!$A$\"&MATCH($J510,SorP!$B$1:$B$6230,0))))","v":""},null,{"$f":"IF(C510=\"\",NA(),MATCH($B510&$C510,'Smelter Look-up'!$J:$J,0))","v":{"$error":"#N/A"}},null,0,null,null,null,""]
[{"$nulls":18},{"$f":"IF(ISERROR($W511),\"\",OFFSET('Smelter Look-up'!$C$4,$W511-4,0)&\"\")","v":""},"",{"$f":"IF(B511=\"\",\"\",IF(ISERROR(MATCH($J511,SorP!$B$1:$B$6230,0)),\"\",INDIRECT(\"'SorP'!$A$\"&MATCH($J511,SorP!$B$1:$B$6230,0))))","v":""},null,{"$f":"IF(C511=\"\",NA(),MATCH($B511&$C511,'Smelter Look-up'!$J:$J,0))","v":{"$error":"#N/A"}},null,0,null,null,null,""]
[{"$nulls":18},{"$f":"IF(ISERROR($W512),\"\",OFFSET('Smelter Look-up'!$C$4,$W512-4,0)&\"\")","v":""},"",{"$f":"IF(B512=\"\",\"\",IF(ISERROR(MATCH($J512,SorP!$B$1:$B$6230,0)),\"\",INDIRECT(\"'SorP'!$A$\"&MATCH($J512,SorP!$B$1:$B$6230,0))))","v":""},null,{"$f":"IF(C512=\"\",NA(),MATCH($B512&$C512,'Smelter Look-up'!$J:$J,0))","v":{"$error":"#N/A"}},null,0,null,null,null,""]
[{"$nulls":18},{"$f":"IF(ISERROR($W513),\"\",OFFSET('Smelter Look-up'!$C$4,$W513-4,0)&\"\")","v":""},"",{"$f":"IF(B513=\"\",\"\",IF(ISERROR(MATCH($J513,SorP!$B$1:$B$6230,0)),\"\",INDIRECT(\"'SorP'!$A$\"&MATCH($J513,SorP!$B$1:$B$6230,0))))","v":""},null,{"$f":"IF(C513=\"\",NA(),MATCH($B513&$C513,'Smelter Look-up'!$J:$J,0))","v":{"$error":"#N/A"}},null,0,null,null,null,""]
[{"$nulls":18},{"$f":"IF(ISERROR($W514),\"\",OFFSET('Smelter Look-up'!$C$4,$W514-4,0)&\"\")","v":""},"",{"$f":"IF(B514=\"\",\"\",IF(ISERROR(MATCH($J514,SorP!$B$1:$B$6230,0)),\"\",INDIRECT(\"'SorP'!$A$\"&MATCH($J514,SorP!$B$1:$B$6230,0))))","v":""},null,{"$f":"IF(C514=\"\",NA(),MATCH($B514&$C514,'Smelter Look-up'!$J:$J,0))","v":{"$error":"#N/A"}},null,0,null,null,null,""]
[{"$nulls":18},{"$f":"IF(ISERROR($W515),\"\",OFFSET('Smelter Look-up'!$C$4,$W515-4,0)&\"\")","v":""},"",{"$f":"IF(B515=\"\",\"\",IF(ISERROR(MATCH($J515,SorP!$B$1:$B$6230,0)),\"\",INDIRECT(\"'SorP'!$A$\"&MATCH($J515,SorP!$B$1:$B$6230,0))))","v":""},null,{"$f":"IF(C515=\"\",NA(),MATCH($B515&$C515,'Smelter Look-up'!$J:$J,0))","v":{"$error":"#N/A"}},null,0,null,null,null,""]
[{"$nulls":18},{"$f":"IF(ISERROR($W516),\"\",OFFSET('Smelter Look-up'!$C$4,$W516-4,0)&\"\")","v":""},"",{"$f":"IF(B516=\"\",\"\",IF(ISERROR(MATCH($J516,SorP!$B$1:$B$6230,0)),\"\",INDIRECT(\"'SorP'!$A$\"&MATCH($J516,SorP!$B$1:$B$6230,0))))","v":""},null,{"$f":"IF(C516=\"\",NA(),MATCH($B516&$C516,'Smelter Look-up'!$J:$J,0))","v":{"$error":"#N/A"}},null,0,null,null,null,""]
[{"$nulls":18},{"$f":"IF(ISERROR($W517),\"\",OFFSET('Smelter Look-up'!$C$4,$W517-4,0)&\"\")","v":""},{"$f":"IF(B517=\"\",\"\",IF(ISERROR(MATCH($E517,CL,0)),\"Unknown\",INDIRECT(\"'C'!$A$\"&MATCH($E517,CL,0)+1)))","v":""},{"$f":"IF(B517=\"\",\"\",IF(ISERROR(MATCH($J517,SorP!$B$1:$B$6230,0)),\"\",INDIRECT(\"'SorP'!$A$\"&MATCH($J517,SorP!$B$1:$B$6230,0))))","v":""},null,{"$f":"IF(C517=\"\",NA(),MATCH($B517&$C517,'Smelter Look-up'!$J:$J,0))","v":{"$error":"#N/A"}},null,{"$f":"IF(AND(C517=\"Smelter not listed\",OR(LEN(D517)=0,LEN(E517)=0)),1,0)","v":0},null,null,null,{"$f":"B517&C517","v":""}]
[{"$nulls":18},{"$f":"IF(ISERROR($W518),\"\",OFFSET('Smelter Look-up'!$C$4,$W518-4,0)&\"\")","v":""},"",{"$f":"IF(B518=\"\",\"\",IF(ISERROR(MATCH($J518,SorP!$B$1:$B$6230,0)),\"\",INDIRECT(\"'SorP'!$A$\"&MATCH($J518,SorP!$B$1:$B$6230,0))))","v":""},null,{"$f":"IF(C518=\"\",NA(),MATCH($B518&$C518,'Smelter Look-up'!$J:$J,0))","v":{"$error":"#N/A"}},null,0,null,null,null,""]
[{"$nulls":18},{"$f":"IF(ISERROR($W519),\"\",OFFSET('Smelter Look-up'!$C$4,$W519-4,0)&\"\")","v":""},"",{"$f":"IF(B519=\"\",\"\",IF(ISERROR(MATCH($J519,SorP!$B$1:$B$6230,0)),\"\",INDIRECT(\"'SorP'!$A$\"&MATCH($J519,SorP!$B$1:$B$6230,0))))","v":""},null,{"$f":"IF(C519=\"\",NA(),MATCH($B519&$C519,'Smelter Look-up'!$J:$J,0))","v":{"$error":"#N/A"}},null,0,null,null,null,""]
[{"$nulls":18},{"$f":"IF(ISERROR($W520),\"\",OFFSET('Smelter Look-up'!$C$4,$W520-4,0)&\"\")","v":""},"",{"$f":"IF(B520=\"\",\"\",IF(ISERROR(MATCH($J520,SorP!$B$1:$B$6230,0)),\"\",INDIRECT(\"'SorP'!$A$\"&MATCH($J520,SorP!$B$1:$B$6230,0))))","v":""},null,{"$f":"IF(C520=\"\",NA(),MATCH($B520&$C520,'Smelter Look-up'!$J:$J,0))","v":{"$error":"#N/A"}},null,0,null,null,null,""]
[{"$nulls":18},{"$f":"IF(ISERROR($W521),\"\",OFFSET('Smelter Look-up'!$C$4,$W521-4,0)&\"\")","v":""},"",{"$f":"IF(B521=\"\",\"\",IF(ISERROR(MATCH($J521,SorP!$B$1:$B$6230,0)),\"\",INDIRECT(\"'SorP'!$A$\"&MATCH($J521,SorP!$B$1:$B$6230,0))))","v":""},null,{"$f":"IF(C521=\"\",NA(),MATCH($B521&$C521,'Smelter Look-up'!$J:$J,0))","v":{"$error":"#N/A"}},null,0,null,null,null,""]
[{"$nulls":18},{"$f":"IF(ISERROR($W522),\"\",OFFSET('Smelter Look-up'!$C$4,$W522-4,0)&\"\")","v":""},"",{"$f":"IF(B522=\"\",\"\",IF(ISERROR(MATCH($J522,SorP!$B$1:$B$6230,0)),\"\",INDIRECT(\"'SorP'!$A$\"&MATCH($J522,SorP!$B$1:$B$6230,0))))","v":""},null,{"$f":"IF(C522=\"\",NA(),MATCH($B522&$C522,'Smelter Look-up'!$J:$J,0))","v":{"$error":"#N/A"}},null,0,null,null,null,""]
[{"$nulls":18},{"$f":"IF(ISERROR($W523),\"\",OFFSET('Smelter Look-up'!$C$4,$W523-4,0)&\"\")","v":""},"",{"$f":"IF(B523=\"\",\"\",IF(ISERROR(MATCH($J523,SorP!$B$1:$B$6230,0)),\"\",INDIRECT(\"'SorP'!$A$\"&MATCH($J523,SorP!$B$1:$B$6230,0))))","v":""},null,{"$f":"IF(C523=\"\",NA(),MATCH($B523&$C523,'Smelter Look-up'!$J:$J,0))","v":{"$error":"#N/A"}},null,0,null,null,null,""]
[{"$nulls":18},{"$f":"IF(ISERROR($W524),\"\",OFFSET('Smelter Look-up'!$C$4,$W524-4,0)&\"\")","v":""},"",{"$f":"IF(B524=\"\",\"\",IF(ISERROR(MATCH($J524,SorP!$B$1:$B$6230,0)),\"\",INDIRECT(\"'SorP'!$A$\"&MATCH($J524,SorP!$B$1:$B$6230,0))))","v":""},null,{"$f":"IF(C524=\"\",NA(),MATCH($B524&$C524,'Smelter Look-up'!$J:$J,0))","v":{"$error":"#N/A"}},null,0,null,null,null,""]
[{"$nulls":18},{"$f":"IF(ISERROR($W525),\"\",OFFSET('Smelter Look-up'!$C$4,$W525-4,0)&\"\")","v":""},"",{"$f":"IF(B525=\"\",\"\",IF(ISERROR(MATCH($J525,SorP!$B$1:$B$6230,0)),\"\",INDIRECT(\"'SorP'!$A$\"&MATCH($J525,SorP!$B$1:$B$6230,0))))","v":""},null,{"$f":"IF(C525=\"\",NA(),MATCH($B525&$C525,'Smelter Look-up'!$J:$J,0))","v":{"$error":"#N/A"}},null,0,null,null,null,""]
[{"$nulls":18},{"$f":"IF(ISERROR($W526),\"\",OFFSET('Smelter Look-up'!$C$4,$W526-4,0)&\"\")","v":""},"",{"$f":"IF(B526=\"\",\"\",IF(ISERROR(MATCH($J526,SorP!$B$1:$B$6230,0)),\"\",INDIRECT(\"'SorP'!$A$\"&MATCH($J526,SorP!$B$1:$B$6230,0))))","v":""},null,{"$f":"IF(C526=\"\",NA(),MATCH($B526&$C526,'Smelter Look-up'!$J:$J,0))","v":{"$error":"#N/A"}},null,0,null,null,null,""]
[{"$nulls":18},{"$f":"IF(ISERROR($W527),\"\",OFFSET('Smelter Look-up'!$C$4,$W527-4,0)&\"\")","v":""},"",{"$f":"IF(B527=\"\",\"\",IF(ISERROR(MATCH($J527,SorP!$B$1:$B$6230,0)),\"\",INDIRECT(\"'SorP'!$A$\"&MATCH($J527,SorP!$B$1:$B$6230,0))))","v":""},null,{"$f":"IF(C527=\"\",NA(),MATCH($B527&$C527,'Smelter Look-up'!$J:$J,0))","v":{"$error":"#N/A"}},null,0,null,null,null,""]
[{"$nulls":18},{"$f":"IF(ISERROR($W528),\"\",OFFSET('Smelter Look-up'!$C$4,$W528-4,0)&\"\")","v":""},"",{"$f":"IF(B528=\"\",\"\",IF(ISERROR(MATCH($J528,SorP!$B$1:$B$6230,0)),\"\",INDIRECT(\"'SorP'!$A$\"&MATCH($J528,SorP!$B$1:$B$6230,0))))","v":""},null,{"$f":"IF(C528=\"\",NA(),MATCH($B528&$C528,'Smelter Look-up'!$J:$J,0))","v":{"$error":"#N/A"}},null,0,null,null,null,""]
[{"$nulls":18},{"$f":"IF(ISERROR($W529),\"\",OFFSET('Smelter Look-up'!$C$4,$W529-4,0)&\"\")","v":""},"",{"$f":"IF(B529=\"\",\"\",IF(ISERROR(MATCH($J529,SorP!$B$1:$B$6230,0)),\"\",INDIRECT(\"'SorP'!$A$\"&MATCH($J529,SorP!$B$1:$B$6230,0))))","v":""},null,{"$f":"IF(C529=\"\",NA(),MATCH($B529&$C529,'Smelter Look-up'!$J:$J,0))","v":{"$error":"#N/A"}},null,0,null,null,null,""]
[{"$nulls":18},{"$f":"IF(ISERROR($W530),\"\",OFFSET('Smelter Look-up'!$C$4,$W530-4,0)&\"\")","v":""},"",{"$f":"IF(B530=\"\",\"\",IF(ISERROR(MATCH($J530,SorP!$B$1:$B$6230,0)),\"\",INDIRECT(\"'SorP'!$A$\"&MATCH($J530,SorP!$B$1:$B$6230,0))))","v":""},null,{"$f":"IF(C530=\"\",NA(),MATCH($B530&$C530,'Smelter Look-up'!$J:$J,0))","v":{"$error":"#N/A"}},null,0,null,null,null,""]
[{"$nulls":18},{"$f":"IF(ISERROR($W531),\"\",OFFSET('Smelter Look-up'!$C$4,$W531-4,0)&\"\")","v":""},"",{"$f":"IF(B531=\"\",\"\",IF(ISERROR(MATCH($J531,SorP!$B$1:$B$6230,0)),\"\",INDIRECT(\"'SorP'!$A$\"&MATCH($J531,SorP!$B$1:$B$6230,0))))","v":""},null,{"$f":"IF(C531=\"\",NA(),MATCH($B531&$C531,'Smelter Look-up'!$J:$J,0))","v":{"$error":"#N/A"}},null,0,null,null,null,""]
[{"$nulls":18},{"$f":"IF(ISERROR($W532),\"\",OFFSET('Smelter Look-up'!$C$4,$W532-4,0)&\"\")","v":""},"",{"$f":"IF(B532=\"\",\"\",IF(ISERROR(MATCH($J532,SorP!$B$1:$B$6230,0)),\"\",INDIRECT(\"'SorP'!$A$\"&MATCH($J532,SorP!$B$1:$B$6230,0))))","v":""},null,{"$f":"IF(C532=\"\",NA(),MATCH($B532&$C532,'Smelter Look-up'!$J:$J,0))","v":{"$error":"#N/A"}},null,0,null,null,null,""]
[{"$nulls":18},{"$f":"IF(ISERROR($W533),\"\",OFFSET('Smelter Look-up'!$C$4,$W533-4,0)&\"\")","v":""},"",{"$f":"IF(B533=\"\",\"\",IF(ISERROR(MATCH($J533,SorP!$B$1:$B$6230,0)),\"\",INDIRECT(\"'SorP'!$A$\"&MATCH($J533,SorP!$B$1:$B$6230,0))))","v":""},null,{"$f":"IF(C533=\"\",NA(),MATCH($B533&$C533,'Smelter Look-up'!$J:$J,0))","v":{"$error":"#N/A"}},null,0,null,null,null,""]
[{"$nulls":18},{"$f":"IF(ISERROR($W534),\"\",OFFSET('Smelter Look-up'!$C$4,$W534-4,0)&\"\")","v":""},"",{"$f":"IF(B534=\"\",\"\",IF(ISERROR(MATCH($J534,SorP!$B$1:$B$6230,0)),\"\",INDIRECT(\"'SorP'!$A$\"&MATCH($J534,SorP!$B$1:$B$6230,0))))","v":""},null,{"$f":"IF(C534=\"\",NA(),MATCH($B534&$C534,'Smelter Look-up'!$J:$J,0))","v":{"$error":"#N/A"}},null,0,null,null,null,""]
[{"$nulls":18},{"$f":"IF(ISERROR($W535),\"\",OFFSET('Smelter Look-up'!$C$4,$W535-4,0)&\"\")","v":""},"",{"$f":"IF(B535=\"\",\"\",IF(ISERROR(MATCH($J535,SorP!$B$1:$B$6230,0)),\"\",INDIRECT(\"'SorP'!$A$\"&MATCH($J535,SorP!$B$1:$B$6230,0))))","v":""},null,{"$f":"IF(C535=\"\",NA(),MATCH($B535&$C535,'Smelter Look-up'!$J:$J,0))","v":{"$error":"#N/A"}},null,0,null,null,null,""]
[{"$nulls":18},{"$f":"IF(ISERROR($W536),\"\",OFFSET('Smelter Look-up'!$C$4,$W536-4,0)&\"\")","v":""},"",{"$f":"IF(B536=\"\",\"\",IF(ISERROR(MATCH($J536,SorP!$B$1:$B$6230,0)),\"\",INDIRECT(\"'SorP'!$A$\"&MATCH($J536,SorP!$B$1:$B$6230,0))))","v":""},null,{"$f":"IF(C536=\"\",NA(),MATCH($B536&$C536,'Smelter Look-up'!$J:$J,0))","v":{"$error":"#N/A"}},null,0,null,null,null,""]
[{"$nulls":18},{"$f":"IF(ISERROR($W537),\"\",OFFSET('Smelter Look-up'!$C$4,$W537-4,0)&\"\")","v":""},"",{"$f":"IF(B537=\"\",\"\",IF(ISERROR(MATCH($J537,SorP!$B$1:$B$6230,0)),\"\",INDIRECT(\"'SorP'!$A$\"&MATCH($J537,SorP!$B$1:$B$6230,0))))","v":""},null,{"$f":"IF(C537=\"\",NA(),MATCH($B537&$C537,'Smelter Look-up'!$J:$J,0))","v":{"$error":"#N/A"}},null,0,null,null,null,""]
[{"$nulls":18},{"$f":"IF(ISERROR($W538),\"\",OFFSET('Smelter Look-up'!$C$4,$W538-4,0)&\"\")","v":""},"",{"$f":"IF(B538=\"\",\"\",IF(ISERROR(MATCH($J538,SorP!$B$1:$B$6230,0)),\"\",INDIRECT(\"'SorP'!$A$\"&MATCH($J538,SorP!$B$1:$B$6230,0))))","v":""},null,{"$f":"IF(C538=\"\",NA(),MATCH($B538&$C538,'Smelter Look-up'!$J:$J,0))","v":{"$error":"#N/A"}},null,0,null,null,null,""]
[{"$nulls":18},{"$f":"IF(ISERROR($W539),\"\",OFFSET('Smelter Look-up'!$C$4,$W539-4,0)&\"\")","v":""},"",{"$f":"IF(B539=\"\",\"\",IF(ISERROR(MATCH($J539,SorP!$B$1:$B$6230,0)),\"\",INDIRECT(\"'SorP'!$A$\"&MATCH($J539,SorP!$B$1:$B$6230,0))))","v":""},null,{"$f":"IF(C539=\"\",NA(),MATCH($B539&$C539,'Smelter Look-up'!$J:$J,0))","v":{"$error":"#N/A"}},null,0,null,null,null,""]
[{"$nulls":18},{"$f":"IF(ISERROR($W540),\"\",OFFSET('Smelter Look-up'!$C$4,$W540-4,0)&\"\")","v":""},"",{"$f":"IF(B540=\"\",\"\",IF(ISERROR(MATCH($J540,SorP!$B$1:$B$6230,0)),\"\",INDIRECT(\"'SorP'!$A$\"&MATCH($J540,SorP!$B$1:$B$6230,0))))","v":""},null,{"$f":"IF(C540=\"\",NA(),MATCH($B540&$C540,'Smelter Look-up'!$J:$J,0))","v":{"$error":"#N/A"}},null,0,null,null,null,""]
[{"$nulls":18},{"$f":"IF(ISERROR($W541),\"\",OFFSET('Smelter Look-up'!$C$4,$W541-4,0)&\"\")","v":""},"",{"$f":"IF(B541=\"\",\"\",IF(ISERROR(MATCH($J541,SorP!$B$1:$B$6230,0)),\"\",INDIRECT(\"'SorP'!$A$\"&MATCH($J541,SorP!$B$1:$B$6230,0))))","v":""},null,{"$f":"IF(C541=\"\",NA(),MATCH($B541&$C541,'Smelter Look-up'!$J:$J,0))","v":{"$error":"#N/A"}},null,0,null,null,null,""]
[{"$nulls":18},{"$f":"IF(ISERROR($W542),\"\",OFFSET('Smelter Look-up'!$C$4,$W542-4,0)&\"\")","v":""},"",{"$f":"IF(B542=\"\",\"\",IF(ISERROR(MATCH($J542,SorP!$B$1:$B$6230,0)),\"\",INDIRECT(\"'SorP'!$A$\"&MATCH($J542,SorP!$B$1:$B$6230,0))))","v":""},null,{"$f":"IF(C542=\"\",NA(),MATCH($B542&$C542,'Smelter Look-up'!$J:$J,0))","v":{"$error":"#N/A"}},null,0,null,null,null,""]
[{"$nulls":18},{"$f":"IF(ISERROR($W543),\"\",OFFSET('Smelter Look-up'!$C$4,$W543-4,0)&\"\")","v":""},"",{"$f":"IF(B543=\"\",\"\",IF(ISERROR(MATCH($J543,SorP!$B$1:$B$6230,0)),\"\",INDIRECT(\"'SorP'!$A$\"&MATCH($J543,SorP!$B$1:$B$6230,0))))","v":""},null,{"$f":"IF(C543=\"\",NA(),MATCH($B543&$C543,'Smelter Look-up'!$J:$J,0))","v":{"$error":"#N/A"}},null,0,null,null,null,""]
[{"$nulls":18},{"$f":"IF(ISERROR($W544),\"\",OFFSET('Smelter Look-up'!$C$4,$W544-4,0)&\"\")","v":""},"",{"$f":"IF(B544=\"\",\"\",IF(ISERROR(MATCH($J544,SorP!$B$1:$B$6230,0)),\"\",INDIRECT(\"'SorP'!$A$\"&MATCH($J544,SorP!$B$1:$B$6230,0))))","v":""},null,{"$f":"IF(C544=\"\",NA(),MATCH($B544&$C544,'Smelter Look-up'!$J:$J,0))","v":{"$error":"#N/A"}},null,0,null,null,null,""]
[{"$nulls":18},{"$f":"IF(ISERROR($W545),\"\",OFFSET('Smelter Look-up'!$C$4,$W545-4,0)&\"\")","v":""},"",{"$f":"IF(B545=\"\",\"\",IF(ISERROR(MATCH($J545,SorP!$B$1:$B$6230,0)),\"\",INDIRECT(\"'SorP'!$A$\"&MATCH($J545,SorP!$B$1:$B$6230,0))))","v":""},null,{"$f":"IF(C545=\"\",NA(),MATCH($B545&$C545,'Smelter Look-up'!$J:$J,0))","v":{"$error":"#N/A"}},null,0,null,null,null,""]
[{"$nulls":18},{"$f":"IF(ISERROR($W546),\"\",OFFSET('Smelter Look-up'!$C$4,$W546-4,0)&\"\")","v":""},"",{"$f":"IF(B546=\"\",\"\",IF(ISERROR(MATCH($J546,SorP!$B$1:$B$6230,0)),\"\",INDIRECT(\"'SorP'!$A$\"&MATCH($J546,SorP!$B$1:$B$6230,0))))","v":""},null,{"$f":"IF(C546=\"\",NA(),MATCH($B546&$C546,'Smelter Look-up'!$J:$J,0))","v":{"$error":"#N/A"}},null,0,null,null,null,""]
[{"$nulls":18},{"$f":"IF(ISERROR($W547),\"\",OFFSET('Smelter Look-up'!$C$4,$W547-4,0)&\"\")","v":""},"",{"$f":"IF(B547=\"\",\"\",IF(ISERROR(MATCH($J547,SorP!$B$1:$B$6230,0)),\"\",INDIRECT(\"'SorP'!$A$\"&MATCH($J547,SorP!$B$1:$B$6230,0))))","v":""},null,{"$f":"IF(C547=\"\",NA(),MATCH($B547&$C547,'Smelter Look-up'!$J:$J,0))","v":{"$error":"#N/A"}},null,0,null,null,null,""]
[{"$nulls":18},{"$f":"IF(ISERROR($W548),\"\",OFFSET('Smelter Look-up'!$C$4,$W548-4,0)&\"\")","v":""},"",{"$f":"IF(B548=\"\",\"\",IF(ISERROR(MATCH($J548,SorP!$B$1:$B$6230,0)),\"\",INDIRECT(\"'SorP'!$A$\"&MATCH($J548,SorP!$B$1:$B$6230,0))))","v":""},null,{"$f":"IF(C548=\"\",NA(),MATCH($B548&$C548,'Smelter Look-up'!$J:$J,0))","v":{"$error":"#N/A"}},null,0,null,null,null,""]
[{"$nulls":18},{"$f":"IF(ISERROR($W549),\"\",OFFSET('Smelter Look-up'!$C$4,$W549-4,0)&\"\")","v":""},"",{"$f":"IF(B549=\"\",\"\",IF(ISERROR(MATCH($J549,SorP!$B$1:$B$6230,0)),\"\",INDIRECT(\"'SorP'!$A$\"&MATCH($J549,SorP!$B$1:$B$6230,0))))","v":""},null,{"$f":"IF(C549=\"\",NA(),MATCH($B549&$C549,'Smelter Look-up'!$J:$J,0))","v":{"$error":"#N/A"}},null,0,null,null,null,""]
[{"$nulls":18},{"$f":"IF(ISERROR($W550),\"\",OFFSET('Smelter Look-up'!$C$4,$W550-4,0)&\"\")","v":""},"",{"$f":"IF(B550=\"\",\"\",IF(ISERROR(MATCH($J550,SorP!$B$1:$B$6230,0)),\"\",INDIRECT(\"'SorP'!$A$\"&MATCH($J550,SorP!$B$1:$B$6230,0))))","v":""},null,{"$f":"IF(C550=\"\",NA(),MATCH($B550&$C550,'Smelter Look-up'!$J:$J,0))","v":{"$error":"#N/A"}},null,0,null,null,null,""]
[{"$nulls":18},{"$f":"IF(ISERROR($W551),\"\",OFFSET('Smelter Look-up'!$C$4,$W551-4,0)&\"\")","v":""},"",{"$f":"IF(B551=\"\",\"\",IF(ISERROR(MATCH($J551,SorP!$B$1:$B$6230,0)),\"\",INDIRECT(\"'SorP'!$A$\"&MATCH($J551,SorP!$B$1:$B$6230,0))))","v":""},null,{"$f":"IF(C551=\"\",NA(),MATCH($B551&$C551,'Smelter Look-up'!$J:$J,0))","v":{"$error":"#N/A"}},null,0,null,null,null,""]
[{"$nulls":18},{"$f":"IF(ISERROR($W552),\"\",OFFSET('Smelter Look-up'!$C$4,$W552-4,0)&\"\")","v":""},"",{"$f":"IF(B552=\"\",\"\",IF(ISERROR(MATCH($J552,SorP!$B$1:$B$6230,0)),\"\",INDIRECT(\"'SorP'!$A$\"&MATCH($J552,SorP!$B$1:$B$6230,0))))","v":""},null,{"$f":"IF(C552=\"\",NA(),MATCH($B552&$C552,'Smelter Look-up'!$J:$J,0))","v":{"$error":"#N/A"}},null,0,null,null,null,""]
[{"$nulls":18},{"$f":"IF(ISERROR($W553),\"\",OFFSET('Smelter Look-up'!$C$4,$W553-4,0)&\"\")","v":""},"",{"$f":"IF(B553=\"\",\"\",IF(ISERROR(MATCH($J553,SorP!$B$1:$B$6230,0)),\"\",INDIRECT(\"'SorP'!$A$\"&MATCH($J553,SorP!$B$1:$B$6230,0))))","v":""},null,{"$f":"IF(C553=\"\",NA(),MATCH($B553&$C553,'Smelter Look-up'!$J:$J,0))","v":{"$error":"#N/A"}},null,0,null,null,null,""]
[{"$nulls":18},{"$f":"IF(ISERROR($W554),\"\",OFFSET('Smelter Look-up'!$C$4,$W554-4,0)&\"\")","v":""},"",{"$f":"IF(B554=\"\",\"\",IF(ISERROR(MATCH($J554,SorP!$B$1:$B$6230,0)),\"\",INDIRECT(\"'SorP'!$A$\"&MATCH($J554,SorP!$B$1:$B$6230,0))))","v":""},null,{"$f":"IF(C554=\"\",NA(),MATCH($B554&$C554,'Smelter Look-up'!$J:$J,0))","v":{"$error":"#N/A"}},null,0,null,null,null,""]
[{"$nulls":18},{"$f":"IF(ISERROR($W555),\"\",OFFSET('Smelter Look-up'!$C$4,$W555-4,0)&\"\")","v":""},"",{"$f":"IF(B555=\"\",\"\",IF(ISERROR(MATCH($J555,SorP!$B$1:$B$6230,0)),\"\",INDIRECT(\"'SorP'!$A$\"&MATCH($J555,SorP!$B$1:$B$6230,0))))","v":""},null,{"$f":"IF(C555=\"\",NA(),MATCH($B555&$C555,'Smelter Look-up'!$J:$J,0))","v":{"$error":"#N/A"}},null,0,null,null,null,""]
[{"$nulls":18},{"$f":"IF(ISERROR($W556),\"\",OFFSET('Smelter Look-up'!$C$4,$W556-4,0)&\"\")","v":""},"",{"$f":"IF(B556=\"\",\"\",IF(ISERROR(MATCH($J556,SorP!$B$1:$B$6230,0)),\"\",INDIRECT(\"'SorP'!$A$\"&MATCH($J556,SorP!$B$1:$B$6230,0))))","v":""},null,{"$f":"IF(C556=\"\",NA(),MATCH($B556&$C556,'Smelter Look-up'!$J:$J,0))","v":{"$error":"#N/A"}},null,0,null,null,null,""]
[{"$nulls":18},{"$f":"IF(ISERROR($W557),\"\",OFFSET('Smelter Look-up'!$C$4,$W557-4,0)&\"\")","v":""},"",{"$f":"IF(B557=\"\",\"\",IF(ISERROR(MATCH($J557,SorP!$B$1:$B$6230,0)),\"\",INDIRECT(\"'SorP'!$A$\"&MATCH($J557,SorP!$B$1:$B$6230,0))))","v":""},null,{"$f":"IF(C557=\"\",NA(),MATCH($B557&$C557,'Smelter Look-up'!$J:$J,0))","v":{"$error":"#N/A"}},null,0,null,null,null,""]
[{"$nulls":18},{"$f":"IF(ISERROR($W558),\"\",OFFSET('Smelter Look-up'!$C$4,$W558-4,0)&\"\")","v":""},"",{"$f":"IF(B558=\"\",\"\",IF(ISERROR(MATCH($J558,SorP!$B$1:$B$6230,0)),\"\",INDIRECT(\"'SorP'!$A$\"&MATCH($J558,SorP!$B$1:$B$6230,0))))","v":""},null,{"$f":"IF(C558=\"\",NA(),MATCH($B558&$C558,'Smelter Look-up'!$J:$J,0))","v":{"$error":"#N/A"}},null,0,null,null,null,""]
[{"$nulls":18},{"$f":"IF(ISERROR($W559),\"\",OFFSET('Smelter Look-up'!$C$4,$W559-4,0)&\"\")","v":""},"",{"$f":"IF(B559=\"\",\"\",IF(ISERROR(MATCH($J559,SorP!$B$1:$B$6230,0)),\"\",INDIRECT(\"'SorP'!$A$\"&MATCH($J559,SorP!$B$1:$B$6230,0))))","v":""},null,{"$f":"IF(C559=\"\",NA(),MATCH($B559&$C559,'Smelter Look-up'!$J:$J,0))","v":{"$error":"#N/A"}},null,0,null,null,null,""]
[{"$nulls":18},{"$f":"IF(ISERROR($W560),\"\",OFFSET('Smelter Look-up'!$C$4,$W560-4,0)&\"\")","v":""},"",{"$f":"IF(B560=\"\",\"\",IF(ISERROR(MATCH($J560,SorP!$B$1:$B$6230,0)),\"\",INDIRECT(\"'SorP'!$A$\"&MATCH($J560,SorP!$B$1:$B$6230,0))))","v":""},null,{"$f":"IF(C560=\"\",NA(),MATCH($B560&$C560,'Smelter Look-up'!$J:$J,0))","v":{"$error":"#N/A"}},null,0,null,null,null,""]
[{"$nulls":18},{"$f":"IF(ISERROR($W561),\"\",OFFSET('Smelter Look-up'!$C$4,$W561-4,0)&\"\")","v":""},"",{"$f":"IF(B561=\"\",\"\",IF(ISERROR(MATCH($J561,SorP!$B$1:$B$6230,0)),\"\",INDIRECT(\"'SorP'!$A$\"&MATCH($J561,SorP!$B$1:$B$6230,0))))","v":""},null,{"$f":"IF(C561=\"\",NA(),MATCH($B561&$C561,'Smelter Look-up'!$J:$J,0))","v":{"$error":"#N/A"}},null,0,null,null,null,""]
[{"$nulls":18},{"$f":"IF(ISERROR($W562),\"\",OFFSET('Smelter Look-up'!$C$4,$W562-4,0)&\"\")","v":""},"",{"$f":"IF(B562=\"\",\"\",IF(ISERROR(MATCH($J562,SorP!$B$1:$B$6230,0)),\"\",INDIRECT(\"'SorP'!$A$\"&MATCH($J562,SorP!$B$1:$B$6230,0))))","v":""},null,{"$f":"IF(C562=\"\",NA(),MATCH($B562&$C562,'Smelter Look-up'!$J:$J,0))","v":{"$error":"#N/A"}},null,0,null,null,null,""]
[{"$nulls":18},{"$f":"IF(ISERROR($W563),\"\",OFFSET('Smelter Look-up'!$C$4,$W563-4,0)&\"\")","v":""},"",{"$f":"IF(B563=\"\",\"\",IF(ISERROR(MATCH($J563,SorP!$B$1:$B$6230,0)),\"\",INDIRECT(\"'SorP'!$A$\"&MATCH($J563,SorP!$B$1:$B$6230,0))))","v":""},null,{"$f":"IF(C563=\"\",NA(),MATCH($B563&$C563,'Smelter Look-up'!$J:$J,0))","v":{"$error":"#N/A"}},null,0,null,null,null,""]
[{"$nulls":18},{"$f":"IF(ISERROR($W564),\"\",OFFSET('Smelter Look-up'!$C$4,$W564-4,0)&\"\")","v":""},"",{"$f":"IF(B564=\"\",\"\",IF(ISERROR(MATCH($J564,SorP!$B$1:$B$6230,0)),\"\",INDIRECT(\"'SorP'!$A$\"&MATCH($J564,SorP!$B$1:$B$6230,0))))","v":""},null,{"$f":"IF(C564=\"\",NA(),MATCH($B564&$C564,'Smelter Look-up'!$J:$J,0))","v":{"$error":"#N/A"}},null,0,null,null,null,""]
[{"$nulls":18},{"$f":"IF(ISERROR($W565),\"\",OFFSET('Smelter Look-up'!$C$4,$W565-4,0)&\"\")","v":""},"",{"$f":"IF(B565=\"\",\"\",IF(ISERROR(MATCH($J565,SorP!$B$1:$B$6230,0)),\"\",INDIRECT(\"'SorP'!$A$\"&MATCH($J565,SorP!$B$1:$B$6230,0))))","v":""},null,{"$f":"IF(C565=\"\",NA(),MATCH($B565&$C565,'Smelter Look-up'!$J:$J,0))","v":{"$error":"#N/A"}},null,0,null,null,null,""]
[{"$nulls":18},{"$f":"IF(ISERROR($W566),\"\",OFFSET('Smelter Look-up'!$C$4,$W566-4,0)&\"\")","v":""},"",{"$f":"IF(B566=\"\",\"\",IF(ISERROR(MATCH($J566,SorP!$B$1:$B$6230,0)),\"\",INDIRECT(\"'SorP'!$A$\"&MATCH($J566,SorP!$B$1:$B$6230,0))))","v":""},null,{"$f":"IF(C566=\"\",NA(),MATCH($B566&$C566,'Smelter Look-up'!$J:$J,0))","v":{"$error":"#N/A"}},null,0,null,null,null,""]
[{"$nulls":18},{"$f":"IF(ISERROR($W567),\"\",OFFSET('Smelter Look-up'!$C$4,$W567-4,0)&\"\")","v":""},"",{"$f":"IF(B567=\"\",\"\",IF(ISERROR(MATCH($J567,SorP!$B$1:$B$6230,0)),\"\",INDIRECT(\"'SorP'!$A$\"&MATCH($J567,SorP!$B$1:$B$6230,0))))","v":""},null,{"$f":"IF(C567=\"\",NA(),MATCH($B567&$C567,'Smelter Look-up'!$J:$J,0))","v":{"$error":"#N/A"}},null,0,null,null,null,""]
[{"$nulls":18},{"$f":"IF(ISERROR($W568),\"\",OFFSET('Smelter Look-up'!$C$4,$W568-4,0)&\"\")","v":""},"",{"$f":"IF(B568=\"\",\"\",IF(ISERROR(MATCH($J568,SorP!$B$1:$B$6230,0)),\"\",INDIRECT(\"'SorP'!$A$\"&MATCH($J568,SorP!$B$1:$B$6230,0))))","v":""},null,{"$f":"IF(C568=\"\",NA(),MATCH($B568&$C568,'Smelter Look-up'!$J:$J,0))","v":{"$error":"#N/A"}},null,0,null,null,null,""]
[{"$nulls":18},{"$f":"IF(ISERROR($W569),\"\",OFFSET('Smelter Look-up'!$C$4,$W569-4,0)&\"\")","v":""},"",{"$f":"IF(B569=\"\",\"\",IF(ISERROR(MATCH($J569,SorP!$B$1:$B$6230,0)),\"\",INDIRECT(\"'SorP'!$A$\"&MATCH($J569,SorP!$B$1:$B$6230,0))))","v":""},null,{"$f":"IF(C569=\"\",NA(),MATCH($B569&$C569,'Smelter Look-up'!$J:$J,0))","v":{"$error":"#N/A"}},null,0,null,null,null,""]
[{"$nulls":18},{"$f":"IF(ISERROR($W570),\"\",OFFSET('Smelter Look-up'!$C$4,$W570-4,0)&\"\")","v":""},"",{"$f":"IF(B570=\"\",\"\",IF(ISERROR(MATCH($J570,SorP!$B$1:$B$6230,0)),\"\",INDIRECT(\"'SorP'!$A$\"&MATCH($J570,SorP!$B$1:$B$6230,0))))","v":""},null,{"$f":"IF(C570=\"\",NA(),MATCH($B570&$C570,'Smelter Look-up'!$J:$J,0))","v":{"$error":"#N/A"}},null,0,null,null,null,""]
[{"$nulls":18},{"$f":"IF(ISERROR($W571),\"\",OFFSET('Smelter Look-up'!$C$4,$W571-4,0)&\"\")","v":""},"",{"$f":"IF(B571=\"\",\"\",IF(ISERROR(MATCH($J571,SorP!$B$1:$B$6230,0)),\"\",INDIRECT(\"'SorP'!$A$\"&MATCH($J571,SorP!$B$1:$B$6230,0))))","v":""},null,{"$f":"IF(C571=\"\",NA(),MATCH($B571&$C571,'Smelter Look-up'!$J:$J,0))","v":{"$error":"#N/A"}},null,0,null,null,null,""]
[{"$nulls":18},{"$f":"IF(ISERROR($W572),\"\",OFFSET('Smelter Look-up'!$C$4,$W572-4,0)&\"\")","v":""},"",{"$f":"IF(B572=\"\",\"\",IF(ISERROR(MATCH($J572,SorP!$B$1:$B$6230,0)),\"\",INDIRECT(\"'SorP'!$A$\"&MATCH($J572,SorP!$B$1:$B$6230,0))))","v":""},null,{"$f":"IF(C572=\"\",NA(),MATCH($B572&$C572,'Smelter Look-up'!$J:$J,0))","v":{"$error":"#N/A"}},null,0,null,null,null,""]
[{"$nulls":18},{"$f":"IF(ISERROR($W573),\"\",OFFSET('Smelter Look-up'!$C$4,$W573-4,0)&\"\")","v":""},"",{"$f":"IF(B573=\"\",\"\",IF(ISERROR(MATCH($J573,SorP!$B$1:$B$6230,0)),\"\",INDIRECT(\"'SorP'!$A$\"&MATCH($J573,SorP!$B$1:$B$6230,0))))","v":""},null,{"$f":"IF(C573=\"\",NA(),MATCH($B573&$C573,'Smelter Look-up'!$J:$J,0))","v":{"$error":"#N/A"}},null,0,null,null,null,""]
[{"$nulls":18},{"$f":"IF(ISERROR($W574),\"\",OFFSET('Smelter Look-up'!$C$4,$W574-4,0)&\"\")","v":""},"",{"$f":"IF(B574=\"\",\"\",IF(ISERROR(MATCH($J574,SorP!$B$1:$B$6230,0)),\"\",INDIRECT(\"'SorP'!$A$\"&MATCH($J574,SorP!$B$1:$B$6230,0))))","v":""},null,{"$f":"IF(C574=\"\",NA(),MATCH($B574&$C574,'Smelter Look-up'!$J:$J,0))","v":{"$error":"#N/A"}},null,0,null,null,null,""]
[{"$nulls":18},{"$f":"IF(ISERROR($W575),\"\",OFFSET('Smelter Look-up'!$C$4,$W575-4,0)&\"\")","v":""},"",{"$f":"IF(B575=\"\",\"\",IF(ISERROR(MATCH($J575,SorP!$B$1:$B$6230,0)),\"\",INDIRECT(\"'SorP'!$A$\"&MATCH($J575,SorP!$B$1:$B$6230,0))))","v":""},null,{"$f":"IF(C575=\"\",NA(),MATCH($B575&$C575,'Smelter Look-up'!$J:$J,0))","v":{"$error":"#N/A"}},null,0,null,null,null,""]
[{"$nulls":18},{"$f":"IF(ISERROR($W576),\"\",OFFSET('Smelter Look-up'!$C$4,$W576-4,0)&\"\")","v":""},"",{"$f":"IF(B576=\"\",\"\",IF(ISERROR(MATCH($J576,SorP!$B$1:$B$6230,0)),\"\",INDIRECT(\"'SorP'!$A$\"&MATCH($J576,SorP!$B$1:$B$6230,0))))","v":""},null,{"$f":"IF(C576=\"\",NA(),MATCH($B576&$C576,'Smelter Look-up'!$J:$J,0))","v":{"$error":"#N/A"}},null,0,null,null,null,""]
[{"$nulls":18},{"$f":"IF(ISERROR($W577),\"\",OFFSET('Smelter Look-up'!$C$4,$W577-4,0)&\"\")","v":""},"",{"$f":"IF(B577=\"\",\"\",IF(ISERROR(MATCH($J577,SorP!$B$1:$B$6230,0)),\"\",INDIRECT(\"'SorP'!$A$\"&MATCH($J577,SorP!$B$1:$B$6230,0))))","v":""},null,{"$f":"IF(C577=\"\",NA(),MATCH($B577&$C577,'Smelter Look-up'!$J:$J,0))","v":{"$error":"#N/A"}},null,0,null,null,null,""]
[{"$nulls":18},{"$f":"IF(ISERROR($W578),\"\",OFFSET('Smelter Look-up'!$C$4,$W578-4,0)&\"\")","v":""},"",{"$f":"IF(B578=\"\",\"\",IF(ISERROR(MATCH($J578,SorP!$B$1:$B$6230,0)),\"\",INDIRECT(\"'SorP'!$A$\"&MATCH($J578,SorP!$B$1:$B$6230,0))))","v":""},null,{"$f":"IF(C578=\"\",NA(),MATCH($B578&$C578,'Smelter Look-up'!$J:$J,0))","v":{"$error":"#N/A"}},null,0,null,null,null,""]
[{"$nulls":18},{"$f":"IF(ISERROR($W579),\"\",OFFSET('Smelter Look-up'!$C$4,$W579-4,0)&\"\")","v":""},"",{"$f":"IF(B579=\"\",\"\",IF(ISERROR(MATCH($J579,SorP!$B$1:$B$6230,0)),\"\",INDIRECT(\"'SorP'!$A$\"&MATCH($J579,SorP!$B$1:$B$6230,0))))","v":""},null,{"$f":"IF(C579=\"\",NA(),MATCH($B579&$C579,'Smelter Look-up'!$J:$J,0))","v":{"$error":"#N/A"}},null,0,null,null,null,""]
[{"$nulls":18},{"$f":"IF(ISERROR($W580),\"\",OFFSET('Smelter Look-up'!$C$4,$W580-4,0)&\"\")","v":""},"",{"$f":"IF(B580=\"\",\"\",IF(ISERROR(MATCH($J580,SorP!$B$1:$B$6230,0)),\"\",INDIRECT(\"'SorP'!$A$\"&MATCH($J580,SorP!$B$1:$B$6230,0))))","v":""},null,{"$f":"IF(C580=\"\",NA(),MATCH($B580&$C580,'Smelter Look-up'!$J:$J,0))","v":{"$error":"#N/A"}},null,0,null,null,null,""]
[{"$nulls":18},{"$f":"IF(ISERROR($W581),\"\",OFFSET('Smelter Look-up'!$C$4,$W581-4,0)&\"\")","v":""},{"$f":"IF(B581=\"\",\"\",IF(ISERROR(MATCH($E581,CL,0)),\"Unknown\",INDIRECT(\"'C'!$A$\"&MATCH($E581,CL,0)+1)))","v":""},{"$f":"IF(B581=\"\",\"\",IF(ISERROR(MATCH($J581,SorP!$B$1:$B$6230,0)),\"\",INDIRECT(\"'SorP'!$A$\"&MATCH($J581,SorP!$B$1:$B$6230,0))))","v":""},null,{"$f":"IF(C581=\"\",NA(),MATCH($B581&$C581,'Smelter Look-up'!$J:$J,0))","v":{"$error":"#N/A"}},null,{"$f":"IF(AND(C581=\"Smelter not listed\",OR(LEN(D581)=0,LEN(E581)=0)),1,0)","v":0},null,null,null,{"$f":"B581&C581","v":""}]
[{"$nulls":18},{"$f":"IF(ISERROR($W582),\"\",OFFSET('Smelter Look-up'!$C$4,$W582-4,0)&\"\")","v":""},"",{"$f":"IF(B582=\"\",\"\",IF(ISERROR(MATCH($J582,SorP!$B$1:$B$6230,0)),\"\",INDIRECT(\"'SorP'!$A$\"&MATCH($J582,SorP!$B$1:$B$6230,0))))","v":""},null,{"$f":"IF(C582=\"\",NA(),MATCH($B582&$C582,'Smelter Look-up'!$J:$J,0))","v":{"$error":"#N/A"}},null,0,null,null,null,""]
[{"$nulls":18},{"$f":"IF(ISERROR($W583),\"\",OFFSET('Smelter Look-up'!$C$4,$W583-4,0)&\"\")","v":""},"",{"$f":"IF(B583=\"\",\"\",IF(ISERROR(MATCH($J583,SorP!$B$1:$B$6230,0)),\"\",INDIRECT(\"'SorP'!$A$\"&MATCH($J583,SorP!$B$1:$B$6230,0))))","v":""},null,{"$f":"IF(C583=\"\",NA(),MATCH($B583&$C583,'Smelter Look-up'!$J:$J,0))","v":{"$error":"#N/A"}},null,0,null,null,null,""]
[{"$nulls":18},{"$f":"IF(ISERROR($W584),\"\",OFFSET('Smelter Look-up'!$C$4,$W584-4,0)&\"\")","v":""},"",{"$f":"IF(B584=\"\",\"\",IF(ISERROR(MATCH($J584,SorP!$B$1:$B$6230,0)),\"\",INDIRECT(\"'SorP'!$A$\"&MATCH($J584,SorP!$B$1:$B$6230,0))))","v":""},null,{"$f":"IF(C584=\"\",NA(),MATCH($B584&$C584,'Smelter Look-up'!$J:$J,0))","v":{"$error":"#N/A"}},null,0,null,null,null,""]
[{"$nulls":18},{"$f":"IF(ISERROR($W585),\"\",OFFSET('Smelter Look-up'!$C$4,$W585-4,0)&\"\")","v":""},"",{"$f":"IF(B585=\"\",\"\",IF(ISERROR(MATCH($J585,SorP!$B$1:$B$6230,0)),\"\",INDIRECT(\"'SorP'!$A$\"&MATCH($J585,SorP!$B$1:$B$6230,0))))","v":""},null,{"$f":"IF(C585=\"\",NA(),MATCH($B585&$C585,'Smelter Look-up'!$J:$J,0))","v":{"$error":"#N/A"}},null,0,null,null,null,""]
[{"$nulls":18},{"$f":"IF(ISERROR($W586),\"\",OFFSET('Smelter Look-up'!$C$4,$W586-4,0)&\"\")","v":""},"",{"$f":"IF(B586=\"\",\"\",IF(ISERROR(MATCH($J586,SorP!$B$1:$B$6230,0)),\"\",INDIRECT(\"'SorP'!$A$\"&MATCH($J586,SorP!$B$1:$B$6230,0))))","v":""},null,{"$f":"IF(C586=\"\",NA(),MATCH($B586&$C586,'Smelter Look-up'!$J:$J,0))","v":{"$error":"#N/A"}},null,0,null,null,null,""]
[{"$nulls":18},{"$f":"IF(ISERROR($W587),\"\",OFFSET('Smelter Look-up'!$C$4,$W587-4,0)&\"\")","v":""},"",{"$f":"IF(B587=\"\",\"\",IF(ISERROR(MATCH($J587,SorP!$B$1:$B$6230,0)),\"\",INDIRECT(\"'SorP'!$A$\"&MATCH($J587,SorP!$B$1:$B$6230,0))))","v":""},null,{"$f":"IF(C587=\"\",NA(),MATCH($B587&$C587,'Smelter Look-up'!$J:$J,0))","v":{"$error":"#N/A"}},null,0,null,null,null,""]
[{"$nulls":18},{"$f":"IF(ISERROR($W588),\"\",OFFSET('Smelter Look-up'!$C$4,$W588-4,0)&\"\")","v":""},"",{"$f":"IF(B588=\"\",\"\",IF(ISERROR(MATCH($J588,SorP!$B$1:$B$6230,0)),\"\",INDIRECT(\"'SorP'!$A$\"&MATCH($J588,SorP!$B$1:$B$6230,0))))","v":""},null,{"$f":"IF(C588=\"\",NA(),MATCH($B588&$C588,'Smelter Look-up'!$J:$J,0))","v":{"$error":"#N/A"}},null,0,null,null,null,""]
[{"$nulls":18},{"$f":"IF(ISERROR($W589),\"\",OFFSET('Smelter Look-up'!$C$4,$W589-4,0)&\"\")","v":""},"",{"$f":"IF(B589=\"\",\"\",IF(ISERROR(MATCH($J589,SorP!$B$1:$B$6230,0)),\"\",INDIRECT(\"'SorP'!$A$\"&MATCH($J589,SorP!$B$1:$B$6230,0))))","v":""},null,{"$f":"IF(C589=\"\",NA(),MATCH($B589&$C589,'Smelter Look-up'!$J:$J,0))","v":{"$error":"#N/A"}},null,0,null,null,null,""]
[{"$nulls":18},{"$f":"IF(ISERROR($W590),\"\",OFFSET('Smelter Look-up'!$C$4,$W590-4,0)&\"\")","v":""},"",{"$f":"IF(B590=\"\",\"\",IF(ISERROR(MATCH($J590,SorP!$B$1:$B$6230,0)),\"\",INDIRECT(\"'SorP'!$A$\"&MATCH($J590,SorP!$B$1:$B$6230,0))))","v":""},null,{"$f":"IF(C590=\"\",NA(),MATCH($B590&$C590,'Smelter Look-up'!$J:$J,0))","v":{"$error":"#N/A"}},null,0,null,null,null,""]
[{"$nulls":18},{"$f":"IF(ISERROR($W591),\"\",OFFSET('Smelter Look-up'!$C$4,$W591-4,0)&\"\")","v":""},"",{"$f":"IF(B591=\"\",\"\",IF(ISERROR(MATCH($J591,SorP!$B$1:$B$6230,0)),\"\",INDIRECT(\"'SorP'!$A$\"&MATCH($J591,SorP!$B$1:$B$6230,0))))","v":""},null,{"$f":"IF(C591=\"\",NA(),MATCH($B591&$C591,'Smelter Look-up'!$J:$J,0))","v":{"$error":"#N/A"}},null,0,null,null,null,""]
[{"$nulls":18},{"$f":"IF(ISERROR($W592),\"\",OFFSET('Smelter Look-up'!$C$4,$W592-4,0)&\"\")","v":""},"",{"$f":"IF(B592=\"\",\"\",IF(ISERROR(MATCH($J592,SorP!$B$1:$B$6230,0)),\"\",INDIRECT(\"'SorP'!$A$\"&MATCH($J592,SorP!$B$1:$B$6230,0))))","v":""},null,{"$f":"IF(C592=\"\",NA(),MATCH($B592&$C592,'Smelter Look-up'!$J:$J,0))","v":{"$error":"#N/A"}},null,0,null,null,null,""]
[{"$nulls":18},{"$f":"IF(ISERROR($W593),\"\",OFFSET('Smelter Look-up'!$C$4,$W593-4,0)&\"\")","v":""},"",{"$f":"IF(B593=\"\",\"\",IF(ISERROR(MATCH($J593,SorP!$B$1:$B$6230,0)),\"\",INDIRECT(\"'SorP'!$A$\"&MATCH($J593,SorP!$B$1:$B$6230,0))))","v":""},null,{"$f":"IF(C593=\"\",NA(),MATCH($B593&$C593,'Smelter Look-up'!$J:$J,0))","v":{"$error":"#N/A"}},null,0,null,null,null,""]
[{"$nulls":18},{"$f":"IF(ISERROR($W594),\"\",OFFSET('Smelter Look-up'!$C$4,$W594-4,0)&\"\")","v":""},"",{"$f":"IF(B594=\"\",\"\",IF(ISERROR(MATCH($J594,SorP!$B$1:$B$6230,0)),\"\",INDIRECT(\"'SorP'!$A$\"&MATCH($J594,SorP!$B$1:$B$6230,0))))","v":""},null,{"$f":"IF(C594=\"\",NA(),MATCH($B594&$C594,'Smelter Look-up'!$J:$J,0))","v":{"$error":"#N/A"}},null,0,null,null,null,""]
[{"$nulls":18},{"$f":"IF(ISERROR($W595),\"\",OFFSET('Smelter Look-up'!$C$4,$W595-4,0)&\"\")","v":""},"",{"$f":"IF(B595=\"\",\"\",IF(ISERROR(MATCH($J595,SorP!$B$1:$B$6230,0)),\"\",INDIRECT(\"'SorP'!$A$\"&MATCH($J595,SorP!$B$1:$B$6230,0))))","v":""},null,{"$f":"IF(C595=\"\",NA(),MATCH($B595&$C595,'Smelter Look-up'!$J:$J,0))","v":{"$error":"#N/A"}},null,0,null,null,null,""]
[{"$nulls":18},{"$f":"IF(ISERROR($W596),\"\",OFFSET('Smelter Look-up'!$C$4,$W596-4,0)&\"\")","v":""},"",{"$f":"IF(B596=\"\",\"\",IF(ISERROR(MATCH($J596,SorP!$B$1:$B$6230,0)),\"\",INDIRECT(\"'SorP'!$A$\"&MATCH($J596,SorP!$B$1:$B$6230,0))))","v":""},null,{"$f":"IF(C596=\"\",NA(),MATCH($B596&$C596,'Smelter Look-up'!$J:$J,0))","v":{"$error":"#N/A"}},null,0,null,null,null,""]
[{"$nulls":18},{"$f":"IF(ISERROR($W597),\"\",OFFSET('Smelter Look-up'!$C$4,$W597-4,0)&\"\")","v":""},"",{"$f":"IF(B597=\"\",\"\",IF(ISERROR(MATCH($J597,SorP!$B$1:$B$6230,0)),\"\",INDIRECT(\"'SorP'!$A$\"&MATCH($J597,SorP!$B$1:$B$6230,0))))","v":""},null,{"$f":"IF(C597=\"\",NA(),MATCH($B597&$C597,'Smelter Look-up'!$J:$J,0))","v":{"$error":"#N/A"}},null,0,null,null,null,""]
[{"$nulls":18},{"$f":"IF(ISERROR($W598),\"\",OFFSET('Smelter Look-up'!$C$4,$W598-4,0)&\"\")","v":""},"",{"$f":"IF(B598=\"\",\"\",IF(ISERROR(MATCH($J598,SorP!$B$1:$B$6230,0)),\"\",INDIRECT(\"'SorP'!$A$\"&MATCH($J598,SorP!$B$1:$B$6230,0))))","v":""},null,{"$f":"IF(C598=\"\",NA(),MATCH($B598&$C598,'Smelter Look-up'!$J:$J,0))","v":{"$error":"#N/A"}},null,0,null,null,null,""]
[{"$nulls":18},{"$f":"IF(ISERROR($W599),\"\",OFFSET('Smelter Look-up'!$C$4,$W599-4,0)&\"\")","v":""},"",{"$f":"IF(B599=\"\",\"\",IF(ISERROR(MATCH($J599,SorP!$B$1:$B$6230,0)),\"\",INDIRECT(\"'SorP'!$A$\"&MATCH($J599,SorP!$B$1:$B$6230,0))))","v":""},null,{"$f":"IF(C599=\"\",NA(),MATCH($B599&$C599,'Smelter Look-up'!$J:$J,0))","v":{"$error":"#N/A"}},null,0,null,null,null,""]
[{"$nulls":18},{"$f":"IF(ISERROR($W600),\"\",OFFSET('Smelter Look-up'!$C$4,$W600-4,0)&\"\")","v":""},"",{"$f":"IF(B600=\"\",\"\",IF(ISERROR(MATCH($J600,SorP!$B$1:$B$6230,0)),\"\",INDIRECT(\"'SorP'!$A$\"&MATCH($J600,SorP!$B$1:$B$6230,0))))","v":""},null,{"$f":"IF(C600=\"\",NA(),MATCH($B600&$C600,'Smelter Look-up'!$J:$J,0))","v":{"$error":"#N/A"}},null,0,null,null,null,""]
[{"$nulls":18},{"$f":"IF(ISERROR($W601),\"\",OFFSET('Smelter Look-up'!$C$4,$W601-4,0)&\"\")","v":""},"",{"$f":"IF(B601=\"\",\"\",IF(ISERROR(MATCH($J601,SorP!$B$1:$B$6230,0)),\"\",INDIRECT(\"'SorP'!$A$\"&MATCH($J601,SorP!$B$1:$B$6230,0))))","v":""},null,{"$f":"IF(C601=\"\",NA(),MATCH($B601&$C601,'Smelter Look-up'!$J:$J,0))","v":{"$error":"#N/A"}},null,0,null,null,null,""]
[{"$nulls":18},{"$f":"IF(ISERROR($W602),\"\",OFFSET('Smelter Look-up'!$C$4,$W602-4,0)&\"\")","v":""},"",{"$f":"IF(B602=\"\",\"\",IF(ISERROR(MATCH($J602,SorP!$B$1:$B$6230,0)),\"\",INDIRECT(\"'SorP'!$A$\"&MATCH($J602,SorP!$B$1:$B$6230,0))))","v":""},null,{"$f":"IF(C602=\"\",NA(),MATCH($B602&$C602,'Smelter Look-up'!$J:$J,0))","v":{"$error":"#N/A"}},null,0,null,null,null,""]
[{"$nulls":18},{"$f":"IF(ISERROR($W603),\"\",OFFSET('Smelter Look-up'!$C$4,$W603-4,0)&\"\")","v":""},"",{"$f":"IF(B603=\"\",\"\",IF(ISERROR(MATCH($J603,SorP!$B$1:$B$6230,0)),\"\",INDIRECT(\"'SorP'!$A$\"&MATCH($J603,SorP!$B$1:$B$6230,0))))","v":""},null,{"$f":"IF(C603=\"\",NA(),MATCH($B603&$C603,'Smelter Look-up'!$J:$J,0))","v":{"$error":"#N/A"}},null,0,null,null,null,""]
[{"$nulls":18},{"$f":"IF(ISERROR($W604),\"\",OFFSET('Smelter Look-up'!$C$4,$W604-4,0)&\"\")","v":""},"",{"$f":"IF(B604=\"\",\"\",IF(ISERROR(MATCH($J604,SorP!$B$1:$B$6230,0)),\"\",INDIRECT(\"'SorP'!$A$\"&MATCH($J604,SorP!$B$1:$B$6230,0))))","v":""},null,{"$f":"IF(C604=\"\",NA(),MATCH($B604&$C604,'Smelter Look-up'!$J:$J,0))","v":{"$error":"#N/A"}},null,0,null,null,null,""]
[{"$nulls":18},{"$f":"IF(ISERROR($W605),\"\",OFFSET('Smelter Look-up'!$C$4,$W605-4,0)&\"\")","v":""},"",{"$f":"IF(B605=\"\",\"\",IF(ISERROR(MATCH($J605,SorP!$B$1:$B$6230,0)),\"\",INDIRECT(\"'SorP'!$A$\"&MATCH($J605,SorP!$B$1:$B$6230,0))))","v":""},null,{"$f":"IF(C605=\"\",NA(),MATCH($B605&$C605,'Smelter Look-up'!$J:$J,0))","v":{"$error":"#N/A"}},null,0,null,null,null,""]
[{"$nulls":18},{"$f":"IF(ISERROR($W606),\"\",OFFSET('Smelter Look-up'!$C$4,$W606-4,0)&\"\")","v":""},"",{"$f":"IF(B606=\"\",\"\",IF(ISERROR(MATCH($J606,SorP!$B$1:$B$6230,0)),\"\",INDIRECT(\"'SorP'!$A$\"&MATCH($J606,SorP!$B$1:$B$6230,0))))","v":""},null,{"$f":"IF(C606=\"\",NA(),MATCH($B606&$C606,'Smelter Look-up'!$J:$J,0))","v":{"$error":"#N/A"}},null,0,null,null,null,""]
[{"$nulls":18},{"$f":"IF(ISERROR($W607),\"\",OFFSET('Smelter Look-up'!$C$4,$W607-4,0)&\"\")","v":""},"",{"$f":"IF(B607=\"\",\"\",IF(ISERROR(MATCH($J607,SorP!$B$1:$B$6230,0)),\"\",INDIRECT(\"'SorP'!$A$\"&MATCH($J607,SorP!$B$1:$B$6230,0))))","v":""},null,{"$f":"IF(C607=\"\",NA(),MATCH($B607&$C607,'Smelter Look-up'!$J:$J,0))","v":{"$error":"#N/A"}},null,0,null,null,null,""]
[{"$nulls":18},{"$f":"IF(ISERROR($W608),\"\",OFFSET('Smelter Look-up'!$C$4,$W608-4,0)&\"\")","v":""},"",{"$f":"IF(B608=\"\",\"\",IF(ISERROR(MATCH($J608,SorP!$B$1:$B$6230,0)),\"\",INDIRECT(\"'SorP'!$A$\"&MATCH($J608,SorP!$B$1:$B$6230,0))))","v":""},null,{"$f":"IF(C608=\"\",NA(),MATCH($B608&$C608,'Smelter Look-up'!$J:$J,0))","v":{"$error":"#N/A"}},null,0,null,null,null,""]
[{"$nulls":18},{"$f":"IF(ISERROR($W609),\"\",OFFSET('Smelter Look-up'!$C$4,$W609-4,0)&\"\")","v":""},"",{"$f":"IF(B609=\"\",\"\",IF(ISERROR(MATCH($J609,SorP!$B$1:$B$6230,0)),\"\",INDIRECT(\"'SorP'!$A$\"&MATCH($J609,SorP!$B$1:$B$6230,0))))","v":""},null,{"$f":"IF(C609=\"\",NA(),MATCH($B609&$C609,'Smelter Look-up'!$J:$J,0))","v":{"$error":"#N/A"}},null,0,null,null,null,""]
[{"$nulls":18},{"$f":"IF(ISERROR($W610),\"\",OFFSET('Smelter Look-up'!$C$4,$W610-4,0)&\"\")","v":""},"",{"$f":"IF(B610=\"\",\"\",IF(ISERROR(MATCH($J610,SorP!$B$1:$B$6230,0)),\"\",INDIRECT(\"'SorP'!$A$\"&MATCH($J610,SorP!$B$1:$B$6230,0))))","v":""},null,{"$f":"IF(C610=\"\",NA(),MATCH($B610&$C610,'Smelter Look-up'!$J:$J,0))","v":{"$error":"#N/A"}},null,0,null,null,null,""]
[{"$nulls":18},{"$f":"IF(ISERROR($W611),\"\",OFFSET('Smelter Look-up'!$C$4,$W611-4,0)&\"\")","v":""},"",{"$f":"IF(B611=\"\",\"\",IF(ISERROR(MATCH($J611,SorP!$B$1:$B$6230,0)),\"\",INDIRECT(\"'SorP'!$A$\"&MATCH($J611,SorP!$B$1:$B$6230,0))))","v":""},null,{"$f":"IF(C611=\"\",NA(),MATCH($B611&$C611,'Smelter Look-up'!$J:$J,0))","v":{"$error":"#N/A"}},null,0,null,null,null,""]
[{"$nulls":18},{"$f":"IF(ISERROR($W612),\"\",OFFSET('Smelter Look-up'!$C$4,$W612-4,0)&\"\")","v":""},"",{"$f":"IF(B612=\"\",\"\",IF(ISERROR(MATCH($J612,SorP!$B$1:$B$6230,0)),\"\",INDIRECT(\"'SorP'!$A$\"&MATCH($J612,SorP!$B$1:$B$6230,0))))","v":""},null,{"$f":"IF(C612=\"\",NA(),MATCH($B612&$C612,'Smelter Look-up'!$J:$J,0))","v":{"$error":"#N/A"}},null,0,null,null,null,""]
[{"$nulls":18},{"$f":"IF(ISERROR($W613),\"\",OFFSET('Smelter Look-up'!$C$4,$W613-4,0)&\"\")","v":""},"",{"$f":"IF(B613=\"\",\"\",IF(ISERROR(MATCH($J613,SorP!$B$1:$B$6230,0)),\"\",INDIRECT(\"'SorP'!$A$\"&MATCH($J613,SorP!$B$1:$B$6230,0))))","v":""},null,{"$f":"IF(C613=\"\",NA(),MATCH($B613&$C613,'Smelter Look-up'!$J:$J,0))","v":{"$error":"#N/A"}},null,0,null,null,null,""]
[{"$nulls":18},{"$f":"IF(ISERROR($W614),\"\",OFFSET('Smelter Look-up'!$C$4,$W614-4,0)&\"\")","v":""},"",{"$f":"IF(B614=\"\",\"\",IF(ISERROR(MATCH($J614,SorP!$B$1:$B$6230,0)),\"\",INDIRECT(\"'SorP'!$A$\"&MATCH($J614,SorP!$B$1:$B$6230,0))))","v":""},null,{"$f":"IF(C614=\"\",NA(),MATCH($B614&$C614,'Smelter Look-up'!$J:$J,0))","v":{"$error":"#N/A"}},null,0,null,null,null,""]
[{"$nulls":18},{"$f":"IF(ISERROR($W615),\"\",OFFSET('Smelter Look-up'!$C$4,$W615-4,0)&\"\")","v":""},"",{"$f":"IF(B615=\"\",\"\",IF(ISERROR(MATCH($J615,SorP!$B$1:$B$6230,0)),\"\",INDIRECT(\"'SorP'!$A$\"&MATCH($J615,SorP!$B$1:$B$6230,0))))","v":""},null,{"$f":"IF(C615=\"\",NA(),MATCH($B615&$C615,'Smelter Look-up'!$J:$J,0))","v":{"$error":"#N/A"}},null,0,null,null,null,""]
[{"$nulls":18},{"$f":"IF(ISERROR($W616),\"\",OFFSET('Smelter Look-up'!$C$4,$W616-4,0)&\"\")","v":""},"",{"$f":"IF(B616=\"\",\"\",IF(ISERROR(MATCH($J616,SorP!$B$1:$B$6230,0)),\"\",INDIRECT(\"'SorP'!$A$\"&MATCH($J616,SorP!$B$1:$B$6230,0))))","v":""},null,{"$f":"IF(C616=\"\",NA(),MATCH($B616&$C616,'Smelter Look-up'!$J:$J,0))","v":{"$error":"#N/A"}},null,0,null,null,null,""]
[{"$nulls":18},{"$f":"IF(ISERROR($W617),\"\",OFFSET('Smelter Look-up'!$C$4,$W617-4,0)&\"\")","v":""},"",{"$f":"IF(B617=\"\",\"\",IF(ISERROR(MATCH($J617,SorP!$B$1:$B$6230,0)),\"\",INDIRECT(\"'SorP'!$A$\"&MATCH($J617,SorP!$B$1:$B$6230,0))))","v":""},null,{"$f":"IF(C617=\"\",NA(),MATCH($B617&$C617,'Smelter Look-up'!$J:$J,0))","v":{"$error":"#N/A"}},null,0,null,null,null,""]
[{"$nulls":18},{"$f":"IF(ISERROR($W618),\"\",OFFSET('Smelter Look-up'!$C$4,$W618-4,0)&\"\")","v":""},"",{"$f":"IF(B618=\"\",\"\",IF(ISERROR(MATCH($J618,SorP!$B$1:$B$6230,0)),\"\",INDIRECT(\"'SorP'!$A$\"&MATCH($J618,SorP!$B$1:$B$6230,0))))","v":""},null,{"$f":"IF(C618=\"\",NA(),MATCH($B618&$C618,'Smelter Look-up'!$J:$J,0))","v":{"$error":"#N/A"}},null,0,null,null,null,""]
[{"$nulls":18},{"$f":"IF(ISERROR($W619),\"\",OFFSET('Smelter Look-up'!$C$4,$W619-4,0)&\"\")","v":""},"",{"$f":"IF(B619=\"\",\"\",IF(ISERROR(MATCH($J619,SorP!$B$1:$B$6230,0)),\"\",INDIRECT(\"'SorP'!$A$\"&MATCH($J619,SorP!$B$1:$B$6230,0))))","v":""},null,{"$f":"IF(C619=\"\",NA(),MATCH($B619&$C619,'Smelter Look-up'!$J:$J,0))","v":{"$error":"#N/A"}},null,0,null,null,null,""]
[{"$nulls":18},{"$f":"IF(ISERROR($W620),\"\",OFFSET('Smelter Look-up'!$C$4,$W620-4,0)&\"\")","v":""},"",{"$f":"IF(B620=\"\",\"\",IF(ISERROR(MATCH($J620,SorP!$B$1:$B$6230,0)),\"\",INDIRECT(\"'SorP'!$A$\"&MATCH($J620,SorP!$B$1:$B$6230,0))))","v":""},null,{"$f":"IF(C620=\"\",NA(),MATCH($B620&$C620,'Smelter Look-up'!$J:$J,0))","v":{"$error":"#N/A"}},null,0,null,null,null,""]
[{"$nulls":18},{"$f":"IF(ISERROR($W621),\"\",OFFSET('Smelter Look-up'!$C$4,$W621-4,0)&\"\")","v":""},"",{"$f":"IF(B621=\"\",\"\",IF(ISERROR(MATCH($J621,SorP!$B$1:$B$6230,0)),\"\",INDIRECT(\"'SorP'!$A$\"&MATCH($J621,SorP!$B$1:$B$6230,0))))","v":""},null,{"$f":"IF(C621=\"\",NA(),MATCH($B621&$C621,'Smelter Look-up'!$J:$J,0))","v":{"$error":"#N/A"}},null,0,null,null,null,""]
[{"$nulls":18},{"$f":"IF(ISERROR($W622),\"\",OFFSET('Smelter Look-up'!$C$4,$W622-4,0)&\"\")","v":""},"",{"$f":"IF(B622=\"\",\"\",IF(ISERROR(MATCH($J622,SorP!$B$1:$B$6230,0)),\"\",INDIRECT(\"'SorP'!$A$\"&MATCH($J622,SorP!$B$1:$B$6230,0))))","v":""},null,{"$f":"IF(C622=\"\",NA(),MATCH($B622&$C622,'Smelter Look-up'!$J:$J,0))","v":{"$error":"#N/A"}},null,0,null,null,null,""]
[{"$nulls":18},{"$f":"IF(ISERROR($W623),\"\",OFFSET('Smelter Look-up'!$C$4,$W623-4,0)&\"\")","v":""},"",{"$f":"IF(B623=\"\",\"\",IF(ISERROR(MATCH($J623,SorP!$B$1:$B$6230,0)),\"\",INDIRECT(\"'SorP'!$A$\"&MATCH($J623,SorP!$B$1:$B$6230,0))))","v":""},null,{"$f":"IF(C623=\"\",NA(),MATCH($B623&$C623,'Smelter Look-up'!$J:$J,0))","v":{"$error":"#N/A"}},null,0,null,null,null,""]
[{"$nulls":18},{"$f":"IF(ISERROR($W624),\"\",OFFSET('Smelter Look-up'!$C$4,$W624-4,0)&\"\")","v":""},"",{"$f":"IF(B624=\"\",\"\",IF(ISERROR(MATCH($J624,SorP!$B$1:$B$6230,0)),\"\",INDIRECT(\"'SorP'!$A$\"&MATCH($J624,SorP!$B$1:$B$6230,0))))","v":""},null,{"$f":"IF(C624=\"\",NA(),MATCH($B624&$C624,'Smelter Look-up'!$J:$J,0))","v":{"$error":"#N/A"}},null,0,null,null,null,""]
[{"$nulls":18},{"$f":"IF(ISERROR($W625),\"\",OFFSET('Smelter Look-up'!$C$4,$W625-4,0)&\"\")","v":""},"",{"$f":"IF(B625=\"\",\"\",IF(ISERROR(MATCH($J625,SorP!$B$1:$B$6230,0)),\"\",INDIRECT(\"'SorP'!$A$\"&MATCH($J625,SorP!$B$1:$B$6230,0))))","v":""},null,{"$f":"IF(C625=\"\",NA(),MATCH($B625&$C625,'Smelter Look-up'!$J:$J,0))","v":{"$error":"#N/A"}},null,0,null,null,null,""]
[{"$nulls":18},{"$f":"IF(ISERROR($W626),\"\",OFFSET('Smelter Look-up'!$C$4,$W626-4,0)&\"\")","v":""},"",{"$f":"IF(B626=\"\",\"\",IF(ISERROR(MATCH($J626,SorP!$B$1:$B$6230,0)),\"\",INDIRECT(\"'SorP'!$A$\"&MATCH($J626,SorP!$B$1:$B$6230,0))))","v":""},null,{"$f":"IF(C626=\"\",NA(),MATCH($B626&$C626,'Smelter Look-up'!$J:$J,0))","v":{"$error":"#N/A"}},null,0,null,null,null,""]
[{"$nulls":18},{"$f":"IF(ISERROR($W627),\"\",OFFSET('Smelter Look-up'!$C$4,$W627-4,0)&\"\")","v":""},"",{"$f":"IF(B627=\"\",\"\",IF(ISERROR(MATCH($J627,SorP!$B$1:$B$6230,0)),\"\",INDIRECT(\"'SorP'!$A$\"&MATCH($J627,SorP!$B$1:$B$6230,0))))","v":""},null,{"$f":"IF(C627=\"\",NA(),MATCH($B627&$C627,'Smelter Look-up'!$J:$J,0))","v":{"$error":"#N/A"}},null,0,null,null,null,""]
[{"$nulls":18},{"$f":"IF(ISERROR($W628),\"\",OFFSET('Smelter Look-up'!$C$4,$W628-4,0)&\"\")","v":""},"",{"$f":"IF(B628=\"\",\"\",IF(ISERROR(MATCH($J628,SorP!$B$1:$B$6230,0)),\"\",INDIRECT(\"'SorP'!$A$\"&MATCH($J628,SorP!$B$1:$B$6230,0))))","v":""},null,{"$f":"IF(C628=\"\",NA(),MATCH($B628&$C628,'Smelter Look-up'!$J:$J,0))","v":{"$error":"#N/A"}},null,0,null,null,null,""]
[{"$nulls":18},{"$f":"IF(ISERROR($W629),\"\",OFFSET('Smelter Look-up'!$C$4,$W629-4,0)&\"\")","v":""},"",{"$f":"IF(B629=\"\",\"\",IF(ISERROR(MATCH($J629,SorP!$B$1:$B$6230,0)),\"\",INDIRECT(\"'SorP'!$A$\"&MATCH($J629,SorP!$B$1:$B$6230,0))))","v":""},null,{"$f":"IF(C629=\"\",NA(),MATCH($B629&$C629,'Smelter Look-up'!$J:$J,0))","v":{"$error":"#N/A"}},null,0,null,null,null,""]
[{"$nulls":18},{"$f":"IF(ISERROR($W630),\"\",OFFSET('Smelter Look-up'!$C$4,$W630-4,0)&\"\")","v":""},"",{"$f":"IF(B630=\"\",\"\",IF(ISERROR(MATCH($J630,SorP!$B$1:$B$6230,0)),\"\",INDIRECT(\"'SorP'!$A$\"&MATCH($J630,SorP!$B$1:$B$6230,0))))","v":""},null,{"$f":"IF(C630=\"\",NA(),MATCH($B630&$C630,'Smelter Look-up'!$J:$J,0))","v":{"$error":"#N/A"}},null,0,null,null,null,""]
[{"$nulls":18},{"$f":"IF(ISERROR($W631),\"\",OFFSET('Smelter Look-up'!$C$4,$W631-4,0)&\"\")","v":""},"",{"$f":"IF(B631=\"\",\"\",IF(ISERROR(MATCH($J631,SorP!$B$1:$B$6230,0)),\"\",INDIRECT(\"'SorP'!$A$\"&MATCH($J631,SorP!$B$1:$B$6230,0))))","v":""},null,{"$f":"IF(C631=\"\",NA(),MATCH($B631&$C631,'Smelter Look-up'!$J:$J,0))","v":{"$error":"#N/A"}},null,0,null,null,null,""]
[{"$nulls":18},{"$f":"IF(ISERROR($W632),\"\",OFFSET('Smelter Look-up'!$C$4,$W632-4,0)&\"\")","v":""},"",{"$f":"IF(B632=\"\",\"\",IF(ISERROR(MATCH($J632,SorP!$B$1:$B$6230,0)),\"\",INDIRECT(\"'SorP'!$A$\"&MATCH($J632,SorP!$B$1:$B$6230,0))))","v":""},null,{"$f":"IF(C632=\"\",NA(),MATCH($B632&$C632,'Smelter Look-up'!$J:$J,0))","v":{"$error":"#N/A"}},null,0,null,null,null,""]
[{"$nulls":18},{"$f":"IF(ISERROR($W633),\"\",OFFSET('Smelter Look-up'!$C$4,$W633-4,0)&\"\")","v":""},"",{"$f":"IF(B633=\"\",\"\",IF(ISERROR(MATCH($J633,SorP!$B$1:$B$6230,0)),\"\",INDIRECT(\"'SorP'!$A$\"&MATCH($J633,SorP!$B$1:$B$6230,0))))","v":""},null,{"$f":"IF(C633=\"\",NA(),MATCH($B633&$C633,'Smelter Look-up'!$J:$J,0))","v":{"$error":"#N/A"}},null,0,null,null,null,""]
[{"$nulls":18},{"$f":"IF(ISERROR($W634),\"\",OFFSET('Smelter Look-up'!$C$4,$W634-4,0)&\"\")","v":""},"",{"$f":"IF(B634=\"\",\"\",IF(ISERROR(MATCH($J634,SorP!$B$1:$B$6230,0)),\"\",INDIRECT(\"'SorP'!$A$\"&MATCH($J634,SorP!$B$1:$B$6230,0))))","v":""},null,{"$f":"IF(C634=\"\",NA(),MATCH($B634&$C634,'Smelter Look-up'!$J:$J,0))","v":{"$error":"#N/A"}},null,0,null,null,null,""]
[{"$nulls":18},{"$f":"IF(ISERROR($W635),\"\",OFFSET('Smelter Look-up'!$C$4,$W635-4,0)&\"\")","v":""},"",{"$f":"IF(B635=\"\",\"\",IF(ISERROR(MATCH($J635,SorP!$B$1:$B$6230,0)),\"\",INDIRECT(\"'SorP'!$A$\"&MATCH($J635,SorP!$B$1:$B$6230,0))))","v":""},null,{"$f":"IF(C635=\"\",NA(),MATCH($B635&$C635,'Smelter Look-up'!$J:$J,0))","v":{"$error":"#N/A"}},null,0,null,null,null,""]
[{"$nulls":18},{"$f":"IF(ISERROR($W636),\"\",OFFSET('Smelter Look-up'!$C$4,$W636-4,0)&\"\")","v":""},"",{"$f":"IF(B636=\"\",\"\",IF(ISERROR(MATCH($J636,SorP!$B$1:$B$6230,0)),\"\",INDIRECT(\"'SorP'!$A$\"&MATCH($J636,SorP!$B$1:$B$6230,0))))","v":""},null,{"$f":"IF(C636=\"\",NA(),MATCH($B636&$C636,'Smelter Look-up'!$J:$J,0))","v":{"$error":"#N/A"}},null,0,null,null,null,""]
[{"$nulls":18},{"$f":"IF(ISERROR($W637),\"\",OFFSET('Smelter Look-up'!$C$4,$W637-4,0)&\"\")","v":""},"",{"$f":"IF(B637=\"\",\"\",IF(ISERROR(MATCH($J637,SorP!$B$1:$B$6230,0)),\"\",INDIRECT(\"'SorP'!$A$\"&MATCH($J637,SorP!$B$1:$B$6230,0))))","v":""},null,{"$f":"IF(C637=\"\",NA(),MATCH($B637&$C637,'Smelter Look-up'!$J:$J,0))","v":{"$error":"#N/A"}},null,0,null,null,null,""]
[{"$nulls":18},{"$f":"IF(ISERROR($W638),\"\",OFFSET('Smelter Look-up'!$C$4,$W638-4,0)&\"\")","v":""},"",{"$f":"IF(B638=\"\",\"\",IF(ISERROR(MATCH($J638,SorP!$B$1:$B$6230,0)),\"\",INDIRECT(\"'SorP'!$A$\"&MATCH($J638,SorP!$B$1:$B$6230,0))))","v":""},null,{"$f":"IF(C638=\"\",NA(),MATCH($B638&$C638,'Smelter Look-up'!$J:$J,0))","v":{"$error":"#N/A"}},null,0,null,null,null,""]
[{"$nulls":18},{"$f":"IF(ISERROR($W639),\"\",OFFSET('Smelter Look-up'!$C$4,$W639-4,0)&\"\")","v":""},"",{"$f":"IF(B639=\"\",\"\",IF(ISERROR(MATCH($J639,SorP!$B$1:$B$6230,0)),\"\",INDIRECT(\"'SorP'!$A$\"&MATCH($J639,SorP!$B$1:$B$6230,0))))","v":""},null,{"$f":"IF(C639=\"\",NA(),MATCH($B639&$C639,'Smelter Look-up'!$J:$J,0))","v":{"$error":"#N/A"}},null,0,null,null,null,""]
[{"$nulls":18},{"$f":"IF(ISERROR($W640),\"\",OFFSET('Smelter Look-up'!$C$4,$W640-4,0)&\"\")","v":""},"",{"$f":"IF(B640=\"\",\"\",IF(ISERROR(MATCH($J640,SorP!$B$1:$B$6230,0)),\"\",INDIRECT(\"'SorP'!$A$\"&MATCH($J640,SorP!$B$1:$B$6230,0))))","v":""},null,{"$f":"IF(C640=\"\",NA(),MATCH($B640&$C640,'Smelter Look-up'!$J:$J,0))","v":{"$error":"#N/A"}},null,0,null,null,null,""]
[{"$nulls":18},{"$f":"IF(ISERROR($W641),\"\",OFFSET('Smelter Look-up'!$C$4,$W641-4,0)&\"\")","v":""},"",{"$f":"IF(B641=\"\",\"\",IF(ISERROR(MATCH($J641,SorP!$B$1:$B$6230,0)),\"\",INDIRECT(\"'SorP'!$A$\"&MATCH($J641,SorP!$B$1:$B$6230,0))))","v":""},null,{"$f":"IF(C641=\"\",NA(),MATCH($B641&$C641,'Smelter Look-up'!$J:$J,0))","v":{"$error":"#N/A"}},null,0,null,null,null,""]
[{"$nulls":18},{"$f":"IF(ISERROR($W642),\"\",OFFSET('Smelter Look-up'!$C$4,$W642-4,0)&\"\")","v":""},"",{"$f":"IF(B642=\"\",\"\",IF(ISERROR(MATCH($J642,SorP!$B$1:$B$6230,0)),\"\",INDIRECT(\"'SorP'!$A$\"&MATCH($J642,SorP!$B$1:$B$6230,0))))","v":""},null,{"$f":"IF(C642=\"\",NA(),MATCH($B642&$C642,'Smelter Look-up'!$J:$J,0))","v":{"$error":"#N/A"}},null,0,null,null,null,""]
[{"$nulls":18},{"$f":"IF(ISERROR($W643),\"\",OFFSET('Smelter Look-up'!$C$4,$W643-4,0)&\"\")","v":""},"",{"$f":"IF(B643=\"\",\"\",IF(ISERROR(MATCH($J643,SorP!$B$1:$B$6230,0)),\"\",INDIRECT(\"'SorP'!$A$\"&MATCH($J643,SorP!$B$1:$B$6230,0))))","v":""},null,{"$f":"IF(C643=\"\",NA(),MATCH($B643&$C643,'Smelter Look-up'!$J:$J,0))","v":{"$error":"#N/A"}},null,0,null,null,null,""]
[{"$nulls":18},{"$f":"IF(ISERROR($W644),\"\",OFFSET('Smelter Look-up'!$C$4,$W644-4,0)&\"\")","v":""},"",{"$f":"IF(B644=\"\",\"\",IF(ISERROR(MATCH($J644,SorP!$B$1:$B$6230,0)),\"\",INDIRECT(\"'SorP'!$A$\"&MATCH($J644,SorP!$B$1:$B$6230,0))))","v":""},null,{"$f":"IF(C644=\"\",NA(),MATCH($B644&$C644,'Smelter Look-up'!$J:$J,0))","v":{"$error":"#N/A"}},null,0,null,null,null,""]
[{"$nulls":18},{"$f":"IF(ISERROR($W645),\"\",OFFSET('Smelter Look-up'!$C$4,$W645-4,0)&\"\")","v":""},{"$f":"IF(B645=\"\",\"\",IF(ISERROR(MATCH($E645,CL,0)),\"Unknown\",INDIRECT(\"'C'!$A$\"&MATCH($E645,CL,0)+1)))","v":""},{"$f":"IF(B645=\"\",\"\",IF(ISERROR(MATCH($J645,SorP!$B$1:$B$6230,0)),\"\",INDIRECT(\"'SorP'!$A$\"&MATCH($J645,SorP!$B$1:$B$6230,0))))","v":""},null,{"$f":"IF(C645=\"\",NA(),MATCH($B645&$C645,'Smelter Look-up'!$J:$J,0))","v":{"$error":"#N/A"}},null,{"$f":"IF(AND(C645=\"Smelter not listed\",OR(LEN(D645)=0,LEN(E645)=0)),1,0)","v":0},null,null,null,{"$f":"B645&C645","v":""}]
[{"$nulls":18},{"$f":"IF(ISERROR($W646),\"\",OFFSET('Smelter Look-up'!$C$4,$W646-4,0)&\"\")","v":""},"",{"$f":"IF(B646=\"\",\"\",IF(ISERROR(MATCH($J646,SorP!$B$1:$B$6230,0)),\"\",INDIRECT(\"'SorP'!$A$\"&MATCH($J646,SorP!$B$1:$B$6230,0))))","v":""},null,{"$f":"IF(C646=\"\",NA(),MATCH($B646&$C646,'Smelter Look-up'!$J:$J,0))","v":{"$error":"#N/A"}},null,0,null,null,null,""]
[{"$nulls":18},{"$f":"IF(ISERROR($W647),\"\",OFFSET('Smelter Look-up'!$C$4,$W647-4,0)&\"\")","v":""},"",{"$f":"IF(B647=\"\",\"\",IF(ISERROR(MATCH($J647,SorP!$B$1:$B$6230,0)),\"\",INDIRECT(\"'SorP'!$A$\"&MATCH($J647,SorP!$B$1:$B$6230,0))))","v":""},null,{"$f":"IF(C647=\"\",NA(),MATCH($B647&$C647,'Smelter Look-up'!$J:$J,0))","v":{"$error":"#N/A"}},null,0,null,null,null,""]
[{"$nulls":18},{"$f":"IF(ISERROR($W648),\"\",OFFSET('Smelter Look-up'!$C$4,$W648-4,0)&\"\")","v":""},"",{"$f":"IF(B648=\"\",\"\",IF(ISERROR(MATCH($J648,SorP!$B$1:$B$6230,0)),\"\",INDIRECT(\"'SorP'!$A$\"&MATCH($J648,SorP!$B$1:$B$6230,0))))","v":""},null,{"$f":"IF(C648=\"\",NA(),MATCH($B648&$C648,'Smelter Look-up'!$J:$J,0))","v":{"$error":"#N/A"}},null,0,null,null,null,""]
[{"$nulls":18},{"$f":"IF(ISERROR($W649),\"\",OFFSET('Smelter Look-up'!$C$4,$W649-4,0)&\"\")","v":""},"",{"$f":"IF(B649=\"\",\"\",IF(ISERROR(MATCH($J649,SorP!$B$1:$B$6230,0)),\"\",INDIRECT(\"'SorP'!$A$\"&MATCH($J649,SorP!$B$1:$B$6230,0))))","v":""},null,{"$f":"IF(C649=\"\",NA(),MATCH($B649&$C649,'Smelter Look-up'!$J:$J,0))","v":{"$error":"#N/A"}},null,0,null,null,null,""]
[{"$nulls":18},{"$f":"IF(ISERROR($W650),\"\",OFFSET('Smelter Look-up'!$C$4,$W650-4,0)&\"\")","v":""},"",{"$f":"IF(B650=\"\",\"\",IF(ISERROR(MATCH($J650,SorP!$B$1:$B$6230,0)),\"\",INDIRECT(\"'SorP'!$A$\"&MATCH($J650,SorP!$B$1:$B$6230,0))))","v":""},null,{"$f":"IF(C650=\"\",NA(),MATCH($B650&$C650,'Smelter Look-up'!$J:$J,0))","v":{"$error":"#N/A"}},null,0,null,null,null,""]
[{"$nulls":18},{"$f":"IF(ISERROR($W651),\"\",OFFSET('Smelter Look-up'!$C$4,$W651-4,0)&\"\")","v":""},"",{"$f":"IF(B651=\"\",\"\",IF(ISERROR(MATCH($J651,SorP!$B$1:$B$6230,0)),\"\",INDIRECT(\"'SorP'!$A$\"&MATCH($J651,SorP!$B$1:$B$6230,0))))","v":""},null,{"$f":"IF(C651=\"\",NA(),MATCH($B651&$C651,'Smelter Look-up'!$J:$J,0))","v":{"$error":"#N/A"}},null,0,null,null,null,""]
[{"$nulls":18},{"$f":"IF(ISERROR($W652),\"\",OFFSET('Smelter Look-up'!$C$4,$W652-4,0)&\"\")","v":""},"",{"$f":"IF(B652=\"\",\"\",IF(ISERROR(MATCH($J652,SorP!$B$1:$B$6230,0)),\"\",INDIRECT(\"'SorP'!$A$\"&MATCH($J652,SorP!$B$1:$B$6230,0))))","v":""},null,{"$f":"IF(C652=\"\",NA(),MATCH($B652&$C652,'Smelter Look-up'!$J:$J,0))","v":{"$error":"#N/A"}},null,0,null,null,null,""]
[{"$nulls":18},{"$f":"IF(ISERROR($W653),\"\",OFFSET('Smelter Look-up'!$C$4,$W653-4,0)&\"\")","v":""},"",{"$f":"IF(B653=\"\",\"\",IF(ISERROR(MATCH($J653,SorP!$B$1:$B$6230,0)),\"\",INDIRECT(\"'SorP'!$A$\"&MATCH($J653,SorP!$B$1:$B$6230,0))))","v":""},null,{"$f":"IF(C653=\"\",NA(),MATCH($B653&$C653,'Smelter Look-up'!$J:$J,0))","v":{"$error":"#N/A"}},null,0,null,null,null,""]
[{"$nulls":18},{"$f":"IF(ISERROR($W654),\"\",OFFSET('Smelter Look-up'!$C$4,$W654-4,0)&\"\")","v":""},"",{"$f":"IF(B654=\"\",\"\",IF(ISERROR(MATCH($J654,SorP!$B$1:$B$6230,0)),\"\",INDIRECT(\"'SorP'!$A$\"&MATCH($J654,SorP!$B$1:$B$6230,0))))","v":""},null,{"$f":"IF(C654=\"\",NA(),MATCH($B654&$C654,'Smelter Look-up'!$J:$J,0))","v":{"$error":"#N/A"}},null,0,null,null,null,""]
[{"$nulls":18},{"$f":"IF(ISERROR($W655),\"\",OFFSET('Smelter Look-up'!$C$4,$W655-4,0)&\"\")","v":""},"",{"$f":"IF(B655=\"\",\"\",IF(ISERROR(MATCH($J655,SorP!$B$1:$B$6230,0)),\"\",INDIRECT(\"'SorP'!$A$\"&MATCH($J655,SorP!$B$1:$B$6230,0))))","v":""},null,{"$f":"IF(C655=\"\",NA(),MATCH($B655&$C655,'Smelter Look-up'!$J:$J,0))","v":{"$error":"#N/A"}},null,0,null,null,null,""]
[{"$nulls":18},{"$f":"IF(ISERROR($W656),\"\",OFFSET('Smelter Look-up'!$C$4,$W656-4,0)&\"\")","v":""},"",{"$f":"IF(B656=\"\",\"\",IF(ISERROR(MATCH($J656,SorP!$B$1:$B$6230,0)),\"\",INDIRECT(\"'SorP'!$A$\"&MATCH($J656,SorP!$B$1:$B$6230,0))))","v":""},null,{"$f":"IF(C656=\"\",NA(),MATCH($B656&$C656,'Smelter Look-up'!$J:$J,0))","v":{"$error":"#N/A"}},null,0,null,null,null,""]
[{"$nulls":18},{"$f":"IF(ISERROR($W657),\"\",OFFSET('Smelter Look-up'!$C$4,$W657-4,0)&\"\")","v":""},"",{"$f":"IF(B657=\"\",\"\",IF(ISERROR(MATCH($J657,SorP!$B$1:$B$6230,0)),\"\",INDIRECT(\"'SorP'!$A$\"&MATCH($J657,SorP!$B$1:$B$6230,0))))","v":""},null,{"$f":"IF(C657=\"\",NA(),MATCH($B657&$C657,'Smelter Look-up'!$J:$J,0))","v":{"$error":"#N/A"}},null,0,null,null,null,""]
[{"$nulls":18},{"$f":"IF(ISERROR($W658),\"\",OFFSET('Smelter Look-up'!$C$4,$W658-4,0)&\"\")","v":""},"",{"$f":"IF(B658=\"\",\"\",IF(ISERROR(MATCH($J658,SorP!$B$1:$B$6230,0)),\"\",INDIRECT(\"'SorP'!$A$\"&MATCH($J658,SorP!$B$1:$B$6230,0))))","v":""},null,{"$f":"IF(C658=\"\",NA(),MATCH($B658&$C658,'Smelter Look-up'!$J:$J,0))","v":{"$error":"#N/A"}},null,0,null,null,null,""]
[{"$nulls":18},{"$f":"IF(ISERROR($W659),\"\",OFFSET('Smelter Look-up'!$C$4,$W659-4,0)&\"\")","v":""},"",{"$f":"IF(B659=\"\",\"\",IF(ISERROR(MATCH($J659,SorP!$B$1:$B$6230,0)),\"\",INDIRECT(\"'SorP'!$A$\"&MATCH($J659,SorP!$B$1:$B$6230,0))))","v":""},null,{"$f":"IF(C659=\"\",NA(),MATCH($B659&$C659,'Smelter Look-up'!$J:$J,0))","v":{"$error":"#N/A"}},null,0,null,null,null,""]
[{"$nulls":18},{"$f":"IF(ISERROR($W660),\"\",OFFSET('Smelter Look-up'!$C$4,$W660-4,0)&\"\")","v":""},"",{"$f":"IF(B660=\"\",\"\",IF(ISERROR(MATCH($J660,SorP!$B$1:$B$6230,0)),\"\",INDIRECT(\"'SorP'!$A$\"&MATCH($J660,SorP!$B$1:$B$6230,0))))","v":""},null,{"$f":"IF(C660=\"\",NA(),MATCH($B660&$C660,'Smelter Look-up'!$J:$J,0))","v":{"$error":"#N/A"}},null,0,null,null,null,""]
[{"$nulls":18},{"$f":"IF(ISERROR($W661),\"\",OFFSET('Smelter Look-up'!$C$4,$W661-4,0)&\"\")","v":""},"",{"$f":"IF(B661=\"\",\"\",IF(ISERROR(MATCH($J661,SorP!$B$1:$B$6230,0)),\"\",INDIRECT(\"'SorP'!$A$\"&MATCH($J661,SorP!$B$1:$B$6230,0))))","v":""},null,{"$f":"IF(C661=\"\",NA(),MATCH($B661&$C661,'Smelter Look-up'!$J:$J,0))","v":{"$error":"#N/A"}},null,0,null,null,null,""]
[{"$nulls":18},{"$f":"IF(ISERROR($W662),\"\",OFFSET('Smelter Look-up'!$C$4,$W662-4,0)&\"\")","v":""},"",{"$f":"IF(B662=\"\",\"\",IF(ISERROR(MATCH($J662,SorP!$B$1:$B$6230,0)),\"\",INDIRECT(\"'SorP'!$A$\"&MATCH($J662,SorP!$B$1:$B$6230,0))))","v":""},null,{"$f":"IF(C662=\"\",NA(),MATCH($B662&$C662,'Smelter Look-up'!$J:$J,0))","v":{"$error":"#N/A"}},null,0,null,null,null,""]
[{"$nulls":18},{"$f":"IF(ISERROR($W663),\"\",OFFSET('Smelter Look-up'!$C$4,$W663-4,0)&\"\")","v":""},"",{"$f":"IF(B663=\"\",\"\",IF(ISERROR(MATCH($J663,SorP!$B$1:$B$6230,0)),\"\",INDIRECT(\"'SorP'!$A$\"&MATCH($J663,SorP!$B$1:$B$6230,0))))","v":""},null,{"$f":"IF(C663=\"\",NA(),MATCH($B663&$C663,'Smelter Look-up'!$J:$J,0))","v":{"$error":"#N/A"}},null,0,null,null,null,""]
[{"$nulls":18},{"$f":"IF(ISERROR($W664),\"\",OFFSET('Smelter Look-up'!$C$4,$W664-4,0)&\"\")","v":""},"",{"$f":"IF(B664=\"\",\"\",IF(ISERROR(MATCH($J664,SorP!$B$1:$B$6230,0)),\"\",INDIRECT(\"'SorP'!$A$\"&MATCH($J664,SorP!$B$1:$B$6230,0))))","v":""},null,{"$f":"IF(C664=\"\",NA(),MATCH($B664&$C664,'Smelter Look-up'!$J:$J,0))","v":{"$error":"#N/A"}},null,0,null,null,null,""]
[{"$nulls":18},{"$f":"IF(ISERROR($W665),\"\",OFFSET('Smelter Look-up'!$C$4,$W665-4,0)&\"\")","v":""},"",{"$f":"IF(B665=\"\",\"\",IF(ISERROR(MATCH($J665,SorP!$B$1:$B$6230,0)),\"\",INDIRECT(\"'SorP'!$A$\"&MATCH($J665,SorP!$B$1:$B$6230,0))))","v":""},null,{"$f":"IF(C665=\"\",NA(),MATCH($B665&$C665,'Smelter Look-up'!$J:$J,0))","v":{"$error":"#N/A"}},null,0,null,null,null,""]
[{"$nulls":18},{"$f":"IF(ISERROR($W666),\"\",OFFSET('Smelter Look-up'!$C$4,$W666-4,0)&\"\")","v":""},"",{"$f":"IF(B666=\"\",\"\",IF(ISERROR(MATCH($J666,SorP!$B$1:$B$6230,0)),\"\",INDIRECT(\"'SorP'!$A$\"&MATCH($J666,SorP!$B$1:$B$6230,0))))","v":""},null,{"$f":"IF(C666=\"\",NA(),MATCH($B666&$C666,'Smelter Look-up'!$J:$J,0))","v":{"$error":"#N/A"}},null,0,null,null,null,""]
[{"$nulls":18},{"$f":"IF(ISERROR($W667),\"\",OFFSET('Smelter Look-up'!$C$4,$W667-4,0)&\"\")","v":""},"",{"$f":"IF(B667=\"\",\"\",IF(ISERROR(MATCH($J667,SorP!$B$1:$B$6230,0)),\"\",INDIRECT(\"'SorP'!$A$\"&MATCH($J667,SorP!$B$1:$B$6230,0))))","v":""},null,{"$f":"IF(C667=\"\",NA(),MATCH($B667&$C667,'Smelter Look-up'!$J:$J,0))","v":{"$error":"#N/A"}},null,0,null,null,null,""]
[{"$nulls":18},{"$f":"IF(ISERROR($W668),\"\",OFFSET('Smelter Look-up'!$C$4,$W668-4,0)&\"\")","v":""},"",{"$f":"IF(B668=\"\",\"\",IF(ISERROR(MATCH($J668,SorP!$B$1:$B$6230,0)),\"\",INDIRECT(\"'SorP'!$A$\"&MATCH($J668,SorP!$B$1:$B$6230,0))))","v":""},null,{"$f":"IF(C668=\"\",NA(),MATCH($B668&$C668,'Smelter Look-up'!$J:$J,0))","v":{"$error":"#N/A"}},null,0,null,null,null,""]
[{"$nulls":18},{"$f":"IF(ISERROR($W669),\"\",OFFSET('Smelter Look-up'!$C$4,$W669-4,0)&\"\")","v":""},"",{"$f":"IF(B669=\"\",\"\",IF(ISERROR(MATCH($J669,SorP!$B$1:$B$6230,0)),\"\",INDIRECT(\"'SorP'!$A$\"&MATCH($J669,SorP!$B$1:$B$6230,0))))","v":""},null,{"$f":"IF(C669=\"\",NA(),MATCH($B669&$C669,'Smelter Look-up'!$J:$J,0))","v":{"$error":"#N/A"}},null,0,null,null,null,""]
[{"$nulls":18},{"$f":"IF(ISERROR($W670),\"\",OFFSET('Smelter Look-up'!$C$4,$W670-4,0)&\"\")","v":""},"",{"$f":"IF(B670=\"\",\"\",IF(ISERROR(MATCH($J670,SorP!$B$1:$B$6230,0)),\"\",INDIRECT(\"'SorP'!$A$\"&MATCH($J670,SorP!$B$1:$B$6230,0))))","v":""},null,{"$f":"IF(C670=\"\",NA(),MATCH($B670&$C670,'Smelter Look-up'!$J:$J,0))","v":{"$error":"#N/A"}},null,0,null,null,null,""]
[{"$nulls":18},{"$f":"IF(ISERROR($W671),\"\",OFFSET('Smelter Look-up'!$C$4,$W671-4,0)&\"\")","v":""},"",{"$f":"IF(B671=\"\",\"\",IF(ISERROR(MATCH($J671,SorP!$B$1:$B$6230,0)),\"\",INDIRECT(\"'SorP'!$A$\"&MATCH($J671,SorP!$B$1:$B$6230,0))))","v":""},null,{"$f":"IF(C671=\"\",NA(),MATCH($B671&$C671,'Smelter Look-up'!$J:$J,0))","v":{"$error":"#N/A"}},null,0,null,null,null,""]
[{"$nulls":18},{"$f":"IF(ISERROR($W672),\"\",OFFSET('Smelter Look-up'!$C$4,$W672-4,0)&\"\")","v":""},"",{"$f":"IF(B672=\"\",\"\",IF(ISERROR(MATCH($J672,SorP!$B$1:$B$6230,0)),\"\",INDIRECT(\"'SorP'!$A$\"&MATCH($J672,SorP!$B$1:$B$6230,0))))","v":""},null,{"$f":"IF(C672=\"\",NA(),MATCH($B672&$C672,'Smelter Look-up'!$J:$J,0))","v":{"$error":"#N/A"}},null,0,null,null,null,""]
[{"$nulls":18},{"$f":"IF(ISERROR($W673),\"\",OFFSET('Smelter Look-up'!$C$4,$W673-4,0)&\"\")","v":""},"",{"$f":"IF(B673=\"\",\"\",IF(ISERROR(MATCH($J673,SorP!$B$1:$B$6230,0)),\"\",INDIRECT(\"'SorP'!$A$\"&MATCH($J673,SorP!$B$1:$B$6230,0))))","v":""},null,{"$f":"IF(C673=\"\",NA(),MATCH($B673&$C673,'Smelter Look-up'!$J:$J,0))","v":{"$error":"#N/A"}},null,0,null,null,null,""]
[{"$nulls":18},{"$f":"IF(ISERROR($W674),\"\",OFFSET('Smelter Look-up'!$C$4,$W674-4,0)&\"\")","v":""},"",{"$f":"IF(B674=\"\",\"\",IF(ISERROR(MATCH($J674,SorP!$B$1:$B$6230,0)),\"\",INDIRECT(\"'SorP'!$A$\"&MATCH($J674,SorP!$B$1:$B$6230,0))))","v":""},null,{"$f":"IF(C674=\"\",NA(),MATCH($B674&$C674,'Smelter Look-up'!$J:$J,0))","v":{"$error":"#N/A"}},null,0,null,null,null,""]
[{"$nulls":18},{"$f":"IF(ISERROR($W675),\"\",OFFSET('Smelter Look-up'!$C$4,$W675-4,0)&\"\")","v":""},"",{"$f":"IF(B675=\"\",\"\",IF(ISERROR(MATCH($J675,SorP!$B$1:$B$6230,0)),\"\",INDIRECT(\"'SorP'!$A$\"&MATCH($J675,SorP!$B$1:$B$6230,0))))","v":""},null,{"$f":"IF(C675=\"\",NA(),MATCH($B675&$C675,'Smelter Look-up'!$J:$J,0))","v":{"$error":"#N/A"}},null,0,null,null,null,""]
[{"$nulls":18},{"$f":"IF(ISERROR($W676),\"\",OFFSET('Smelter Look-up'!$C$4,$W676-4,0)&\"\")","v":""},"",{"$f":"IF(B676=\"\",\"\",IF(ISERROR(MATCH($J676,SorP!$B$1:$B$6230,0)),\"\",INDIRECT(\"'SorP'!$A$\"&MATCH($J676,SorP!$B$1:$B$6230,0))))","v":""},null,{"$f":"IF(C676=\"\",NA(),MATCH($B676&$C676,'Smelter Look-up'!$J:$J,0))","v":{"$error":"#N/A"}},null,0,null,null,null,""]
[{"$nulls":18},{"$f":"IF(ISERROR($W677),\"\",OFFSET('Smelter Look-up'!$C$4,$W677-4,0)&\"\")","v":""},"",{"$f":"IF(B677=\"\",\"\",IF(ISERROR(MATCH($J677,SorP!$B$1:$B$6230,0)),\"\",INDIRECT(\"'SorP'!$A$\"&MATCH($J677,SorP!$B$1:$B$6230,0))))","v":""},null,{"$f":"IF(C677=\"\",NA(),MATCH($B677&$C677,'Smelter Look-up'!$J:$J,0))","v":{"$error":"#N/A"}},null,0,null,null,null,""]
[{"$nulls":18},{"$f":"IF(ISERROR($W678),\"\",OFFSET('Smelter Look-up'!$C$4,$W678-4,0)&\"\")","v":""},"",{"$f":"IF(B678=\"\",\"\",IF(ISERROR(MATCH($J678,SorP!$B$1:$B$6230,0)),\"\",INDIRECT(\"'SorP'!$A$\"&MATCH($J678,SorP!$B$1:$B$6230,0))))","v":""},null,{"$f":"IF(C678=\"\",NA(),MATCH($B678&$C678,'Smelter Look-up'!$J:$J,0))","v":{"$error":"#N/A"}},null,0,null,null,null,""]
[{"$nulls":18},{"$f":"IF(ISERROR($W679),\"\",OFFSET('Smelter Look-up'!$C$4,$W679-4,0)&\"\")","v":""},"",{"$f":"IF(B679=\"\",\"\",IF(ISERROR(MATCH($J679,SorP!$B$1:$B$6230,0)),\"\",INDIRECT(\"'SorP'!$A$\"&MATCH($J679,SorP!$B$1:$B$6230,0))))","v":""},null,{"$f":"IF(C679=\"\",NA(),MATCH($B679&$C679,'Smelter Look-up'!$J:$J,0))","v":{"$error":"#N/A"}},null,0,null,null,null,""]
[{"$nulls":18},{"$f":"IF(ISERROR($W680),\"\",OFFSET('Smelter Look-up'!$C$4,$W680-4,0)&\"\")","v":""},"",{"$f":"IF(B680=\"\",\"\",IF(ISERROR(MATCH($J680,SorP!$B$1:$B$6230,0)),\"\",INDIRECT(\"'SorP'!$A$\"&MATCH($J680,SorP!$B$1:$B$6230,0))))","v":""},null,{"$f":"IF(C680=\"\",NA(),MATCH($B680&$C680,'Smelter Look-up'!$J:$J,0))","v":{"$error":"#N/A"}},null,0,null,null,null,""]
[{"$nulls":18},{"$f":"IF(ISERROR($W681),\"\",OFFSET('Smelter Look-up'!$C$4,$W681-4,0)&\"\")","v":""},"",{"$f":"IF(B681=\"\",\"\",IF(ISERROR(MATCH($J681,SorP!$B$1:$B$6230,0)),\"\",INDIRECT(\"'SorP'!$A$\"&MATCH($J681,SorP!$B$1:$B$6230,0))))","v":""},null,{"$f":"IF(C681=\"\",NA(),MATCH($B681&$C681,'Smelter Look-up'!$J:$J,0))","v":{"$error":"#N/A"}},null,0,null,null,null,""]
[{"$nulls":18},{"$f":"IF(ISERROR($W682),\"\",OFFSET('Smelter Look-up'!$C$4,$W682-4,0)&\"\")","v":""},"",{"$f":"IF(B682=\"\",\"\",IF(ISERROR(MATCH($J682,SorP!$B$1:$B$6230,0)),\"\",INDIRECT(\"'SorP'!$A$\"&MATCH($J682,SorP!$B$1:$B$6230,0))))","v":""},null,{"$f":"IF(C682=\"\",NA(),MATCH($B682&$C682,'Smelter Look-up'!$J:$J,0))","v":{"$error":"#N/A"}},null,0,null,null,null,""]
[{"$nulls":18},{"$f":"IF(ISERROR($W683),\"\",OFFSET('Smelter Look-up'!$C$4,$W683-4,0)&\"\")","v":""},"",{"$f":"IF(B683=\"\",\"\",IF(ISERROR(MATCH($J683,SorP!$B$1:$B$6230,0)),\"\",INDIRECT(\"'SorP'!$A$\"&MATCH($J683,SorP!$B$1:$B$6230,0))))","v":""},null,{"$f":"IF(C683=\"\",NA(),MATCH($B683&$C683,'Smelter Look-up'!$J:$J,0))","v":{"$error":"#N/A"}},null,0,null,null,null,""]
[{"$nulls":18},{"$f":"IF(ISERROR($W684),\"\",OFFSET('Smelter Look-up'!$C$4,$W684-4,0)&\"\")","v":""},"",{"$f":"IF(B684=\"\",\"\",IF(ISERROR(MATCH($J684,SorP!$B$1:$B$6230,0)),\"\",INDIRECT(\"'SorP'!$A$\"&MATCH($J684,SorP!$B$1:$B$6230,0))))","v":""},null,{"$f":"IF(C684=\"\",NA(),MATCH($B684&$C684,'Smelter Look-up'!$J:$J,0))","v":{"$error":"#N/A"}},null,0,null,null,null,""]
[{"$nulls":18},{"$f":"IF(ISERROR($W685),\"\",OFFSET('Smelter Look-up'!$C$4,$W685-4,0)&\"\")","v":""},"",{"$f":"IF(B685=\"\",\"\",IF(ISERROR(MATCH($J685,SorP!$B$1:$B$6230,0)),\"\",INDIRECT(\"'SorP'!$A$\"&MATCH($J685,SorP!$B$1:$B$6230,0))))","v":""},null,{"$f":"IF(C685=\"\",NA(),MATCH($B685&$C685,'Smelter Look-up'!$J:$J,0))","v":{"$error":"#N/A"}},null,0,null,null,null,""]
[{"$nulls":18},{"$f":"IF(ISERROR($W686),\"\",OFFSET('Smelter Look-up'!$C$4,$W686-4,0)&\"\")","v":""},"",{"$f":"IF(B686=\"\",\"\",IF(ISERROR(MATCH($J686,SorP!$B$1:$B$6230,0)),\"\",INDIRECT(\"'SorP'!$A$\"&MATCH($J686,SorP!$B$1:$B$6230,0))))","v":""},null,{"$f":"IF(C686=\"\",NA(),MATCH($B686&$C686,'Smelter Look-up'!$J:$J,0))","v":{"$error":"#N/A"}},null,0,null,null,null,""]
[{"$nulls":18},{"$f":"IF(ISERROR($W687),\"\",OFFSET('Smelter Look-up'!$C$4,$W687-4,0)&\"\")","v":""},"",{"$f":"IF(B687=\"\",\"\",IF(ISERROR(MATCH($J687,SorP!$B$1:$B$6230,0)),\"\",INDIRECT(\"'SorP'!$A$\"&MATCH($J687,SorP!$B$1:$B$6230,0))))","v":""},null,{"$f":"IF(C687=\"\",NA(),MATCH($B687&$C687,'Smelter Look-up'!$J:$J,0))","v":{"$error":"#N/A"}},null,0,null,null,null,""]
[{"$nulls":18},{"$f":"IF(ISERROR($W688),\"\",OFFSET('Smelter Look-up'!$C$4,$W688-4,0)&\"\")","v":""},"",{"$f":"IF(B688=\"\",\"\",IF(ISERROR(MATCH($J688,SorP!$B$1:$B$6230,0)),\"\",INDIRECT(\"'SorP'!$A$\"&MATCH($J688,SorP!$B$1:$B$6230,0))))","v":""},null,{"$f":"IF(C688=\"\",NA(),MATCH($B688&$C688,'Smelter Look-up'!$J:$J,0))","v":{"$error":"#N/A"}},null,0,null,null,null,""]
[{"$nulls":18},{"$f":"IF(ISERROR($W689),\"\",OFFSET('Smelter Look-up'!$C$4,$W689-4,0)&\"\")","v":""},"",{"$f":"IF(B689=\"\",\"\",IF(ISERROR(MATCH($J689,SorP!$B$1:$B$6230,0)),\"\",INDIRECT(\"'SorP'!$A$\"&MATCH($J689,SorP!$B$1:$B$6230,0))))","v":""},null,{"$f":"IF(C689=\"\",NA(),MATCH($B689&$C689,'Smelter Look-up'!$J:$J,0))","v":{"$error":"#N/A"}},null,0,null,null,null,""]
[{"$nulls":18},{"$f":"IF(ISERROR($W690),\"\",OFFSET('Smelter Look-up'!$C$4,$W690-4,0)&\"\")","v":""},"",{"$f":"IF(B690=\"\",\"\",IF(ISERROR(MATCH($J690,SorP!$B$1:$B$6230,0)),\"\",INDIRECT(\"'SorP'!$A$\"&MATCH($J690,SorP!$B$1:$B$6230,0))))","v":""},null,{"$f":"IF(C690=\"\",NA(),MATCH($B690&$C690,'Smelter Look-up'!$J:$J,0))","v":{"$error":"#N/A"}},null,0,null,null,null,""]
[{"$nulls":18},{"$f":"IF(ISERROR($W691),\"\",OFFSET('Smelter Look-up'!$C$4,$W691-4,0)&\"\")","v":""},"",{"$f":"IF(B691=\"\",\"\",IF(ISERROR(MATCH($J691,SorP!$B$1:$B$6230,0)),\"\",INDIRECT(\"'SorP'!$A$\"&MATCH($J691,SorP!$B$1:$B$6230,0))))","v":""},null,{"$f":"IF(C691=\"\",NA(),MATCH($B691&$C691,'Smelter Look-up'!$J:$J,0))","v":{"$error":"#N/A"}},null,0,null,null,null,""]
[{"$nulls":18},{"$f":"IF(ISERROR($W692),\"\",OFFSET('Smelter Look-up'!$C$4,$W692-4,0)&\"\")","v":""},"",{"$f":"IF(B692=\"\",\"\",IF(ISERROR(MATCH($J692,SorP!$B$1:$B$6230,0)),\"\",INDIRECT(\"'SorP'!$A$\"&MATCH($J692,SorP!$B$1:$B$6230,0))))","v":""},null,{"$f":"IF(C692=\"\",NA(),MATCH($B692&$C692,'Smelter Look-up'!$J:$J,0))","v":{"$error":"#N/A"}},null,0,null,null,null,""]
[{"$nulls":18},{"$f":"IF(ISERROR($W693),\"\",OFFSET('Smelter Look-up'!$C$4,$W693-4,0)&\"\")","v":""},"",{"$f":"IF(B693=\"\",\"\",IF(ISERROR(MATCH($J693,SorP!$B$1:$B$6230,0)),\"\",INDIRECT(\"'SorP'!$A$\"&MATCH($J693,SorP!$B$1:$B$6230,0))))","v":""},null,{"$f":"IF(C693=\"\",NA(),MATCH($B693&$C693,'Smelter Look-up'!$J:$J,0))","v":{"$error":"#N/A"}},null,0,null,null,null,""]
[{"$nulls":18},{"$f":"IF(ISERROR($W694),\"\",OFFSET('Smelter Look-up'!$C$4,$W694-4,0)&\"\")","v":""},"",{"$f":"IF(B694=\"\",\"\",IF(ISERROR(MATCH($J694,SorP!$B$1:$B$6230,0)),\"\",INDIRECT(\"'SorP'!$A$\"&MATCH($J694,SorP!$B$1:$B$6230,0))))","v":""},null,{"$f":"IF(C694=\"\",NA(),MATCH($B694&$C694,'Smelter Look-up'!$J:$J,0))","v":{"$error":"#N/A"}},null,0,null,null,null,""]
[{"$nulls":18},{"$f":"IF(ISERROR($W695),\"\",OFFSET('Smelter Look-up'!$C$4,$W695-4,0)&\"\")","v":""},"",{"$f":"IF(B695=\"\",\"\",IF(ISERROR(MATCH($J695,SorP!$B$1:$B$6230,0)),\"\",INDIRECT(\"'SorP'!$A$\"&MATCH($J695,SorP!$B$1:$B$6230,0))))","v":""},null,{"$f":"IF(C695=\"\",NA(),MATCH($B695&$C695,'Smelter Look-up'!$J:$J,0))","v":{"$error":"#N/A"}},null,0,null,null,null,""]
[{"$nulls":18},{"$f":"IF(ISERROR($W696),\"\",OFFSET('Smelter Look-up'!$C$4,$W696-4,0)&\"\")","v":""},"",{"$f":"IF(B696=\"\",\"\",IF(ISERROR(MATCH($J696,SorP!$B$1:$B$6230,0)),\"\",INDIRECT(\"'SorP'!$A$\"&MATCH($J696,SorP!$B$1:$B$6230,0))))","v":""},null,{"$f":"IF(C696=\"\",NA(),MATCH($B696&$C696,'Smelter Look-up'!$J:$J,0))","v":{"$error":"#N/A"}},null,0,null,null,null,""]
[{"$nulls":18},{"$f":"IF(ISERROR($W697),\"\",OFFSET('Smelter Look-up'!$C$4,$W697-4,0)&\"\")","v":""},"",{"$f":"IF(B697=\"\",\"\",IF(ISERROR(MATCH($J697,SorP!$B$1:$B$6230,0)),\"\",INDIRECT(\"'SorP'!$A$\"&MATCH($J697,SorP!$B$1:$B$6230,0))))","v":""},null,{"$f":"IF(C697=\"\",NA(),MATCH($B697&$C697,'Smelter Look-up'!$J:$J,0))","v":{"$error":"#N/A"}},null,0,null,null,null,""]
[{"$nulls":18},{"$f":"IF(ISERROR($W698),\"\",OFFSET('Smelter Look-up'!$C$4,$W698-4,0)&\"\")","v":""},"",{"$f":"IF(B698=\"\",\"\",IF(ISERROR(MATCH($J698,SorP!$B$1:$B$6230,0)),\"\",INDIRECT(\"'SorP'!$A$\"&MATCH($J698,SorP!$B$1:$B$6230,0))))","v":""},null,{"$f":"IF(C698=\"\",NA(),MATCH($B698&$C698,'Smelter Look-up'!$J:$J,0))","v":{"$error":"#N/A"}},null,0,null,null,null,""]
[{"$nulls":18},{"$f":"IF(ISERROR($W699),\"\",OFFSET('Smelter Look-up'!$C$4,$W699-4,0)&\"\")","v":""},"",{"$f":"IF(B699=\"\",\"\",IF(ISERROR(MATCH($J699,SorP!$B$1:$B$6230,0)),\"\",INDIRECT(\"'SorP'!$A$\"&MATCH($J699,SorP!$B$1:$B$6230,0))))","v":""},null,{"$f":"IF(C699=\"\",NA(),MATCH($B699&$C699,'Smelter Look-up'!$J:$J,0))","v":{"$error":"#N/A"}},null,0,null,null,null,""]
[{"$nulls":18},{"$f":"IF(ISERROR($W700),\"\",OFFSET('Smelter Look-up'!$C$4,$W700-4,0)&\"\")","v":""},"",{"$f":"IF(B700=\"\",\"\",IF(ISERROR(MATCH($J700,SorP!$B$1:$B$6230,0)),\"\",INDIRECT(\"'SorP'!$A$\"&MATCH($J700,SorP!$B$1:$B$6230,0))))","v":""},null,{"$f":"IF(C700=\"\",NA(),MATCH($B700&$C700,'Smelter Look-up'!$J:$J,0))","v":{"$error":"#N/A"}},null,0,null,null,null,""]
[{"$nulls":18},{"$f":"IF(ISERROR($W701),\"\",OFFSET('Smelter Look-up'!$C$4,$W701-4,0)&\"\")","v":""},"",{"$f":"IF(B701=\"\",\"\",IF(ISERROR(MATCH($J701,SorP!$B$1:$B$6230,0)),\"\",INDIRECT(\"'SorP'!$A$\"&MATCH($J701,SorP!$B$1:$B$6230,0))))","v":""},null,{"$f":"IF(C701=\"\",NA(),MATCH($B701&$C701,'Smelter Look-up'!$J:$J,0))","v":{"$error":"#N/A"}},null,0,null,null,null,""]
[{"$nulls":18},{"$f":"IF(ISERROR($W702),\"\",OFFSET('Smelter Look-up'!$C$4,$W702-4,0)&\"\")","v":""},"",{"$f":"IF(B702=\"\",\"\",IF(ISERROR(MATCH($J702,SorP!$B$1:$B$6230,0)),\"\",INDIRECT(\"'SorP'!$A$\"&MATCH($J702,SorP!$B$1:$B$6230,0))))","v":""},null,{"$f":"IF(C702=\"\",NA(),MATCH($B702&$C702,'Smelter Look-up'!$J:$J,0))","v":{"$error":"#N/A"}},null,0,null,null,null,""]
[{"$nulls":18},{"$f":"IF(ISERROR($W703),\"\",OFFSET('Smelter Look-up'!$C$4,$W703-4,0)&\"\")","v":""},"",{"$f":"IF(B703=\"\",\"\",IF(ISERROR(MATCH($J703,SorP!$B$1:$B$6230,0)),\"\",INDIRECT(\"'SorP'!$A$\"&MATCH($J703,SorP!$B$1:$B$6230,0))))","v":""},null,{"$f":"IF(C703=\"\",NA(),MATCH($B703&$C703,'Smelter Look-up'!$J:$J,0))","v":{"$error":"#N/A"}},null,0,null,null,null,""]
[{"$nulls":18},{"$f":"IF(ISERROR($W704),\"\",OFFSET('Smelter Look-up'!$C$4,$W704-4,0)&\"\")","v":""},"",{"$f":"IF(B704=\"\",\"\",IF(ISERROR(MATCH($J704,SorP!$B$1:$B$6230,0)),\"\",INDIRECT(\"'SorP'!$A$\"&MATCH($J704,SorP!$B$1:$B$6230,0))))","v":""},null,{"$f":"IF(C704=\"\",NA(),MATCH($B704&$C704,'Smelter Look-up'!$J:$J,0))","v":{"$error":"#N/A"}},null,0,null,null,null,""]
[{"$nulls":18},{"$f":"IF(ISERROR($W705),\"\",OFFSET('Smelter Look-up'!$C$4,$W705-4,0)&\"\")","v":""},"",{"$f":"IF(B705=\"\",\"\",IF(ISERROR(MATCH($J705,SorP!$B$1:$B$6230,0)),\"\",INDIRECT(\"'SorP'!$A$\"&MATCH($J705,SorP!$B$1:$B$6230,0))))","v":""},null,{"$f":"IF(C705=\"\",NA(),MATCH($B705&$C705,'Smelter Look-up'!$J:$J,0))","v":{"$error":"#N/A"}},null,0,null,null,null,""]
[{"$nulls":18},{"$f":"IF(ISERROR($W706),\"\",OFFSET('Smelter Look-up'!$C$4,$W706-4,0)&\"\")","v":""},"",{"$f":"IF(B706=\"\",\"\",IF(ISERROR(MATCH($J706,SorP!$B$1:$B$6230,0)),\"\",INDIRECT(\"'SorP'!$A$\"&MATCH($J706,SorP!$B$1:$B$6230,0))))","v":""},null,{"$f":"IF(C706=\"\",NA(),MATCH($B706&$C706,'Smelter Look-up'!$J:$J,0))","v":{"$error":"#N/A"}},null,0,null,null,null,""]
[{"$nulls":18},{"$f":"IF(ISERROR($W707),\"\",OFFSET('Smelter Look-up'!$C$4,$W707-4,0)&\"\")","v":""},"",{"$f":"IF(B707=\"\",\"\",IF(ISERROR(MATCH($J707,SorP!$B$1:$B$6230,0)),\"\",INDIRECT(\"'SorP'!$A$\"&MATCH($J707,SorP!$B$1:$B$6230,0))))","v":""},null,{"$f":"IF(C707=\"\",NA(),MATCH($B707&$C707,'Smelter Look-up'!$J:$J,0))","v":{"$error":"#N/A"}},null,0,null,null,null,""]
[{"$nulls":18},{"$f":"IF(ISERROR($W708),\"\",OFFSET('Smelter Look-up'!$C$4,$W708-4,0)&\"\")","v":""},"",{"$f":"IF(B708=\"\",\"\",IF(ISERROR(MATCH($J708,SorP!$B$1:$B$6230,0)),\"\",INDIRECT(\"'SorP'!$A$\"&MATCH($J708,SorP!$B$1:$B$6230,0))))","v":""},null,{"$f":"IF(C708=\"\",NA(),MATCH($B708&$C708,'Smelter Look-up'!$J:$J,0))","v":{"$error":"#N/A"}},null,0,null,null,null,""]
[{"$nulls":18},{"$f":"IF(ISERROR($W709),\"\",OFFSET('Smelter Look-up'!$C$4,$W709-4,0)&\"\")","v":""},{"$f":"IF(B709=\"\",\"\",IF(ISERROR(MATCH($E709,CL,0)),\"Unknown\",INDIRECT(\"'C'!$A$\"&MATCH($E709,CL,0)+1)))","v":""},{"$f":"IF(B709=\"\",\"\",IF(ISERROR(MATCH($J709,SorP!$B$1:$B$6230,0)),\"\",INDIRECT(\"'SorP'!$A$\"&MATCH($J709,SorP!$B$1:$B$6230,0))))","v":""},null,{"$f":"IF(C709=\"\",NA(),MATCH($B709&$C709,'Smelter Look-up'!$J:$J,0))","v":{"$error":"#N/A"}},null,{"$f":"IF(AND(C709=\"Smelter not listed\",OR(LEN(D709)=0,LEN(E709)=0)),1,0)","v":0},null,null,null,{"$f":"B709&C709","v":""}]
[{"$nulls":18},{"$f":"IF(ISERROR($W710),\"\",OFFSET('Smelter Look-up'!$C$4,$W710-4,0)&\"\")","v":""},"",{"$f":"IF(B710=\"\",\"\",IF(ISERROR(MATCH($J710,SorP!$B$1:$B$6230,0)),\"\",INDIRECT(\"'SorP'!$A$\"&MATCH($J710,SorP!$B$1:$B$6230,0))))","v":""},null,{"$f":"IF(C710=\"\",NA(),MATCH($B710&$C710,'Smelter Look-up'!$J:$J,0))","v":{"$error":"#N/A"}},null,0,null,null,null,""]
[{"$nulls":18},{"$f":"IF(ISERROR($W711),\"\",OFFSET('Smelter Look-up'!$C$4,$W711-4,0)&\"\")","v":""},"",{"$f":"IF(B711=\"\",\"\",IF(ISERROR(MATCH($J711,SorP!$B$1:$B$6230,0)),\"\",INDIRECT(\"'SorP'!$A$\"&MATCH($J711,SorP!$B$1:$B$6230,0))))","v":""},null,{"$f":"IF(C711=\"\",NA(),MATCH($B711&$C711,'Smelter Look-up'!$J:$J,0))","v":{"$error":"#N/A"}},null,0,null,null,null,""]
[{"$nulls":18},{"$f":"IF(ISERROR($W712),\"\",OFFSET('Smelter Look-up'!$C$4,$W712-4,0)&\"\")","v":""},"",{"$f":"IF(B712=\"\",\"\",IF(ISERROR(MATCH($J712,SorP!$B$1:$B$6230,0)),\"\",INDIRECT(\"'SorP'!$A$\"&MATCH($J712,SorP!$B$1:$B$6230,0))))","v":""},null,{"$f":"IF(C712=\"\",NA(),MATCH($B712&$C712,'Smelter Look-up'!$J:$J,0))","v":{"$error":"#N/A"}},null,0,null,null,null,""]
[{"$nulls":18},{"$f":"IF(ISERROR($W713),\"\",OFFSET('Smelter Look-up'!$C$4,$W713-4,0)&\"\")","v":""},"",{"$f":"IF(B713=\"\",\"\",IF(ISERROR(MATCH($J713,SorP!$B$1:$B$6230,0)),\"\",INDIRECT(\"'SorP'!$A$\"&MATCH($J713,SorP!$B$1:$B$6230,0))))","v":""},null,{"$f":"IF(C713=\"\",NA(),MATCH($B713&$C713,'Smelter Look-up'!$J:$J,0))","v":{"$error":"#N/A"}},null,0,null,null,null,""]
[{"$nulls":18},{"$f":"IF(ISERROR($W714),\"\",OFFSET('Smelter Look-up'!$C$4,$W714-4,0)&\"\")","v":""},"",{"$f":"IF(B714=\"\",\"\",IF(ISERROR(MATCH($J714,SorP!$B$1:$B$6230,0)),\"\",INDIRECT(\"'SorP'!$A$\"&MATCH($J714,SorP!$B$1:$B$6230,0))))","v":""},null,{"$f":"IF(C714=\"\",NA(),MATCH($B714&$C714,'Smelter Look-up'!$J:$J,0))","v":{"$error":"#N/A"}},null,0,null,null,null,""]
[{"$nulls":18},{"$f":"IF(ISERROR($W715),\"\",OFFSET('Smelter Look-up'!$C$4,$W715-4,0)&\"\")","v":""},"",{"$f":"IF(B715=\"\",\"\",IF(ISERROR(MATCH($J715,SorP!$B$1:$B$6230,0)),\"\",INDIRECT(\"'SorP'!$A$\"&MATCH($J715,SorP!$B$1:$B$6230,0))))","v":""},null,{"$f":"IF(C715=\"\",NA(),MATCH($B715&$C715,'Smelter Look-up'!$J:$J,0))","v":{"$error":"#N/A"}},null,0,null,null,null,""]
[{"$nulls":18},{"$f":"IF(ISERROR($W716),\"\",OFFSET('Smelter Look-up'!$C$4,$W716-4,0)&\"\")","v":""},"",{"$f":"IF(B716=\"\",\"\",IF(ISERROR(MATCH($J716,SorP!$B$1:$B$6230,0)),\"\",INDIRECT(\"'SorP'!$A$\"&MATCH($J716,SorP!$B$1:$B$6230,0))))","v":""},null,{"$f":"IF(C716=\"\",NA(),MATCH($B716&$C716,'Smelter Look-up'!$J:$J,0))","v":{"$error":"#N/A"}},null,0,null,null,null,""]
[{"$nulls":18},{"$f":"IF(ISERROR($W717),\"\",OFFSET('Smelter Look-up'!$C$4,$W717-4,0)&\"\")","v":""},"",{"$f":"IF(B717=\"\",\"\",IF(ISERROR(MATCH($J717,SorP!$B$1:$B$6230,0)),\"\",INDIRECT(\"'SorP'!$A$\"&MATCH($J717,SorP!$B$1:$B$6230,0))))","v":""},null,{"$f":"IF(C717=\"\",NA(),MATCH($B717&$C717,'Smelter Look-up'!$J:$J,0))","v":{"$error":"#N/A"}},null,0,null,null,null,""]
[{"$nulls":18},{"$f":"IF(ISERROR($W718),\"\",OFFSET('Smelter Look-up'!$C$4,$W718-4,0)&\"\")","v":""},"",{"$f":"IF(B718=\"\",\"\",IF(ISERROR(MATCH($J718,SorP!$B$1:$B$6230,0)),\"\",INDIRECT(\"'SorP'!$A$\"&MATCH($J718,SorP!$B$1:$B$6230,0))))","v":""},null,{"$f":"IF(C718=\"\",NA(),MATCH($B718&$C718,'Smelter Look-up'!$J:$J,0))","v":{"$error":"#N/A"}},null,0,null,null,null,""]
[{"$nulls":18},{"$f":"IF(ISERROR($W719),\"\",OFFSET('Smelter Look-up'!$C$4,$W719-4,0)&\"\")","v":""},"",{"$f":"IF(B719=\"\",\"\",IF(ISERROR(MATCH($J719,SorP!$B$1:$B$6230,0)),\"\",INDIRECT(\"'SorP'!$A$\"&MATCH($J719,SorP!$B$1:$B$6230,0))))","v":""},null,{"$f":"IF(C719=\"\",NA(),MATCH($B719&$C719,'Smelter Look-up'!$J:$J,0))","v":{"$error":"#N/A"}},null,0,null,null,null,""]
[{"$nulls":18},{"$f":"IF(ISERROR($W720),\"\",OFFSET('Smelter Look-up'!$C$4,$W720-4,0)&\"\")","v":""},"",{"$f":"IF(B720=\"\",\"\",IF(ISERROR(MATCH($J720,SorP!$B$1:$B$6230,0)),\"\",INDIRECT(\"'SorP'!$A$\"&MATCH($J720,SorP!$B$1:$B$6230,0))))","v":""},null,{"$f":"IF(C720=\"\",NA(),MATCH($B720&$C720,'Smelter Look-up'!$J:$J,0))","v":{"$error":"#N/A"}},null,0,null,null,null,""]
[{"$nulls":18},{"$f":"IF(ISERROR($W721),\"\",OFFSET('Smelter Look-up'!$C$4,$W721-4,0)&\"\")","v":""},"",{"$f":"IF(B721=\"\",\"\",IF(ISERROR(MATCH($J721,SorP!$B$1:$B$6230,0)),\"\",INDIRECT(\"'SorP'!$A$\"&MATCH($J721,SorP!$B$1:$B$6230,0))))","v":""},null,{"$f":"IF(C721=\"\",NA(),MATCH($B721&$C721,'Smelter Look-up'!$J:$J,0))","v":{"$error":"#N/A"}},null,0,null,null,null,""]
[{"$nulls":18},{"$f":"IF(ISERROR($W722),\"\",OFFSET('Smelter Look-up'!$C$4,$W722-4,0)&\"\")","v":""},"",{"$f":"IF(B722=\"\",\"\",IF(ISERROR(MATCH($J722,SorP!$B$1:$B$6230,0)),\"\",INDIRECT(\"'SorP'!$A$\"&MATCH($J722,SorP!$B$1:$B$6230,0))))","v":""},null,{"$f":"IF(C722=\"\",NA(),MATCH($B722&$C722,'Smelter Look-up'!$J:$J,0))","v":{"$error":"#N/A"}},null,0,null,null,null,""]
[{"$nulls":18},{"$f":"IF(ISERROR($W723),\"\",OFFSET('Smelter Look-up'!$C$4,$W723-4,0)&\"\")","v":""},"",{"$f":"IF(B723=\"\",\"\",IF(ISERROR(MATCH($J723,SorP!$B$1:$B$6230,0)),\"\",INDIRECT(\"'SorP'!$A$\"&MATCH($J723,SorP!$B$1:$B$6230,0))))","v":""},null,{"$f":"IF(C723=\"\",NA(),MATCH($B723&$C723,'Smelter Look-up'!$J:$J,0))","v":{"$error":"#N/A"}},null,0,null,null,null,""]
[{"$nulls":18},{"$f":"IF(ISERROR($W724),\"\",OFFSET('Smelter Look-up'!$C$4,$W724-4,0)&\"\")","v":""},"",{"$f":"IF(B724=\"\",\"\",IF(ISERROR(MATCH($J724,SorP!$B$1:$B$6230,0)),\"\",INDIRECT(\"'SorP'!$A$\"&MATCH($J724,SorP!$B$1:$B$6230,0))))","v":""},null,{"$f":"IF(C724=\"\",NA(),MATCH($B724&$C724,'Smelter Look-up'!$J:$J,0))","v":{"$error":"#N/A"}},null,0,null,null,null,""]
[{"$nulls":18},{"$f":"IF(ISERROR($W725),\"\",OFFSET('Smelter Look-up'!$C$4,$W725-4,0)&\"\")","v":""},"",{"$f":"IF(B725=\"\",\"\",IF(ISERROR(MATCH($J725,SorP!$B$1:$B$6230,0)),\"\",INDIRECT(\"'SorP'!$A$\"&MATCH($J725,SorP!$B$1:$B$6230,0))))","v":""},null,{"$f":"IF(C725=\"\",NA(),MATCH($B725&$C725,'Smelter Look-up'!$J:$J,0))","v":{"$error":"#N/A"}},null,0,null,null,null,""]
[{"$nulls":18},{"$f":"IF(ISERROR($W726),\"\",OFFSET('Smelter Look-up'!$C$4,$W726-4,0)&\"\")","v":""},"",{"$f":"IF(B726=\"\",\"\",IF(ISERROR(MATCH($J726,SorP!$B$1:$B$6230,0)),\"\",INDIRECT(\"'SorP'!$A$\"&MATCH($J726,SorP!$B$1:$B$6230,0))))","v":""},null,{"$f":"IF(C726=\"\",NA(),MATCH($B726&$C726,'Smelter Look-up'!$J:$J,0))","v":{"$error":"#N/A"}},null,0,null,null,null,""]
[{"$nulls":18},{"$f":"IF(ISERROR($W727),\"\",OFFSET('Smelter Look-up'!$C$4,$W727-4,0)&\"\")","v":""},"",{"$f":"IF(B727=\"\",\"\",IF(ISERROR(MATCH($J727,SorP!$B$1:$B$6230,0)),\"\",INDIRECT(\"'SorP'!$A$\"&MATCH($J727,SorP!$B$1:$B$6230,0))))","v":""},null,{"$f":"IF(C727=\"\",NA(),MATCH($B727&$C727,'Smelter Look-up'!$J:$J,0))","v":{"$error":"#N/A"}},null,0,null,null,null,""]
[{"$nulls":18},{"$f":"IF(ISERROR($W728),\"\",OFFSET('Smelter Look-up'!$C$4,$W728-4,0)&\"\")","v":""},"",{"$f":"IF(B728=\"\",\"\",IF(ISERROR(MATCH($J728,SorP!$B$1:$B$6230,0)),\"\",INDIRECT(\"'SorP'!$A$\"&MATCH($J728,SorP!$B$1:$B$6230,0))))","v":""},null,{"$f":"IF(C728=\"\",NA(),MATCH($B728&$C728,'Smelter Look-up'!$J:$J,0))","v":{"$error":"#N/A"}},null,0,null,null,null,""]
[{"$nulls":18},{"$f":"IF(ISERROR($W729),\"\",OFFSET('Smelter Look-up'!$C$4,$W729-4,0)&\"\")","v":""},"",{"$f":"IF(B729=\"\",\"\",IF(ISERROR(MATCH($J729,SorP!$B$1:$B$6230,0)),\"\",INDIRECT(\"'SorP'!$A$\"&MATCH($J729,SorP!$B$1:$B$6230,0))))","v":""},null,{"$f":"IF(C729=\"\",NA(),MATCH($B729&$C729,'Smelter Look-up'!$J:$J,0))","v":{"$error":"#N/A"}},null,0,null,null,null,""]
[{"$nulls":18},{"$f":"IF(ISERROR($W730),\"\",OFFSET('Smelter Look-up'!$C$4,$W730-4,0)&\"\")","v":""},"",{"$f":"IF(B730=\"\",\"\",IF(ISERROR(MATCH($J730,SorP!$B$1:$B$6230,0)),\"\",INDIRECT(\"'SorP'!$A$\"&MATCH($J730,SorP!$B$1:$B$6230,0))))","v":""},null,{"$f":"IF(C730=\"\",NA(),MATCH($B730&$C730,'Smelter Look-up'!$J:$J,0))","v":{"$error":"#N/A"}},null,0,null,null,null,""]
[{"$nulls":18},{"$f":"IF(ISERROR($W731),\"\",OFFSET('Smelter Look-up'!$C$4,$W731-4,0)&\"\")","v":""},"",{"$f":"IF(B731=\"\",\"\",IF(ISERROR(MATCH($J731,SorP!$B$1:$B$6230,0)),\"\",INDIRECT(\"'SorP'!$A$\"&MATCH($J731,SorP!$B$1:$B$6230,0))))","v":""},null,{"$f":"IF(C731=\"\",NA(),MATCH($B731&$C731,'Smelter Look-up'!$J:$J,0))","v":{"$error":"#N/A"}},null,0,null,null,null,""]
[{"$nulls":18},{"$f":"IF(ISERROR($W732),\"\",OFFSET('Smelter Look-up'!$C$4,$W732-4,0)&\"\")","v":""},"",{"$f":"IF(B732=\"\",\"\",IF(ISERROR(MATCH($J732,SorP!$B$1:$B$6230,0)),\"\",INDIRECT(\"'SorP'!$A$\"&MATCH($J732,SorP!$B$1:$B$6230,0))))","v":""},null,{"$f":"IF(C732=\"\",NA(),MATCH($B732&$C732,'Smelter Look-up'!$J:$J,0))","v":{"$error":"#N/A"}},null,0,null,null,null,""]
[{"$nulls":18},{"$f":"IF(ISERROR($W733),\"\",OFFSET('Smelter Look-up'!$C$4,$W733-4,0)&\"\")","v":""},"",{"$f":"IF(B733=\"\",\"\",IF(ISERROR(MATCH($J733,SorP!$B$1:$B$6230,0)),\"\",INDIRECT(\"'SorP'!$A$\"&MATCH($J733,SorP!$B$1:$B$6230,0))))","v":""},null,{"$f":"IF(C733=\"\",NA(),MATCH($B733&$C733,'Smelter Look-up'!$J:$J,0))","v":{"$error":"#N/A"}},null,0,null,null,null,""]
[{"$nulls":18},{"$f":"IF(ISERROR($W734),\"\",OFFSET('Smelter Look-up'!$C$4,$W734-4,0)&\"\")","v":""},"",{"$f":"IF(B734=\"\",\"\",IF(ISERROR(MATCH($J734,SorP!$B$1:$B$6230,0)),\"\",INDIRECT(\"'SorP'!$A$\"&MATCH($J734,SorP!$B$1:$B$6230,0))))","v":""},null,{"$f":"IF(C734=\"\",NA(),MATCH($B734&$C734,'Smelter Look-up'!$J:$J,0))","v":{"$error":"#N/A"}},null,0,null,null,null,""]
[{"$nulls":18},{"$f":"IF(ISERROR($W735),\"\",OFFSET('Smelter Look-up'!$C$4,$W735-4,0)&\"\")","v":""},"",{"$f":"IF(B735=\"\",\"\",IF(ISERROR(MATCH($J735,SorP!$B$1:$B$6230,0)),\"\",INDIRECT(\"'SorP'!$A$\"&MATCH($J735,SorP!$B$1:$B$6230,0))))","v":""},null,{"$f":"IF(C735=\"\",NA(),MATCH($B735&$C735,'Smelter Look-up'!$J:$J,0))","v":{"$error":"#N/A"}},null,0,null,null,null,""]
[{"$nulls":18},{"$f":"IF(ISERROR($W736),\"\",OFFSET('Smelter Look-up'!$C$4,$W736-4,0)&\"\")","v":""},"",{"$f":"IF(B736=\"\",\"\",IF(ISERROR(MATCH($J736,SorP!$B$1:$B$6230,0)),\"\",INDIRECT(\"'SorP'!$A$\"&MATCH($J736,SorP!$B$1:$B$6230,0))))","v":""},null,{"$f":"IF(C736=\"\",NA(),MATCH($B736&$C736,'Smelter Look-up'!$J:$J,0))","v":{"$error":"#N/A"}},null,0,null,null,null,""]
[{"$nulls":18},{"$f":"IF(ISERROR($W737),\"\",OFFSET('Smelter Look-up'!$C$4,$W737-4,0)&\"\")","v":""},"",{"$f":"IF(B737=\"\",\"\",IF(ISERROR(MATCH($J737,SorP!$B$1:$B$6230,0)),\"\",INDIRECT(\"'SorP'!$A$\"&MATCH($J737,SorP!$B$1:$B$6230,0))))","v":""},null,{"$f":"IF(C737=\"\",NA(),MATCH($B737&$C737,'Smelter Look-up'!$J:$J,0))","v":{"$error":"#N/A"}},null,0,null,null,null,""]
[{"$nulls":18},{"$f":"IF(ISERROR($W738),\"\",OFFSET('Smelter Look-up'!$C$4,$W738-4,0)&\"\")","v":""},"",{"$f":"IF(B738=\"\",\"\",IF(ISERROR(MATCH($J738,SorP!$B$1:$B$6230,0)),\"\",INDIRECT(\"'SorP'!$A$\"&MATCH($J738,SorP!$B$1:$B$6230,0))))","v":""},null,{"$f":"IF(C738=\"\",NA(),MATCH($B738&$C738,'Smelter Look-up'!$J:$J,0))","v":{"$error":"#N/A"}},null,0,null,null,null,""]
[{"$nulls":18},{"$f":"IF(ISERROR($W739),\"\",OFFSET('Smelter Look-up'!$C$4,$W739-4,0)&\"\")","v":""},"",{"$f":"IF(B739=\"\",\"\",IF(ISERROR(MATCH($J739,SorP!$B$1:$B$6230,0)),\"\",INDIRECT(\"'SorP'!$A$\"&MATCH($J739,SorP!$B$1:$B$6230,0))))","v":""},null,{"$f":"IF(C739=\"\",NA(),MATCH($B739&$C739,'Smelter Look-up'!$J:$J,0))","v":{"$error":"#N/A"}},null,0,null,null,null,""]
[{"$nulls":18},{"$f":"IF(ISERROR($W740),\"\",OFFSET('Smelter Look-up'!$C$4,$W740-4,0)&\"\")","v":""},"",{"$f":"IF(B740=\"\",\"\",IF(ISERROR(MATCH($J740,SorP!$B$1:$B$6230,0)),\"\",INDIRECT(\"'SorP'!$A$\"&MATCH($J740,SorP!$B$1:$B$6230,0))))","v":""},null,{"$f":"IF(C740=\"\",NA(),MATCH($B740&$C740,'Smelter Look-up'!$J:$J,0))","v":{"$error":"#N/A"}},null,0,null,null,null,""]
[{"$nulls":18},{"$f":"IF(ISERROR($W741),\"\",OFFSET('Smelter Look-up'!$C$4,$W741-4,0)&\"\")","v":""},"",{"$f":"IF(B741=\"\",\"\",IF(ISERROR(MATCH($J741,SorP!$B$1:$B$6230,0)),\"\",INDIRECT(\"'SorP'!$A$\"&MATCH($J741,SorP!$B$1:$B$6230,0))))","v":""},null,{"$f":"IF(C741=\"\",NA(),MATCH($B741&$C741,'Smelter Look-up'!$J:$J,0))","v":{"$error":"#N/A"}},null,0,null,null,null,""]
[{"$nulls":18},{"$f":"IF(ISERROR($W742),\"\",OFFSET('Smelter Look-up'!$C$4,$W742-4,0)&\"\")","v":""},"",{"$f":"IF(B742=\"\",\"\",IF(ISERROR(MATCH($J742,SorP!$B$1:$B$6230,0)),\"\",INDIRECT(\"'SorP'!$A$\"&MATCH($J742,SorP!$B$1:$B$6230,0))))","v":""},null,{"$f":"IF(C742=\"\",NA(),MATCH($B742&$C742,'Smelter Look-up'!$J:$J,0))","v":{"$error":"#N/A"}},null,0,null,null,null,""]
[{"$nulls":18},{"$f":"IF(ISERROR($W743),\"\",OFFSET('Smelter Look-up'!$C$4,$W743-4,0)&\"\")","v":""},"",{"$f":"IF(B743=\"\",\"\",IF(ISERROR(MATCH($J743,SorP!$B$1:$B$6230,0)),\"\",INDIRECT(\"'SorP'!$A$\"&MATCH($J743,SorP!$B$1:$B$6230,0))))","v":""},null,{"$f":"IF(C743=\"\",NA(),MATCH($B743&$C743,'Smelter Look-up'!$J:$J,0))","v":{"$error":"#N/A"}},null,0,null,null,null,""]
[{"$nulls":18},{"$f":"IF(ISERROR($W744),\"\",OFFSET('Smelter Look-up'!$C$4,$W744-4,0)&\"\")","v":""},"",{"$f":"IF(B744=\"\",\"\",IF(ISERROR(MATCH($J744,SorP!$B$1:$B$6230,0)),\"\",INDIRECT(\"'SorP'!$A$\"&MATCH($J744,SorP!$B$1:$B$6230,0))))","v":""},null,{"$f":"IF(C744=\"\",NA(),MATCH($B744&$C744,'Smelter Look-up'!$J:$J,0))","v":{"$error":"#N/A"}},null,0,null,null,null,""]
[{"$nulls":18},{"$f":"IF(ISERROR($W745),\"\",OFFSET('Smelter Look-up'!$C$4,$W745-4,0)&\"\")","v":""},"",{"$f":"IF(B745=\"\",\"\",IF(ISERROR(MATCH($J745,SorP!$B$1:$B$6230,0)),\"\",INDIRECT(\"'SorP'!$A$\"&MATCH($J745,SorP!$B$1:$B$6230,0))))","v":""},null,{"$f":"IF(C745=\"\",NA(),MATCH($B745&$C745,'Smelter Look-up'!$J:$J,0))","v":{"$error":"#N/A"}},null,0,null,null,null,""]
[{"$nulls":18},{"$f":"IF(ISERROR($W746),\"\",OFFSET('Smelter Look-up'!$C$4,$W746-4,0)&\"\")","v":""},"",{"$f":"IF(B746=\"\",\"\",IF(ISERROR(MATCH($J746,SorP!$B$1:$B$6230,0)),\"\",INDIRECT(\"'SorP'!$A$\"&MATCH($J746,SorP!$B$1:$B$6230,0))))","v":""},null,{"$f":"IF(C746=\"\",NA(),MATCH($B746&$C746,'Smelter Look-up'!$J:$J,0))","v":{"$error":"#N/A"}},null,0,null,null,null,""]
[{"$nulls":18},{"$f":"IF(ISERROR($W747),\"\",OFFSET('Smelter Look-up'!$C$4,$W747-4,0)&\"\")","v":""},"",{"$f":"IF(B747=\"\",\"\",IF(ISERROR(MATCH($J747,SorP!$B$1:$B$6230,0)),\"\",INDIRECT(\"'SorP'!$A$\"&MATCH($J747,SorP!$B$1:$B$6230,0))))","v":""},null,{"$f":"IF(C747=\"\",NA(),MATCH($B747&$C747,'Smelter Look-up'!$J:$J,0))","v":{"$error":"#N/A"}},null,0,null,null,null,""]
[{"$nulls":18},{"$f":"IF(ISERROR($W748),\"\",OFFSET('Smelter Look-up'!$C$4,$W748-4,0)&\"\")","v":""},"",{"$f":"IF(B748=\"\",\"\",IF(ISERROR(MATCH($J748,SorP!$B$1:$B$6230,0)),\"\",INDIRECT(\"'SorP'!$A$\"&MATCH($J748,SorP!$B$1:$B$6230,0))))","v":""},null,{"$f":"IF(C748=\"\",NA(),MATCH($B748&$C748,'Smelter Look-up'!$J:$J,0))","v":{"$error":"#N/A"}},null,0,null,null,null,""]
[{"$nulls":18},{"$f":"IF(ISERROR($W749),\"\",OFFSET('Smelter Look-up'!$C$4,$W749-4,0)&\"\")","v":""},"",{"$f":"IF(B749=\"\",\"\",IF(ISERROR(MATCH($J749,SorP!$B$1:$B$6230,0)),\"\",INDIRECT(\"'SorP'!$A$\"&MATCH($J749,SorP!$B$1:$B$6230,0))))","v":""},null,{"$f":"IF(C749=\"\",NA(),MATCH($B749&$C749,'Smelter Look-up'!$J:$J,0))","v":{"$error":"#N/A"}},null,0,null,null,null,""]
[{"$nulls":18},{"$f":"IF(ISERROR($W750),\"\",OFFSET('Smelter Look-up'!$C$4,$W750-4,0)&\"\")","v":""},"",{"$f":"IF(B750=\"\",\"\",IF(ISERROR(MATCH($J750,SorP!$B$1:$B$6230,0)),\"\",INDIRECT(\"'SorP'!$A$\"&MATCH($J750,SorP!$B$1:$B$6230,0))))","v":""},null,{"$f":"IF(C750=\"\",NA(),MATCH($B750&$C750,'Smelter Look-up'!$J:$J,0))","v":{"$error":"#N/A"}},null,0,null,null,null,""]
[{"$nulls":18},{"$f":"IF(ISERROR($W751),\"\",OFFSET('Smelter Look-up'!$C$4,$W751-4,0)&\"\")","v":""},"",{"$f":"IF(B751=\"\",\"\",IF(ISERROR(MATCH($J751,SorP!$B$1:$B$6230,0)),\"\",INDIRECT(\"'SorP'!$A$\"&MATCH($J751,SorP!$B$1:$B$6230,0))))","v":""},null,{"$f":"IF(C751=\"\",NA(),MATCH($B751&$C751,'Smelter Look-up'!$J:$J,0))","v":{"$error":"#N/A"}},null,0,null,null,null,""]
[{"$nulls":18},{"$f":"IF(ISERROR($W752),\"\",OFFSET('Smelter Look-up'!$C$4,$W752-4,0)&\"\")","v":""},"",{"$f":"IF(B752=\"\",\"\",IF(ISERROR(MATCH($J752,SorP!$B$1:$B$6230,0)),\"\",INDIRECT(\"'SorP'!$A$\"&MATCH($J752,SorP!$B$1:$B$6230,0))))","v":""},null,{"$f":"IF(C752=\"\",NA(),MATCH($B752&$C752,'Smelter Look-up'!$J:$J,0))","v":{"$error":"#N/A"}},null,0,null,null,null,""]
[{"$nulls":18},{"$f":"IF(ISERROR($W753),\"\",OFFSET('Smelter Look-up'!$C$4,$W753-4,0)&\"\")","v":""},"",{"$f":"IF(B753=\"\",\"\",IF(ISERROR(MATCH($J753,SorP!$B$1:$B$6230,0)),\"\",INDIRECT(\"'SorP'!$A$\"&MATCH($J753,SorP!$B$1:$B$6230,0))))","v":""},null,{"$f":"IF(C753=\"\",NA(),MATCH($B753&$C753,'Smelter Look-up'!$J:$J,0))","v":{"$error":"#N/A"}},null,0,null,null,null,""]
[{"$nulls":18},{"$f":"IF(ISERROR($W754),\"\",OFFSET('Smelter Look-up'!$C$4,$W754-4,0)&\"\")","v":""},"",{"$f":"IF(B754=\"\",\"\",IF(ISERROR(MATCH($J754,SorP!$B$1:$B$6230,0)),\"\",INDIRECT(\"'SorP'!$A$\"&MATCH($J754,SorP!$B$1:$B$6230,0))))","v":""},null,{"$f":"IF(C754=\"\",NA(),MATCH($B754&$C754,'Smelter Look-up'!$J:$J,0))","v":{"$error":"#N/A"}},null,0,null,null,null,""]
[{"$nulls":18},{"$f":"IF(ISERROR($W755),\"\",OFFSET('Smelter Look-up'!$C$4,$W755-4,0)&\"\")","v":""},"",{"$f":"IF(B755=\"\",\"\",IF(ISERROR(MATCH($J755,SorP!$B$1:$B$6230,0)),\"\",INDIRECT(\"'SorP'!$A$\"&MATCH($J755,SorP!$B$1:$B$6230,0))))","v":""},null,{"$f":"IF(C755=\"\",NA(),MATCH($B755&$C755,'Smelter Look-up'!$J:$J,0))","v":{"$error":"#N/A"}},null,0,null,null,null,""]
[{"$nulls":18},{"$f":"IF(ISERROR($W756),\"\",OFFSET('Smelter Look-up'!$C$4,$W756-4,0)&\"\")","v":""},"",{"$f":"IF(B756=\"\",\"\",IF(ISERROR(MATCH($J756,SorP!$B$1:$B$6230,0)),\"\",INDIRECT(\"'SorP'!$A$\"&MATCH($J756,SorP!$B$1:$B$6230,0))))","v":""},null,{"$f":"IF(C756=\"\",NA(),MATCH($B756&$C756,'Smelter Look-up'!$J:$J,0))","v":{"$error":"#N/A"}},null,0,null,null,null,""]
[{"$nulls":18},{"$f":"IF(ISERROR($W757),\"\",OFFSET('Smelter Look-up'!$C$4,$W757-4,0)&\"\")","v":""},"",{"$f":"IF(B757=\"\",\"\",IF(ISERROR(MATCH($J757,SorP!$B$1:$B$6230,0)),\"\",INDIRECT(\"'SorP'!$A$\"&MATCH($J757,SorP!$B$1:$B$6230,0))))","v":""},null,{"$f":"IF(C757=\"\",NA(),MATCH($B757&$C757,'Smelter Look-up'!$J:$J,0))","v":{"$error":"#N/A"}},null,0,null,null,null,""]
[{"$nulls":18},{"$f":"IF(ISERROR($W758),\"\",OFFSET('Smelter Look-up'!$C$4,$W758-4,0)&\"\")","v":""},"",{"$f":"IF(B758=\"\",\"\",IF(ISERROR(MATCH($J758,SorP!$B$1:$B$6230,0)),\"\",INDIRECT(\"'SorP'!$A$\"&MATCH($J758,SorP!$B$1:$B$6230,0))))","v":""},null,{"$f":"IF(C758=\"\",NA(),MATCH($B758&$C758,'Smelter Look-up'!$J:$J,0))","v":{"$error":"#N/A"}},null,0,null,null,null,""]
[{"$nulls":18},{"$f":"IF(ISERROR($W759),\"\",OFFSET('Smelter Look-up'!$C$4,$W759-4,0)&\"\")","v":""},"",{"$f":"IF(B759=\"\",\"\",IF(ISERROR(MATCH($J759,SorP!$B$1:$B$6230,0)),\"\",INDIRECT(\"'SorP'!$A$\"&MATCH($J759,SorP!$B$1:$B$6230,0))))","v":""},null,{"$f":"IF(C759=\"\",NA(),MATCH($B759&$C759,'Smelter Look-up'!$J:$J,0))","v":{"$error":"#N/A"}},null,0,null,null,null,""]
[{"$nulls":18},{"$f":"IF(ISERROR($W760),\"\",OFFSET('Smelter Look-up'!$C$4,$W760-4,0)&\"\")","v":""},"",{"$f":"IF(B760=\"\",\"\",IF(ISERROR(MATCH($J760,SorP!$B$1:$B$6230,0)),\"\",INDIRECT(\"'SorP'!$A$\"&MATCH($J760,SorP!$B$1:$B$6230,0))))","v":""},null,{"$f":"IF(C760=\"\",NA(),MATCH($B760&$C760,'Smelter Look-up'!$J:$J,0))","v":{"$error":"#N/A"}},null,0,null,null,null,""]
[{"$nulls":18},{"$f":"IF(ISERROR($W761),\"\",OFFSET('Smelter Look-up'!$C$4,$W761-4,0)&\"\")","v":""},"",{"$f":"IF(B761=\"\",\"\",IF(ISERROR(MATCH($J761,SorP!$B$1:$B$6230,0)),\"\",INDIRECT(\"'SorP'!$A$\"&MATCH($J761,SorP!$B$1:$B$6230,0))))","v":""},null,{"$f":"IF(C761=\"\",NA(),MATCH($B761&$C761,'Smelter Look-up'!$J:$J,0))","v":{"$error":"#N/A"}},null,0,null,null,null,""]
[{"$nulls":18},{"$f":"IF(ISERROR($W762),\"\",OFFSET('Smelter Look-up'!$C$4,$W762-4,0)&\"\")","v":""},"",{"$f":"IF(B762=\"\",\"\",IF(ISERROR(MATCH($J762,SorP!$B$1:$B$6230,0)),\"\",INDIRECT(\"'SorP'!$A$\"&MATCH($J762,SorP!$B$1:$B$6230,0))))","v":""},null,{"$f":"IF(C762=\"\",NA(),MATCH($B762&$C762,'Smelter Look-up'!$J:$J,0))","v":{"$error":"#N/A"}},null,0,null,null,null,""]
[{"$nulls":18},{"$f":"IF(ISERROR($W763),\"\",OFFSET('Smelter Look-up'!$C$4,$W763-4,0)&\"\")","v":""},"",{"$f":"IF(B763=\"\",\"\",IF(ISERROR(MATCH($J763,SorP!$B$1:$B$6230,0)),\"\",INDIRECT(\"'SorP'!$A$\"&MATCH($J763,SorP!$B$1:$B$6230,0))))","v":""},null,{"$f":"IF(C763=\"\",NA(),MATCH($B763&$C763,'Smelter Look-up'!$J:$J,0))","v":{"$error":"#N/A"}},null,0,null,null,null,""]
[{"$nulls":18},{"$f":"IF(ISERROR($W764),\"\",OFFSET('Smelter Look-up'!$C$4,$W764-4,0)&\"\")","v":""},"",{"$f":"IF(B764=\"\",\"\",IF(ISERROR(MATCH($J764,SorP!$B$1:$B$6230,0)),\"\",INDIRECT(\"'SorP'!$A$\"&MATCH($J764,SorP!$B$1:$B$6230,0))))","v":""},null,{"$f":"IF(C764=\"\",NA(),MATCH($B764&$C764,'Smelter Look-up'!$J:$J,0))","v":{"$error":"#N/A"}},null,0,null,null,null,""]
[{"$nulls":18},{"$f":"IF(ISERROR($W765),\"\",OFFSET('Smelter Look-up'!$C$4,$W765-4,0)&\"\")","v":""},"",{"$f":"IF(B765=\"\",\"\",IF(ISERROR(MATCH($J765,SorP!$B$1:$B$6230,0)),\"\",INDIRECT(\"'SorP'!$A$\"&MATCH($J765,SorP!$B$1:$B$6230,0))))","v":""},null,{"$f":"IF(C765=\"\",NA(),MATCH($B765&$C765,'Smelter Look-up'!$J:$J,0))","v":{"$error":"#N/A"}},null,0,null,null,null,""]
[{"$nulls":18},{"$f":"IF(ISERROR($W766),\"\",OFFSET('Smelter Look-up'!$C$4,$W766-4,0)&\"\")","v":""},"",{"$f":"IF(B766=\"\",\"\",IF(ISERROR(MATCH($J766,SorP!$B$1:$B$6230,0)),\"\",INDIRECT(\"'SorP'!$A$\"&MATCH($J766,SorP!$B$1:$B$6230,0))))","v":""},null,{"$f":"IF(C766=\"\",NA(),MATCH($B766&$C766,'Smelter Look-up'!$J:$J,0))","v":{"$error":"#N/A"}},null,0,null,null,null,""]
[{"$nulls":18},{"$f":"IF(ISERROR($W767),\"\",OFFSET('Smelter Look-up'!$C$4,$W767-4,0)&\"\")","v":""},"",{"$f":"IF(B767=\"\",\"\",IF(ISERROR(MATCH($J767,SorP!$B$1:$B$6230,0)),\"\",INDIRECT(\"'SorP'!$A$\"&MATCH($J767,SorP!$B$1:$B$6230,0))))","v":""},null,{"$f":"IF(C767=\"\",NA(),MATCH($B767&$C767,'Smelter Look-up'!$J:$J,0))","v":{"$error":"#N/A"}},null,0,null,null,null,""]
[{"$nulls":18},{"$f":"IF(ISERROR($W768),\"\",OFFSET('Smelter Look-up'!$C$4,$W768-4,0)&\"\")","v":""},"",{"$f":"IF(B768=\"\",\"\",IF(ISERROR(MATCH($J768,SorP!$B$1:$B$6230,0)),\"\",INDIRECT(\"'SorP'!$A$\"&MATCH($J768,SorP!$B$1:$B$6230,0))))","v":""},null,{"$f":"IF(C768=\"\",NA(),MATCH($B768&$C768,'Smelter Look-up'!$J:$J,0))","v":{"$error":"#N/A"}},null,0,null,null,null,""]
[{"$nulls":18},{"$f":"IF(ISERROR($W769),\"\",OFFSET('Smelter Look-up'!$C$4,$W769-4,0)&\"\")","v":""},"",{"$f":"IF(B769=\"\",\"\",IF(ISERROR(MATCH($J769,SorP!$B$1:$B$6230,0)),\"\",INDIRECT(\"'SorP'!$A$\"&MATCH($J769,SorP!$B$1:$B$6230,0))))","v":""},null,{"$f":"IF(C769=\"\",NA(),MATCH($B769&$C769,'Smelter Look-up'!$J:$J,0))","v":{"$error":"#N/A"}},null,0,null,null,null,""]
[{"$nulls":18},{"$f":"IF(ISERROR($W770),\"\",OFFSET('Smelter Look-up'!$C$4,$W770-4,0)&\"\")","v":""},"",{"$f":"IF(B770=\"\",\"\",IF(ISERROR(MATCH($J770,SorP!$B$1:$B$6230,0)),\"\",INDIRECT(\"'SorP'!$A$\"&MATCH($J770,SorP!$B$1:$B$6230,0))))","v":""},null,{"$f":"IF(C770=\"\",NA(),MATCH($B770&$C770,'Smelter Look-up'!$J:$J,0))","v":{"$error":"#N/A"}},null,0,null,null,null,""]
[{"$nulls":18},{"$f":"IF(ISERROR($W771),\"\",OFFSET('Smelter Look-up'!$C$4,$W771-4,0)&\"\")","v":""},"",{"$f":"IF(B771=\"\",\"\",IF(ISERROR(MATCH($J771,SorP!$B$1:$B$6230,0)),\"\",INDIRECT(\"'SorP'!$A$\"&MATCH($J771,SorP!$B$1:$B$6230,0))))","v":""},null,{"$f":"IF(C771=\"\",NA(),MATCH($B771&$C771,'Smelter Look-up'!$J:$J,0))","v":{"$error":"#N/A"}},null,0,null,null,null,""]
[{"$nulls":18},{"$f":"IF(ISERROR($W772),\"\",OFFSET('Smelter Look-up'!$C$4,$W772-4,0)&\"\")","v":""},"",{"$f":"IF(B772=\"\",\"\",IF(ISERROR(MATCH($J772,SorP!$B$1:$B$6230,0)),\"\",INDIRECT(\"'SorP'!$A$\"&MATCH($J772,SorP!$B$1:$B$6230,0))))","v":""},null,{"$f":"IF(C772=\"\",NA(),MATCH($B772&$C772,'Smelter Look-up'!$J:$J,0))","v":{"$error":"#N/A"}},null,0,null,null,null,""]
[{"$nulls":18},{"$f":"IF(ISERROR($W773),\"\",OFFSET('Smelter Look-up'!$C$4,$W773-4,0)&\"\")","v":""},{"$f":"IF(B773=\"\",\"\",IF(ISERROR(MATCH($E773,CL,0)),\"Unknown\",INDIRECT(\"'C'!$A$\"&MATCH($E773,CL,0)+1)))","v":""},{"$f":"IF(B773=\"\",\"\",IF(ISERROR(MATCH($J773,SorP!$B$1:$B$6230,0)),\"\",INDIRECT(\"'SorP'!$A$\"&MATCH($J773,SorP!$B$1:$B$6230,0))))","v":""},null,{"$f":"IF(C773=\"\",NA(),MATCH($B773&$C773,'Smelter Look-up'!$J:$J,0))","v":{"$error":"#N/A"}},null,{"$f":"IF(AND(C773=\"Smelter not listed\",OR(LEN(D773)=0,LEN(E773)=0)),1,0)","v":0},null,null,null,{"$f":"B773&C773","v":""}]
[{"$nulls":18},{"$f":"IF(ISERROR($W774),\"\",OFFSET('Smelter Look-up'!$C$4,$W774-4,0)&\"\")","v":""},"",{"$f":"IF(B774=\"\",\"\",IF(ISERROR(MATCH($J774,SorP!$B$1:$B$6230,0)),\"\",INDIRECT(\"'SorP'!$A$\"&MATCH($J774,SorP!$B$1:$B$6230,0))))","v":""},null,{"$f":"IF(C774=\"\",NA(),MATCH($B774&$C774,'Smelter Look-up'!$J:$J,0))","v":{"$error":"#N/A"}},null,0,null,null,null,""]
[{"$nulls":18},{"$f":"IF(ISERROR($W775),\"\",OFFSET('Smelter Look-up'!$C$4,$W775-4,0)&\"\")","v":""},"",{"$f":"IF(B775=\"\",\"\",IF(ISERROR(MATCH($J775,SorP!$B$1:$B$6230,0)),\"\",INDIRECT(\"'SorP'!$A$\"&MATCH($J775,SorP!$B$1:$B$6230,0))))","v":""},null,{"$f":"IF(C775=\"\",NA(),MATCH($B775&$C775,'Smelter Look-up'!$J:$J,0))","v":{"$error":"#N/A"}},null,0,null,null,null,""]
[{"$nulls":18},{"$f":"IF(ISERROR($W776),\"\",OFFSET('Smelter Look-up'!$C$4,$W776-4,0)&\"\")","v":""},"",{"$f":"IF(B776=\"\",\"\",IF(ISERROR(MATCH($J776,SorP!$B$1:$B$6230,0)),\"\",INDIRECT(\"'SorP'!$A$\"&MATCH($J776,SorP!$B$1:$B$6230,0))))","v":""},null,{"$f":"IF(C776=\"\",NA(),MATCH($B776&$C776,'Smelter Look-up'!$J:$J,0))","v":{"$error":"#N/A"}},null,0,null,null,null,""]
[{"$nulls":18},{"$f":"IF(ISERROR($W777),\"\",OFFSET('Smelter Look-up'!$C$4,$W777-4,0)&\"\")","v":""},"",{"$f":"IF(B777=\"\",\"\",IF(ISERROR(MATCH($J777,SorP!$B$1:$B$6230,0)),\"\",INDIRECT(\"'SorP'!$A$\"&MATCH($J777,SorP!$B$1:$B$6230,0))))","v":""},null,{"$f":"IF(C777=\"\",NA(),MATCH($B777&$C777,'Smelter Look-up'!$J:$J,0))","v":{"$error":"#N/A"}},null,0,null,null,null,""]
[{"$nulls":18},{"$f":"IF(ISERROR($W778),\"\",OFFSET('Smelter Look-up'!$C$4,$W778-4,0)&\"\")","v":""},"",{"$f":"IF(B778=\"\",\"\",IF(ISERROR(MATCH($J778,SorP!$B$1:$B$6230,0)),\"\",INDIRECT(\"'SorP'!$A$\"&MATCH($J778,SorP!$B$1:$B$6230,0))))","v":""},null,{"$f":"IF(C778=\"\",NA(),MATCH($B778&$C778,'Smelter Look-up'!$J:$J,0))","v":{"$error":"#N/A"}},null,0,null,null,null,""]
[{"$nulls":18},{"$f":"IF(ISERROR($W779),\"\",OFFSET('Smelter Look-up'!$C$4,$W779-4,0)&\"\")","v":""},"",{"$f":"IF(B779=\"\",\"\",IF(ISERROR(MATCH($J779,SorP!$B$1:$B$6230,0)),\"\",INDIRECT(\"'SorP'!$A$\"&MATCH($J779,SorP!$B$1:$B$6230,0))))","v":""},null,{"$f":"IF(C779=\"\",NA(),MATCH($B779&$C779,'Smelter Look-up'!$J:$J,0))","v":{"$error":"#N/A"}},null,0,null,null,null,""]
[{"$nulls":18},{"$f":"IF(ISERROR($W780),\"\",OFFSET('Smelter Look-up'!$C$4,$W780-4,0)&\"\")","v":""},"",{"$f":"IF(B780=\"\",\"\",IF(ISERROR(MATCH($J780,SorP!$B$1:$B$6230,0)),\"\",INDIRECT(\"'SorP'!$A$\"&MATCH($J780,SorP!$B$1:$B$6230,0))))","v":""},null,{"$f":"IF(C780=\"\",NA(),MATCH($B780&$C780,'Smelter Look-up'!$J:$J,0))","v":{"$error":"#N/A"}},null,0,null,null,null,""]
[{"$nulls":18},{"$f":"IF(ISERROR($W781),\"\",OFFSET('Smelter Look-up'!$C$4,$W781-4,0)&\"\")","v":""},"",{"$f":"IF(B781=\"\",\"\",IF(ISERROR(MATCH($J781,SorP!$B$1:$B$6230,0)),\"\",INDIRECT(\"'SorP'!$A$\"&MATCH($J781,SorP!$B$1:$B$6230,0))))","v":""},null,{"$f":"IF(C781=\"\",NA(),MATCH($B781&$C781,'Smelter Look-up'!$J:$J,0))","v":{"$error":"#N/A"}},null,0,null,null,null,""]
[{"$nulls":18},{"$f":"IF(ISERROR($W782),\"\",OFFSET('Smelter Look-up'!$C$4,$W782-4,0)&\"\")","v":""},"",{"$f":"IF(B782=\"\",\"\",IF(ISERROR(MATCH($J782,SorP!$B$1:$B$6230,0)),\"\",INDIRECT(\"'SorP'!$A$\"&MATCH($J782,SorP!$B$1:$B$6230,0))))","v":""},null,{"$f":"IF(C782=\"\",NA(),MATCH($B782&$C782,'Smelter Look-up'!$J:$J,0))","v":{"$error":"#N/A"}},null,0,null,null,null,""]
[{"$nulls":18},{"$f":"IF(ISERROR($W783),\"\",OFFSET('Smelter Look-up'!$C$4,$W783-4,0)&\"\")","v":""},"",{"$f":"IF(B783=\"\",\"\",IF(ISERROR(MATCH($J783,SorP!$B$1:$B$6230,0)),\"\",INDIRECT(\"'SorP'!$A$\"&MATCH($J783,SorP!$B$1:$B$6230,0))))","v":""},null,{"$f":"IF(C783=\"\",NA(),MATCH($B783&$C783,'Smelter Look-up'!$J:$J,0))","v":{"$error":"#N/A"}},null,0,null,null,null,""]
[{"$nulls":18},{"$f":"IF(ISERROR($W784),\"\",OFFSET('Smelter Look-up'!$C$4,$W784-4,0)&\"\")","v":""},"",{"$f":"IF(B784=\"\",\"\",IF(ISERROR(MATCH($J784,SorP!$B$1:$B$6230,0)),\"\",INDIRECT(\"'SorP'!$A$\"&MATCH($J784,SorP!$B$1:$B$6230,0))))","v":""},null,{"$f":"IF(C784=\"\",NA(),MATCH($B784&$C784,'Smelter Look-up'!$J:$J,0))","v":{"$error":"#N/A"}},null,0,null,null,null,""]
[{"$nulls":18},{"$f":"IF(ISERROR($W785),\"\",OFFSET('Smelter Look-up'!$C$4,$W785-4,0)&\"\")","v":""},"",{"$f":"IF(B785=\"\",\"\",IF(ISERROR(MATCH($J785,SorP!$B$1:$B$6230,0)),\"\",INDIRECT(\"'SorP'!$A$\"&MATCH($J785,SorP!$B$1:$B$6230,0))))","v":""},null,{"$f":"IF(C785=\"\",NA(),MATCH($B785&$C785,'Smelter Look-up'!$J:$J,0))","v":{"$error":"#N/A"}},null,0,null,null,null,""]
[{"$nulls":18},{"$f":"IF(ISERROR($W786),\"\",OFFSET('Smelter Look-up'!$C$4,$W786-4,0)&\"\")","v":""},"",{"$f":"IF(B786=\"\",\"\",IF(ISERROR(MATCH($J786,SorP!$B$1:$B$6230,0)),\"\",INDIRECT(\"'SorP'!$A$\"&MATCH($J786,SorP!$B$1:$B$6230,0))))","v":""},null,{"$f":"IF(C786=\"\",NA(),MATCH($B786&$C786,'Smelter Look-up'!$J:$J,0))","v":{"$error":"#N/A"}},null,0,null,null,null,""]
[{"$nulls":18},{"$f":"IF(ISERROR($W787),\"\",OFFSET('Smelter Look-up'!$C$4,$W787-4,0)&\"\")","v":""},"",{"$f":"IF(B787=\"\",\"\",IF(ISERROR(MATCH($J787,SorP!$B$1:$B$6230,0)),\"\",INDIRECT(\"'SorP'!$A$\"&MATCH($J787,SorP!$B$1:$B$6230,0))))","v":""},null,{"$f":"IF(C787=\"\",NA(),MATCH($B787&$C787,'Smelter Look-up'!$J:$J,0))","v":{"$error":"#N/A"}},null,0,null,null,null,""]
[{"$nulls":18},{"$f":"IF(ISERROR($W788),\"\",OFFSET('Smelter Look-up'!$C$4,$W788-4,0)&\"\")","v":""},"",{"$f":"IF(B788=\"\",\"\",IF(ISERROR(MATCH($J788,SorP!$B$1:$B$6230,0)),\"\",INDIRECT(\"'SorP'!$A$\"&MATCH($J788,SorP!$B$1:$B$6230,0))))","v":""},null,{"$f":"IF(C788=\"\",NA(),MATCH($B788&$C788,'Smelter Look-up'!$J:$J,0))","v":{"$error":"#N/A"}},null,0,null,null,null,""]
[{"$nulls":18},{"$f":"IF(ISERROR($W789),\"\",OFFSET('Smelter Look-up'!$C$4,$W789-4,0)&\"\")","v":""},"",{"$f":"IF(B789=\"\",\"\",IF(ISERROR(MATCH($J789,SorP!$B$1:$B$6230,0)),\"\",INDIRECT(\"'SorP'!$A$\"&MATCH($J789,SorP!$B$1:$B$6230,0))))","v":""},null,{"$f":"IF(C789=\"\",NA(),MATCH($B789&$C789,'Smelter Look-up'!$J:$J,0))","v":{"$error":"#N/A"}},null,0,null,null,null,""]
[{"$nulls":18},{"$f":"IF(ISERROR($W790),\"\",OFFSET('Smelter Look-up'!$C$4,$W790-4,0)&\"\")","v":""},"",{"$f":"IF(B790=\"\",\"\",IF(ISERROR(MATCH($J790,SorP!$B$1:$B$6230,0)),\"\",INDIRECT(\"'SorP'!$A$\"&MATCH($J790,SorP!$B$1:$B$6230,0))))","v":""},null,{"$f":"IF(C790=\"\",NA(),MATCH($B790&$C790,'Smelter Look-up'!$J:$J,0))","v":{"$error":"#N/A"}},null,0,null,null,null,""]
[{"$nulls":18},{"$f":"IF(ISERROR($W791),\"\",OFFSET('Smelter Look-up'!$C$4,$W791-4,0)&\"\")","v":""},"",{"$f":"IF(B791=\"\",\"\",IF(ISERROR(MATCH($J791,SorP!$B$1:$B$6230,0)),\"\",INDIRECT(\"'SorP'!$A$\"&MATCH($J791,SorP!$B$1:$B$6230,0))))","v":""},null,{"$f":"IF(C791=\"\",NA(),MATCH($B791&$C791,'Smelter Look-up'!$J:$J,0))","v":{"$error":"#N/A"}},null,0,null,null,null,""]
[{"$nulls":18},{"$f":"IF(ISERROR($W792),\"\",OFFSET('Smelter Look-up'!$C$4,$W792-4,0)&\"\")","v":""},"",{"$f":"IF(B792=\"\",\"\",IF(ISERROR(MATCH($J792,SorP!$B$1:$B$6230,0)),\"\",INDIRECT(\"'SorP'!$A$\"&MATCH($J792,SorP!$B$1:$B$6230,0))))","v":""},null,{"$f":"IF(C792=\"\",NA(),MATCH($B792&$C792,'Smelter Look-up'!$J:$J,0))","v":{"$error":"#N/A"}},null,0,null,null,null,""]
[{"$nulls":18},{"$f":"IF(ISERROR($W793),\"\",OFFSET('Smelter Look-up'!$C$4,$W793-4,0)&\"\")","v":""},"",{"$f":"IF(B793=\"\",\"\",IF(ISERROR(MATCH($J793,SorP!$B$1:$B$6230,0)),\"\",INDIRECT(\"'SorP'!$A$\"&MATCH($J793,SorP!$B$1:$B$6230,0))))","v":""},null,{"$f":"IF(C793=\"\",NA(),MATCH($B793&$C793,'Smelter Look-up'!$J:$J,0))","v":{"$error":"#N/A"}},null,0,null,null,null,""]
[{"$nulls":18},{"$f":"IF(ISERROR($W794),\"\",OFFSET('Smelter Look-up'!$C$4,$W794-4,0)&\"\")","v":""},"",{"$f":"IF(B794=\"\",\"\",IF(ISERROR(MATCH($J794,SorP!$B$1:$B$6230,0)),\"\",INDIRECT(\"'SorP'!$A$\"&MATCH($J794,SorP!$B$1:$B$6230,0))))","v":""},null,{"$f":"IF(C794=\"\",NA(),MATCH($B794&$C794,'Smelter Look-up'!$J:$J,0))","v":{"$error":"#N/A"}},null,0,null,null,null,""]
[{"$nulls":18},{"$f":"IF(ISERROR($W795),\"\",OFFSET('Smelter Look-up'!$C$4,$W795-4,0)&\"\")","v":""},"",{"$f":"IF(B795=\"\",\"\",IF(ISERROR(MATCH($J795,SorP!$B$1:$B$6230,0)),\"\",INDIRECT(\"'SorP'!$A$\"&MATCH($J795,SorP!$B$1:$B$6230,0))))","v":""},null,{"$f":"IF(C795=\"\",NA(),MATCH($B795&$C795,'Smelter Look-up'!$J:$J,0))","v":{"$error":"#N/A"}},null,0,null,null,null,""]
[{"$nulls":18},{"$f":"IF(ISERROR($W796),\"\",OFFSET('Smelter Look-up'!$C$4,$W796-4,0)&\"\")","v":""},"",{"$f":"IF(B796=\"\",\"\",IF(ISERROR(MATCH($J796,SorP!$B$1:$B$6230,0)),\"\",INDIRECT(\"'SorP'!$A$\"&MATCH($J796,SorP!$B$1:$B$6230,0))))","v":""},null,{"$f":"IF(C796=\"\",NA(),MATCH($B796&$C796,'Smelter Look-up'!$J:$J,0))","v":{"$error":"#N/A"}},null,0,null,null,null,""]
[{"$nulls":18},{"$f":"IF(ISERROR($W797),\"\",OFFSET('Smelter Look-up'!$C$4,$W797-4,0)&\"\")","v":""},"",{"$f":"IF(B797=\"\",\"\",IF(ISERROR(MATCH($J797,SorP!$B$1:$B$6230,0)),\"\",INDIRECT(\"'SorP'!$A$\"&MATCH($J797,SorP!$B$1:$B$6230,0))))","v":""},null,{"$f":"IF(C797=\"\",NA(),MATCH($B797&$C797,'Smelter Look-up'!$J:$J,0))","v":{"$error":"#N/A"}},null,0,null,null,null,""]
[{"$nulls":18},{"$f":"IF(ISERROR($W798),\"\",OFFSET('Smelter Look-up'!$C$4,$W798-4,0)&\"\")","v":""},"",{"$f":"IF(B798=\"\",\"\",IF(ISERROR(MATCH($J798,SorP!$B$1:$B$6230,0)),\"\",INDIRECT(\"'SorP'!$A$\"&MATCH($J798,SorP!$B$1:$B$6230,0))))","v":""},null,{"$f":"IF(C798=\"\",NA(),MATCH($B798&$C798,'Smelter Look-up'!$J:$J,0))","v":{"$error":"#N/A"}},null,0,null,null,null,""]
[{"$nulls":18},{"$f":"IF(ISERROR($W799),\"\",OFFSET('Smelter Look-up'!$C$4,$W799-4,0)&\"\")","v":""},"",{"$f":"IF(B799=\"\",\"\",IF(ISERROR(MATCH($J799,SorP!$B$1:$B$6230,0)),\"\",INDIRECT(\"'SorP'!$A$\"&MATCH($J799,SorP!$B$1:$B$6230,0))))","v":""},null,{"$f":"IF(C799=\"\",NA(),MATCH($B799&$C799,'Smelter Look-up'!$J:$J,0))","v":{"$error":"#N/A"}},null,0,null,null,null,""]
[{"$nulls":18},{"$f":"IF(ISERROR($W800),\"\",OFFSET('Smelter Look-up'!$C$4,$W800-4,0)&\"\")","v":""},"",{"$f":"IF(B800=\"\",\"\",IF(ISERROR(MATCH($J800,SorP!$B$1:$B$6230,0)),\"\",INDIRECT(\"'SorP'!$A$\"&MATCH($J800,SorP!$B$1:$B$6230,0))))","v":""},null,{"$f":"IF(C800=\"\",NA(),MATCH($B800&$C800,'Smelter Look-up'!$J:$J,0))","v":{"$error":"#N/A"}},null,0,null,null,null,""]
[{"$nulls":18},{"$f":"IF(ISERROR($W801),\"\",OFFSET('Smelter Look-up'!$C$4,$W801-4,0)&\"\")","v":""},"",{"$f":"IF(B801=\"\",\"\",IF(ISERROR(MATCH($J801,SorP!$B$1:$B$6230,0)),\"\",INDIRECT(\"'SorP'!$A$\"&MATCH($J801,SorP!$B$1:$B$6230,0))))","v":""},null,{"$f":"IF(C801=\"\",NA(),MATCH($B801&$C801,'Smelter Look-up'!$J:$J,0))","v":{"$error":"#N/A"}},null,0,null,null,null,""]
[{"$nulls":18},{"$f":"IF(ISERROR($W802),\"\",OFFSET('Smelter Look-up'!$C$4,$W802-4,0)&\"\")","v":""},"",{"$f":"IF(B802=\"\",\"\",IF(ISERROR(MATCH($J802,SorP!$B$1:$B$6230,0)),\"\",INDIRECT(\"'SorP'!$A$\"&MATCH($J802,SorP!$B$1:$B$6230,0))))","v":""},null,{"$f":"IF(C802=\"\",NA(),MATCH($B802&$C802,'Smelter Look-up'!$J:$J,0))","v":{"$error":"#N/A"}},null,0,null,null,null,""]
[{"$nulls":18},{"$f":"IF(ISERROR($W803),\"\",OFFSET('Smelter Look-up'!$C$4,$W803-4,0)&\"\")","v":""},"",{"$f":"IF(B803=\"\",\"\",IF(ISERROR(MATCH($J803,SorP!$B$1:$B$6230,0)),\"\",INDIRECT(\"'SorP'!$A$\"&MATCH($J803,SorP!$B$1:$B$6230,0))))","v":""},null,{"$f":"IF(C803=\"\",NA(),MATCH($B803&$C803,'Smelter Look-up'!$J:$J,0))","v":{"$error":"#N/A"}},null,0,null,null,null,""]
[{"$nulls":18},{"$f":"IF(ISERROR($W804),\"\",OFFSET('Smelter Look-up'!$C$4,$W804-4,0)&\"\")","v":""},"",{"$f":"IF(B804=\"\",\"\",IF(ISERROR(MATCH($J804,SorP!$B$1:$B$6230,0)),\"\",INDIRECT(\"'SorP'!$A$\"&MATCH($J804,SorP!$B$1:$B$6230,0))))","v":""},null,{"$f":"IF(C804=\"\",NA(),MATCH($B804&$C804,'Smelter Look-up'!$J:$J,0))","v":{"$error":"#N/A"}},null,0,null,null,null,""]
[{"$nulls":18},{"$f":"IF(ISERROR($W805),\"\",OFFSET('Smelter Look-up'!$C$4,$W805-4,0)&\"\")","v":""},"",{"$f":"IF(B805=\"\",\"\",IF(ISERROR(MATCH($J805,SorP!$B$1:$B$6230,0)),\"\",INDIRECT(\"'SorP'!$A$\"&MATCH($J805,SorP!$B$1:$B$6230,0))))","v":""},null,{"$f":"IF(C805=\"\",NA(),MATCH($B805&$C805,'Smelter Look-up'!$J:$J,0))","v":{"$error":"#N/A"}},null,0,null,null,null,""]
[{"$nulls":18},{"$f":"IF(ISERROR($W806),\"\",OFFSET('Smelter Look-up'!$C$4,$W806-4,0)&\"\")","v":""},"",{"$f":"IF(B806=\"\",\"\",IF(ISERROR(MATCH($J806,SorP!$B$1:$B$6230,0)),\"\",INDIRECT(\"'SorP'!$A$\"&MATCH($J806,SorP!$B$1:$B$6230,0))))","v":""},null,{"$f":"IF(C806=\"\",NA(),MATCH($B806&$C806,'Smelter Look-up'!$J:$J,0))","v":{"$error":"#N/A"}},null,0,null,null,null,""]
[{"$nulls":18},{"$f":"IF(ISERROR($W807),\"\",OFFSET('Smelter Look-up'!$C$4,$W807-4,0)&\"\")","v":""},"",{"$f":"IF(B807=\"\",\"\",IF(ISERROR(MATCH($J807,SorP!$B$1:$B$6230,0)),\"\",INDIRECT(\"'SorP'!$A$\"&MATCH($J807,SorP!$B$1:$B$6230,0))))","v":""},null,{"$f":"IF(C807=\"\",NA(),MATCH($B807&$C807,'Smelter Look-up'!$J:$J,0))","v":{"$error":"#N/A"}},null,0,null,null,null,""]
[{"$nulls":18},{"$f":"IF(ISERROR($W808),\"\",OFFSET('Smelter Look-up'!$C$4,$W808-4,0)&\"\")","v":""},"",{"$f":"IF(B808=\"\",\"\",IF(ISERROR(MATCH($J808,SorP!$B$1:$B$6230,0)),\"\",INDIRECT(\"'SorP'!$A$\"&MATCH($J808,SorP!$B$1:$B$6230,0))))","v":""},null,{"$f":"IF(C808=\"\",NA(),MATCH($B808&$C808,'Smelter Look-up'!$J:$J,0))","v":{"$error":"#N/A"}},null,0,null,null,null,""]
[{"$nulls":18},{"$f":"IF(ISERROR($W809),\"\",OFFSET('Smelter Look-up'!$C$4,$W809-4,0)&\"\")","v":""},"",{"$f":"IF(B809=\"\",\"\",IF(ISERROR(MATCH($J809,SorP!$B$1:$B$6230,0)),\"\",INDIRECT(\"'SorP'!$A$\"&MATCH($J809,SorP!$B$1:$B$6230,0))))","v":""},null,{"$f":"IF(C809=\"\",NA(),MATCH($B809&$C809,'Smelter Look-up'!$J:$J,0))","v":{"$error":"#N/A"}},null,0,null,null,null,""]
[{"$nulls":18},{"$f":"IF(ISERROR($W810),\"\",OFFSET('Smelter Look-up'!$C$4,$W810-4,0)&\"\")","v":""},"",{"$f":"IF(B810=\"\",\"\",IF(ISERROR(MATCH($J810,SorP!$B$1:$B$6230,0)),\"\",INDIRECT(\"'SorP'!$A$\"&MATCH($J810,SorP!$B$1:$B$6230,0))))","v":""},null,{"$f":"IF(C810=\"\",NA(),MATCH($B810&$C810,'Smelter Look-up'!$J:$J,0))","v":{"$error":"#N/A"}},null,0,null,null,null,""]
[{"$nulls":18},{"$f":"IF(ISERROR($W811),\"\",OFFSET('Smelter Look-up'!$C$4,$W811-4,0)&\"\")","v":""},"",{"$f":"IF(B811=\"\",\"\",IF(ISERROR(MATCH($J811,SorP!$B$1:$B$6230,0)),\"\",INDIRECT(\"'SorP'!$A$\"&MATCH($J811,SorP!$B$1:$B$6230,0))))","v":""},null,{"$f":"IF(C811=\"\",NA(),MATCH($B811&$C811,'Smelter Look-up'!$J:$J,0))","v":{"$error":"#N/A"}},null,0,null,null,null,""]
[{"$nulls":18},{"$f":"IF(ISERROR($W812),\"\",OFFSET('Smelter Look-up'!$C$4,$W812-4,0)&\"\")","v":""},"",{"$f":"IF(B812=\"\",\"\",IF(ISERROR(MATCH($J812,SorP!$B$1:$B$6230,0)),\"\",INDIRECT(\"'SorP'!$A$\"&MATCH($J812,SorP!$B$1:$B$6230,0))))","v":""},null,{"$f":"IF(C812=\"\",NA(),MATCH($B812&$C812,'Smelter Look-up'!$J:$J,0))","v":{"$error":"#N/A"}},null,0,null,null,null,""]
[{"$nulls":18},{"$f":"IF(ISERROR($W813),\"\",OFFSET('Smelter Look-up'!$C$4,$W813-4,0)&\"\")","v":""},"",{"$f":"IF(B813=\"\",\"\",IF(ISERROR(MATCH($J813,SorP!$B$1:$B$6230,0)),\"\",INDIRECT(\"'SorP'!$A$\"&MATCH($J813,SorP!$B$1:$B$6230,0))))","v":""},null,{"$f":"IF(C813=\"\",NA(),MATCH($B813&$C813,'Smelter Look-up'!$J:$J,0))","v":{"$error":"#N/A"}},null,0,null,null,null,""]
[{"$nulls":18},{"$f":"IF(ISERROR($W814),\"\",OFFSET('Smelter Look-up'!$C$4,$W814-4,0)&\"\")","v":""},"",{"$f":"IF(B814=\"\",\"\",IF(ISERROR(MATCH($J814,SorP!$B$1:$B$6230,0)),\"\",INDIRECT(\"'SorP'!$A$\"&MATCH($J814,SorP!$B$1:$B$6230,0))))","v":""},null,{"$f":"IF(C814=\"\",NA(),MATCH($B814&$C814,'Smelter Look-up'!$J:$J,0))","v":{"$error":"#N/A"}},null,0,null,null,null,""]
[{"$nulls":18},{"$f":"IF(ISERROR($W815),\"\",OFFSET('Smelter Look-up'!$C$4,$W815-4,0)&\"\")","v":""},"",{"$f":"IF(B815=\"\",\"\",IF(ISERROR(MATCH($J815,SorP!$B$1:$B$6230,0)),\"\",INDIRECT(\"'SorP'!$A$\"&MATCH($J815,SorP!$B$1:$B$6230,0))))","v":""},null,{"$f":"IF(C815=\"\",NA(),MATCH($B815&$C815,'Smelter Look-up'!$J:$J,0))","v":{"$error":"#N/A"}},null,0,null,null,null,""]
[{"$nulls":18},{"$f":"IF(ISERROR($W816),\"\",OFFSET('Smelter Look-up'!$C$4,$W816-4,0)&\"\")","v":""},"",{"$f":"IF(B816=\"\",\"\",IF(ISERROR(MATCH($J816,SorP!$B$1:$B$6230,0)),\"\",INDIRECT(\"'SorP'!$A$\"&MATCH($J816,SorP!$B$1:$B$6230,0))))","v":""},null,{"$f":"IF(C816=\"\",NA(),MATCH($B816&$C816,'Smelter Look-up'!$J:$J,0))","v":{"$error":"#N/A"}},null,0,null,null,null,""]
[{"$nulls":18},{"$f":"IF(ISERROR($W817),\"\",OFFSET('Smelter Look-up'!$C$4,$W817-4,0)&\"\")","v":""},"",{"$f":"IF(B817=\"\",\"\",IF(ISERROR(MATCH($J817,SorP!$B$1:$B$6230,0)),\"\",INDIRECT(\"'SorP'!$A$\"&MATCH($J817,SorP!$B$1:$B$6230,0))))","v":""},null,{"$f":"IF(C817=\"\",NA(),MATCH($B817&$C817,'Smelter Look-up'!$J:$J,0))","v":{"$error":"#N/A"}},null,0,null,null,null,""]
[{"$nulls":18},{"$f":"IF(ISERROR($W818),\"\",OFFSET('Smelter Look-up'!$C$4,$W818-4,0)&\"\")","v":""},"",{"$f":"IF(B818=\"\",\"\",IF(ISERROR(MATCH($J818,SorP!$B$1:$B$6230,0)),\"\",INDIRECT(\"'SorP'!$A$\"&MATCH($J818,SorP!$B$1:$B$6230,0))))","v":""},null,{"$f":"IF(C818=\"\",NA(),MATCH($B818&$C818,'Smelter Look-up'!$J:$J,0))","v":{"$error":"#N/A"}},null,0,null,null,null,""]
[{"$nulls":18},{"$f":"IF(ISERROR($W819),\"\",OFFSET('Smelter Look-up'!$C$4,$W819-4,0)&\"\")","v":""},"",{"$f":"IF(B819=\"\",\"\",IF(ISERROR(MATCH($J819,SorP!$B$1:$B$6230,0)),\"\",INDIRECT(\"'SorP'!$A$\"&MATCH($J819,SorP!$B$1:$B$6230,0))))","v":""},null,{"$f":"IF(C819=\"\",NA(),MATCH($B819&$C819,'Smelter Look-up'!$J:$J,0))","v":{"$error":"#N/A"}},null,0,null,null,null,""]
[{"$nulls":18},{"$f":"IF(ISERROR($W820),\"\",OFFSET('Smelter Look-up'!$C$4,$W820-4,0)&\"\")","v":""},"",{"$f":"IF(B820=\"\",\"\",IF(ISERROR(MATCH($J820,SorP!$B$1:$B$6230,0)),\"\",INDIRECT(\"'SorP'!$A$\"&MATCH($J820,SorP!$B$1:$B$6230,0))))","v":""},null,{"$f":"IF(C820=\"\",NA(),MATCH($B820&$C820,'Smelter Look-up'!$J:$J,0))","v":{"$error":"#N/A"}},null,0,null,null,null,""]
[{"$nulls":18},{"$f":"IF(ISERROR($W821),\"\",OFFSET('Smelter Look-up'!$C$4,$W821-4,0)&\"\")","v":""},"",{"$f":"IF(B821=\"\",\"\",IF(ISERROR(MATCH($J821,SorP!$B$1:$B$6230,0)),\"\",INDIRECT(\"'SorP'!$A$\"&MATCH($J821,SorP!$B$1:$B$6230,0))))","v":""},null,{"$f":"IF(C821=\"\",NA(),MATCH($B821&$C821,'Smelter Look-up'!$J:$J,0))","v":{"$error":"#N/A"}},null,0,null,null,null,""]
[{"$nulls":18},{"$f":"IF(ISERROR($W822),\"\",OFFSET('Smelter Look-up'!$C$4,$W822-4,0)&\"\")","v":""},"",{"$f":"IF(B822=\"\",\"\",IF(ISERROR(MATCH($J822,SorP!$B$1:$B$6230,0)),\"\",INDIRECT(\"'SorP'!$A$\"&MATCH($J822,SorP!$B$1:$B$6230,0))))","v":""},null,{"$f":"IF(C822=\"\",NA(),MATCH($B822&$C822,'Smelter Look-up'!$J:$J,0))","v":{"$error":"#N/A"}},null,0,null,null,null,""]
[{"$nulls":18},{"$f":"IF(ISERROR($W823),\"\",OFFSET('Smelter Look-up'!$C$4,$W823-4,0)&\"\")","v":""},"",{"$f":"IF(B823=\"\",\"\",IF(ISERROR(MATCH($J823,SorP!$B$1:$B$6230,0)),\"\",INDIRECT(\"'SorP'!$A$\"&MATCH($J823,SorP!$B$1:$B$6230,0))))","v":""},null,{"$f":"IF(C823=\"\",NA(),MATCH($B823&$C823,'Smelter Look-up'!$J:$J,0))","v":{"$error":"#N/A"}},null,0,null,null,null,""]
[{"$nulls":18},{"$f":"IF(ISERROR($W824),\"\",OFFSET('Smelter Look-up'!$C$4,$W824-4,0)&\"\")","v":""},"",{"$f":"IF(B824=\"\",\"\",IF(ISERROR(MATCH($J824,SorP!$B$1:$B$6230,0)),\"\",INDIRECT(\"'SorP'!$A$\"&MATCH($J824,SorP!$B$1:$B$6230,0))))","v":""},null,{"$f":"IF(C824=\"\",NA(),MATCH($B824&$C824,'Smelter Look-up'!$J:$J,0))","v":{"$error":"#N/A"}},null,0,null,null,null,""]
[{"$nulls":18},{"$f":"IF(ISERROR($W825),\"\",OFFSET('Smelter Look-up'!$C$4,$W825-4,0)&\"\")","v":""},"",{"$f":"IF(B825=\"\",\"\",IF(ISERROR(MATCH($J825,SorP!$B$1:$B$6230,0)),\"\",INDIRECT(\"'SorP'!$A$\"&MATCH($J825,SorP!$B$1:$B$6230,0))))","v":""},null,{"$f":"IF(C825=\"\",NA(),MATCH($B825&$C825,'Smelter Look-up'!$J:$J,0))","v":{"$error":"#N/A"}},null,0,null,null,null,""]
[{"$nulls":18},{"$f":"IF(ISERROR($W826),\"\",OFFSET('Smelter Look-up'!$C$4,$W826-4,0)&\"\")","v":""},"",{"$f":"IF(B826=\"\",\"\",IF(ISERROR(MATCH($J826,SorP!$B$1:$B$6230,0)),\"\",INDIRECT(\"'SorP'!$A$\"&MATCH($J826,SorP!$B$1:$B$6230,0))))","v":""},null,{"$f":"IF(C826=\"\",NA(),MATCH($B826&$C826,'Smelter Look-up'!$J:$J,0))","v":{"$error":"#N/A"}},null,0,null,null,null,""]
[{"$nulls":18},{"$f":"IF(ISERROR($W827),\"\",OFFSET('Smelter Look-up'!$C$4,$W827-4,0)&\"\")","v":""},"",{"$f":"IF(B827=\"\",\"\",IF(ISERROR(MATCH($J827,SorP!$B$1:$B$6230,0)),\"\",INDIRECT(\"'SorP'!$A$\"&MATCH($J827,SorP!$B$1:$B$6230,0))))","v":""},null,{"$f":"IF(C827=\"\",NA(),MATCH($B827&$C827,'Smelter Look-up'!$J:$J,0))","v":{"$error":"#N/A"}},null,0,null,null,null,""]
[{"$nulls":18},{"$f":"IF(ISERROR($W828),\"\",OFFSET('Smelter Look-up'!$C$4,$W828-4,0)&\"\")","v":""},"",{"$f":"IF(B828=\"\",\"\",IF(ISERROR(MATCH($J828,SorP!$B$1:$B$6230,0)),\"\",INDIRECT(\"'SorP'!$A$\"&MATCH($J828,SorP!$B$1:$B$6230,0))))","v":""},null,{"$f":"IF(C828=\"\",NA(),MATCH($B828&$C828,'Smelter Look-up'!$J:$J,0))","v":{"$error":"#N/A"}},null,0,null,null,null,""]
[{"$nulls":18},{"$f":"IF(ISERROR($W829),\"\",OFFSET('Smelter Look-up'!$C$4,$W829-4,0)&\"\")","v":""},"",{"$f":"IF(B829=\"\",\"\",IF(ISERROR(MATCH($J829,SorP!$B$1:$B$6230,0)),\"\",INDIRECT(\"'SorP'!$A$\"&MATCH($J829,SorP!$B$1:$B$6230,0))))","v":""},null,{"$f":"IF(C829=\"\",NA(),MATCH($B829&$C829,'Smelter Look-up'!$J:$J,0))","v":{"$error":"#N/A"}},null,0,null,null,null,""]
[{"$nulls":18},{"$f":"IF(ISERROR($W830),\"\",OFFSET('Smelter Look-up'!$C$4,$W830-4,0)&\"\")","v":""},"",{"$f":"IF(B830=\"\",\"\",IF(ISERROR(MATCH($J830,SorP!$B$1:$B$6230,0)),\"\",INDIRECT(\"'SorP'!$A$\"&MATCH($J830,SorP!$B$1:$B$6230,0))))","v":""},null,{"$f":"IF(C830=\"\",NA(),MATCH($B830&$C830,'Smelter Look-up'!$J:$J,0))","v":{"$error":"#N/A"}},null,0,null,null,null,""]
[{"$nulls":18},{"$f":"IF(ISERROR($W831),\"\",OFFSET('Smelter Look-up'!$C$4,$W831-4,0)&\"\")","v":""},"",{"$f":"IF(B831=\"\",\"\",IF(ISERROR(MATCH($J831,SorP!$B$1:$B$6230,0)),\"\",INDIRECT(\"'SorP'!$A$\"&MATCH($J831,SorP!$B$1:$B$6230,0))))","v":""},null,{"$f":"IF(C831=\"\",NA(),MATCH($B831&$C831,'Smelter Look-up'!$J:$J,0))","v":{"$error":"#N/A"}},null,0,null,null,null,""]
[{"$nulls":18},{"$f":"IF(ISERROR($W832),\"\",OFFSET('Smelter Look-up'!$C$4,$W832-4,0)&\"\")","v":""},"",{"$f":"IF(B832=\"\",\"\",IF(ISERROR(MATCH($J832,SorP!$B$1:$B$6230,0)),\"\",INDIRECT(\"'SorP'!$A$\"&MATCH($J832,SorP!$B$1:$B$6230,0))))","v":""},null,{"$f":"IF(C832=\"\",NA(),MATCH($B832&$C832,'Smelter Look-up'!$J:$J,0))","v":{"$error":"#N/A"}},null,0,null,null,null,""]
[{"$nulls":18},{"$f":"IF(ISERROR($W833),\"\",OFFSET('Smelter Look-up'!$C$4,$W833-4,0)&\"\")","v":""},"",{"$f":"IF(B833=\"\",\"\",IF(ISERROR(MATCH($J833,SorP!$B$1:$B$6230,0)),\"\",INDIRECT(\"'SorP'!$A$\"&MATCH($J833,SorP!$B$1:$B$6230,0))))","v":""},null,{"$f":"IF(C833=\"\",NA(),MATCH($B833&$C833,'Smelter Look-up'!$J:$J,0))","v":{"$error":"#N/A"}},null,0,null,null,null,""]
[{"$nulls":18},{"$f":"IF(ISERROR($W834),\"\",OFFSET('Smelter Look-up'!$C$4,$W834-4,0)&\"\")","v":""},"",{"$f":"IF(B834=\"\",\"\",IF(ISERROR(MATCH($J834,SorP!$B$1:$B$6230,0)),\"\",INDIRECT(\"'SorP'!$A$\"&MATCH($J834,SorP!$B$1:$B$6230,0))))","v":""},null,{"$f":"IF(C834=\"\",NA(),MATCH($B834&$C834,'Smelter Look-up'!$J:$J,0))","v":{"$error":"#N/A"}},null,0,null,null,null,""]
[{"$nulls":18},{"$f":"IF(ISERROR($W835),\"\",OFFSET('Smelter Look-up'!$C$4,$W835-4,0)&\"\")","v":""},"",{"$f":"IF(B835=\"\",\"\",IF(ISERROR(MATCH($J835,SorP!$B$1:$B$6230,0)),\"\",INDIRECT(\"'SorP'!$A$\"&MATCH($J835,SorP!$B$1:$B$6230,0))))","v":""},null,{"$f":"IF(C835=\"\",NA(),MATCH($B835&$C835,'Smelter Look-up'!$J:$J,0))","v":{"$error":"#N/A"}},null,0,null,null,null,""]
[{"$nulls":18},{"$f":"IF(ISERROR($W836),\"\",OFFSET('Smelter Look-up'!$C$4,$W836-4,0)&\"\")","v":""},"",{"$f":"IF(B836=\"\",\"\",IF(ISERROR(MATCH($J836,SorP!$B$1:$B$6230,0)),\"\",INDIRECT(\"'SorP'!$A$\"&MATCH($J836,SorP!$B$1:$B$6230,0))))","v":""},null,{"$f":"IF(C836=\"\",NA(),MATCH($B836&$C836,'Smelter Look-up'!$J:$J,0))","v":{"$error":"#N/A"}},null,0,null,null,null,""]
[{"$nulls":18},{"$f":"IF(ISERROR($W837),\"\",OFFSET('Smelter Look-up'!$C$4,$W837-4,0)&\"\")","v":""},{"$f":"IF(B837=\"\",\"\",IF(ISERROR(MATCH($E837,CL,0)),\"Unknown\",INDIRECT(\"'C'!$A$\"&MATCH($E837,CL,0)+1)))","v":""},{"$f":"IF(B837=\"\",\"\",IF(ISERROR(MATCH($J837,SorP!$B$1:$B$6230,0)),\"\",INDIRECT(\"'SorP'!$A$\"&MATCH($J837,SorP!$B$1:$B$6230,0))))","v":""},null,{"$f":"IF(C837=\"\",NA(),MATCH($B837&$C837,'Smelter Look-up'!$J:$J,0))","v":{"$error":"#N/A"}},null,{"$f":"IF(AND(C837=\"Smelter not listed\",OR(LEN(D837)=0,LEN(E837)=0)),1,0)","v":0},null,null,null,{"$f":"B837&C837","v":""}]
[{"$nulls":18},{"$f":"IF(ISERROR($W838),\"\",OFFSET('Smelter Look-up'!$C$4,$W838-4,0)&\"\")","v":""},"",{"$f":"IF(B838=\"\",\"\",IF(ISERROR(MATCH($J838,SorP!$B$1:$B$6230,0)),\"\",INDIRECT(\"'SorP'!$A$\"&MATCH($J838,SorP!$B$1:$B$6230,0))))","v":""},null,{"$f":"IF(C838=\"\",NA(),MATCH($B838&$C838,'Smelter Look-up'!$J:$J,0))","v":{"$error":"#N/A"}},null,0,null,null,null,""]
[{"$nulls":18},{"$f":"IF(ISERROR($W839),\"\",OFFSET('Smelter Look-up'!$C$4,$W839-4,0)&\"\")","v":""},"",{"$f":"IF(B839=\"\",\"\",IF(ISERROR(MATCH($J839,SorP!$B$1:$B$6230,0)),\"\",INDIRECT(\"'SorP'!$A$\"&MATCH($J839,SorP!$B$1:$B$6230,0))))","v":""},null,{"$f":"IF(C839=\"\",NA(),MATCH($B839&$C839,'Smelter Look-up'!$J:$J,0))","v":{"$error":"#N/A"}},null,0,null,null,null,""]
[{"$nulls":18},{"$f":"IF(ISERROR($W840),\"\",OFFSET('Smelter Look-up'!$C$4,$W840-4,0)&\"\")","v":""},"",{"$f":"IF(B840=\"\",\"\",IF(ISERROR(MATCH($J840,SorP!$B$1:$B$6230,0)),\"\",INDIRECT(\"'SorP'!$A$\"&MATCH($J840,SorP!$B$1:$B$6230,0))))","v":""},null,{"$f":"IF(C840=\"\",NA(),MATCH($B840&$C840,'Smelter Look-up'!$J:$J,0))","v":{"$error":"#N/A"}},null,0,null,null,null,""]
[{"$nulls":18},{"$f":"IF(ISERROR($W841),\"\",OFFSET('Smelter Look-up'!$C$4,$W841-4,0)&\"\")","v":""},"",{"$f":"IF(B841=\"\",\"\",IF(ISERROR(MATCH($J841,SorP!$B$1:$B$6230,0)),\"\",INDIRECT(\"'SorP'!$A$\"&MATCH($J841,SorP!$B$1:$B$6230,0))))","v":""},null,{"$f":"IF(C841=\"\",NA(),MATCH($B841&$C841,'Smelter Look-up'!$J:$J,0))","v":{"$error":"#N/A"}},null,0,null,null,null,""]
[{"$nulls":18},{"$f":"IF(ISERROR($W842),\"\",OFFSET('Smelter Look-up'!$C$4,$W842-4,0)&\"\")","v":""},"",{"$f":"IF(B842=\"\",\"\",IF(ISERROR(MATCH($J842,SorP!$B$1:$B$6230,0)),\"\",INDIRECT(\"'SorP'!$A$\"&MATCH($J842,SorP!$B$1:$B$6230,0))))","v":""},null,{"$f":"IF(C842=\"\",NA(),MATCH($B842&$C842,'Smelter Look-up'!$J:$J,0))","v":{"$error":"#N/A"}},null,0,null,null,null,""]
[{"$nulls":18},{"$f":"IF(ISERROR($W843),\"\",OFFSET('Smelter Look-up'!$C$4,$W843-4,0)&\"\")","v":""},"",{"$f":"IF(B843=\"\",\"\",IF(ISERROR(MATCH($J843,SorP!$B$1:$B$6230,0)),\"\",INDIRECT(\"'SorP'!$A$\"&MATCH($J843,SorP!$B$1:$B$6230,0))))","v":""},null,{"$f":"IF(C843=\"\",NA(),MATCH($B843&$C843,'Smelter Look-up'!$J:$J,0))","v":{"$error":"#N/A"}},null,0,null,null,null,""]
[{"$nulls":18},{"$f":"IF(ISERROR($W844),\"\",OFFSET('Smelter Look-up'!$C$4,$W844-4,0)&\"\")","v":""},"",{"$f":"IF(B844=\"\",\"\",IF(ISERROR(MATCH($J844,SorP!$B$1:$B$6230,0)),\"\",INDIRECT(\"'SorP'!$A$\"&MATCH($J844,SorP!$B$1:$B$6230,0))))","v":""},null,{"$f":"IF(C844=\"\",NA(),MATCH($B844&$C844,'Smelter Look-up'!$J:$J,0))","v":{"$error":"#N/A"}},null,0,null,null,null,""]
[{"$nulls":18},{"$f":"IF(ISERROR($W845),\"\",OFFSET('Smelter Look-up'!$C$4,$W845-4,0)&\"\")","v":""},"",{"$f":"IF(B845=\"\",\"\",IF(ISERROR(MATCH($J845,SorP!$B$1:$B$6230,0)),\"\",INDIRECT(\"'SorP'!$A$\"&MATCH($J845,SorP!$B$1:$B$6230,0))))","v":""},null,{"$f":"IF(C845=\"\",NA(),MATCH($B845&$C845,'Smelter Look-up'!$J:$J,0))","v":{"$error":"#N/A"}},null,0,null,null,null,""]
[{"$nulls":18},{"$f":"IF(ISERROR($W846),\"\",OFFSET('Smelter Look-up'!$C$4,$W846-4,0)&\"\")","v":""},"",{"$f":"IF(B846=\"\",\"\",IF(ISERROR(MATCH($J846,SorP!$B$1:$B$6230,0)),\"\",INDIRECT(\"'SorP'!$A$\"&MATCH($J846,SorP!$B$1:$B$6230,0))))","v":""},null,{"$f":"IF(C846=\"\",NA(),MATCH($B846&$C846,'Smelter Look-up'!$J:$J,0))","v":{"$error":"#N/A"}},null,0,null,null,null,""]
[{"$nulls":18},{"$f":"IF(ISERROR($W847),\"\",OFFSET('Smelter Look-up'!$C$4,$W847-4,0)&\"\")","v":""},"",{"$f":"IF(B847=\"\",\"\",IF(ISERROR(MATCH($J847,SorP!$B$1:$B$6230,0)),\"\",INDIRECT(\"'SorP'!$A$\"&MATCH($J847,SorP!$B$1:$B$6230,0))))","v":""},null,{"$f":"IF(C847=\"\",NA(),MATCH($B847&$C847,'Smelter Look-up'!$J:$J,0))","v":{"$error":"#N/A"}},null,0,null,null,null,""]
[{"$nulls":18},{"$f":"IF(ISERROR($W848),\"\",OFFSET('Smelter Look-up'!$C$4,$W848-4,0)&\"\")","v":""},"",{"$f":"IF(B848=\"\",\"\",IF(ISERROR(MATCH($J848,SorP!$B$1:$B$6230,0)),\"\",INDIRECT(\"'SorP'!$A$\"&MATCH($J848,SorP!$B$1:$B$6230,0))))","v":""},null,{"$f":"IF(C848=\"\",NA(),MATCH($B848&$C848,'Smelter Look-up'!$J:$J,0))","v":{"$error":"#N/A"}},null,0,null,null,null,""]
[{"$nulls":18},{"$f":"IF(ISERROR($W849),\"\",OFFSET('Smelter Look-up'!$C$4,$W849-4,0)&\"\")","v":""},"",{"$f":"IF(B849=\"\",\"\",IF(ISERROR(MATCH($J849,SorP!$B$1:$B$6230,0)),\"\",INDIRECT(\"'SorP'!$A$\"&MATCH($J849,SorP!$B$1:$B$6230,0))))","v":""},null,{"$f":"IF(C849=\"\",NA(),MATCH($B849&$C849,'Smelter Look-up'!$J:$J,0))","v":{"$error":"#N/A"}},null,0,null,null,null,""]
[{"$nulls":18},{"$f":"IF(ISERROR($W850),\"\",OFFSET('Smelter Look-up'!$C$4,$W850-4,0)&\"\")","v":""},"",{"$f":"IF(B850=\"\",\"\",IF(ISERROR(MATCH($J850,SorP!$B$1:$B$6230,0)),\"\",INDIRECT(\"'SorP'!$A$\"&MATCH($J850,SorP!$B$1:$B$6230,0))))","v":""},null,{"$f":"IF(C850=\"\",NA(),MATCH($B850&$C850,'Smelter Look-up'!$J:$J,0))","v":{"$error":"#N/A"}},null,0,null,null,null,""]
[{"$nulls":18},{"$f":"IF(ISERROR($W851),\"\",OFFSET('Smelter Look-up'!$C$4,$W851-4,0)&\"\")","v":""},"",{"$f":"IF(B851=\"\",\"\",IF(ISERROR(MATCH($J851,SorP!$B$1:$B$6230,0)),\"\",INDIRECT(\"'SorP'!$A$\"&MATCH($J851,SorP!$B$1:$B$6230,0))))","v":""},null,{"$f":"IF(C851=\"\",NA(),MATCH($B851&$C851,'Smelter Look-up'!$J:$J,0))","v":{"$error":"#N/A"}},null,0,null,null,null,""]
[{"$nulls":18},{"$f":"IF(ISERROR($W852),\"\",OFFSET('Smelter Look-up'!$C$4,$W852-4,0)&\"\")","v":""},"",{"$f":"IF(B852=\"\",\"\",IF(ISERROR(MATCH($J852,SorP!$B$1:$B$6230,0)),\"\",INDIRECT(\"'SorP'!$A$\"&MATCH($J852,SorP!$B$1:$B$6230,0))))","v":""},null,{"$f":"IF(C852=\"\",NA(),MATCH($B852&$C852,'Smelter Look-up'!$J:$J,0))","v":{"$error":"#N/A"}},null,0,null,null,null,""]
[{"$nulls":18},{"$f":"IF(ISERROR($W853),\"\",OFFSET('Smelter Look-up'!$C$4,$W853-4,0)&\"\")","v":""},"",{"$f":"IF(B853=\"\",\"\",IF(ISERROR(MATCH($J853,SorP!$B$1:$B$6230,0)),\"\",INDIRECT(\"'SorP'!$A$\"&MATCH($J853,SorP!$B$1:$B$6230,0))))","v":""},null,{"$f":"IF(C853=\"\",NA(),MATCH($B853&$C853,'Smelter Look-up'!$J:$J,0))","v":{"$error":"#N/A"}},null,0,null,null,null,""]
[{"$nulls":18},{"$f":"IF(ISERROR($W854),\"\",OFFSET('Smelter Look-up'!$C$4,$W854-4,0)&\"\")","v":""},"",{"$f":"IF(B854=\"\",\"\",IF(ISERROR(MATCH($J854,SorP!$B$1:$B$6230,0)),\"\",INDIRECT(\"'SorP'!$A$\"&MATCH($J854,SorP!$B$1:$B$6230,0))))","v":""},null,{"$f":"IF(C854=\"\",NA(),MATCH($B854&$C854,'Smelter Look-up'!$J:$J,0))","v":{"$error":"#N/A"}},null,0,null,null,null,""]
[{"$nulls":18},{"$f":"IF(ISERROR($W855),\"\",OFFSET('Smelter Look-up'!$C$4,$W855-4,0)&\"\")","v":""},"",{"$f":"IF(B855=\"\",\"\",IF(ISERROR(MATCH($J855,SorP!$B$1:$B$6230,0)),\"\",INDIRECT(\"'SorP'!$A$\"&MATCH($J855,SorP!$B$1:$B$6230,0))))","v":""},null,{"$f":"IF(C855=\"\",NA(),MATCH($B855&$C855,'Smelter Look-up'!$J:$J,0))","v":{"$error":"#N/A"}},null,0,null,null,null,""]
[{"$nulls":18},{"$f":"IF(ISERROR($W856),\"\",OFFSET('Smelter Look-up'!$C$4,$W856-4,0)&\"\")","v":""},"",{"$f":"IF(B856=\"\",\"\",IF(ISERROR(MATCH($J856,SorP!$B$1:$B$6230,0)),\"\",INDIRECT(\"'SorP'!$A$\"&MATCH($J856,SorP!$B$1:$B$6230,0))))","v":""},null,{"$f":"IF(C856=\"\",NA(),MATCH($B856&$C856,'Smelter Look-up'!$J:$J,0))","v":{"$error":"#N/A"}},null,0,null,null,null,""]
[{"$nulls":18},{"$f":"IF(ISERROR($W857),\"\",OFFSET('Smelter Look-up'!$C$4,$W857-4,0)&\"\")","v":""},"",{"$f":"IF(B857=\"\",\"\",IF(ISERROR(MATCH($J857,SorP!$B$1:$B$6230,0)),\"\",INDIRECT(\"'SorP'!$A$\"&MATCH($J857,SorP!$B$1:$B$6230,0))))","v":""},null,{"$f":"IF(C857=\"\",NA(),MATCH($B857&$C857,'Smelter Look-up'!$J:$J,0))","v":{"$error":"#N/A"}},null,0,null,null,null,""]
[{"$nulls":18},{"$f":"IF(ISERROR($W858),\"\",OFFSET('Smelter Look-up'!$C$4,$W858-4,0)&\"\")","v":""},"",{"$f":"IF(B858=\"\",\"\",IF(ISERROR(MATCH($J858,SorP!$B$1:$B$6230,0)),\"\",INDIRECT(\"'SorP'!$A$\"&MATCH($J858,SorP!$B$1:$B$6230,0))))","v":""},null,{"$f":"IF(C858=\"\",NA(),MATCH($B858&$C858,'Smelter Look-up'!$J:$J,0))","v":{"$error":"#N/A"}},null,0,null,null,null,""]
[{"$nulls":18},{"$f":"IF(ISERROR($W859),\"\",OFFSET('Smelter Look-up'!$C$4,$W859-4,0)&\"\")","v":""},"",{"$f":"IF(B859=\"\",\"\",IF(ISERROR(MATCH($J859,SorP!$B$1:$B$6230,0)),\"\",INDIRECT(\"'SorP'!$A$\"&MATCH($J859,SorP!$B$1:$B$6230,0))))","v":""},null,{"$f":"IF(C859=\"\",NA(),MATCH($B859&$C859,'Smelter Look-up'!$J:$J,0))","v":{"$error":"#N/A"}},null,0,null,null,null,""]
[{"$nulls":18},{"$f":"IF(ISERROR($W860),\"\",OFFSET('Smelter Look-up'!$C$4,$W860-4,0)&\"\")","v":""},"",{"$f":"IF(B860=\"\",\"\",IF(ISERROR(MATCH($J860,SorP!$B$1:$B$6230,0)),\"\",INDIRECT(\"'SorP'!$A$\"&MATCH($J860,SorP!$B$1:$B$6230,0))))","v":""},null,{"$f":"IF(C860=\"\",NA(),MATCH($B860&$C860,'Smelter Look-up'!$J:$J,0))","v":{"$error":"#N/A"}},null,0,null,null,null,""]
[{"$nulls":18},{"$f":"IF(ISERROR($W861),\"\",OFFSET('Smelter Look-up'!$C$4,$W861-4,0)&\"\")","v":""},"",{"$f":"IF(B861=\"\",\"\",IF(ISERROR(MATCH($J861,SorP!$B$1:$B$6230,0)),\"\",INDIRECT(\"'SorP'!$A$\"&MATCH($J861,SorP!$B$1:$B$6230,0))))","v":""},null,{"$f":"IF(C861=\"\",NA(),MATCH($B861&$C861,'Smelter Look-up'!$J:$J,0))","v":{"$error":"#N/A"}},null,0,null,null,null,""]
[{"$nulls":18},{"$f":"IF(ISERROR($W862),\"\",OFFSET('Smelter Look-up'!$C$4,$W862-4,0)&\"\")","v":""},"",{"$f":"IF(B862=\"\",\"\",IF(ISERROR(MATCH($J862,SorP!$B$1:$B$6230,0)),\"\",INDIRECT(\"'SorP'!$A$\"&MATCH($J862,SorP!$B$1:$B$6230,0))))","v":""},null,{"$f":"IF(C862=\"\",NA(),MATCH($B862&$C862,'Smelter Look-up'!$J:$J,0))","v":{"$error":"#N/A"}},null,0,null,null,null,""]
[{"$nulls":18},{"$f":"IF(ISERROR($W863),\"\",OFFSET('Smelter Look-up'!$C$4,$W863-4,0)&\"\")","v":""},"",{"$f":"IF(B863=\"\",\"\",IF(ISERROR(MATCH($J863,SorP!$B$1:$B$6230,0)),\"\",INDIRECT(\"'SorP'!$A$\"&MATCH($J863,SorP!$B$1:$B$6230,0))))","v":""},null,{"$f":"IF(C863=\"\",NA(),MATCH($B863&$C863,'Smelter Look-up'!$J:$J,0))","v":{"$error":"#N/A"}},null,0,null,null,null,""]
[{"$nulls":18},{"$f":"IF(ISERROR($W864),\"\",OFFSET('Smelter Look-up'!$C$4,$W864-4,0)&\"\")","v":""},"",{"$f":"IF(B864=\"\",\"\",IF(ISERROR(MATCH($J864,SorP!$B$1:$B$6230,0)),\"\",INDIRECT(\"'SorP'!$A$\"&MATCH($J864,SorP!$B$1:$B$6230,0))))","v":""},null,{"$f":"IF(C864=\"\",NA(),MATCH($B864&$C864,'Smelter Look-up'!$J:$J,0))","v":{"$error":"#N/A"}},null,0,null,null,null,""]
[{"$nulls":18},{"$f":"IF(ISERROR($W865),\"\",OFFSET('Smelter Look-up'!$C$4,$W865-4,0)&\"\")","v":""},"",{"$f":"IF(B865=\"\",\"\",IF(ISERROR(MATCH($J865,SorP!$B$1:$B$6230,0)),\"\",INDIRECT(\"'SorP'!$A$\"&MATCH($J865,SorP!$B$1:$B$6230,0))))","v":""},null,{"$f":"IF(C865=\"\",NA(),MATCH($B865&$C865,'Smelter Look-up'!$J:$J,0))","v":{"$error":"#N/A"}},null,0,null,null,null,""]
[{"$nulls":18},{"$f":"IF(ISERROR($W866),\"\",OFFSET('Smelter Look-up'!$C$4,$W866-4,0)&\"\")","v":""},"",{"$f":"IF(B866=\"\",\"\",IF(ISERROR(MATCH($J866,SorP!$B$1:$B$6230,0)),\"\",INDIRECT(\"'SorP'!$A$\"&MATCH($J866,SorP!$B$1:$B$6230,0))))","v":""},null,{"$f":"IF(C866=\"\",NA(),MATCH($B866&$C866,'Smelter Look-up'!$J:$J,0))","v":{"$error":"#N/A"}},null,0,null,null,null,""]
[{"$nulls":18},{"$f":"IF(ISERROR($W867),\"\",OFFSET('Smelter Look-up'!$C$4,$W867-4,0)&\"\")","v":""},"",{"$f":"IF(B867=\"\",\"\",IF(ISERROR(MATCH($J867,SorP!$B$1:$B$6230,0)),\"\",INDIRECT(\"'SorP'!$A$\"&MATCH($J867,SorP!$B$1:$B$6230,0))))","v":""},null,{"$f":"IF(C867=\"\",NA(),MATCH($B867&$C867,'Smelter Look-up'!$J:$J,0))","v":{"$error":"#N/A"}},null,0,null,null,null,""]
[{"$nulls":18},{"$f":"IF(ISERROR($W868),\"\",OFFSET('Smelter Look-up'!$C$4,$W868-4,0)&\"\")","v":""},"",{"$f":"IF(B868=\"\",\"\",IF(ISERROR(MATCH($J868,SorP!$B$1:$B$6230,0)),\"\",INDIRECT(\"'SorP'!$A$\"&MATCH($J868,SorP!$B$1:$B$6230,0))))","v":""},null,{"$f":"IF(C868=\"\",NA(),MATCH($B868&$C868,'Smelter Look-up'!$J:$J,0))","v":{"$error":"#N/A"}},null,0,null,null,null,""]
[{"$nulls":18},{"$f":"IF(ISERROR($W869),\"\",OFFSET('Smelter Look-up'!$C$4,$W869-4,0)&\"\")","v":""},"",{"$f":"IF(B869=\"\",\"\",IF(ISERROR(MATCH($J869,SorP!$B$1:$B$6230,0)),\"\",INDIRECT(\"'SorP'!$A$\"&MATCH($J869,SorP!$B$1:$B$6230,0))))","v":""},null,{"$f":"IF(C869=\"\",NA(),MATCH($B869&$C869,'Smelter Look-up'!$J:$J,0))","v":{"$error":"#N/A"}},null,0,null,null,null,""]
[{"$nulls":18},{"$f":"IF(ISERROR($W870),\"\",OFFSET('Smelter Look-up'!$C$4,$W870-4,0)&\"\")","v":""},"",{"$f":"IF(B870=\"\",\"\",IF(ISERROR(MATCH($J870,SorP!$B$1:$B$6230,0)),\"\",INDIRECT(\"'SorP'!$A$\"&MATCH($J870,SorP!$B$1:$B$6230,0))))","v":""},null,{"$f":"IF(C870=\"\",NA(),MATCH($B870&$C870,'Smelter Look-up'!$J:$J,0))","v":{"$error":"#N/A"}},null,0,null,null,null,""]
[{"$nulls":18},{"$f":"IF(ISERROR($W871),\"\",OFFSET('Smelter Look-up'!$C$4,$W871-4,0)&\"\")","v":""},"",{"$f":"IF(B871=\"\",\"\",IF(ISERROR(MATCH($J871,SorP!$B$1:$B$6230,0)),\"\",INDIRECT(\"'SorP'!$A$\"&MATCH($J871,SorP!$B$1:$B$6230,0))))","v":""},null,{"$f":"IF(C871=\"\",NA(),MATCH($B871&$C871,'Smelter Look-up'!$J:$J,0))","v":{"$error":"#N/A"}},null,0,null,null,null,""]
[{"$nulls":18},{"$f":"IF(ISERROR($W872),\"\",OFFSET('Smelter Look-up'!$C$4,$W872-4,0)&\"\")","v":""},"",{"$f":"IF(B872=\"\",\"\",IF(ISERROR(MATCH($J872,SorP!$B$1:$B$6230,0)),\"\",INDIRECT(\"'SorP'!$A$\"&MATCH($J872,SorP!$B$1:$B$6230,0))))","v":""},null,{"$f":"IF(C872=\"\",NA(),MATCH($B872&$C872,'Smelter Look-up'!$J:$J,0))","v":{"$error":"#N/A"}},null,0,null,null,null,""]
[{"$nulls":18},{"$f":"IF(ISERROR($W873),\"\",OFFSET('Smelter Look-up'!$C$4,$W873-4,0)&\"\")","v":""},"",{"$f":"IF(B873=\"\",\"\",IF(ISERROR(MATCH($J873,SorP!$B$1:$B$6230,0)),\"\",INDIRECT(\"'SorP'!$A$\"&MATCH($J873,SorP!$B$1:$B$6230,0))))","v":""},null,{"$f":"IF(C873=\"\",NA(),MATCH($B873&$C873,'Smelter Look-up'!$J:$J,0))","v":{"$error":"#N/A"}},null,0,null,null,null,""]
[{"$nulls":18},{"$f":"IF(ISERROR($W874),\"\",OFFSET('Smelter Look-up'!$C$4,$W874-4,0)&\"\")","v":""},"",{"$f":"IF(B874=\"\",\"\",IF(ISERROR(MATCH($J874,SorP!$B$1:$B$6230,0)),\"\",INDIRECT(\"'SorP'!$A$\"&MATCH($J874,SorP!$B$1:$B$6230,0))))","v":""},null,{"$f":"IF(C874=\"\",NA(),MATCH($B874&$C874,'Smelter Look-up'!$J:$J,0))","v":{"$error":"#N/A"}},null,0,null,null,null,""]
[{"$nulls":18},{"$f":"IF(ISERROR($W875),\"\",OFFSET('Smelter Look-up'!$C$4,$W875-4,0)&\"\")","v":""},"",{"$f":"IF(B875=\"\",\"\",IF(ISERROR(MATCH($J875,SorP!$B$1:$B$6230,0)),\"\",INDIRECT(\"'SorP'!$A$\"&MATCH($J875,SorP!$B$1:$B$6230,0))))","v":""},null,{"$f":"IF(C875=\"\",NA(),MATCH($B875&$C875,'Smelter Look-up'!$J:$J,0))","v":{"$error":"#N/A"}},null,0,null,null,null,""]
[{"$nulls":18},{"$f":"IF(ISERROR($W876),\"\",OFFSET('Smelter Look-up'!$C$4,$W876-4,0)&\"\")","v":""},"",{"$f":"IF(B876=\"\",\"\",IF(ISERROR(MATCH($J876,SorP!$B$1:$B$6230,0)),\"\",INDIRECT(\"'SorP'!$A$\"&MATCH($J876,SorP!$B$1:$B$6230,0))))","v":""},null,{"$f":"IF(C876=\"\",NA(),MATCH($B876&$C876,'Smelter Look-up'!$J:$J,0))","v":{"$error":"#N/A"}},null,0,null,null,null,""]
[{"$nulls":18},{"$f":"IF(ISERROR($W877),\"\",OFFSET('Smelter Look-up'!$C$4,$W877-4,0)&\"\")","v":""},"",{"$f":"IF(B877=\"\",\"\",IF(ISERROR(MATCH($J877,SorP!$B$1:$B$6230,0)),\"\",INDIRECT(\"'SorP'!$A$\"&MATCH($J877,SorP!$B$1:$B$6230,0))))","v":""},null,{"$f":"IF(C877=\"\",NA(),MATCH($B877&$C877,'Smelter Look-up'!$J:$J,0))","v":{"$error":"#N/A"}},null,0,null,null,null,""]
[{"$nulls":18},{"$f":"IF(ISERROR($W878),\"\",OFFSET('Smelter Look-up'!$C$4,$W878-4,0)&\"\")","v":""},"",{"$f":"IF(B878=\"\",\"\",IF(ISERROR(MATCH($J878,SorP!$B$1:$B$6230,0)),\"\",INDIRECT(\"'SorP'!$A$\"&MATCH($J878,SorP!$B$1:$B$6230,0))))","v":""},null,{"$f":"IF(C878=\"\",NA(),MATCH($B878&$C878,'Smelter Look-up'!$J:$J,0))","v":{"$error":"#N/A"}},null,0,null,null,null,""]
[{"$nulls":18},{"$f":"IF(ISERROR($W879),\"\",OFFSET('Smelter Look-up'!$C$4,$W879-4,0)&\"\")","v":""},"",{"$f":"IF(B879=\"\",\"\",IF(ISERROR(MATCH($J879,SorP!$B$1:$B$6230,0)),\"\",INDIRECT(\"'SorP'!$A$\"&MATCH($J879,SorP!$B$1:$B$6230,0))))","v":""},null,{"$f":"IF(C879=\"\",NA(),MATCH($B879&$C879,'Smelter Look-up'!$J:$J,0))","v":{"$error":"#N/A"}},null,0,null,null,null,""]
[{"$nulls":18},{"$f":"IF(ISERROR($W880),\"\",OFFSET('Smelter Look-up'!$C$4,$W880-4,0)&\"\")","v":""},"",{"$f":"IF(B880=\"\",\"\",IF(ISERROR(MATCH($J880,SorP!$B$1:$B$6230,0)),\"\",INDIRECT(\"'SorP'!$A$\"&MATCH($J880,SorP!$B$1:$B$6230,0))))","v":""},null,{"$f":"IF(C880=\"\",NA(),MATCH($B880&$C880,'Smelter Look-up'!$J:$J,0))","v":{"$error":"#N/A"}},null,0,null,null,null,""]
[{"$nulls":18},{"$f":"IF(ISERROR($W881),\"\",OFFSET('Smelter Look-up'!$C$4,$W881-4,0)&\"\")","v":""},"",{"$f":"IF(B881=\"\",\"\",IF(ISERROR(MATCH($J881,SorP!$B$1:$B$6230,0)),\"\",INDIRECT(\"'SorP'!$A$\"&MATCH($J881,SorP!$B$1:$B$6230,0))))","v":""},null,{"$f":"IF(C881=\"\",NA(),MATCH($B881&$C881,'Smelter Look-up'!$J:$J,0))","v":{"$error":"#N/A"}},null,0,null,null,null,""]
[{"$nulls":18},{"$f":"IF(ISERROR($W882),\"\",OFFSET('Smelter Look-up'!$C$4,$W882-4,0)&\"\")","v":""},"",{"$f":"IF(B882=\"\",\"\",IF(ISERROR(MATCH($J882,SorP!$B$1:$B$6230,0)),\"\",INDIRECT(\"'SorP'!$A$\"&MATCH($J882,SorP!$B$1:$B$6230,0))))","v":""},null,{"$f":"IF(C882=\"\",NA(),MATCH($B882&$C882,'Smelter Look-up'!$J:$J,0))","v":{"$error":"#N/A"}},null,0,null,null,null,""]
[{"$nulls":18},{"$f":"IF(ISERROR($W883),\"\",OFFSET('Smelter Look-up'!$C$4,$W883-4,0)&\"\")","v":""},"",{"$f":"IF(B883=\"\",\"\",IF(ISERROR(MATCH($J883,SorP!$B$1:$B$6230,0)),\"\",INDIRECT(\"'SorP'!$A$\"&MATCH($J883,SorP!$B$1:$B$6230,0))))","v":""},null,{"$f":"IF(C883=\"\",NA(),MATCH($B883&$C883,'Smelter Look-up'!$J:$J,0))","v":{"$error":"#N/A"}},null,0,null,null,null,""]
[{"$nulls":18},{"$f":"IF(ISERROR($W884),\"\",OFFSET('Smelter Look-up'!$C$4,$W884-4,0)&\"\")","v":""},"",{"$f":"IF(B884=\"\",\"\",IF(ISERROR(MATCH($J884,SorP!$B$1:$B$6230,0)),\"\",INDIRECT(\"'SorP'!$A$\"&MATCH($J884,SorP!$B$1:$B$6230,0))))","v":""},null,{"$f":"IF(C884=\"\",NA(),MATCH($B884&$C884,'Smelter Look-up'!$J:$J,0))","v":{"$error":"#N/A"}},null,0,null,null,null,""]
[{"$nulls":18},{"$f":"IF(ISERROR($W885),\"\",OFFSET('Smelter Look-up'!$C$4,$W885-4,0)&\"\")","v":""},"",{"$f":"IF(B885=\"\",\"\",IF(ISERROR(MATCH($J885,SorP!$B$1:$B$6230,0)),\"\",INDIRECT(\"'SorP'!$A$\"&MATCH($J885,SorP!$B$1:$B$6230,0))))","v":""},null,{"$f":"IF(C885=\"\",NA(),MATCH($B885&$C885,'Smelter Look-up'!$J:$J,0))","v":{"$error":"#N/A"}},null,0,null,null,null,""]
[{"$nulls":18},{"$f":"IF(ISERROR($W886),\"\",OFFSET('Smelter Look-up'!$C$4,$W886-4,0)&\"\")","v":""},"",{"$f":"IF(B886=\"\",\"\",IF(ISERROR(MATCH($J886,SorP!$B$1:$B$6230,0)),\"\",INDIRECT(\"'SorP'!$A$\"&MATCH($J886,SorP!$B$1:$B$6230,0))))","v":""},null,{"$f":"IF(C886=\"\",NA(),MATCH($B886&$C886,'Smelter Look-up'!$J:$J,0))","v":{"$error":"#N/A"}},null,0,null,null,null,""]
[{"$nulls":18},{"$f":"IF(ISERROR($W887),\"\",OFFSET('Smelter Look-up'!$C$4,$W887-4,0)&\"\")","v":""},"",{"$f":"IF(B887=\"\",\"\",IF(ISERROR(MATCH($J887,SorP!$B$1:$B$6230,0)),\"\",INDIRECT(\"'SorP'!$A$\"&MATCH($J887,SorP!$B$1:$B$6230,0))))","v":""},null,{"$f":"IF(C887=\"\",NA(),MATCH($B887&$C887,'Smelter Look-up'!$J:$J,0))","v":{"$error":"#N/A"}},null,0,null,null,null,""]
[{"$nulls":18},{"$f":"IF(ISERROR($W888),\"\",OFFSET('Smelter Look-up'!$C$4,$W888-4,0)&\"\")","v":""},"",{"$f":"IF(B888=\"\",\"\",IF(ISERROR(MATCH($J888,SorP!$B$1:$B$6230,0)),\"\",INDIRECT(\"'SorP'!$A$\"&MATCH($J888,SorP!$B$1:$B$6230,0))))","v":""},null,{"$f":"IF(C888=\"\",NA(),MATCH($B888&$C888,'Smelter Look-up'!$J:$J,0))","v":{"$error":"#N/A"}},null,0,null,null,null,""]
[{"$nulls":18},{"$f":"IF(ISERROR($W889),\"\",OFFSET('Smelter Look-up'!$C$4,$W889-4,0)&\"\")","v":""},"",{"$f":"IF(B889=\"\",\"\",IF(ISERROR(MATCH($J889,SorP!$B$1:$B$6230,0)),\"\",INDIRECT(\"'SorP'!$A$\"&MATCH($J889,SorP!$B$1:$B$6230,0))))","v":""},null,{"$f":"IF(C889=\"\",NA(),MATCH($B889&$C889,'Smelter Look-up'!$J:$J,0))","v":{"$error":"#N/A"}},null,0,null,null,null,""]
[{"$nulls":18},{"$f":"IF(ISERROR($W890),\"\",OFFSET('Smelter Look-up'!$C$4,$W890-4,0)&\"\")","v":""},"",{"$f":"IF(B890=\"\",\"\",IF(ISERROR(MATCH($J890,SorP!$B$1:$B$6230,0)),\"\",INDIRECT(\"'SorP'!$A$\"&MATCH($J890,SorP!$B$1:$B$6230,0))))","v":""},null,{"$f":"IF(C890=\"\",NA(),MATCH($B890&$C890,'Smelter Look-up'!$J:$J,0))","v":{"$error":"#N/A"}},null,0,null,null,null,""]
[{"$nulls":18},{"$f":"IF(ISERROR($W891),\"\",OFFSET('Smelter Look-up'!$C$4,$W891-4,0)&\"\")","v":""},"",{"$f":"IF(B891=\"\",\"\",IF(ISERROR(MATCH($J891,SorP!$B$1:$B$6230,0)),\"\",INDIRECT(\"'SorP'!$A$\"&MATCH($J891,SorP!$B$1:$B$6230,0))))","v":""},null,{"$f":"IF(C891=\"\",NA(),MATCH($B891&$C891,'Smelter Look-up'!$J:$J,0))","v":{"$error":"#N/A"}},null,0,null,null,null,""]
[{"$nulls":18},{"$f":"IF(ISERROR($W892),\"\",OFFSET('Smelter Look-up'!$C$4,$W892-4,0)&\"\")","v":""},"",{"$f":"IF(B892=\"\",\"\",IF(ISERROR(MATCH($J892,SorP!$B$1:$B$6230,0)),\"\",INDIRECT(\"'SorP'!$A$\"&MATCH($J892,SorP!$B$1:$B$6230,0))))","v":""},null,{"$f":"IF(C892=\"\",NA(),MATCH($B892&$C892,'Smelter Look-up'!$J:$J,0))","v":{"$error":"#N/A"}},null,0,null,null,null,""]
[{"$nulls":18},{"$f":"IF(ISERROR($W893),\"\",OFFSET('Smelter Look-up'!$C$4,$W893-4,0)&\"\")","v":""},"",{"$f":"IF(B893=\"\",\"\",IF(ISERROR(MATCH($J893,SorP!$B$1:$B$6230,0)),\"\",INDIRECT(\"'SorP'!$A$\"&MATCH($J893,SorP!$B$1:$B$6230,0))))","v":""},null,{"$f":"IF(C893=\"\",NA(),MATCH($B893&$C893,'Smelter Look-up'!$J:$J,0))","v":{"$error":"#N/A"}},null,0,null,null,null,""]
[{"$nulls":18},{"$f":"IF(ISERROR($W894),\"\",OFFSET('Smelter Look-up'!$C$4,$W894-4,0)&\"\")","v":""},"",{"$f":"IF(B894=\"\",\"\",IF(ISERROR(MATCH($J894,SorP!$B$1:$B$6230,0)),\"\",INDIRECT(\"'SorP'!$A$\"&MATCH($J894,SorP!$B$1:$B$6230,0))))","v":""},null,{"$f":"IF(C894=\"\",NA(),MATCH($B894&$C894,'Smelter Look-up'!$J:$J,0))","v":{"$error":"#N/A"}},null,0,null,null,null,""]
[{"$nulls":18},{"$f":"IF(ISERROR($W895),\"\",OFFSET('Smelter Look-up'!$C$4,$W895-4,0)&\"\")","v":""},"",{"$f":"IF(B895=\"\",\"\",IF(ISERROR(MATCH($J895,SorP!$B$1:$B$6230,0)),\"\",INDIRECT(\"'SorP'!$A$\"&MATCH($J895,SorP!$B$1:$B$6230,0))))","v":""},null,{"$f":"IF(C895=\"\",NA(),MATCH($B895&$C895,'Smelter Look-up'!$J:$J,0))","v":{"$error":"#N/A"}},null,0,null,null,null,""]
[{"$nulls":18},{"$f":"IF(ISERROR($W896),\"\",OFFSET('Smelter Look-up'!$C$4,$W896-4,0)&\"\")","v":""},"",{"$f":"IF(B896=\"\",\"\",IF(ISERROR(MATCH($J896,SorP!$B$1:$B$6230,0)),\"\",INDIRECT(\"'SorP'!$A$\"&MATCH($J896,SorP!$B$1:$B$6230,0))))","v":""},null,{"$f":"IF(C896=\"\",NA(),MATCH($B896&$C896,'Smelter Look-up'!$J:$J,0))","v":{"$error":"#N/A"}},null,0,null,null,null,""]
[{"$nulls":18},{"$f":"IF(ISERROR($W897),\"\",OFFSET('Smelter Look-up'!$C$4,$W897-4,0)&\"\")","v":""},"",{"$f":"IF(B897=\"\",\"\",IF(ISERROR(MATCH($J897,SorP!$B$1:$B$6230,0)),\"\",INDIRECT(\"'SorP'!$A$\"&MATCH($J897,SorP!$B$1:$B$6230,0))))","v":""},null,{"$f":"IF(C897=\"\",NA(),MATCH($B897&$C897,'Smelter Look-up'!$J:$J,0))","v":{"$error":"#N/A"}},null,0,null,null,null,""]
[{"$nulls":18},{"$f":"IF(ISERROR($W898),\"\",OFFSET('Smelter Look-up'!$C$4,$W898-4,0)&\"\")","v":""},"",{"$f":"IF(B898=\"\",\"\",IF(ISERROR(MATCH($J898,SorP!$B$1:$B$6230,0)),\"\",INDIRECT(\"'SorP'!$A$\"&MATCH($J898,SorP!$B$1:$B$6230,0))))","v":""},null,{"$f":"IF(C898=\"\",NA(),MATCH($B898&$C898,'Smelter Look-up'!$J:$J,0))","v":{"$error":"#N/A"}},null,0,null,null,null,""]
[{"$nulls":18},{"$f":"IF(ISERROR($W899),\"\",OFFSET('Smelter Look-up'!$C$4,$W899-4,0)&\"\")","v":""},"",{"$f":"IF(B899=\"\",\"\",IF(ISERROR(MATCH($J899,SorP!$B$1:$B$6230,0)),\"\",INDIRECT(\"'SorP'!$A$\"&MATCH($J899,SorP!$B$1:$B$6230,0))))","v":""},null,{"$f":"IF(C899=\"\",NA(),MATCH($B899&$C899,'Smelter Look-up'!$J:$J,0))","v":{"$error":"#N/A"}},null,0,null,null,null,""]
[{"$nulls":18},{"$f":"IF(ISERROR($W900),\"\",OFFSET('Smelter Look-up'!$C$4,$W900-4,0)&\"\")","v":""},"",{"$f":"IF(B900=\"\",\"\",IF(ISERROR(MATCH($J900,SorP!$B$1:$B$6230,0)),\"\",INDIRECT(\"'SorP'!$A$\"&MATCH($J900,SorP!$B$1:$B$6230,0))))","v":""},null,{"$f":"IF(C900=\"\",NA(),MATCH($B900&$C900,'Smelter Look-up'!$J:$J,0))","v":{"$error":"#N/A"}},null,0,null,null,null,""]
[{"$nulls":18},{"$f":"IF(ISERROR($W901),\"\",OFFSET('Smelter Look-up'!$C$4,$W901-4,0)&\"\")","v":""},{"$f":"IF(B901=\"\",\"\",IF(ISERROR(MATCH($E901,CL,0)),\"Unknown\",INDIRECT(\"'C'!$A$\"&MATCH($E901,CL,0)+1)))","v":""},{"$f":"IF(B901=\"\",\"\",IF(ISERROR(MATCH($J901,SorP!$B$1:$B$6230,0)),\"\",INDIRECT(\"'SorP'!$A$\"&MATCH($J901,SorP!$B$1:$B$6230,0))))","v":""},null,{"$f":"IF(C901=\"\",NA(),MATCH($B901&$C901,'Smelter Look-up'!$J:$J,0))","v":{"$error":"#N/A"}},null,{"$f":"IF(AND(C901=\"Smelter not listed\",OR(LEN(D901)=0,LEN(E901)=0)),1,0)","v":0},null,null,null,{"$f":"B901&C901","v":""}]
[{"$nulls":18},{"$f":"IF(ISERROR($W902),\"\",OFFSET('Smelter Look-up'!$C$4,$W902-4,0)&\"\")","v":""},"",{"$f":"IF(B902=\"\",\"\",IF(ISERROR(MATCH($J902,SorP!$B$1:$B$6230,0)),\"\",INDIRECT(\"'SorP'!$A$\"&MATCH($J902,SorP!$B$1:$B$6230,0))))","v":""},null,{"$f":"IF(C902=\"\",NA(),MATCH($B902&$C902,'Smelter Look-up'!$J:$J,0))","v":{"$error":"#N/A"}},null,0,null,null,null,""]
[{"$nulls":18},{"$f":"IF(ISERROR($W903),\"\",OFFSET('Smelter Look-up'!$C$4,$W903-4,0)&\"\")","v":""},"",{"$f":"IF(B903=\"\",\"\",IF(ISERROR(MATCH($J903,SorP!$B$1:$B$6230,0)),\"\",INDIRECT(\"'SorP'!$A$\"&MATCH($J903,SorP!$B$1:$B$6230,0))))","v":""},null,{"$f":"IF(C903=\"\",NA(),MATCH($B903&$C903,'Smelter Look-up'!$J:$J,0))","v":{"$error":"#N/A"}},null,0,null,null,null,""]
[{"$nulls":18},{"$f":"IF(ISERROR($W904),\"\",OFFSET('Smelter Look-up'!$C$4,$W904-4,0)&\"\")","v":""},"",{"$f":"IF(B904=\"\",\"\",IF(ISERROR(MATCH($J904,SorP!$B$1:$B$6230,0)),\"\",INDIRECT(\"'SorP'!$A$\"&MATCH($J904,SorP!$B$1:$B$6230,0))))","v":""},null,{"$f":"IF(C904=\"\",NA(),MATCH($B904&$C904,'Smelter Look-up'!$J:$J,0))","v":{"$error":"#N/A"}},null,0,null,null,null,""]
[{"$nulls":18},{"$f":"IF(ISERROR($W905),\"\",OFFSET('Smelter Look-up'!$C$4,$W905-4,0)&\"\")","v":""},"",{"$f":"IF(B905=\"\",\"\",IF(ISERROR(MATCH($J905,SorP!$B$1:$B$6230,0)),\"\",INDIRECT(\"'SorP'!$A$\"&MATCH($J905,SorP!$B$1:$B$6230,0))))","v":""},null,{"$f":"IF(C905=\"\",NA(),MATCH($B905&$C905,'Smelter Look-up'!$J:$J,0))","v":{"$error":"#N/A"}},null,0,null,null,null,""]
[{"$nulls":18},{"$f":"IF(ISERROR($W906),\"\",OFFSET('Smelter Look-up'!$C$4,$W906-4,0)&\"\")","v":""},"",{"$f":"IF(B906=\"\",\"\",IF(ISERROR(MATCH($J906,SorP!$B$1:$B$6230,0)),\"\",INDIRECT(\"'SorP'!$A$\"&MATCH($J906,SorP!$B$1:$B$6230,0))))","v":""},null,{"$f":"IF(C906=\"\",NA(),MATCH($B906&$C906,'Smelter Look-up'!$J:$J,0))","v":{"$error":"#N/A"}},null,0,null,null,null,""]
[{"$nulls":18},{"$f":"IF(ISERROR($W907),\"\",OFFSET('Smelter Look-up'!$C$4,$W907-4,0)&\"\")","v":""},"",{"$f":"IF(B907=\"\",\"\",IF(ISERROR(MATCH($J907,SorP!$B$1:$B$6230,0)),\"\",INDIRECT(\"'SorP'!$A$\"&MATCH($J907,SorP!$B$1:$B$6230,0))))","v":""},null,{"$f":"IF(C907=\"\",NA(),MATCH($B907&$C907,'Smelter Look-up'!$J:$J,0))","v":{"$error":"#N/A"}},null,0,null,null,null,""]
[{"$nulls":18},{"$f":"IF(ISERROR($W908),\"\",OFFSET('Smelter Look-up'!$C$4,$W908-4,0)&\"\")","v":""},"",{"$f":"IF(B908=\"\",\"\",IF(ISERROR(MATCH($J908,SorP!$B$1:$B$6230,0)),\"\",INDIRECT(\"'SorP'!$A$\"&MATCH($J908,SorP!$B$1:$B$6230,0))))","v":""},null,{"$f":"IF(C908=\"\",NA(),MATCH($B908&$C908,'Smelter Look-up'!$J:$J,0))","v":{"$error":"#N/A"}},null,0,null,null,null,""]
[{"$nulls":18},{"$f":"IF(ISERROR($W909),\"\",OFFSET('Smelter Look-up'!$C$4,$W909-4,0)&\"\")","v":""},"",{"$f":"IF(B909=\"\",\"\",IF(ISERROR(MATCH($J909,SorP!$B$1:$B$6230,0)),\"\",INDIRECT(\"'SorP'!$A$\"&MATCH($J909,SorP!$B$1:$B$6230,0))))","v":""},null,{"$f":"IF(C909=\"\",NA(),MATCH($B909&$C909,'Smelter Look-up'!$J:$J,0))","v":{"$error":"#N/A"}},null,0,null,null,null,""]
[{"$nulls":18},{"$f":"IF(ISERROR($W910),\"\",OFFSET('Smelter Look-up'!$C$4,$W910-4,0)&\"\")","v":""},"",{"$f":"IF(B910=\"\",\"\",IF(ISERROR(MATCH($J910,SorP!$B$1:$B$6230,0)),\"\",INDIRECT(\"'SorP'!$A$\"&MATCH($J910,SorP!$B$1:$B$6230,0))))","v":""},null,{"$f":"IF(C910=\"\",NA(),MATCH($B910&$C910,'Smelter Look-up'!$J:$J,0))","v":{"$error":"#N/A"}},null,0,null,null,null,""]
[{"$nulls":18},{"$f":"IF(ISERROR($W911),\"\",OFFSET('Smelter Look-up'!$C$4,$W911-4,0)&\"\")","v":""},"",{"$f":"IF(B911=\"\",\"\",IF(ISERROR(MATCH($J911,SorP!$B$1:$B$6230,0)),\"\",INDIRECT(\"'SorP'!$A$\"&MATCH($J911,SorP!$B$1:$B$6230,0))))","v":""},null,{"$f":"IF(C911=\"\",NA(),MATCH($B911&$C911,'Smelter Look-up'!$J:$J,0))","v":{"$error":"#N/A"}},null,0,null,null,null,""]
[{"$nulls":18},{"$f":"IF(ISERROR($W912),\"\",OFFSET('Smelter Look-up'!$C$4,$W912-4,0)&\"\")","v":""},"",{"$f":"IF(B912=\"\",\"\",IF(ISERROR(MATCH($J912,SorP!$B$1:$B$6230,0)),\"\",INDIRECT(\"'SorP'!$A$\"&MATCH($J912,SorP!$B$1:$B$6230,0))))","v":""},null,{"$f":"IF(C912=\"\",NA(),MATCH($B912&$C912,'Smelter Look-up'!$J:$J,0))","v":{"$error":"#N/A"}},null,0,null,null,null,""]
[{"$nulls":18},{"$f":"IF(ISERROR($W913),\"\",OFFSET('Smelter Look-up'!$C$4,$W913-4,0)&\"\")","v":""},"",{"$f":"IF(B913=\"\",\"\",IF(ISERROR(MATCH($J913,SorP!$B$1:$B$6230,0)),\"\",INDIRECT(\"'SorP'!$A$\"&MATCH($J913,SorP!$B$1:$B$6230,0))))","v":""},null,{"$f":"IF(C913=\"\",NA(),MATCH($B913&$C913,'Smelter Look-up'!$J:$J,0))","v":{"$error":"#N/A"}},null,0,null,null,null,""]
[{"$nulls":18},{"$f":"IF(ISERROR($W914),\"\",OFFSET('Smelter Look-up'!$C$4,$W914-4,0)&\"\")","v":""},"",{"$f":"IF(B914=\"\",\"\",IF(ISERROR(MATCH($J914,SorP!$B$1:$B$6230,0)),\"\",INDIRECT(\"'SorP'!$A$\"&MATCH($J914,SorP!$B$1:$B$6230,0))))","v":""},null,{"$f":"IF(C914=\"\",NA(),MATCH($B914&$C914,'Smelter Look-up'!$J:$J,0))","v":{"$error":"#N/A"}},null,0,null,null,null,""]
[{"$nulls":18},{"$f":"IF(ISERROR($W915),\"\",OFFSET('Smelter Look-up'!$C$4,$W915-4,0)&\"\")","v":""},"",{"$f":"IF(B915=\"\",\"\",IF(ISERROR(MATCH($J915,SorP!$B$1:$B$6230,0)),\"\",INDIRECT(\"'SorP'!$A$\"&MATCH($J915,SorP!$B$1:$B$6230,0))))","v":""},null,{"$f":"IF(C915=\"\",NA(),MATCH($B915&$C915,'Smelter Look-up'!$J:$J,0))","v":{"$error":"#N/A"}},null,0,null,null,null,""]
[{"$nulls":18},{"$f":"IF(ISERROR($W916),\"\",OFFSET('Smelter Look-up'!$C$4,$W916-4,0)&\"\")","v":""},"",{"$f":"IF(B916=\"\",\"\",IF(ISERROR(MATCH($J916,SorP!$B$1:$B$6230,0)),\"\",INDIRECT(\"'SorP'!$A$\"&MATCH($J916,SorP!$B$1:$B$6230,0))))","v":""},null,{"$f":"IF(C916=\"\",NA(),MATCH($B916&$C916,'Smelter Look-up'!$J:$J,0))","v":{"$error":"#N/A"}},null,0,null,null,null,""]
[{"$nulls":18},{"$f":"IF(ISERROR($W917),\"\",OFFSET('Smelter Look-up'!$C$4,$W917-4,0)&\"\")","v":""},"",{"$f":"IF(B917=\"\",\"\",IF(ISERROR(MATCH($J917,SorP!$B$1:$B$6230,0)),\"\",INDIRECT(\"'SorP'!$A$\"&MATCH($J917,SorP!$B$1:$B$6230,0))))","v":""},null,{"$f":"IF(C917=\"\",NA(),MATCH($B917&$C917,'Smelter Look-up'!$J:$J,0))","v":{"$error":"#N/A"}},null,0,null,null,null,""]
[{"$nulls":18},{"$f":"IF(ISERROR($W918),\"\",OFFSET('Smelter Look-up'!$C$4,$W918-4,0)&\"\")","v":""},"",{"$f":"IF(B918=\"\",\"\",IF(ISERROR(MATCH($J918,SorP!$B$1:$B$6230,0)),\"\",INDIRECT(\"'SorP'!$A$\"&MATCH($J918,SorP!$B$1:$B$6230,0))))","v":""},null,{"$f":"IF(C918=\"\",NA(),MATCH($B918&$C918,'Smelter Look-up'!$J:$J,0))","v":{"$error":"#N/A"}},null,0,null,null,null,""]
[{"$nulls":18},{"$f":"IF(ISERROR($W919),\"\",OFFSET('Smelter Look-up'!$C$4,$W919-4,0)&\"\")","v":""},"",{"$f":"IF(B919=\"\",\"\",IF(ISERROR(MATCH($J919,SorP!$B$1:$B$6230,0)),\"\",INDIRECT(\"'SorP'!$A$\"&MATCH($J919,SorP!$B$1:$B$6230,0))))","v":""},null,{"$f":"IF(C919=\"\",NA(),MATCH($B919&$C919,'Smelter Look-up'!$J:$J,0))","v":{"$error":"#N/A"}},null,0,null,null,null,""]
[{"$nulls":18},{"$f":"IF(ISERROR($W920),\"\",OFFSET('Smelter Look-up'!$C$4,$W920-4,0)&\"\")","v":""},"",{"$f":"IF(B920=\"\",\"\",IF(ISERROR(MATCH($J920,SorP!$B$1:$B$6230,0)),\"\",INDIRECT(\"'SorP'!$A$\"&MATCH($J920,SorP!$B$1:$B$6230,0))))","v":""},null,{"$f":"IF(C920=\"\",NA(),MATCH($B920&$C920,'Smelter Look-up'!$J:$J,0))","v":{"$error":"#N/A"}},null,0,null,null,null,""]
[{"$nulls":18},{"$f":"IF(ISERROR($W921),\"\",OFFSET('Smelter Look-up'!$C$4,$W921-4,0)&\"\")","v":""},"",{"$f":"IF(B921=\"\",\"\",IF(ISERROR(MATCH($J921,SorP!$B$1:$B$6230,0)),\"\",INDIRECT(\"'SorP'!$A$\"&MATCH($J921,SorP!$B$1:$B$6230,0))))","v":""},null,{"$f":"IF(C921=\"\",NA(),MATCH($B921&$C921,'Smelter Look-up'!$J:$J,0))","v":{"$error":"#N/A"}},null,0,null,null,null,""]
[{"$nulls":18},{"$f":"IF(ISERROR($W922),\"\",OFFSET('Smelter Look-up'!$C$4,$W922-4,0)&\"\")","v":""},"",{"$f":"IF(B922=\"\",\"\",IF(ISERROR(MATCH($J922,SorP!$B$1:$B$6230,0)),\"\",INDIRECT(\"'SorP'!$A$\"&MATCH($J922,SorP!$B$1:$B$6230,0))))","v":""},null,{"$f":"IF(C922=\"\",NA(),MATCH($B922&$C922,'Smelter Look-up'!$J:$J,0))","v":{"$error":"#N/A"}},null,0,null,null,null,""]
[{"$nulls":18},{"$f":"IF(ISERROR($W923),\"\",OFFSET('Smelter Look-up'!$C$4,$W923-4,0)&\"\")","v":""},"",{"$f":"IF(B923=\"\",\"\",IF(ISERROR(MATCH($J923,SorP!$B$1:$B$6230,0)),\"\",INDIRECT(\"'SorP'!$A$\"&MATCH($J923,SorP!$B$1:$B$6230,0))))","v":""},null,{"$f":"IF(C923=\"\",NA(),MATCH($B923&$C923,'Smelter Look-up'!$J:$J,0))","v":{"$error":"#N/A"}},null,0,null,null,null,""]
[{"$nulls":18},{"$f":"IF(ISERROR($W924),\"\",OFFSET('Smelter Look-up'!$C$4,$W924-4,0)&\"\")","v":""},"",{"$f":"IF(B924=\"\",\"\",IF(ISERROR(MATCH($J924,SorP!$B$1:$B$6230,0)),\"\",INDIRECT(\"'SorP'!$A$\"&MATCH($J924,SorP!$B$1:$B$6230,0))))","v":""},null,{"$f":"IF(C924=\"\",NA(),MATCH($B924&$C924,'Smelter Look-up'!$J:$J,0))","v":{"$error":"#N/A"}},null,0,null,null,null,""]
[{"$nulls":18},{"$f":"IF(ISERROR($W925),\"\",OFFSET('Smelter Look-up'!$C$4,$W925-4,0)&\"\")","v":""},"",{"$f":"IF(B925=\"\",\"\",IF(ISERROR(MATCH($J925,SorP!$B$1:$B$6230,0)),\"\",INDIRECT(\"'SorP'!$A$\"&MATCH($J925,SorP!$B$1:$B$6230,0))))","v":""},null,{"$f":"IF(C925=\"\",NA(),MATCH($B925&$C925,'Smelter Look-up'!$J:$J,0))","v":{"$error":"#N/A"}},null,0,null,null,null,""]
[{"$nulls":18},{"$f":"IF(ISERROR($W926),\"\",OFFSET('Smelter Look-up'!$C$4,$W926-4,0)&\"\")","v":""},"",{"$f":"IF(B926=\"\",\"\",IF(ISERROR(MATCH($J926,SorP!$B$1:$B$6230,0)),\"\",INDIRECT(\"'SorP'!$A$\"&MATCH($J926,SorP!$B$1:$B$6230,0))))","v":""},null,{"$f":"IF(C926=\"\",NA(),MATCH($B926&$C926,'Smelter Look-up'!$J:$J,0))","v":{"$error":"#N/A"}},null,0,null,null,null,""]
[{"$nulls":18},{"$f":"IF(ISERROR($W927),\"\",OFFSET('Smelter Look-up'!$C$4,$W927-4,0)&\"\")","v":""},"",{"$f":"IF(B927=\"\",\"\",IF(ISERROR(MATCH($J927,SorP!$B$1:$B$6230,0)),\"\",INDIRECT(\"'SorP'!$A$\"&MATCH($J927,SorP!$B$1:$B$6230,0))))","v":""},null,{"$f":"IF(C927=\"\",NA(),MATCH($B927&$C927,'Smelter Look-up'!$J:$J,0))","v":{"$error":"#N/A"}},null,0,null,null,null,""]
[{"$nulls":18},{"$f":"IF(ISERROR($W928),\"\",OFFSET('Smelter Look-up'!$C$4,$W928-4,0)&\"\")","v":""},"",{"$f":"IF(B928=\"\",\"\",IF(ISERROR(MATCH($J928,SorP!$B$1:$B$6230,0)),\"\",INDIRECT(\"'SorP'!$A$\"&MATCH($J928,SorP!$B$1:$B$6230,0))))","v":""},null,{"$f":"IF(C928=\"\",NA(),MATCH($B928&$C928,'Smelter Look-up'!$J:$J,0))","v":{"$error":"#N/A"}},null,0,null,null,null,""]
[{"$nulls":18},{"$f":"IF(ISERROR($W929),\"\",OFFSET('Smelter Look-up'!$C$4,$W929-4,0)&\"\")","v":""},"",{"$f":"IF(B929=\"\",\"\",IF(ISERROR(MATCH($J929,SorP!$B$1:$B$6230,0)),\"\",INDIRECT(\"'SorP'!$A$\"&MATCH($J929,SorP!$B$1:$B$6230,0))))","v":""},null,{"$f":"IF(C929=\"\",NA(),MATCH($B929&$C929,'Smelter Look-up'!$J:$J,0))","v":{"$error":"#N/A"}},null,0,null,null,null,""]
[{"$nulls":18},{"$f":"IF(ISERROR($W930),\"\",OFFSET('Smelter Look-up'!$C$4,$W930-4,0)&\"\")","v":""},"",{"$f":"IF(B930=\"\",\"\",IF(ISERROR(MATCH($J930,SorP!$B$1:$B$6230,0)),\"\",INDIRECT(\"'SorP'!$A$\"&MATCH($J930,SorP!$B$1:$B$6230,0))))","v":""},null,{"$f":"IF(C930=\"\",NA(),MATCH($B930&$C930,'Smelter Look-up'!$J:$J,0))","v":{"$error":"#N/A"}},null,0,null,null,null,""]
[{"$nulls":18},{"$f":"IF(ISERROR($W931),\"\",OFFSET('Smelter Look-up'!$C$4,$W931-4,0)&\"\")","v":""},"",{"$f":"IF(B931=\"\",\"\",IF(ISERROR(MATCH($J931,SorP!$B$1:$B$6230,0)),\"\",INDIRECT(\"'SorP'!$A$\"&MATCH($J931,SorP!$B$1:$B$6230,0))))","v":""},null,{"$f":"IF(C931=\"\",NA(),MATCH($B931&$C931,'Smelter Look-up'!$J:$J,0))","v":{"$error":"#N/A"}},null,0,null,null,null,""]
[{"$nulls":18},{"$f":"IF(ISERROR($W932),\"\",OFFSET('Smelter Look-up'!$C$4,$W932-4,0)&\"\")","v":""},"",{"$f":"IF(B932=\"\",\"\",IF(ISERROR(MATCH($J932,SorP!$B$1:$B$6230,0)),\"\",INDIRECT(\"'SorP'!$A$\"&MATCH($J932,SorP!$B$1:$B$6230,0))))","v":""},null,{"$f":"IF(C932=\"\",NA(),MATCH($B932&$C932,'Smelter Look-up'!$J:$J,0))","v":{"$error":"#N/A"}},null,0,null,null,null,""]
[{"$nulls":18},{"$f":"IF(ISERROR($W933),\"\",OFFSET('Smelter Look-up'!$C$4,$W933-4,0)&\"\")","v":""},"",{"$f":"IF(B933=\"\",\"\",IF(ISERROR(MATCH($J933,SorP!$B$1:$B$6230,0)),\"\",INDIRECT(\"'SorP'!$A$\"&MATCH($J933,SorP!$B$1:$B$6230,0))))","v":""},null,{"$f":"IF(C933=\"\",NA(),MATCH($B933&$C933,'Smelter Look-up'!$J:$J,0))","v":{"$error":"#N/A"}},null,0,null,null,null,""]
[{"$nulls":18},{"$f":"IF(ISERROR($W934),\"\",OFFSET('Smelter Look-up'!$C$4,$W934-4,0)&\"\")","v":""},"",{"$f":"IF(B934=\"\",\"\",IF(ISERROR(MATCH($J934,SorP!$B$1:$B$6230,0)),\"\",INDIRECT(\"'SorP'!$A$\"&MATCH($J934,SorP!$B$1:$B$6230,0))))","v":""},null,{"$f":"IF(C934=\"\",NA(),MATCH($B934&$C934,'Smelter Look-up'!$J:$J,0))","v":{"$error":"#N/A"}},null,0,null,null,null,""]
[{"$nulls":18},{"$f":"IF(ISERROR($W935),\"\",OFFSET('Smelter Look-up'!$C$4,$W935-4,0)&\"\")","v":""},"",{"$f":"IF(B935=\"\",\"\",IF(ISERROR(MATCH($J935,SorP!$B$1:$B$6230,0)),\"\",INDIRECT(\"'SorP'!$A$\"&MATCH($J935,SorP!$B$1:$B$6230,0))))","v":""},null,{"$f":"IF(C935=\"\",NA(),MATCH($B935&$C935,'Smelter Look-up'!$J:$J,0))","v":{"$error":"#N/A"}},null,0,null,null,null,""]
[{"$nulls":18},{"$f":"IF(ISERROR($W936),\"\",OFFSET('Smelter Look-up'!$C$4,$W936-4,0)&\"\")","v":""},"",{"$f":"IF(B936=\"\",\"\",IF(ISERROR(MATCH($J936,SorP!$B$1:$B$6230,0)),\"\",INDIRECT(\"'SorP'!$A$\"&MATCH($J936,SorP!$B$1:$B$6230,0))))","v":""},null,{"$f":"IF(C936=\"\",NA(),MATCH($B936&$C936,'Smelter Look-up'!$J:$J,0))","v":{"$error":"#N/A"}},null,0,null,null,null,""]
[{"$nulls":18},{"$f":"IF(ISERROR($W937),\"\",OFFSET('Smelter Look-up'!$C$4,$W937-4,0)&\"\")","v":""},"",{"$f":"IF(B937=\"\",\"\",IF(ISERROR(MATCH($J937,SorP!$B$1:$B$6230,0)),\"\",INDIRECT(\"'SorP'!$A$\"&MATCH($J937,SorP!$B$1:$B$6230,0))))","v":""},null,{"$f":"IF(C937=\"\",NA(),MATCH($B937&$C937,'Smelter Look-up'!$J:$J,0))","v":{"$error":"#N/A"}},null,0,null,null,null,""]
[{"$nulls":18},{"$f":"IF(ISERROR($W938),\"\",OFFSET('Smelter Look-up'!$C$4,$W938-4,0)&\"\")","v":""},"",{"$f":"IF(B938=\"\",\"\",IF(ISERROR(MATCH($J938,SorP!$B$1:$B$6230,0)),\"\",INDIRECT(\"'SorP'!$A$\"&MATCH($J938,SorP!$B$1:$B$6230,0))))","v":""},null,{"$f":"IF(C938=\"\",NA(),MATCH($B938&$C938,'Smelter Look-up'!$J:$J,0))","v":{"$error":"#N/A"}},null,0,null,null,null,""]
[{"$nulls":18},{"$f":"IF(ISERROR($W939),\"\",OFFSET('Smelter Look-up'!$C$4,$W939-4,0)&\"\")","v":""},"",{"$f":"IF(B939=\"\",\"\",IF(ISERROR(MATCH($J939,SorP!$B$1:$B$6230,0)),\"\",INDIRECT(\"'SorP'!$A$\"&MATCH($J939,SorP!$B$1:$B$6230,0))))","v":""},null,{"$f":"IF(C939=\"\",NA(),MATCH($B939&$C939,'Smelter Look-up'!$J:$J,0))","v":{"$error":"#N/A"}},null,0,null,null,null,""]
[{"$nulls":18},{"$f":"IF(ISERROR($W940),\"\",OFFSET('Smelter Look-up'!$C$4,$W940-4,0)&\"\")","v":""},"",{"$f":"IF(B940=\"\",\"\",IF(ISERROR(MATCH($J940,SorP!$B$1:$B$6230,0)),\"\",INDIRECT(\"'SorP'!$A$\"&MATCH($J940,SorP!$B$1:$B$6230,0))))","v":""},null,{"$f":"IF(C940=\"\",NA(),MATCH($B940&$C940,'Smelter Look-up'!$J:$J,0))","v":{"$error":"#N/A"}},null,0,null,null,null,""]
[{"$nulls":18},{"$f":"IF(ISERROR($W941),\"\",OFFSET('Smelter Look-up'!$C$4,$W941-4,0)&\"\")","v":""},"",{"$f":"IF(B941=\"\",\"\",IF(ISERROR(MATCH($J941,SorP!$B$1:$B$6230,0)),\"\",INDIRECT(\"'SorP'!$A$\"&MATCH($J941,SorP!$B$1:$B$6230,0))))","v":""},null,{"$f":"IF(C941=\"\",NA(),MATCH($B941&$C941,'Smelter Look-up'!$J:$J,0))","v":{"$error":"#N/A"}},null,0,null,null,null,""]
[{"$nulls":18},{"$f":"IF(ISERROR($W942),\"\",OFFSET('Smelter Look-up'!$C$4,$W942-4,0)&\"\")","v":""},"",{"$f":"IF(B942=\"\",\"\",IF(ISERROR(MATCH($J942,SorP!$B$1:$B$6230,0)),\"\",INDIRECT(\"'SorP'!$A$\"&MATCH($J942,SorP!$B$1:$B$6230,0))))","v":""},null,{"$f":"IF(C942=\"\",NA(),MATCH($B942&$C942,'Smelter Look-up'!$J:$J,0))","v":{"$error":"#N/A"}},null,0,null,null,null,""]
[{"$nulls":18},{"$f":"IF(ISERROR($W943),\"\",OFFSET('Smelter Look-up'!$C$4,$W943-4,0)&\"\")","v":""},"",{"$f":"IF(B943=\"\",\"\",IF(ISERROR(MATCH($J943,SorP!$B$1:$B$6230,0)),\"\",INDIRECT(\"'SorP'!$A$\"&MATCH($J943,SorP!$B$1:$B$6230,0))))","v":""},null,{"$f":"IF(C943=\"\",NA(),MATCH($B943&$C943,'Smelter Look-up'!$J:$J,0))","v":{"$error":"#N/A"}},null,0,null,null,null,""]
[{"$nulls":18},{"$f":"IF(ISERROR($W944),\"\",OFFSET('Smelter Look-up'!$C$4,$W944-4,0)&\"\")","v":""},"",{"$f":"IF(B944=\"\",\"\",IF(ISERROR(MATCH($J944,SorP!$B$1:$B$6230,0)),\"\",INDIRECT(\"'SorP'!$A$\"&MATCH($J944,SorP!$B$1:$B$6230,0))))","v":""},null,{"$f":"IF(C944=\"\",NA(),MATCH($B944&$C944,'Smelter Look-up'!$J:$J,0))","v":{"$error":"#N/A"}},null,0,null,null,null,""]
[{"$nulls":18},{"$f":"IF(ISERROR($W945),\"\",OFFSET('Smelter Look-up'!$C$4,$W945-4,0)&\"\")","v":""},"",{"$f":"IF(B945=\"\",\"\",IF(ISERROR(MATCH($J945,SorP!$B$1:$B$6230,0)),\"\",INDIRECT(\"'SorP'!$A$\"&MATCH($J945,SorP!$B$1:$B$6230,0))))","v":""},null,{"$f":"IF(C945=\"\",NA(),MATCH($B945&$C945,'Smelter Look-up'!$J:$J,0))","v":{"$error":"#N/A"}},null,0,null,null,null,""]
[{"$nulls":18},{"$f":"IF(ISERROR($W946),\"\",OFFSET('Smelter Look-up'!$C$4,$W946-4,0)&\"\")","v":""},"",{"$f":"IF(B946=\"\",\"\",IF(ISERROR(MATCH($J946,SorP!$B$1:$B$6230,0)),\"\",INDIRECT(\"'SorP'!$A$\"&MATCH($J946,SorP!$B$1:$B$6230,0))))","v":""},null,{"$f":"IF(C946=\"\",NA(),MATCH($B946&$C946,'Smelter Look-up'!$J:$J,0))","v":{"$error":"#N/A"}},null,0,null,null,null,""]
[{"$nulls":18},{"$f":"IF(ISERROR($W947),\"\",OFFSET('Smelter Look-up'!$C$4,$W947-4,0)&\"\")","v":""},"",{"$f":"IF(B947=\"\",\"\",IF(ISERROR(MATCH($J947,SorP!$B$1:$B$6230,0)),\"\",INDIRECT(\"'SorP'!$A$\"&MATCH($J947,SorP!$B$1:$B$6230,0))))","v":""},null,{"$f":"IF(C947=\"\",NA(),MATCH($B947&$C947,'Smelter Look-up'!$J:$J,0))","v":{"$error":"#N/A"}},null,0,null,null,null,""]
[{"$nulls":18},{"$f":"IF(ISERROR($W948),\"\",OFFSET('Smelter Look-up'!$C$4,$W948-4,0)&\"\")","v":""},"",{"$f":"IF(B948=\"\",\"\",IF(ISERROR(MATCH($J948,SorP!$B$1:$B$6230,0)),\"\",INDIRECT(\"'SorP'!$A$\"&MATCH($J948,SorP!$B$1:$B$6230,0))))","v":""},null,{"$f":"IF(C948=\"\",NA(),MATCH($B948&$C948,'Smelter Look-up'!$J:$J,0))","v":{"$error":"#N/A"}},null,0,null,null,null,""]
[{"$nulls":18},{"$f":"IF(ISERROR($W949),\"\",OFFSET('Smelter Look-up'!$C$4,$W949-4,0)&\"\")","v":""},"",{"$f":"IF(B949=\"\",\"\",IF(ISERROR(MATCH($J949,SorP!$B$1:$B$6230,0)),\"\",INDIRECT(\"'SorP'!$A$\"&MATCH($J949,SorP!$B$1:$B$6230,0))))","v":""},null,{"$f":"IF(C949=\"\",NA(),MATCH($B949&$C949,'Smelter Look-up'!$J:$J,0))","v":{"$error":"#N/A"}},null,0,null,null,null,""]
[{"$nulls":18},{"$f":"IF(ISERROR($W950),\"\",OFFSET('Smelter Look-up'!$C$4,$W950-4,0)&\"\")","v":""},"",{"$f":"IF(B950=\"\",\"\",IF(ISERROR(MATCH($J950,SorP!$B$1:$B$6230,0)),\"\",INDIRECT(\"'SorP'!$A$\"&MATCH($J950,SorP!$B$1:$B$6230,0))))","v":""},null,{"$f":"IF(C950=\"\",NA(),MATCH($B950&$C950,'Smelter Look-up'!$J:$J,0))","v":{"$error":"#N/A"}},null,0,null,null,null,""]
[{"$nulls":18},{"$f":"IF(ISERROR($W951),\"\",OFFSET('Smelter Look-up'!$C$4,$W951-4,0)&\"\")","v":""},"",{"$f":"IF(B951=\"\",\"\",IF(ISERROR(MATCH($J951,SorP!$B$1:$B$6230,0)),\"\",INDIRECT(\"'SorP'!$A$\"&MATCH($J951,SorP!$B$1:$B$6230,0))))","v":""},null,{"$f":"IF(C951=\"\",NA(),MATCH($B951&$C951,'Smelter Look-up'!$J:$J,0))","v":{"$error":"#N/A"}},null,0,null,null,null,""]
[{"$nulls":18},{"$f":"IF(ISERROR($W952),\"\",OFFSET('Smelter Look-up'!$C$4,$W952-4,0)&\"\")","v":""},"",{"$f":"IF(B952=\"\",\"\",IF(ISERROR(MATCH($J952,SorP!$B$1:$B$6230,0)),\"\",INDIRECT(\"'SorP'!$A$\"&MATCH($J952,SorP!$B$1:$B$6230,0))))","v":""},null,{"$f":"IF(C952=\"\",NA(),MATCH($B952&$C952,'Smelter Look-up'!$J:$J,0))","v":{"$error":"#N/A"}},null,0,null,null,null,""]
[{"$nulls":18},{"$f":"IF(ISERROR($W953),\"\",OFFSET('Smelter Look-up'!$C$4,$W953-4,0)&\"\")","v":""},"",{"$f":"IF(B953=\"\",\"\",IF(ISERROR(MATCH($J953,SorP!$B$1:$B$6230,0)),\"\",INDIRECT(\"'SorP'!$A$\"&MATCH($J953,SorP!$B$1:$B$6230,0))))","v":""},null,{"$f":"IF(C953=\"\",NA(),MATCH($B953&$C953,'Smelter Look-up'!$J:$J,0))","v":{"$error":"#N/A"}},null,0,null,null,null,""]
[{"$nulls":18},{"$f":"IF(ISERROR($W954),\"\",OFFSET('Smelter Look-up'!$C$4,$W954-4,0)&\"\")","v":""},"",{"$f":"IF(B954=\"\",\"\",IF(ISERROR(MATCH($J954,SorP!$B$1:$B$6230,0)),\"\",INDIRECT(\"'SorP'!$A$\"&MATCH($J954,SorP!$B$1:$B$6230,0))))","v":""},null,{"$f":"IF(C954=\"\",NA(),MATCH($B954&$C954,'Smelter Look-up'!$J:$J,0))","v":{"$error":"#N/A"}},null,0,null,null,null,""]
[{"$nulls":18},{"$f":"IF(ISERROR($W955),\"\",OFFSET('Smelter Look-up'!$C$4,$W955-4,0)&\"\")","v":""},"",{"$f":"IF(B955=\"\",\"\",IF(ISERROR(MATCH($J955,SorP!$B$1:$B$6230,0)),\"\",INDIRECT(\"'SorP'!$A$\"&MATCH($J955,SorP!$B$1:$B$6230,0))))","v":""},null,{"$f":"IF(C955=\"\",NA(),MATCH($B955&$C955,'Smelter Look-up'!$J:$J,0))","v":{"$error":"#N/A"}},null,0,null,null,null,""]
[{"$nulls":18},{"$f":"IF(ISERROR($W956),\"\",OFFSET('Smelter Look-up'!$C$4,$W956-4,0)&\"\")","v":""},"",{"$f":"IF(B956=\"\",\"\",IF(ISERROR(MATCH($J956,SorP!$B$1:$B$6230,0)),\"\",INDIRECT(\"'SorP'!$A$\"&MATCH($J956,SorP!$B$1:$B$6230,0))))","v":""},null,{"$f":"IF(C956=\"\",NA(),MATCH($B956&$C956,'Smelter Look-up'!$J:$J,0))","v":{"$error":"#N/A"}},null,0,null,null,null,""]
[{"$nulls":18},{"$f":"IF(ISERROR($W957),\"\",OFFSET('Smelter Look-up'!$C$4,$W957-4,0)&\"\")","v":""},"",{"$f":"IF(B957=\"\",\"\",IF(ISERROR(MATCH($J957,SorP!$B$1:$B$6230,0)),\"\",INDIRECT(\"'SorP'!$A$\"&MATCH($J957,SorP!$B$1:$B$6230,0))))","v":""},null,{"$f":"IF(C957=\"\",NA(),MATCH($B957&$C957,'Smelter Look-up'!$J:$J,0))","v":{"$error":"#N/A"}},null,0,null,null,null,""]
[{"$nulls":18},{"$f":"IF(ISERROR($W958),\"\",OFFSET('Smelter Look-up'!$C$4,$W958-4,0)&\"\")","v":""},"",{"$f":"IF(B958=\"\",\"\",IF(ISERROR(MATCH($J958,SorP!$B$1:$B$6230,0)),\"\",INDIRECT(\"'SorP'!$A$\"&MATCH($J958,SorP!$B$1:$B$6230,0))))","v":""},null,{"$f":"IF(C958=\"\",NA(),MATCH($B958&$C958,'Smelter Look-up'!$J:$J,0))","v":{"$error":"#N/A"}},null,0,null,null,null,""]
[{"$nulls":18},{"$f":"IF(ISERROR($W959),\"\",OFFSET('Smelter Look-up'!$C$4,$W959-4,0)&\"\")","v":""},"",{"$f":"IF(B959=\"\",\"\",IF(ISERROR(MATCH($J959,SorP!$B$1:$B$6230,0)),\"\",INDIRECT(\"'SorP'!$A$\"&MATCH($J959,SorP!$B$1:$B$6230,0))))","v":""},null,{"$f":"IF(C959=\"\",NA(),MATCH($B959&$C959,'Smelter Look-up'!$J:$J,0))","v":{"$error":"#N/A"}},null,0,null,null,null,""]
[{"$nulls":18},{"$f":"IF(ISERROR($W960),\"\",OFFSET('Smelter Look-up'!$C$4,$W960-4,0)&\"\")","v":""},"",{"$f":"IF(B960=\"\",\"\",IF(ISERROR(MATCH($J960,SorP!$B$1:$B$6230,0)),\"\",INDIRECT(\"'SorP'!$A$\"&MATCH($J960,SorP!$B$1:$B$6230,0))))","v":""},null,{"$f":"IF(C960=\"\",NA(),MATCH($B960&$C960,'Smelter Look-up'!$J:$J,0))","v":{"$error":"#N/A"}},null,0,null,null,null,""]
[{"$nulls":18},{"$f":"IF(ISERROR($W961),\"\",OFFSET('Smelter Look-up'!$C$4,$W961-4,0)&\"\")","v":""},"",{"$f":"IF(B961=\"\",\"\",IF(ISERROR(MATCH($J961,SorP!$B$1:$B$6230,0)),\"\",INDIRECT(\"'SorP'!$A$\"&MATCH($J961,SorP!$B$1:$B$6230,0))))","v":""},null,{"$f":"IF(C961=\"\",NA(),MATCH($B961&$C961,'Smelter Look-up'!$J:$J,0))","v":{"$error":"#N/A"}},null,0,null,null,null,""]
[{"$nulls":18},{"$f":"IF(ISERROR($W962),\"\",OFFSET('Smelter Look-up'!$C$4,$W962-4,0)&\"\")","v":""},"",{"$f":"IF(B962=\"\",\"\",IF(ISERROR(MATCH($J962,SorP!$B$1:$B$6230,0)),\"\",INDIRECT(\"'SorP'!$A$\"&MATCH($J962,SorP!$B$1:$B$6230,0))))","v":""},null,{"$f":"IF(C962=\"\",NA(),MATCH($B962&$C962,'Smelter Look-up'!$J:$J,0))","v":{"$error":"#N/A"}},null,0,null,null,null,""]
[{"$nulls":18},{"$f":"IF(ISERROR($W963),\"\",OFFSET('Smelter Look-up'!$C$4,$W963-4,0)&\"\")","v":""},"",{"$f":"IF(B963=\"\",\"\",IF(ISERROR(MATCH($J963,SorP!$B$1:$B$6230,0)),\"\",INDIRECT(\"'SorP'!$A$\"&MATCH($J963,SorP!$B$1:$B$6230,0))))","v":""},null,{"$f":"IF(C963=\"\",NA(),MATCH($B963&$C963,'Smelter Look-up'!$J:$J,0))","v":{"$error":"#N/A"}},null,0,null,null,null,""]
[{"$nulls":18},{"$f":"IF(ISERROR($W964),\"\",OFFSET('Smelter Look-up'!$C$4,$W964-4,0)&\"\")","v":""},"",{"$f":"IF(B964=\"\",\"\",IF(ISERROR(MATCH($J964,SorP!$B$1:$B$6230,0)),\"\",INDIRECT(\"'SorP'!$A$\"&MATCH($J964,SorP!$B$1:$B$6230,0))))","v":""},null,{"$f":"IF(C964=\"\",NA(),MATCH($B964&$C964,'Smelter Look-up'!$J:$J,0))","v":{"$error":"#N/A"}},null,0,null,null,null,""]
[{"$nulls":18},{"$f":"IF(ISERROR($W965),\"\",OFFSET('Smelter Look-up'!$C$4,$W965-4,0)&\"\")","v":""},{"$f":"IF(B965=\"\",\"\",IF(ISERROR(MATCH($E965,CL,0)),\"Unknown\",INDIRECT(\"'C'!$A$\"&MATCH($E965,CL,0)+1)))","v":""},{"$f":"IF(B965=\"\",\"\",IF(ISERROR(MATCH($J965,SorP!$B$1:$B$6230,0)),\"\",INDIRECT(\"'SorP'!$A$\"&MATCH($J965,SorP!$B$1:$B$6230,0))))","v":""},null,{"$f":"IF(C965=\"\",NA(),MATCH($B965&$C965,'Smelter Look-up'!$J:$J,0))","v":{"$error":"#N/A"}},null,{"$f":"IF(AND(C965=\"Smelter not listed\",OR(LEN(D965)=0,LEN(E965)=0)),1,0)","v":0},null,null,null,{"$f":"B965&C965","v":""}]
[{"$nulls":18},{"$f":"IF(ISERROR($W966),\"\",OFFSET('Smelter Look-up'!$C$4,$W966-4,0)&\"\")","v":""},"",{"$f":"IF(B966=\"\",\"\",IF(ISERROR(MATCH($J966,SorP!$B$1:$B$6230,0)),\"\",INDIRECT(\"'SorP'!$A$\"&MATCH($J966,SorP!$B$1:$B$6230,0))))","v":""},null,{"$f":"IF(C966=\"\",NA(),MATCH($B966&$C966,'Smelter Look-up'!$J:$J,0))","v":{"$error":"#N/A"}},null,0,null,null,null,""]
[{"$nulls":18},{"$f":"IF(ISERROR($W967),\"\",OFFSET('Smelter Look-up'!$C$4,$W967-4,0)&\"\")","v":""},"",{"$f":"IF(B967=\"\",\"\",IF(ISERROR(MATCH($J967,SorP!$B$1:$B$6230,0)),\"\",INDIRECT(\"'SorP'!$A$\"&MATCH($J967,SorP!$B$1:$B$6230,0))))","v":""},null,{"$f":"IF(C967=\"\",NA(),MATCH($B967&$C967,'Smelter Look-up'!$J:$J,0))","v":{"$error":"#N/A"}},null,0,null,null,null,""]
[{"$nulls":18},{"$f":"IF(ISERROR($W968),\"\",OFFSET('Smelter Look-up'!$C$4,$W968-4,0)&\"\")","v":""},"",{"$f":"IF(B968=\"\",\"\",IF(ISERROR(MATCH($J968,SorP!$B$1:$B$6230,0)),\"\",INDIRECT(\"'SorP'!$A$\"&MATCH($J968,SorP!$B$1:$B$6230,0))))","v":""},null,{"$f":"IF(C968=\"\",NA(),MATCH($B968&$C968,'Smelter Look-up'!$J:$J,0))","v":{"$error":"#N/A"}},null,0,null,null,null,""]
[{"$nulls":18},{"$f":"IF(ISERROR($W969),\"\",OFFSET('Smelter Look-up'!$C$4,$W969-4,0)&\"\")","v":""},"",{"$f":"IF(B969=\"\",\"\",IF(ISERROR(MATCH($J969,SorP!$B$1:$B$6230,0)),\"\",INDIRECT(\"'SorP'!$A$\"&MATCH($J969,SorP!$B$1:$B$6230,0))))","v":""},null,{"$f":"IF(C969=\"\",NA(),MATCH($B969&$C969,'Smelter Look-up'!$J:$J,0))","v":{"$error":"#N/A"}},null,0,null,null,null,""]
[{"$nulls":18},{"$f":"IF(ISERROR($W970),\"\",OFFSET('Smelter Look-up'!$C$4,$W970-4,0)&\"\")","v":""},"",{"$f":"IF(B970=\"\",\"\",IF(ISERROR(MATCH($J970,SorP!$B$1:$B$6230,0)),\"\",INDIRECT(\"'SorP'!$A$\"&MATCH($J970,SorP!$B$1:$B$6230,0))))","v":""},null,{"$f":"IF(C970=\"\",NA(),MATCH($B970&$C970,'Smelter Look-up'!$J:$J,0))","v":{"$error":"#N/A"}},null,0,null,null,null,""]
[{"$nulls":18},{"$f":"IF(ISERROR($W971),\"\",OFFSET('Smelter Look-up'!$C$4,$W971-4,0)&\"\")","v":""},"",{"$f":"IF(B971=\"\",\"\",IF(ISERROR(MATCH($J971,SorP!$B$1:$B$6230,0)),\"\",INDIRECT(\"'SorP'!$A$\"&MATCH($J971,SorP!$B$1:$B$6230,0))))","v":""},null,{"$f":"IF(C971=\"\",NA(),MATCH($B971&$C971,'Smelter Look-up'!$J:$J,0))","v":{"$error":"#N/A"}},null,0,null,null,null,""]
[{"$nulls":18},{"$f":"IF(ISERROR($W972),\"\",OFFSET('Smelter Look-up'!$C$4,$W972-4,0)&\"\")","v":""},"",{"$f":"IF(B972=\"\",\"\",IF(ISERROR(MATCH($J972,SorP!$B$1:$B$6230,0)),\"\",INDIRECT(\"'SorP'!$A$\"&MATCH($J972,SorP!$B$1:$B$6230,0))))","v":""},null,{"$f":"IF(C972=\"\",NA(),MATCH($B972&$C972,'Smelter Look-up'!$J:$J,0))","v":{"$error":"#N/A"}},null,0,null,null,null,""]
[{"$nulls":18},{"$f":"IF(ISERROR($W973),\"\",OFFSET('Smelter Look-up'!$C$4,$W973-4,0)&\"\")","v":""},"",{"$f":"IF(B973=\"\",\"\",IF(ISERROR(MATCH($J973,SorP!$B$1:$B$6230,0)),\"\",INDIRECT(\"'SorP'!$A$\"&MATCH($J973,SorP!$B$1:$B$6230,0))))","v":""},null,{"$f":"IF(C973=\"\",NA(),MATCH($B973&$C973,'Smelter Look-up'!$J:$J,0))","v":{"$error":"#N/A"}},null,0,null,null,null,""]
[{"$nulls":18},{"$f":"IF(ISERROR($W974),\"\",OFFSET('Smelter Look-up'!$C$4,$W974-4,0)&\"\")","v":""},"",{"$f":"IF(B974=\"\",\"\",IF(ISERROR(MATCH($J974,SorP!$B$1:$B$6230,0)),\"\",INDIRECT(\"'SorP'!$A$\"&MATCH($J974,SorP!$B$1:$B$6230,0))))","v":""},null,{"$f":"IF(C974=\"\",NA(),MATCH($B974&$C974,'Smelter Look-up'!$J:$J,0))","v":{"$error":"#N/A"}},null,0,null,null,null,""]
[{"$nulls":18},{"$f":"IF(ISERROR($W975),\"\",OFFSET('Smelter Look-up'!$C$4,$W975-4,0)&\"\")","v":""},"",{"$f":"IF(B975=\"\",\"\",IF(ISERROR(MATCH($J975,SorP!$B$1:$B$6230,0)),\"\",INDIRECT(\"'SorP'!$A$\"&MATCH($J975,SorP!$B$1:$B$6230,0))))","v":""},null,{"$f":"IF(C975=\"\",NA(),MATCH($B975&$C975,'Smelter Look-up'!$J:$J,0))","v":{"$error":"#N/A"}},null,0,null,null,null,""]
[{"$nulls":18},{"$f":"IF(ISERROR($W976),\"\",OFFSET('Smelter Look-up'!$C$4,$W976-4,0)&\"\")","v":""},"",{"$f":"IF(B976=\"\",\"\",IF(ISERROR(MATCH($J976,SorP!$B$1:$B$6230,0)),\"\",INDIRECT(\"'SorP'!$A$\"&MATCH($J976,SorP!$B$1:$B$6230,0))))","v":""},null,{"$f":"IF(C976=\"\",NA(),MATCH($B976&$C976,'Smelter Look-up'!$J:$J,0))","v":{"$error":"#N/A"}},null,0,null,null,null,""]
[{"$nulls":18},{"$f":"IF(ISERROR($W977),\"\",OFFSET('Smelter Look-up'!$C$4,$W977-4,0)&\"\")","v":""},"",{"$f":"IF(B977=\"\",\"\",IF(ISERROR(MATCH($J977,SorP!$B$1:$B$6230,0)),\"\",INDIRECT(\"'SorP'!$A$\"&MATCH($J977,SorP!$B$1:$B$6230,0))))","v":""},null,{"$f":"IF(C977=\"\",NA(),MATCH($B977&$C977,'Smelter Look-up'!$J:$J,0))","v":{"$error":"#N/A"}},null,0,null,null,null,""]
[{"$nulls":18},{"$f":"IF(ISERROR($W978),\"\",OFFSET('Smelter Look-up'!$C$4,$W978-4,0)&\"\")","v":""},"",{"$f":"IF(B978=\"\",\"\",IF(ISERROR(MATCH($J978,SorP!$B$1:$B$6230,0)),\"\",INDIRECT(\"'SorP'!$A$\"&MATCH($J978,SorP!$B$1:$B$6230,0))))","v":""},null,{"$f":"IF(C978=\"\",NA(),MATCH($B978&$C978,'Smelter Look-up'!$J:$J,0))","v":{"$error":"#N/A"}},null,0,null,null,null,""]
[{"$nulls":18},{"$f":"IF(ISERROR($W979),\"\",OFFSET('Smelter Look-up'!$C$4,$W979-4,0)&\"\")","v":""},"",{"$f":"IF(B979=\"\",\"\",IF(ISERROR(MATCH($J979,SorP!$B$1:$B$6230,0)),\"\",INDIRECT(\"'SorP'!$A$\"&MATCH($J979,SorP!$B$1:$B$6230,0))))","v":""},null,{"$f":"IF(C979=\"\",NA(),MATCH($B979&$C979,'Smelter Look-up'!$J:$J,0))","v":{"$error":"#N/A"}},null,0,null,null,null,""]
[{"$nulls":18},{"$f":"IF(ISERROR($W980),\"\",OFFSET('Smelter Look-up'!$C$4,$W980-4,0)&\"\")","v":""},"",{"$f":"IF(B980=\"\",\"\",IF(ISERROR(MATCH($J980,SorP!$B$1:$B$6230,0)),\"\",INDIRECT(\"'SorP'!$A$\"&MATCH($J980,SorP!$B$1:$B$6230,0))))","v":""},null,{"$f":"IF(C980=\"\",NA(),MATCH($B980&$C980,'Smelter Look-up'!$J:$J,0))","v":{"$error":"#N/A"}},null,0,null,null,null,""]
[{"$nulls":18},{"$f":"IF(ISERROR($W981),\"\",OFFSET('Smelter Look-up'!$C$4,$W981-4,0)&\"\")","v":""},"",{"$f":"IF(B981=\"\",\"\",IF(ISERROR(MATCH($J981,SorP!$B$1:$B$6230,0)),\"\",INDIRECT(\"'SorP'!$A$\"&MATCH($J981,SorP!$B$1:$B$6230,0))))","v":""},null,{"$f":"IF(C981=\"\",NA(),MATCH($B981&$C981,'Smelter Look-up'!$J:$J,0))","v":{"$error":"#N/A"}},null,0,null,null,null,""]
[{"$nulls":18},{"$f":"IF(ISERROR($W982),\"\",OFFSET('Smelter Look-up'!$C$4,$W982-4,0)&\"\")","v":""},"",{"$f":"IF(B982=\"\",\"\",IF(ISERROR(MATCH($J982,SorP!$B$1:$B$6230,0)),\"\",INDIRECT(\"'SorP'!$A$\"&MATCH($J982,SorP!$B$1:$B$6230,0))))","v":""},null,{"$f":"IF(C982=\"\",NA(),MATCH($B982&$C982,'Smelter Look-up'!$J:$J,0))","v":{"$error":"#N/A"}},null,0,null,null,null,""]
[{"$nulls":18},{"$f":"IF(ISERROR($W983),\"\",OFFSET('Smelter Look-up'!$C$4,$W983-4,0)&\"\")","v":""},"",{"$f":"IF(B983=\"\",\"\",IF(ISERROR(MATCH($J983,SorP!$B$1:$B$6230,0)),\"\",INDIRECT(\"'SorP'!$A$\"&MATCH($J983,SorP!$B$1:$B$6230,0))))","v":""},null,{"$f":"IF(C983=\"\",NA(),MATCH($B983&$C983,'Smelter Look-up'!$J:$J,0))","v":{"$error":"#N/A"}},null,0,null,null,null,""]
[{"$nulls":18},{"$f":"IF(ISERROR($W984),\"\",OFFSET('Smelter Look-up'!$C$4,$W984-4,0)&\"\")","v":""},"",{"$f":"IF(B984=\"\",\"\",IF(ISERROR(MATCH($J984,SorP!$B$1:$B$6230,0)),\"\",INDIRECT(\"'SorP'!$A$\"&MATCH($J984,SorP!$B$1:$B$6230,0))))","v":""},null,{"$f":"IF(C984=\"\",NA(),MATCH($B984&$C984,'Smelter Look-up'!$J:$J,0))","v":{"$error":"#N/A"}},null,0,null,null,null,""]
[{"$nulls":18},{"$f":"IF(ISERROR($W985),\"\",OFFSET('Smelter Look-up'!$C$4,$W985-4,0)&\"\")","v":""},"",{"$f":"IF(B985=\"\",\"\",IF(ISERROR(MATCH($J985,SorP!$B$1:$B$6230,0)),\"\",INDIRECT(\"'SorP'!$A$\"&MATCH($J985,SorP!$B$1:$B$6230,0))))","v":""},null,{"$f":"IF(C985=\"\",NA(),MATCH($B985&$C985,'Smelter Look-up'!$J:$J,0))","v":{"$error":"#N/A"}},null,0,null,null,null,""]
[{"$nulls":18},{"$f":"IF(ISERROR($W986),\"\",OFFSET('Smelter Look-up'!$C$4,$W986-4,0)&\"\")","v":""},"",{"$f":"IF(B986=\"\",\"\",IF(ISERROR(MATCH($J986,SorP!$B$1:$B$6230,0)),\"\",INDIRECT(\"'SorP'!$A$\"&MATCH($J986,SorP!$B$1:$B$6230,0))))","v":""},null,{"$f":"IF(C986=\"\",NA(),MATCH($B986&$C986,'Smelter Look-up'!$J:$J,0))","v":{"$error":"#N/A"}},null,0,null,null,null,""]
[{"$nulls":18},{"$f":"IF(ISERROR($W987),\"\",OFFSET('Smelter Look-up'!$C$4,$W987-4,0)&\"\")","v":""},"",{"$f":"IF(B987=\"\",\"\",IF(ISERROR(MATCH($J987,SorP!$B$1:$B$6230,0)),\"\",INDIRECT(\"'SorP'!$A$\"&MATCH($J987,SorP!$B$1:$B$6230,0))))","v":""},null,{"$f":"IF(C987=\"\",NA(),MATCH($B987&$C987,'Smelter Look-up'!$J:$J,0))","v":{"$error":"#N/A"}},null,0,null,null,null,""]
[{"$nulls":18},{"$f":"IF(ISERROR($W988),\"\",OFFSET('Smelter Look-up'!$C$4,$W988-4,0)&\"\")","v":""},"",{"$f":"IF(B988=\"\",\"\",IF(ISERROR(MATCH($J988,SorP!$B$1:$B$6230,0)),\"\",INDIRECT(\"'SorP'!$A$\"&MATCH($J988,SorP!$B$1:$B$6230,0))))","v":""},null,{"$f":"IF(C988=\"\",NA(),MATCH($B988&$C988,'Smelter Look-up'!$J:$J,0))","v":{"$error":"#N/A"}},null,0,null,null,null,""]
[{"$nulls":18},{"$f":"IF(ISERROR($W989),\"\",OFFSET('Smelter Look-up'!$C$4,$W989-4,0)&\"\")","v":""},"",{"$f":"IF(B989=\"\",\"\",IF(ISERROR(MATCH($J989,SorP!$B$1:$B$6230,0)),\"\",INDIRECT(\"'SorP'!$A$\"&MATCH($J989,SorP!$B$1:$B$6230,0))))","v":""},null,{"$f":"IF(C989=\"\",NA(),MATCH($B989&$C989,'Smelter Look-up'!$J:$J,0))","v":{"$error":"#N/A"}},null,0,null,null,null,""]
[{"$nulls":18},{"$f":"IF(ISERROR($W990),\"\",OFFSET('Smelter Look-up'!$C$4,$W990-4,0)&\"\")","v":""},"",{"$f":"IF(B990=\"\",\"\",IF(ISERROR(MATCH($J990,SorP!$B$1:$B$6230,0)),\"\",INDIRECT(\"'SorP'!$A$\"&MATCH($J990,SorP!$B$1:$B$6230,0))))","v":""},null,{"$f":"IF(C990=\"\",NA(),MATCH($B990&$C990,'Smelter Look-up'!$J:$J,0))","v":{"$error":"#N/A"}},null,0,null,null,null,""]
[{"$nulls":18},{"$f":"IF(ISERROR($W991),\"\",OFFSET('Smelter Look-up'!$C$4,$W991-4,0)&\"\")","v":""},"",{"$f":"IF(B991=\"\",\"\",IF(ISERROR(MATCH($J991,SorP!$B$1:$B$6230,0)),\"\",INDIRECT(\"'SorP'!$A$\"&MATCH($J991,SorP!$B$1:$B$6230,0))))","v":""},null,{"$f":"IF(C991=\"\",NA(),MATCH($B991&$C991,'Smelter Look-up'!$J:$J,0))","v":{"$error":"#N/A"}},null,0,null,null,null,""]
[{"$nulls":18},{"$f":"IF(ISERROR($W992),\"\",OFFSET('Smelter Look-up'!$C$4,$W992-4,0)&\"\")","v":""},"",{"$f":"IF(B992=\"\",\"\",IF(ISERROR(MATCH($J992,SorP!$B$1:$B$6230,0)),\"\",INDIRECT(\"'SorP'!$A$\"&MATCH($J992,SorP!$B$1:$B$6230,0))))","v":""},null,{"$f":"IF(C992=\"\",NA(),MATCH($B992&$C992,'Smelter Look-up'!$J:$J,0))","v":{"$error":"#N/A"}},null,0,null,null,null,""]
[{"$nulls":18},{"$f":"IF(ISERROR($W993),\"\",OFFSET('Smelter Look-up'!$C$4,$W993-4,0)&\"\")","v":""},"",{"$f":"IF(B993=\"\",\"\",IF(ISERROR(MATCH($J993,SorP!$B$1:$B$6230,0)),\"\",INDIRECT(\"'SorP'!$A$\"&MATCH($J993,SorP!$B$1:$B$6230,0))))","v":""},null,{"$f":"IF(C993=\"\",NA(),MATCH($B993&$C993,'Smelter Look-up'!$J:$J,0))","v":{"$error":"#N/A"}},null,0,null,null,null,""]
[{"$nulls":18},{"$f":"IF(ISERROR($W994),\"\",OFFSET('Smelter Look-up'!$C$4,$W994-4,0)&\"\")","v":""},"",{"$f":"IF(B994=\"\",\"\",IF(ISERROR(MATCH($J994,SorP!$B$1:$B$6230,0)),\"\",INDIRECT(\"'SorP'!$A$\"&MATCH($J994,SorP!$B$1:$B$6230,0))))","v":""},null,{"$f":"IF(C994=\"\",NA(),MATCH($B994&$C994,'Smelter Look-up'!$J:$J,0))","v":{"$error":"#N/A"}},null,0,null,null,null,""]
[{"$nulls":18},{"$f":"IF(ISERROR($W995),\"\",OFFSET('Smelter Look-up'!$C$4,$W995-4,0)&\"\")","v":""},"",{"$f":"IF(B995=\"\",\"\",IF(ISERROR(MATCH($J995,SorP!$B$1:$B$6230,0)),\"\",INDIRECT(\"'SorP'!$A$\"&MATCH($J995,SorP!$B$1:$B$6230,0))))","v":""},null,{"$f":"IF(C995=\"\",NA(),MATCH($B995&$C995,'Smelter Look-up'!$J:$J,0))","v":{"$error":"#N/A"}},null,0,null,null,null,""]
[{"$nulls":18},{"$f":"IF(ISERROR($W996),\"\",OFFSET('Smelter Look-up'!$C$4,$W996-4,0)&\"\")","v":""},"",{"$f":"IF(B996=\"\",\"\",IF(ISERROR(MATCH($J996,SorP!$B$1:$B$6230,0)),\"\",INDIRECT(\"'SorP'!$A$\"&MATCH($J996,SorP!$B$1:$B$6230,0))))","v":""},null,{"$f":"IF(C996=\"\",NA(),MATCH($B996&$C996,'Smelter Look-up'!$J:$J,0))","v":{"$error":"#N/A"}},null,0,null,null,null,""]
[{"$nulls":18},{"$f":"IF(ISERROR($W997),\"\",OFFSET('Smelter Look-up'!$C$4,$W997-4,0)&\"\")","v":""},"",{"$f":"IF(B997=\"\",\"\",IF(ISERROR(MATCH($J997,SorP!$B$1:$B$6230,0)),\"\",INDIRECT(\"'SorP'!$A$\"&MATCH($J997,SorP!$B$1:$B$6230,0))))","v":""},null,{"$f":"IF(C997=\"\",NA(),MATCH($B997&$C997,'Smelter Look-up'!$J:$J,0))","v":{"$error":"#N/A"}},null,0,null,null,null,""]
[{"$nulls":18},{"$f":"IF(ISERROR($W998),\"\",OFFSET('Smelter Look-up'!$C$4,$W998-4,0)&\"\")","v":""},"",{"$f":"IF(B998=\"\",\"\",IF(ISERROR(MATCH($J998,SorP!$B$1:$B$6230,0)),\"\",INDIRECT(\"'SorP'!$A$\"&MATCH($J998,SorP!$B$1:$B$6230,0))))","v":""},null,{"$f":"IF(C998=\"\",NA(),MATCH($B998&$C998,'Smelter Look-up'!$J:$J,0))","v":{"$error":"#N/A"}},null,0,null,null,null,""]
[{"$nulls":18},{"$f":"IF(ISERROR($W999),\"\",OFFSET('Smelter Look-up'!$C$4,$W999-4,0)&\"\")","v":""},"",{"$f":"IF(B999=\"\",\"\",IF(ISERROR(MATCH($J999,SorP!$B$1:$B$6230,0)),\"\",INDIRECT(\"'SorP'!$A$\"&MATCH($J999,SorP!$B$1:$B$6230,0))))","v":""},null,{"$f":"IF(C999=\"\",NA(),MATCH($B999&$C999,'Smelter Look-up'!$J:$J,0))","v":{"$error":"#N/A"}},null,0,null,null,null,""]
[{"$nulls":18},{"$f":"IF(ISERROR($W1000),\"\",OFFSET('Smelter Look-up'!$C$4,$W1000-4,0)&\"\")","v":""},"",{"$f":"IF(B1000=\"\",\"\",IF(ISERROR(MATCH($J1000,SorP!$B$1:$B$6230,0)),\"\",INDIRECT(\"'SorP'!$A$\"&MATCH($J1000,SorP!$B$1:$B$6230,0))))","v":""},null,{"$f":"IF(C1000=\"\",NA(),MATCH($B1000&$C1000,'Smelter Look-up'!$J:$J,0))","v":{"$error":"#N/A"}},null,0,null,null,null,""]
[{"$nulls":18},{"$f":"IF(ISERROR($W1001),\"\",OFFSET('Smelter Look-up'!$C$4,$W1001-4,0)&\"\")","v":""},"",{"$f":"IF(B1001=\"\",\"\",IF(ISERROR(MATCH($J1001,SorP!$B$1:$B$6230,0)),\"\",INDIRECT(\"'SorP'!$A$\"&MATCH($J1001,SorP!$B$1:$B$6230,0))))","v":""},null,{"$f":"IF(C1001=\"\",NA(),MATCH($B1001&$C1001,'Smelter Look-up'!$J:$J,0))","v":{"$error":"#N/A"}},null,0,null,null,null,""]
[{"$nulls":18},{"$f":"IF(ISERROR($W1002),\"\",OFFSET('Smelter Look-up'!$C$4,$W1002-4,0)&\"\")","v":""},"",{"$f":"IF(B1002=\"\",\"\",IF(ISERROR(MATCH($J1002,SorP!$B$1:$B$6230,0)),\"\",INDIRECT(\"'SorP'!$A$\"&MATCH($J1002,SorP!$B$1:$B$6230,0))))","v":""},null,{"$f":"IF(C1002=\"\",NA(),MATCH($B1002&$C1002,'Smelter Look-up'!$J:$J,0))","v":{"$error":"#N/A"}},null,0,null,null,null,""]
[{"$nulls":18},{"$f":"IF(ISERROR($W1003),\"\",OFFSET('Smelter Look-up'!$C$4,$W1003-4,0)&\"\")","v":""},"",{"$f":"IF(B1003=\"\",\"\",IF(ISERROR(MATCH($J1003,SorP!$B$1:$B$6230,0)),\"\",INDIRECT(\"'SorP'!$A$\"&MATCH($J1003,SorP!$B$1:$B$6230,0))))","v":""},null,{"$f":"IF(C1003=\"\",NA(),MATCH($B1003&$C1003,'Smelter Look-up'!$J:$J,0))","v":{"$error":"#N/A"}},null,0,null,null,null,""]
[{"$nulls":18},{"$f":"IF(ISERROR($W1004),\"\",OFFSET('Smelter Look-up'!$C$4,$W1004-4,0)&\"\")","v":""},"",{"$f":"IF(B1004=\"\",\"\",IF(ISERROR(MATCH($J1004,SorP!$B$1:$B$6230,0)),\"\",INDIRECT(\"'SorP'!$A$\"&MATCH($J1004,SorP!$B$1:$B$6230,0))))","v":""},null,{"$f":"IF(C1004=\"\",NA(),MATCH($B1004&$C1004,'Smelter Look-up'!$J:$J,0))","v":{"$error":"#N/A"}},null,0,null,null,null,""]
[{"$nulls":18},{"$f":"IF(ISERROR($W1005),\"\",OFFSET('Smelter Look-up'!$C$4,$W1005-4,0)&\"\")","v":""},"",{"$f":"IF(B1005=\"\",\"\",IF(ISERROR(MATCH($J1005,SorP!$B$1:$B$6230,0)),\"\",INDIRECT(\"'SorP'!$A$\"&MATCH($J1005,SorP!$B$1:$B$6230,0))))","v":""},null,{"$f":"IF(C1005=\"\",NA(),MATCH($B1005&$C1005,'Smelter Look-up'!$J:$J,0))","v":{"$error":"#N/A"}},null,0,null,null,null,""]
[{"$nulls":18},{"$f":"IF(ISERROR($W1006),\"\",OFFSET('Smelter Look-up'!$C$4,$W1006-4,0)&\"\")","v":""},"",{"$f":"IF(B1006=\"\",\"\",IF(ISERROR(MATCH($J1006,SorP!$B$1:$B$6230,0)),\"\",INDIRECT(\"'SorP'!$A$\"&MATCH($J1006,SorP!$B$1:$B$6230,0))))","v":""},null,{"$f":"IF(C1006=\"\",NA(),MATCH($B1006&$C1006,'Smelter Look-up'!$J:$J,0))","v":{"$error":"#N/A"}},null,0,null,null,null,""]
[{"$nulls":18},{"$f":"IF(ISERROR($W1007),\"\",OFFSET('Smelter Look-up'!$C$4,$W1007-4,0)&\"\")","v":""},"",{"$f":"IF(B1007=\"\",\"\",IF(ISERROR(MATCH($J1007,SorP!$B$1:$B$6230,0)),\"\",INDIRECT(\"'SorP'!$A$\"&MATCH($J1007,SorP!$B$1:$B$6230,0))))","v":""},null,{"$f":"IF(C1007=\"\",NA(),MATCH($B1007&$C1007,'Smelter Look-up'!$J:$J,0))","v":{"$error":"#N/A"}},null,0,null,null,null,""]
[{"$nulls":18},{"$f":"IF(ISERROR($W1008),\"\",OFFSET('Smelter Look-up'!$C$4,$W1008-4,0)&\"\")","v":""},"",{"$f":"IF(B1008=\"\",\"\",IF(ISERROR(MATCH($J1008,SorP!$B$1:$B$6230,0)),\"\",INDIRECT(\"'SorP'!$A$\"&MATCH($J1008,SorP!$B$1:$B$6230,0))))","v":""},null,{"$f":"IF(C1008=\"\",NA(),MATCH($B1008&$C1008,'Smelter Look-up'!$J:$J,0))","v":{"$error":"#N/A"}},null,0,null,null,null,""]
[{"$nulls":18},{"$f":"IF(ISERROR($W1009),\"\",OFFSET('Smelter Look-up'!$C$4,$W1009-4,0)&\"\")","v":""},"",{"$f":"IF(B1009=\"\",\"\",IF(ISERROR(MATCH($J1009,SorP!$B$1:$B$6230,0)),\"\",INDIRECT(\"'SorP'!$A$\"&MATCH($J1009,SorP!$B$1:$B$6230,0))))","v":""},null,{"$f":"IF(C1009=\"\",NA(),MATCH($B1009&$C1009,'Smelter Look-up'!$J:$J,0))","v":{"$error":"#N/A"}},null,0,null,null,null,""]
[{"$nulls":18},{"$f":"IF(ISERROR($W1010),\"\",OFFSET('Smelter Look-up'!$C$4,$W1010-4,0)&\"\")","v":""},"",{"$f":"IF(B1010=\"\",\"\",IF(ISERROR(MATCH($J1010,SorP!$B$1:$B$6230,0)),\"\",INDIRECT(\"'SorP'!$A$\"&MATCH($J1010,SorP!$B$1:$B$6230,0))))","v":""},null,{"$f":"IF(C1010=\"\",NA(),MATCH($B1010&$C1010,'Smelter Look-up'!$J:$J,0))","v":{"$error":"#N/A"}},null,0,null,null,null,""]
[{"$nulls":18},{"$f":"IF(ISERROR($W1011),\"\",OFFSET('Smelter Look-up'!$C$4,$W1011-4,0)&\"\")","v":""},"",{"$f":"IF(B1011=\"\",\"\",IF(ISERROR(MATCH($J1011,SorP!$B$1:$B$6230,0)),\"\",INDIRECT(\"'SorP'!$A$\"&MATCH($J1011,SorP!$B$1:$B$6230,0))))","v":""},null,{"$f":"IF(C1011=\"\",NA(),MATCH($B1011&$C1011,'Smelter Look-up'!$J:$J,0))","v":{"$error":"#N/A"}},null,0,null,null,null,""]
[{"$nulls":18},{"$f":"IF(ISERROR($W1012),\"\",OFFSET('Smelter Look-up'!$C$4,$W1012-4,0)&\"\")","v":""},"",{"$f":"IF(B1012=\"\",\"\",IF(ISERROR(MATCH($J1012,SorP!$B$1:$B$6230,0)),\"\",INDIRECT(\"'SorP'!$A$\"&MATCH($J1012,SorP!$B$1:$B$6230,0))))","v":""},null,{"$f":"IF(C1012=\"\",NA(),MATCH($B1012&$C1012,'Smelter Look-up'!$J:$J,0))","v":{"$error":"#N/A"}},null,0,null,null,null,""]
[{"$nulls":18},{"$f":"IF(ISERROR($W1013),\"\",OFFSET('Smelter Look-up'!$C$4,$W1013-4,0)&\"\")","v":""},"",{"$f":"IF(B1013=\"\",\"\",IF(ISERROR(MATCH($J1013,SorP!$B$1:$B$6230,0)),\"\",INDIRECT(\"'SorP'!$A$\"&MATCH($J1013,SorP!$B$1:$B$6230,0))))","v":""},null,{"$f":"IF(C1013=\"\",NA(),MATCH($B1013&$C1013,'Smelter Look-up'!$J:$J,0))","v":{"$error":"#N/A"}},null,0,null,null,null,""]
[{"$nulls":18},{"$f":"IF(ISERROR($W1014),\"\",OFFSET('Smelter Look-up'!$C$4,$W1014-4,0)&\"\")","v":""},"",{"$f":"IF(B1014=\"\",\"\",IF(ISERROR(MATCH($J1014,SorP!$B$1:$B$6230,0)),\"\",INDIRECT(\"'SorP'!$A$\"&MATCH($J1014,SorP!$B$1:$B$6230,0))))","v":""},null,{"$f":"IF(C1014=\"\",NA(),MATCH($B1014&$C1014,'Smelter Look-up'!$J:$J,0))","v":{"$error":"#N/A"}},null,0,null,null,null,""]
[{"$nulls":18},{"$f":"IF(ISERROR($W1015),\"\",OFFSET('Smelter Look-up'!$C$4,$W1015-4,0)&\"\")","v":""},"",{"$f":"IF(B1015=\"\",\"\",IF(ISERROR(MATCH($J1015,SorP!$B$1:$B$6230,0)),\"\",INDIRECT(\"'SorP'!$A$\"&MATCH($J1015,SorP!$B$1:$B$6230,0))))","v":""},null,{"$f":"IF(C1015=\"\",NA(),MATCH($B1015&$C1015,'Smelter Look-up'!$J:$J,0))","v":{"$error":"#N/A"}},null,0,null,null,null,""]
[{"$nulls":18},{"$f":"IF(ISERROR($W1016),\"\",OFFSET('Smelter Look-up'!$C$4,$W1016-4,0)&\"\")","v":""},"",{"$f":"IF(B1016=\"\",\"\",IF(ISERROR(MATCH($J1016,SorP!$B$1:$B$6230,0)),\"\",INDIRECT(\"'SorP'!$A$\"&MATCH($J1016,SorP!$B$1:$B$6230,0))))","v":""},null,{"$f":"IF(C1016=\"\",NA(),MATCH($B1016&$C1016,'Smelter Look-up'!$J:$J,0))","v":{"$error":"#N/A"}},null,0,null,null,null,""]
[{"$nulls":18},{"$f":"IF(ISERROR($W1017),\"\",OFFSET('Smelter Look-up'!$C$4,$W1017-4,0)&\"\")","v":""},"",{"$f":"IF(B1017=\"\",\"\",IF(ISERROR(MATCH($J1017,SorP!$B$1:$B$6230,0)),\"\",INDIRECT(\"'SorP'!$A$\"&MATCH($J1017,SorP!$B$1:$B$6230,0))))","v":""},null,{"$f":"IF(C1017=\"\",NA(),MATCH($B1017&$C1017,'Smelter Look-up'!$J:$J,0))","v":{"$error":"#N/A"}},null,0,null,null,null,""]
[{"$nulls":18},{"$f":"IF(ISERROR($W1018),\"\",OFFSET('Smelter Look-up'!$C$4,$W1018-4,0)&\"\")","v":""},"",{"$f":"IF(B1018=\"\",\"\",IF(ISERROR(MATCH($J1018,SorP!$B$1:$B$6230,0)),\"\",INDIRECT(\"'SorP'!$A$\"&MATCH($J1018,SorP!$B$1:$B$6230,0))))","v":""},null,{"$f":"IF(C1018=\"\",NA(),MATCH($B1018&$C1018,'Smelter Look-up'!$J:$J,0))","v":{"$error":"#N/A"}},null,0,null,null,null,""]
[{"$nulls":18},{"$f":"IF(ISERROR($W1019),\"\",OFFSET('Smelter Look-up'!$C$4,$W1019-4,0)&\"\")","v":""},"",{"$f":"IF(B1019=\"\",\"\",IF(ISERROR(MATCH($J1019,SorP!$B$1:$B$6230,0)),\"\",INDIRECT(\"'SorP'!$A$\"&MATCH($J1019,SorP!$B$1:$B$6230,0))))","v":""},null,{"$f":"IF(C1019=\"\",NA(),MATCH($B1019&$C1019,'Smelter Look-up'!$J:$J,0))","v":{"$error":"#N/A"}},null,0,null,null,null,""]
[{"$nulls":18},{"$f":"IF(ISERROR($W1020),\"\",OFFSET('Smelter Look-up'!$C$4,$W1020-4,0)&\"\")","v":""},"",{"$f":"IF(B1020=\"\",\"\",IF(ISERROR(MATCH($J1020,SorP!$B$1:$B$6230,0)),\"\",INDIRECT(\"'SorP'!$A$\"&MATCH($J1020,SorP!$B$1:$B$6230,0))))","v":""},null,{"$f":"IF(C1020=\"\",NA(),MATCH($B1020&$C1020,'Smelter Look-up'!$J:$J,0))","v":{"$error":"#N/A"}},null,0,null,null,null,""]
[{"$nulls":18},{"$f":"IF(ISERROR($W1021),\"\",OFFSET('Smelter Look-up'!$C$4,$W1021-4,0)&\"\")","v":""},"",{"$f":"IF(B1021=\"\",\"\",IF(ISERROR(MATCH($J1021,SorP!$B$1:$B$6230,0)),\"\",INDIRECT(\"'SorP'!$A$\"&MATCH($J1021,SorP!$B$1:$B$6230,0))))","v":""},null,{"$f":"IF(C1021=\"\",NA(),MATCH($B1021&$C1021,'Smelter Look-up'!$J:$J,0))","v":{"$error":"#N/A"}},null,0,null,null,null,""]
[{"$nulls":18},{"$f":"IF(ISERROR($W1022),\"\",OFFSET('Smelter Look-up'!$C$4,$W1022-4,0)&\"\")","v":""},"",{"$f":"IF(B1022=\"\",\"\",IF(ISERROR(MATCH($J1022,SorP!$B$1:$B$6230,0)),\"\",INDIRECT(\"'SorP'!$A$\"&MATCH($J1022,SorP!$B$1:$B$6230,0))))","v":""},null,{"$f":"IF(C1022=\"\",NA(),MATCH($B1022&$C1022,'Smelter Look-up'!$J:$J,0))","v":{"$error":"#N/A"}},null,0,null,null,null,""]
[{"$nulls":18},{"$f":"IF(ISERROR($W1023),\"\",OFFSET('Smelter Look-up'!$C$4,$W1023-4,0)&\"\")","v":""},"",{"$f":"IF(B1023=\"\",\"\",IF(ISERROR(MATCH($J1023,SorP!$B$1:$B$6230,0)),\"\",INDIRECT(\"'SorP'!$A$\"&MATCH($J1023,SorP!$B$1:$B$6230,0))))","v":""},null,{"$f":"IF(C1023=\"\",NA(),MATCH($B1023&$C1023,'Smelter Look-up'!$J:$J,0))","v":{"$error":"#N/A"}},null,0,null,null,null,""]
[{"$nulls":18},{"$f":"IF(ISERROR($W1024),\"\",OFFSET('Smelter Look-up'!$C$4,$W1024-4,0)&\"\")","v":""},"",{"$f":"IF(B1024=\"\",\"\",IF(ISERROR(MATCH($J1024,SorP!$B$1:$B$6230,0)),\"\",INDIRECT(\"'SorP'!$A$\"&MATCH($J1024,SorP!$B$1:$B$6230,0))))","v":""},null,{"$f":"IF(C1024=\"\",NA(),MATCH($B1024&$C1024,'Smelter Look-up'!$J:$J,0))","v":{"$error":"#N/A"}},null,0,null,null,null,""]
[{"$nulls":18},{"$f":"IF(ISERROR($W1025),\"\",OFFSET('Smelter Look-up'!$C$4,$W1025-4,0)&\"\")","v":""},"",{"$f":"IF(B1025=\"\",\"\",IF(ISERROR(MATCH($J1025,SorP!$B$1:$B$6230,0)),\"\",INDIRECT(\"'SorP'!$A$\"&MATCH($J1025,SorP!$B$1:$B$6230,0))))","v":""},null,{"$f":"IF(C1025=\"\",NA(),MATCH($B1025&$C1025,'Smelter Look-up'!$J:$J,0))","v":{"$error":"#N/A"}},null,0,null,null,null,""]
[{"$nulls":18},{"$f":"IF(ISERROR($W1026),\"\",OFFSET('Smelter Look-up'!$C$4,$W1026-4,0)&\"\")","v":""},"",{"$f":"IF(B1026=\"\",\"\",IF(ISERROR(MATCH($J1026,SorP!$B$1:$B$6230,0)),\"\",INDIRECT(\"'SorP'!$A$\"&MATCH($J1026,SorP!$B$1:$B$6230,0))))","v":""},null,{"$f":"IF(C1026=\"\",NA(),MATCH($B1026&$C1026,'Smelter Look-up'!$J:$J,0))","v":{"$error":"#N/A"}},null,0,null,null,null,""]
[{"$nulls":18},{"$f":"IF(ISERROR($W1027),\"\",OFFSET('Smelter Look-up'!$C$4,$W1027-4,0)&\"\")","v":""},"",{"$f":"IF(B1027=\"\",\"\",IF(ISERROR(MATCH($J1027,SorP!$B$1:$B$6230,0)),\"\",INDIRECT(\"'SorP'!$A$\"&MATCH($J1027,SorP!$B$1:$B$6230,0))))","v":""},null,{"$f":"IF(C1027=\"\",NA(),MATCH($B1027&$C1027,'Smelter Look-up'!$J:$J,0))","v":{"$error":"#N/A"}},null,0,null,null,null,""]
[{"$nulls":18},{"$f":"IF(ISERROR($W1028),\"\",OFFSET('Smelter Look-up'!$C$4,$W1028-4,0)&\"\")","v":""},"",{"$f":"IF(B1028=\"\",\"\",IF(ISERROR(MATCH($J1028,SorP!$B$1:$B$6230,0)),\"\",INDIRECT(\"'SorP'!$A$\"&MATCH($J1028,SorP!$B$1:$B$6230,0))))","v":""},null,{"$f":"IF(C1028=\"\",NA(),MATCH($B1028&$C1028,'Smelter Look-up'!$J:$J,0))","v":{"$error":"#N/A"}},null,0,null,null,null,""]
[{"$nulls":18},{"$f":"IF(ISERROR($W1029),\"\",OFFSET('Smelter Look-up'!$C$4,$W1029-4,0)&\"\")","v":""},{"$f":"IF(B1029=\"\",\"\",IF(ISERROR(MATCH($E1029,CL,0)),\"Unknown\",INDIRECT(\"'C'!$A$\"&MATCH($E1029,CL,0)+1)))","v":""},{"$f":"IF(B1029=\"\",\"\",IF(ISERROR(MATCH($J1029,SorP!$B$1:$B$6230,0)),\"\",INDIRECT(\"'SorP'!$A$\"&MATCH($J1029,SorP!$B$1:$B$6230,0))))","v":""},null,{"$f":"IF(C1029=\"\",NA(),MATCH($B1029&$C1029,'Smelter Look-up'!$J:$J,0))","v":{"$error":"#N/A"}},null,{"$f":"IF(AND(C1029=\"Smelter not listed\",OR(LEN(D1029)=0,LEN(E1029)=0)),1,0)","v":0},null,null,null,{"$f":"B1029&C1029","v":""}]
[{"$nulls":18},{"$f":"IF(ISERROR($W1030),\"\",OFFSET('Smelter Look-up'!$C$4,$W1030-4,0)&\"\")","v":""},"",{"$f":"IF(B1030=\"\",\"\",IF(ISERROR(MATCH($J1030,SorP!$B$1:$B$6230,0)),\"\",INDIRECT(\"'SorP'!$A$\"&MATCH($J1030,SorP!$B$1:$B$6230,0))))","v":""},null,{"$f":"IF(C1030=\"\",NA(),MATCH($B1030&$C1030,'Smelter Look-up'!$J:$J,0))","v":{"$error":"#N/A"}},null,0,null,null,null,""]
[{"$nulls":18},{"$f":"IF(ISERROR($W1031),\"\",OFFSET('Smelter Look-up'!$C$4,$W1031-4,0)&\"\")","v":""},"",{"$f":"IF(B1031=\"\",\"\",IF(ISERROR(MATCH($J1031,SorP!$B$1:$B$6230,0)),\"\",INDIRECT(\"'SorP'!$A$\"&MATCH($J1031,SorP!$B$1:$B$6230,0))))","v":""},null,{"$f":"IF(C1031=\"\",NA(),MATCH($B1031&$C1031,'Smelter Look-up'!$J:$J,0))","v":{"$error":"#N/A"}},null,0,null,null,null,""]
[{"$nulls":18},{"$f":"IF(ISERROR($W1032),\"\",OFFSET('Smelter Look-up'!$C$4,$W1032-4,0)&\"\")","v":""},"",{"$f":"IF(B1032=\"\",\"\",IF(ISERROR(MATCH($J1032,SorP!$B$1:$B$6230,0)),\"\",INDIRECT(\"'SorP'!$A$\"&MATCH($J1032,SorP!$B$1:$B$6230,0))))","v":""},null,{"$f":"IF(C1032=\"\",NA(),MATCH($B1032&$C1032,'Smelter Look-up'!$J:$J,0))","v":{"$error":"#N/A"}},null,0,null,null,null,""]
[{"$nulls":18},{"$f":"IF(ISERROR($W1033),\"\",OFFSET('Smelter Look-up'!$C$4,$W1033-4,0)&\"\")","v":""},"",{"$f":"IF(B1033=\"\",\"\",IF(ISERROR(MATCH($J1033,SorP!$B$1:$B$6230,0)),\"\",INDIRECT(\"'SorP'!$A$\"&MATCH($J1033,SorP!$B$1:$B$6230,0))))","v":""},null,{"$f":"IF(C1033=\"\",NA(),MATCH($B1033&$C1033,'Smelter Look-up'!$J:$J,0))","v":{"$error":"#N/A"}},null,0,null,null,null,""]
[{"$nulls":18},{"$f":"IF(ISERROR($W1034),\"\",OFFSET('Smelter Look-up'!$C$4,$W1034-4,0)&\"\")","v":""},"",{"$f":"IF(B1034=\"\",\"\",IF(ISERROR(MATCH($J1034,SorP!$B$1:$B$6230,0)),\"\",INDIRECT(\"'SorP'!$A$\"&MATCH($J1034,SorP!$B$1:$B$6230,0))))","v":""},null,{"$f":"IF(C1034=\"\",NA(),MATCH($B1034&$C1034,'Smelter Look-up'!$J:$J,0))","v":{"$error":"#N/A"}},null,0,null,null,null,""]
[{"$nulls":18},{"$f":"IF(ISERROR($W1035),\"\",OFFSET('Smelter Look-up'!$C$4,$W1035-4,0)&\"\")","v":""},"",{"$f":"IF(B1035=\"\",\"\",IF(ISERROR(MATCH($J1035,SorP!$B$1:$B$6230,0)),\"\",INDIRECT(\"'SorP'!$A$\"&MATCH($J1035,SorP!$B$1:$B$6230,0))))","v":""},null,{"$f":"IF(C1035=\"\",NA(),MATCH($B1035&$C1035,'Smelter Look-up'!$J:$J,0))","v":{"$error":"#N/A"}},null,0,null,null,null,""]
[{"$nulls":18},{"$f":"IF(ISERROR($W1036),\"\",OFFSET('Smelter Look-up'!$C$4,$W1036-4,0)&\"\")","v":""},"",{"$f":"IF(B1036=\"\",\"\",IF(ISERROR(MATCH($J1036,SorP!$B$1:$B$6230,0)),\"\",INDIRECT(\"'SorP'!$A$\"&MATCH($J1036,SorP!$B$1:$B$6230,0))))","v":""},null,{"$f":"IF(C1036=\"\",NA(),MATCH($B1036&$C1036,'Smelter Look-up'!$J:$J,0))","v":{"$error":"#N/A"}},null,0,null,null,null,""]
[{"$nulls":18},{"$f":"IF(ISERROR($W1037),\"\",OFFSET('Smelter Look-up'!$C$4,$W1037-4,0)&\"\")","v":""},"",{"$f":"IF(B1037=\"\",\"\",IF(ISERROR(MATCH($J1037,SorP!$B$1:$B$6230,0)),\"\",INDIRECT(\"'SorP'!$A$\"&MATCH($J1037,SorP!$B$1:$B$6230,0))))","v":""},null,{"$f":"IF(C1037=\"\",NA(),MATCH($B1037&$C1037,'Smelter Look-up'!$J:$J,0))","v":{"$error":"#N/A"}},null,0,null,null,null,""]
[{"$nulls":18},{"$f":"IF(ISERROR($W1038),\"\",OFFSET('Smelter Look-up'!$C$4,$W1038-4,0)&\"\")","v":""},"",{"$f":"IF(B1038=\"\",\"\",IF(ISERROR(MATCH($J1038,SorP!$B$1:$B$6230,0)),\"\",INDIRECT(\"'SorP'!$A$\"&MATCH($J1038,SorP!$B$1:$B$6230,0))))","v":""},null,{"$f":"IF(C1038=\"\",NA(),MATCH($B1038&$C1038,'Smelter Look-up'!$J:$J,0))","v":{"$error":"#N/A"}},null,0,null,null,null,""]
[{"$nulls":18},{"$f":"IF(ISERROR($W1039),\"\",OFFSET('Smelter Look-up'!$C$4,$W1039-4,0)&\"\")","v":""},"",{"$f":"IF(B1039=\"\",\"\",IF(ISERROR(MATCH($J1039,SorP!$B$1:$B$6230,0)),\"\",INDIRECT(\"'SorP'!$A$\"&MATCH($J1039,SorP!$B$1:$B$6230,0))))","v":""},null,{"$f":"IF(C1039=\"\",NA(),MATCH($B1039&$C1039,'Smelter Look-up'!$J:$J,0))","v":{"$error":"#N/A"}},null,0,null,null,null,""]
[{"$nulls":18},{"$f":"IF(ISERROR($W1040),\"\",OFFSET('Smelter Look-up'!$C$4,$W1040-4,0)&\"\")","v":""},"",{"$f":"IF(B1040=\"\",\"\",IF(ISERROR(MATCH($J1040,SorP!$B$1:$B$6230,0)),\"\",INDIRECT(\"'SorP'!$A$\"&MATCH($J1040,SorP!$B$1:$B$6230,0))))","v":""},null,{"$f":"IF(C1040=\"\",NA(),MATCH($B1040&$C1040,'Smelter Look-up'!$J:$J,0))","v":{"$error":"#N/A"}},null,0,null,null,null,""]
[{"$nulls":18},{"$f":"IF(ISERROR($W1041),\"\",OFFSET('Smelter Look-up'!$C$4,$W1041-4,0)&\"\")","v":""},"",{"$f":"IF(B1041=\"\",\"\",IF(ISERROR(MATCH($J1041,SorP!$B$1:$B$6230,0)),\"\",INDIRECT(\"'SorP'!$A$\"&MATCH($J1041,SorP!$B$1:$B$6230,0))))","v":""},null,{"$f":"IF(C1041=\"\",NA(),MATCH($B1041&$C1041,'Smelter Look-up'!$J:$J,0))","v":{"$error":"#N/A"}},null,0,null,null,null,""]
[{"$nulls":18},{"$f":"IF(ISERROR($W1042),\"\",OFFSET('Smelter Look-up'!$C$4,$W1042-4,0)&\"\")","v":""},"",{"$f":"IF(B1042=\"\",\"\",IF(ISERROR(MATCH($J1042,SorP!$B$1:$B$6230,0)),\"\",INDIRECT(\"'SorP'!$A$\"&MATCH($J1042,SorP!$B$1:$B$6230,0))))","v":""},null,{"$f":"IF(C1042=\"\",NA(),MATCH($B1042&$C1042,'Smelter Look-up'!$J:$J,0))","v":{"$error":"#N/A"}},null,0,null,null,null,""]
[{"$nulls":18},{"$f":"IF(ISERROR($W1043),\"\",OFFSET('Smelter Look-up'!$C$4,$W1043-4,0)&\"\")","v":""},"",{"$f":"IF(B1043=\"\",\"\",IF(ISERROR(MATCH($J1043,SorP!$B$1:$B$6230,0)),\"\",INDIRECT(\"'SorP'!$A$\"&MATCH($J1043,SorP!$B$1:$B$6230,0))))","v":""},null,{"$f":"IF(C1043=\"\",NA(),MATCH($B1043&$C1043,'Smelter Look-up'!$J:$J,0))","v":{"$error":"#N/A"}},null,0,null,null,null,""]
[{"$nulls":18},{"$f":"IF(ISERROR($W1044),\"\",OFFSET('Smelter Look-up'!$C$4,$W1044-4,0)&\"\")","v":""},"",{"$f":"IF(B1044=\"\",\"\",IF(ISERROR(MATCH($J1044,SorP!$B$1:$B$6230,0)),\"\",INDIRECT(\"'SorP'!$A$\"&MATCH($J1044,SorP!$B$1:$B$6230,0))))","v":""},null,{"$f":"IF(C1044=\"\",NA(),MATCH($B1044&$C1044,'Smelter Look-up'!$J:$J,0))","v":{"$error":"#N/A"}},null,0,null,null,null,""]
[{"$nulls":18},{"$f":"IF(ISERROR($W1045),\"\",OFFSET('Smelter Look-up'!$C$4,$W1045-4,0)&\"\")","v":""},"",{"$f":"IF(B1045=\"\",\"\",IF(ISERROR(MATCH($J1045,SorP!$B$1:$B$6230,0)),\"\",INDIRECT(\"'SorP'!$A$\"&MATCH($J1045,SorP!$B$1:$B$6230,0))))","v":""},null,{"$f":"IF(C1045=\"\",NA(),MATCH($B1045&$C1045,'Smelter Look-up'!$J:$J,0))","v":{"$error":"#N/A"}},null,0,null,null,null,""]
[{"$nulls":18},{"$f":"IF(ISERROR($W1046),\"\",OFFSET('Smelter Look-up'!$C$4,$W1046-4,0)&\"\")","v":""},"",{"$f":"IF(B1046=\"\",\"\",IF(ISERROR(MATCH($J1046,SorP!$B$1:$B$6230,0)),\"\",INDIRECT(\"'SorP'!$A$\"&MATCH($J1046,SorP!$B$1:$B$6230,0))))","v":""},null,{"$f":"IF(C1046=\"\",NA(),MATCH($B1046&$C1046,'Smelter Look-up'!$J:$J,0))","v":{"$error":"#N/A"}},null,0,null,null,null,""]
[{"$nulls":18},{"$f":"IF(ISERROR($W1047),\"\",OFFSET('Smelter Look-up'!$C$4,$W1047-4,0)&\"\")","v":""},"",{"$f":"IF(B1047=\"\",\"\",IF(ISERROR(MATCH($J1047,SorP!$B$1:$B$6230,0)),\"\",INDIRECT(\"'SorP'!$A$\"&MATCH($J1047,SorP!$B$1:$B$6230,0))))","v":""},null,{"$f":"IF(C1047=\"\",NA(),MATCH($B1047&$C1047,'Smelter Look-up'!$J:$J,0))","v":{"$error":"#N/A"}},null,0,null,null,null,""]
[{"$nulls":18},{"$f":"IF(ISERROR($W1048),\"\",OFFSET('Smelter Look-up'!$C$4,$W1048-4,0)&\"\")","v":""},"",{"$f":"IF(B1048=\"\",\"\",IF(ISERROR(MATCH($J1048,SorP!$B$1:$B$6230,0)),\"\",INDIRECT(\"'SorP'!$A$\"&MATCH($J1048,SorP!$B$1:$B$6230,0))))","v":""},null,{"$f":"IF(C1048=\"\",NA(),MATCH($B1048&$C1048,'Smelter Look-up'!$J:$J,0))","v":{"$error":"#N/A"}},null,0,null,null,null,""]
[{"$nulls":18},{"$f":"IF(ISERROR($W1049),\"\",OFFSET('Smelter Look-up'!$C$4,$W1049-4,0)&\"\")","v":""},"",{"$f":"IF(B1049=\"\",\"\",IF(ISERROR(MATCH($J1049,SorP!$B$1:$B$6230,0)),\"\",INDIRECT(\"'SorP'!$A$\"&MATCH($J1049,SorP!$B$1:$B$6230,0))))","v":""},null,{"$f":"IF(C1049=\"\",NA(),MATCH($B1049&$C1049,'Smelter Look-up'!$J:$J,0))","v":{"$error":"#N/A"}},null,0,null,null,null,""]
[{"$nulls":18},{"$f":"IF(ISERROR($W1050),\"\",OFFSET('Smelter Look-up'!$C$4,$W1050-4,0)&\"\")","v":""},"",{"$f":"IF(B1050=\"\",\"\",IF(ISERROR(MATCH($J1050,SorP!$B$1:$B$6230,0)),\"\",INDIRECT(\"'SorP'!$A$\"&MATCH($J1050,SorP!$B$1:$B$6230,0))))","v":""},null,{"$f":"IF(C1050=\"\",NA(),MATCH($B1050&$C1050,'Smelter Look-up'!$J:$J,0))","v":{"$error":"#N/A"}},null,0,null,null,null,""]
[{"$nulls":18},{"$f":"IF(ISERROR($W1051),\"\",OFFSET('Smelter Look-up'!$C$4,$W1051-4,0)&\"\")","v":""},"",{"$f":"IF(B1051=\"\",\"\",IF(ISERROR(MATCH($J1051,SorP!$B$1:$B$6230,0)),\"\",INDIRECT(\"'SorP'!$A$\"&MATCH($J1051,SorP!$B$1:$B$6230,0))))","v":""},null,{"$f":"IF(C1051=\"\",NA(),MATCH($B1051&$C1051,'Smelter Look-up'!$J:$J,0))","v":{"$error":"#N/A"}},null,0,null,null,null,""]
[{"$nulls":18},{"$f":"IF(ISERROR($W1052),\"\",OFFSET('Smelter Look-up'!$C$4,$W1052-4,0)&\"\")","v":""},"",{"$f":"IF(B1052=\"\",\"\",IF(ISERROR(MATCH($J1052,SorP!$B$1:$B$6230,0)),\"\",INDIRECT(\"'SorP'!$A$\"&MATCH($J1052,SorP!$B$1:$B$6230,0))))","v":""},null,{"$f":"IF(C1052=\"\",NA(),MATCH($B1052&$C1052,'Smelter Look-up'!$J:$J,0))","v":{"$error":"#N/A"}},null,0,null,null,null,""]
[{"$nulls":18},{"$f":"IF(ISERROR($W1053),\"\",OFFSET('Smelter Look-up'!$C$4,$W1053-4,0)&\"\")","v":""},"",{"$f":"IF(B1053=\"\",\"\",IF(ISERROR(MATCH($J1053,SorP!$B$1:$B$6230,0)),\"\",INDIRECT(\"'SorP'!$A$\"&MATCH($J1053,SorP!$B$1:$B$6230,0))))","v":""},null,{"$f":"IF(C1053=\"\",NA(),MATCH($B1053&$C1053,'Smelter Look-up'!$J:$J,0))","v":{"$error":"#N/A"}},null,0,null,null,null,""]
[{"$nulls":18},{"$f":"IF(ISERROR($W1054),\"\",OFFSET('Smelter Look-up'!$C$4,$W1054-4,0)&\"\")","v":""},"",{"$f":"IF(B1054=\"\",\"\",IF(ISERROR(MATCH($J1054,SorP!$B$1:$B$6230,0)),\"\",INDIRECT(\"'SorP'!$A$\"&MATCH($J1054,SorP!$B$1:$B$6230,0))))","v":""},null,{"$f":"IF(C1054=\"\",NA(),MATCH($B1054&$C1054,'Smelter Look-up'!$J:$J,0))","v":{"$error":"#N/A"}},null,0,null,null,null,""]
[{"$nulls":18},{"$f":"IF(ISERROR($W1055),\"\",OFFSET('Smelter Look-up'!$C$4,$W1055-4,0)&\"\")","v":""},"",{"$f":"IF(B1055=\"\",\"\",IF(ISERROR(MATCH($J1055,SorP!$B$1:$B$6230,0)),\"\",INDIRECT(\"'SorP'!$A$\"&MATCH($J1055,SorP!$B$1:$B$6230,0))))","v":""},null,{"$f":"IF(C1055=\"\",NA(),MATCH($B1055&$C1055,'Smelter Look-up'!$J:$J,0))","v":{"$error":"#N/A"}},null,0,null,null,null,""]
[{"$nulls":18},{"$f":"IF(ISERROR($W1056),\"\",OFFSET('Smelter Look-up'!$C$4,$W1056-4,0)&\"\")","v":""},"",{"$f":"IF(B1056=\"\",\"\",IF(ISERROR(MATCH($J1056,SorP!$B$1:$B$6230,0)),\"\",INDIRECT(\"'SorP'!$A$\"&MATCH($J1056,SorP!$B$1:$B$6230,0))))","v":""},null,{"$f":"IF(C1056=\"\",NA(),MATCH($B1056&$C1056,'Smelter Look-up'!$J:$J,0))","v":{"$error":"#N/A"}},null,0,null,null,null,""]
[{"$nulls":18},{"$f":"IF(ISERROR($W1057),\"\",OFFSET('Smelter Look-up'!$C$4,$W1057-4,0)&\"\")","v":""},"",{"$f":"IF(B1057=\"\",\"\",IF(ISERROR(MATCH($J1057,SorP!$B$1:$B$6230,0)),\"\",INDIRECT(\"'SorP'!$A$\"&MATCH($J1057,SorP!$B$1:$B$6230,0))))","v":""},null,{"$f":"IF(C1057=\"\",NA(),MATCH($B1057&$C1057,'Smelter Look-up'!$J:$J,0))","v":{"$error":"#N/A"}},null,0,null,null,null,""]
[{"$nulls":18},{"$f":"IF(ISERROR($W1058),\"\",OFFSET('Smelter Look-up'!$C$4,$W1058-4,0)&\"\")","v":""},"",{"$f":"IF(B1058=\"\",\"\",IF(ISERROR(MATCH($J1058,SorP!$B$1:$B$6230,0)),\"\",INDIRECT(\"'SorP'!$A$\"&MATCH($J1058,SorP!$B$1:$B$6230,0))))","v":""},null,{"$f":"IF(C1058=\"\",NA(),MATCH($B1058&$C1058,'Smelter Look-up'!$J:$J,0))","v":{"$error":"#N/A"}},null,0,null,null,null,""]
[{"$nulls":18},{"$f":"IF(ISERROR($W1059),\"\",OFFSET('Smelter Look-up'!$C$4,$W1059-4,0)&\"\")","v":""},"",{"$f":"IF(B1059=\"\",\"\",IF(ISERROR(MATCH($J1059,SorP!$B$1:$B$6230,0)),\"\",INDIRECT(\"'SorP'!$A$\"&MATCH($J1059,SorP!$B$1:$B$6230,0))))","v":""},null,{"$f":"IF(C1059=\"\",NA(),MATCH($B1059&$C1059,'Smelter Look-up'!$J:$J,0))","v":{"$error":"#N/A"}},null,0,null,null,null,""]
[{"$nulls":18},{"$f":"IF(ISERROR($W1060),\"\",OFFSET('Smelter Look-up'!$C$4,$W1060-4,0)&\"\")","v":""},"",{"$f":"IF(B1060=\"\",\"\",IF(ISERROR(MATCH($J1060,SorP!$B$1:$B$6230,0)),\"\",INDIRECT(\"'SorP'!$A$\"&MATCH($J1060,SorP!$B$1:$B$6230,0))))","v":""},null,{"$f":"IF(C1060=\"\",NA(),MATCH($B1060&$C1060,'Smelter Look-up'!$J:$J,0))","v":{"$error":"#N/A"}},null,0,null,null,null,""]
[{"$nulls":18},{"$f":"IF(ISERROR($W1061),\"\",OFFSET('Smelter Look-up'!$C$4,$W1061-4,0)&\"\")","v":""},"",{"$f":"IF(B1061=\"\",\"\",IF(ISERROR(MATCH($J1061,SorP!$B$1:$B$6230,0)),\"\",INDIRECT(\"'SorP'!$A$\"&MATCH($J1061,SorP!$B$1:$B$6230,0))))","v":""},null,{"$f":"IF(C1061=\"\",NA(),MATCH($B1061&$C1061,'Smelter Look-up'!$J:$J,0))","v":{"$error":"#N/A"}},null,0,null,null,null,""]
[{"$nulls":18},{"$f":"IF(ISERROR($W1062),\"\",OFFSET('Smelter Look-up'!$C$4,$W1062-4,0)&\"\")","v":""},"",{"$f":"IF(B1062=\"\",\"\",IF(ISERROR(MATCH($J1062,SorP!$B$1:$B$6230,0)),\"\",INDIRECT(\"'SorP'!$A$\"&MATCH($J1062,SorP!$B$1:$B$6230,0))))","v":""},null,{"$f":"IF(C1062=\"\",NA(),MATCH($B1062&$C1062,'Smelter Look-up'!$J:$J,0))","v":{"$error":"#N/A"}},null,0,null,null,null,""]
[{"$nulls":18},{"$f":"IF(ISERROR($W1063),\"\",OFFSET('Smelter Look-up'!$C$4,$W1063-4,0)&\"\")","v":""},"",{"$f":"IF(B1063=\"\",\"\",IF(ISERROR(MATCH($J1063,SorP!$B$1:$B$6230,0)),\"\",INDIRECT(\"'SorP'!$A$\"&MATCH($J1063,SorP!$B$1:$B$6230,0))))","v":""},null,{"$f":"IF(C1063=\"\",NA(),MATCH($B1063&$C1063,'Smelter Look-up'!$J:$J,0))","v":{"$error":"#N/A"}},null,0,null,null,null,""]
[{"$nulls":18},{"$f":"IF(ISERROR($W1064),\"\",OFFSET('Smelter Look-up'!$C$4,$W1064-4,0)&\"\")","v":""},"",{"$f":"IF(B1064=\"\",\"\",IF(ISERROR(MATCH($J1064,SorP!$B$1:$B$6230,0)),\"\",INDIRECT(\"'SorP'!$A$\"&MATCH($J1064,SorP!$B$1:$B$6230,0))))","v":""},null,{"$f":"IF(C1064=\"\",NA(),MATCH($B1064&$C1064,'Smelter Look-up'!$J:$J,0))","v":{"$error":"#N/A"}},null,0,null,null,null,""]
[{"$nulls":18},{"$f":"IF(ISERROR($W1065),\"\",OFFSET('Smelter Look-up'!$C$4,$W1065-4,0)&\"\")","v":""},"",{"$f":"IF(B1065=\"\",\"\",IF(ISERROR(MATCH($J1065,SorP!$B$1:$B$6230,0)),\"\",INDIRECT(\"'SorP'!$A$\"&MATCH($J1065,SorP!$B$1:$B$6230,0))))","v":""},null,{"$f":"IF(C1065=\"\",NA(),MATCH($B1065&$C1065,'Smelter Look-up'!$J:$J,0))","v":{"$error":"#N/A"}},null,0,null,null,null,""]
[{"$nulls":18},{"$f":"IF(ISERROR($W1066),\"\",OFFSET('Smelter Look-up'!$C$4,$W1066-4,0)&\"\")","v":""},"",{"$f":"IF(B1066=\"\",\"\",IF(ISERROR(MATCH($J1066,SorP!$B$1:$B$6230,0)),\"\",INDIRECT(\"'SorP'!$A$\"&MATCH($J1066,SorP!$B$1:$B$6230,0))))","v":""},null,{"$f":"IF(C1066=\"\",NA(),MATCH($B1066&$C1066,'Smelter Look-up'!$J:$J,0))","v":{"$error":"#N/A"}},null,0,null,null,null,""]
[{"$nulls":18},{"$f":"IF(ISERROR($W1067),\"\",OFFSET('Smelter Look-up'!$C$4,$W1067-4,0)&\"\")","v":""},"",{"$f":"IF(B1067=\"\",\"\",IF(ISERROR(MATCH($J1067,SorP!$B$1:$B$6230,0)),\"\",INDIRECT(\"'SorP'!$A$\"&MATCH($J1067,SorP!$B$1:$B$6230,0))))","v":""},null,{"$f":"IF(C1067=\"\",NA(),MATCH($B1067&$C1067,'Smelter Look-up'!$J:$J,0))","v":{"$error":"#N/A"}},null,0,null,null,null,""]
[{"$nulls":18},{"$f":"IF(ISERROR($W1068),\"\",OFFSET('Smelter Look-up'!$C$4,$W1068-4,0)&\"\")","v":""},"",{"$f":"IF(B1068=\"\",\"\",IF(ISERROR(MATCH($J1068,SorP!$B$1:$B$6230,0)),\"\",INDIRECT(\"'SorP'!$A$\"&MATCH($J1068,SorP!$B$1:$B$6230,0))))","v":""},null,{"$f":"IF(C1068=\"\",NA(),MATCH($B1068&$C1068,'Smelter Look-up'!$J:$J,0))","v":{"$error":"#N/A"}},null,0,null,null,null,""]
[{"$nulls":18},{"$f":"IF(ISERROR($W1069),\"\",OFFSET('Smelter Look-up'!$C$4,$W1069-4,0)&\"\")","v":""},"",{"$f":"IF(B1069=\"\",\"\",IF(ISERROR(MATCH($J1069,SorP!$B$1:$B$6230,0)),\"\",INDIRECT(\"'SorP'!$A$\"&MATCH($J1069,SorP!$B$1:$B$6230,0))))","v":""},null,{"$f":"IF(C1069=\"\",NA(),MATCH($B1069&$C1069,'Smelter Look-up'!$J:$J,0))","v":{"$error":"#N/A"}},null,0,null,null,null,""]
[{"$nulls":18},{"$f":"IF(ISERROR($W1070),\"\",OFFSET('Smelter Look-up'!$C$4,$W1070-4,0)&\"\")","v":""},"",{"$f":"IF(B1070=\"\",\"\",IF(ISERROR(MATCH($J1070,SorP!$B$1:$B$6230,0)),\"\",INDIRECT(\"'SorP'!$A$\"&MATCH($J1070,SorP!$B$1:$B$6230,0))))","v":""},null,{"$f":"IF(C1070=\"\",NA(),MATCH($B1070&$C1070,'Smelter Look-up'!$J:$J,0))","v":{"$error":"#N/A"}},null,0,null,null,null,""]
[{"$nulls":18},{"$f":"IF(ISERROR($W1071),\"\",OFFSET('Smelter Look-up'!$C$4,$W1071-4,0)&\"\")","v":""},"",{"$f":"IF(B1071=\"\",\"\",IF(ISERROR(MATCH($J1071,SorP!$B$1:$B$6230,0)),\"\",INDIRECT(\"'SorP'!$A$\"&MATCH($J1071,SorP!$B$1:$B$6230,0))))","v":""},null,{"$f":"IF(C1071=\"\",NA(),MATCH($B1071&$C1071,'Smelter Look-up'!$J:$J,0))","v":{"$error":"#N/A"}},null,0,null,null,null,""]
[{"$nulls":18},{"$f":"IF(ISERROR($W1072),\"\",OFFSET('Smelter Look-up'!$C$4,$W1072-4,0)&\"\")","v":""},"",{"$f":"IF(B1072=\"\",\"\",IF(ISERROR(MATCH($J1072,SorP!$B$1:$B$6230,0)),\"\",INDIRECT(\"'SorP'!$A$\"&MATCH($J1072,SorP!$B$1:$B$6230,0))))","v":""},null,{"$f":"IF(C1072=\"\",NA(),MATCH($B1072&$C1072,'Smelter Look-up'!$J:$J,0))","v":{"$error":"#N/A"}},null,0,null,null,null,""]
[{"$nulls":18},{"$f":"IF(ISERROR($W1073),\"\",OFFSET('Smelter Look-up'!$C$4,$W1073-4,0)&\"\")","v":""},"",{"$f":"IF(B1073=\"\",\"\",IF(ISERROR(MATCH($J1073,SorP!$B$1:$B$6230,0)),\"\",INDIRECT(\"'SorP'!$A$\"&MATCH($J1073,SorP!$B$1:$B$6230,0))))","v":""},null,{"$f":"IF(C1073=\"\",NA(),MATCH($B1073&$C1073,'Smelter Look-up'!$J:$J,0))","v":{"$error":"#N/A"}},null,0,null,null,null,""]
[{"$nulls":18},{"$f":"IF(ISERROR($W1074),\"\",OFFSET('Smelter Look-up'!$C$4,$W1074-4,0)&\"\")","v":""},"",{"$f":"IF(B1074=\"\",\"\",IF(ISERROR(MATCH($J1074,SorP!$B$1:$B$6230,0)),\"\",INDIRECT(\"'SorP'!$A$\"&MATCH($J1074,SorP!$B$1:$B$6230,0))))","v":""},null,{"$f":"IF(C1074=\"\",NA(),MATCH($B1074&$C1074,'Smelter Look-up'!$J:$J,0))","v":{"$error":"#N/A"}},null,0,null,null,null,""]
[{"$nulls":18},{"$f":"IF(ISERROR($W1075),\"\",OFFSET('Smelter Look-up'!$C$4,$W1075-4,0)&\"\")","v":""},"",{"$f":"IF(B1075=\"\",\"\",IF(ISERROR(MATCH($J1075,SorP!$B$1:$B$6230,0)),\"\",INDIRECT(\"'SorP'!$A$\"&MATCH($J1075,SorP!$B$1:$B$6230,0))))","v":""},null,{"$f":"IF(C1075=\"\",NA(),MATCH($B1075&$C1075,'Smelter Look-up'!$J:$J,0))","v":{"$error":"#N/A"}},null,0,null,null,null,""]
[{"$nulls":18},{"$f":"IF(ISERROR($W1076),\"\",OFFSET('Smelter Look-up'!$C$4,$W1076-4,0)&\"\")","v":""},"",{"$f":"IF(B1076=\"\",\"\",IF(ISERROR(MATCH($J1076,SorP!$B$1:$B$6230,0)),\"\",INDIRECT(\"'SorP'!$A$\"&MATCH($J1076,SorP!$B$1:$B$6230,0))))","v":""},null,{"$f":"IF(C1076=\"\",NA(),MATCH($B1076&$C1076,'Smelter Look-up'!$J:$J,0))","v":{"$error":"#N/A"}},null,0,null,null,null,""]
[{"$nulls":18},{"$f":"IF(ISERROR($W1077),\"\",OFFSET('Smelter Look-up'!$C$4,$W1077-4,0)&\"\")","v":""},"",{"$f":"IF(B1077=\"\",\"\",IF(ISERROR(MATCH($J1077,SorP!$B$1:$B$6230,0)),\"\",INDIRECT(\"'SorP'!$A$\"&MATCH($J1077,SorP!$B$1:$B$6230,0))))","v":""},null,{"$f":"IF(C1077=\"\",NA(),MATCH($B1077&$C1077,'Smelter Look-up'!$J:$J,0))","v":{"$error":"#N/A"}},null,0,null,null,null,""]
[{"$nulls":18},{"$f":"IF(ISERROR($W1078),\"\",OFFSET('Smelter Look-up'!$C$4,$W1078-4,0)&\"\")","v":""},"",{"$f":"IF(B1078=\"\",\"\",IF(ISERROR(MATCH($J1078,SorP!$B$1:$B$6230,0)),\"\",INDIRECT(\"'SorP'!$A$\"&MATCH($J1078,SorP!$B$1:$B$6230,0))))","v":""},null,{"$f":"IF(C1078=\"\",NA(),MATCH($B1078&$C1078,'Smelter Look-up'!$J:$J,0))","v":{"$error":"#N/A"}},null,0,null,null,null,""]
[{"$nulls":18},{"$f":"IF(ISERROR($W1079),\"\",OFFSET('Smelter Look-up'!$C$4,$W1079-4,0)&\"\")","v":""},"",{"$f":"IF(B1079=\"\",\"\",IF(ISERROR(MATCH($J1079,SorP!$B$1:$B$6230,0)),\"\",INDIRECT(\"'SorP'!$A$\"&MATCH($J1079,SorP!$B$1:$B$6230,0))))","v":""},null,{"$f":"IF(C1079=\"\",NA(),MATCH($B1079&$C1079,'Smelter Look-up'!$J:$J,0))","v":{"$error":"#N/A"}},null,0,null,null,null,""]
[{"$nulls":18},{"$f":"IF(ISERROR($W1080),\"\",OFFSET('Smelter Look-up'!$C$4,$W1080-4,0)&\"\")","v":""},"",{"$f":"IF(B1080=\"\",\"\",IF(ISERROR(MATCH($J1080,SorP!$B$1:$B$6230,0)),\"\",INDIRECT(\"'SorP'!$A$\"&MATCH($J1080,SorP!$B$1:$B$6230,0))))","v":""},null,{"$f":"IF(C1080=\"\",NA(),MATCH($B1080&$C1080,'Smelter Look-up'!$J:$J,0))","v":{"$error":"#N/A"}},null,0,null,null,null,""]
[{"$nulls":18},{"$f":"IF(ISERROR($W1081),\"\",OFFSET('Smelter Look-up'!$C$4,$W1081-4,0)&\"\")","v":""},"",{"$f":"IF(B1081=\"\",\"\",IF(ISERROR(MATCH($J1081,SorP!$B$1:$B$6230,0)),\"\",INDIRECT(\"'SorP'!$A$\"&MATCH($J1081,SorP!$B$1:$B$6230,0))))","v":""},null,{"$f":"IF(C1081=\"\",NA(),MATCH($B1081&$C1081,'Smelter Look-up'!$J:$J,0))","v":{"$error":"#N/A"}},null,0,null,null,null,""]
[{"$nulls":18},{"$f":"IF(ISERROR($W1082),\"\",OFFSET('Smelter Look-up'!$C$4,$W1082-4,0)&\"\")","v":""},"",{"$f":"IF(B1082=\"\",\"\",IF(ISERROR(MATCH($J1082,SorP!$B$1:$B$6230,0)),\"\",INDIRECT(\"'SorP'!$A$\"&MATCH($J1082,SorP!$B$1:$B$6230,0))))","v":""},null,{"$f":"IF(C1082=\"\",NA(),MATCH($B1082&$C1082,'Smelter Look-up'!$J:$J,0))","v":{"$error":"#N/A"}},null,0,null,null,null,""]
[{"$nulls":18},{"$f":"IF(ISERROR($W1083),\"\",OFFSET('Smelter Look-up'!$C$4,$W1083-4,0)&\"\")","v":""},"",{"$f":"IF(B1083=\"\",\"\",IF(ISERROR(MATCH($J1083,SorP!$B$1:$B$6230,0)),\"\",INDIRECT(\"'SorP'!$A$\"&MATCH($J1083,SorP!$B$1:$B$6230,0))))","v":""},null,{"$f":"IF(C1083=\"\",NA(),MATCH($B1083&$C1083,'Smelter Look-up'!$J:$J,0))","v":{"$error":"#N/A"}},null,0,null,null,null,""]
[{"$nulls":18},{"$f":"IF(ISERROR($W1084),\"\",OFFSET('Smelter Look-up'!$C$4,$W1084-4,0)&\"\")","v":""},"",{"$f":"IF(B1084=\"\",\"\",IF(ISERROR(MATCH($J1084,SorP!$B$1:$B$6230,0)),\"\",INDIRECT(\"'SorP'!$A$\"&MATCH($J1084,SorP!$B$1:$B$6230,0))))","v":""},null,{"$f":"IF(C1084=\"\",NA(),MATCH($B1084&$C1084,'Smelter Look-up'!$J:$J,0))","v":{"$error":"#N/A"}},null,0,null,null,null,""]
[{"$nulls":18},{"$f":"IF(ISERROR($W1085),\"\",OFFSET('Smelter Look-up'!$C$4,$W1085-4,0)&\"\")","v":""},"",{"$f":"IF(B1085=\"\",\"\",IF(ISERROR(MATCH($J1085,SorP!$B$1:$B$6230,0)),\"\",INDIRECT(\"'SorP'!$A$\"&MATCH($J1085,SorP!$B$1:$B$6230,0))))","v":""},null,{"$f":"IF(C1085=\"\",NA(),MATCH($B1085&$C1085,'Smelter Look-up'!$J:$J,0))","v":{"$error":"#N/A"}},null,0,null,null,null,""]
[{"$nulls":18},{"$f":"IF(ISERROR($W1086),\"\",OFFSET('Smelter Look-up'!$C$4,$W1086-4,0)&\"\")","v":""},"",{"$f":"IF(B1086=\"\",\"\",IF(ISERROR(MATCH($J1086,SorP!$B$1:$B$6230,0)),\"\",INDIRECT(\"'SorP'!$A$\"&MATCH($J1086,SorP!$B$1:$B$6230,0))))","v":""},null,{"$f":"IF(C1086=\"\",NA(),MATCH($B1086&$C1086,'Smelter Look-up'!$J:$J,0))","v":{"$error":"#N/A"}},null,0,null,null,null,""]
[{"$nulls":18},{"$f":"IF(ISERROR($W1087),\"\",OFFSET('Smelter Look-up'!$C$4,$W1087-4,0)&\"\")","v":""},"",{"$f":"IF(B1087=\"\",\"\",IF(ISERROR(MATCH($J1087,SorP!$B$1:$B$6230,0)),\"\",INDIRECT(\"'SorP'!$A$\"&MATCH($J1087,SorP!$B$1:$B$6230,0))))","v":""},null,{"$f":"IF(C1087=\"\",NA(),MATCH($B1087&$C1087,'Smelter Look-up'!$J:$J,0))","v":{"$error":"#N/A"}},null,0,null,null,null,""]
[{"$nulls":18},{"$f":"IF(ISERROR($W1088),\"\",OFFSET('Smelter Look-up'!$C$4,$W1088-4,0)&\"\")","v":""},"",{"$f":"IF(B1088=\"\",\"\",IF(ISERROR(MATCH($J1088,SorP!$B$1:$B$6230,0)),\"\",INDIRECT(\"'SorP'!$A$\"&MATCH($J1088,SorP!$B$1:$B$6230,0))))","v":""},null,{"$f":"IF(C1088=\"\",NA(),MATCH($B1088&$C1088,'Smelter Look-up'!$J:$J,0))","v":{"$error":"#N/A"}},null,0,null,null,null,""]
[{"$nulls":18},{"$f":"IF(ISERROR($W1089),\"\",OFFSET('Smelter Look-up'!$C$4,$W1089-4,0)&\"\")","v":""},"",{"$f":"IF(B1089=\"\",\"\",IF(ISERROR(MATCH($J1089,SorP!$B$1:$B$6230,0)),\"\",INDIRECT(\"'SorP'!$A$\"&MATCH($J1089,SorP!$B$1:$B$6230,0))))","v":""},null,{"$f":"IF(C1089=\"\",NA(),MATCH($B1089&$C1089,'Smelter Look-up'!$J:$J,0))","v":{"$error":"#N/A"}},null,0,null,null,null,""]
[{"$nulls":18},{"$f":"IF(ISERROR($W1090),\"\",OFFSET('Smelter Look-up'!$C$4,$W1090-4,0)&\"\")","v":""},"",{"$f":"IF(B1090=\"\",\"\",IF(ISERROR(MATCH($J1090,SorP!$B$1:$B$6230,0)),\"\",INDIRECT(\"'SorP'!$A$\"&MATCH($J1090,SorP!$B$1:$B$6230,0))))","v":""},null,{"$f":"IF(C1090=\"\",NA(),MATCH($B1090&$C1090,'Smelter Look-up'!$J:$J,0))","v":{"$error":"#N/A"}},null,0,null,null,null,""]
[{"$nulls":18},{"$f":"IF(ISERROR($W1091),\"\",OFFSET('Smelter Look-up'!$C$4,$W1091-4,0)&\"\")","v":""},"",{"$f":"IF(B1091=\"\",\"\",IF(ISERROR(MATCH($J1091,SorP!$B$1:$B$6230,0)),\"\",INDIRECT(\"'SorP'!$A$\"&MATCH($J1091,SorP!$B$1:$B$6230,0))))","v":""},null,{"$f":"IF(C1091=\"\",NA(),MATCH($B1091&$C1091,'Smelter Look-up'!$J:$J,0))","v":{"$error":"#N/A"}},null,0,null,null,null,""]
[{"$nulls":18},{"$f":"IF(ISERROR($W1092),\"\",OFFSET('Smelter Look-up'!$C$4,$W1092-4,0)&\"\")","v":""},"",{"$f":"IF(B1092=\"\",\"\",IF(ISERROR(MATCH($J1092,SorP!$B$1:$B$6230,0)),\"\",INDIRECT(\"'SorP'!$A$\"&MATCH($J1092,SorP!$B$1:$B$6230,0))))","v":""},null,{"$f":"IF(C1092=\"\",NA(),MATCH($B1092&$C1092,'Smelter Look-up'!$J:$J,0))","v":{"$error":"#N/A"}},null,0,null,null,null,""]
[{"$nulls":18},{"$f":"IF(ISERROR($W1093),\"\",OFFSET('Smelter Look-up'!$C$4,$W1093-4,0)&\"\")","v":""},{"$f":"IF(B1093=\"\",\"\",IF(ISERROR(MATCH($E1093,CL,0)),\"Unknown\",INDIRECT(\"'C'!$A$\"&MATCH($E1093,CL,0)+1)))","v":""},{"$f":"IF(B1093=\"\",\"\",IF(ISERROR(MATCH($J1093,SorP!$B$1:$B$6230,0)),\"\",INDIRECT(\"'SorP'!$A$\"&MATCH($J1093,SorP!$B$1:$B$6230,0))))","v":""},null,{"$f":"IF(C1093=\"\",NA(),MATCH($B1093&$C1093,'Smelter Look-up'!$J:$J,0))","v":{"$error":"#N/A"}},null,{"$f":"IF(AND(C1093=\"Smelter not listed\",OR(LEN(D1093)=0,LEN(E1093)=0)),1,0)","v":0},null,null,null,{"$f":"B1093&C1093","v":""}]
[{"$nulls":18},{"$f":"IF(ISERROR($W1094),\"\",OFFSET('Smelter Look-up'!$C$4,$W1094-4,0)&\"\")","v":""},"",{"$f":"IF(B1094=\"\",\"\",IF(ISERROR(MATCH($J1094,SorP!$B$1:$B$6230,0)),\"\",INDIRECT(\"'SorP'!$A$\"&MATCH($J1094,SorP!$B$1:$B$6230,0))))","v":""},null,{"$f":"IF(C1094=\"\",NA(),MATCH($B1094&$C1094,'Smelter Look-up'!$J:$J,0))","v":{"$error":"#N/A"}},null,0,null,null,null,""]
[{"$nulls":18},{"$f":"IF(ISERROR($W1095),\"\",OFFSET('Smelter Look-up'!$C$4,$W1095-4,0)&\"\")","v":""},"",{"$f":"IF(B1095=\"\",\"\",IF(ISERROR(MATCH($J1095,SorP!$B$1:$B$6230,0)),\"\",INDIRECT(\"'SorP'!$A$\"&MATCH($J1095,SorP!$B$1:$B$6230,0))))","v":""},null,{"$f":"IF(C1095=\"\",NA(),MATCH($B1095&$C1095,'Smelter Look-up'!$J:$J,0))","v":{"$error":"#N/A"}},null,0,null,null,null,""]
[{"$nulls":18},{"$f":"IF(ISERROR($W1096),\"\",OFFSET('Smelter Look-up'!$C$4,$W1096-4,0)&\"\")","v":""},"",{"$f":"IF(B1096=\"\",\"\",IF(ISERROR(MATCH($J1096,SorP!$B$1:$B$6230,0)),\"\",INDIRECT(\"'SorP'!$A$\"&MATCH($J1096,SorP!$B$1:$B$6230,0))))","v":""},null,{"$f":"IF(C1096=\"\",NA(),MATCH($B1096&$C1096,'Smelter Look-up'!$J:$J,0))","v":{"$error":"#N/A"}},null,0,null,null,null,""]
[{"$nulls":18},{"$f":"IF(ISERROR($W1097),\"\",OFFSET('Smelter Look-up'!$C$4,$W1097-4,0)&\"\")","v":""},"",{"$f":"IF(B1097=\"\",\"\",IF(ISERROR(MATCH($J1097,SorP!$B$1:$B$6230,0)),\"\",INDIRECT(\"'SorP'!$A$\"&MATCH($J1097,SorP!$B$1:$B$6230,0))))","v":""},null,{"$f":"IF(C1097=\"\",NA(),MATCH($B1097&$C1097,'Smelter Look-up'!$J:$J,0))","v":{"$error":"#N/A"}},null,0,null,null,null,""]
[{"$nulls":18},{"$f":"IF(ISERROR($W1098),\"\",OFFSET('Smelter Look-up'!$C$4,$W1098-4,0)&\"\")","v":""},"",{"$f":"IF(B1098=\"\",\"\",IF(ISERROR(MATCH($J1098,SorP!$B$1:$B$6230,0)),\"\",INDIRECT(\"'SorP'!$A$\"&MATCH($J1098,SorP!$B$1:$B$6230,0))))","v":""},null,{"$f":"IF(C1098=\"\",NA(),MATCH($B1098&$C1098,'Smelter Look-up'!$J:$J,0))","v":{"$error":"#N/A"}},null,0,null,null,null,""]
[{"$nulls":18},{"$f":"IF(ISERROR($W1099),\"\",OFFSET('Smelter Look-up'!$C$4,$W1099-4,0)&\"\")","v":""},"",{"$f":"IF(B1099=\"\",\"\",IF(ISERROR(MATCH($J1099,SorP!$B$1:$B$6230,0)),\"\",INDIRECT(\"'SorP'!$A$\"&MATCH($J1099,SorP!$B$1:$B$6230,0))))","v":""},null,{"$f":"IF(C1099=\"\",NA(),MATCH($B1099&$C1099,'Smelter Look-up'!$J:$J,0))","v":{"$error":"#N/A"}},null,0,null,null,null,""]
[{"$nulls":18},{"$f":"IF(ISERROR($W1100),\"\",OFFSET('Smelter Look-up'!$C$4,$W1100-4,0)&\"\")","v":""},"",{"$f":"IF(B1100=\"\",\"\",IF(ISERROR(MATCH($J1100,SorP!$B$1:$B$6230,0)),\"\",INDIRECT(\"'SorP'!$A$\"&MATCH($J1100,SorP!$B$1:$B$6230,0))))","v":""},null,{"$f":"IF(C1100=\"\",NA(),MATCH($B1100&$C1100,'Smelter Look-up'!$J:$J,0))","v":{"$error":"#N/A"}},null,0,null,null,null,""]
[{"$nulls":18},{"$f":"IF(ISERROR($W1101),\"\",OFFSET('Smelter Look-up'!$C$4,$W1101-4,0)&\"\")","v":""},"",{"$f":"IF(B1101=\"\",\"\",IF(ISERROR(MATCH($J1101,SorP!$B$1:$B$6230,0)),\"\",INDIRECT(\"'SorP'!$A$\"&MATCH($J1101,SorP!$B$1:$B$6230,0))))","v":""},null,{"$f":"IF(C1101=\"\",NA(),MATCH($B1101&$C1101,'Smelter Look-up'!$J:$J,0))","v":{"$error":"#N/A"}},null,0,null,null,null,""]
[{"$nulls":18},{"$f":"IF(ISERROR($W1102),\"\",OFFSET('Smelter Look-up'!$C$4,$W1102-4,0)&\"\")","v":""},"",{"$f":"IF(B1102=\"\",\"\",IF(ISERROR(MATCH($J1102,SorP!$B$1:$B$6230,0)),\"\",INDIRECT(\"'SorP'!$A$\"&MATCH($J1102,SorP!$B$1:$B$6230,0))))","v":""},null,{"$f":"IF(C1102=\"\",NA(),MATCH($B1102&$C1102,'Smelter Look-up'!$J:$J,0))","v":{"$error":"#N/A"}},null,0,null,null,null,""]
[{"$nulls":18},{"$f":"IF(ISERROR($W1103),\"\",OFFSET('Smelter Look-up'!$C$4,$W1103-4,0)&\"\")","v":""},"",{"$f":"IF(B1103=\"\",\"\",IF(ISERROR(MATCH($J1103,SorP!$B$1:$B$6230,0)),\"\",INDIRECT(\"'SorP'!$A$\"&MATCH($J1103,SorP!$B$1:$B$6230,0))))","v":""},null,{"$f":"IF(C1103=\"\",NA(),MATCH($B1103&$C1103,'Smelter Look-up'!$J:$J,0))","v":{"$error":"#N/A"}},null,0,null,null,null,""]
[{"$nulls":18},{"$f":"IF(ISERROR($W1104),\"\",OFFSET('Smelter Look-up'!$C$4,$W1104-4,0)&\"\")","v":""},"",{"$f":"IF(B1104=\"\",\"\",IF(ISERROR(MATCH($J1104,SorP!$B$1:$B$6230,0)),\"\",INDIRECT(\"'SorP'!$A$\"&MATCH($J1104,SorP!$B$1:$B$6230,0))))","v":""},null,{"$f":"IF(C1104=\"\",NA(),MATCH($B1104&$C1104,'Smelter Look-up'!$J:$J,0))","v":{"$error":"#N/A"}},null,0,null,null,null,""]
[{"$nulls":18},{"$f":"IF(ISERROR($W1105),\"\",OFFSET('Smelter Look-up'!$C$4,$W1105-4,0)&\"\")","v":""},"",{"$f":"IF(B1105=\"\",\"\",IF(ISERROR(MATCH($J1105,SorP!$B$1:$B$6230,0)),\"\",INDIRECT(\"'SorP'!$A$\"&MATCH($J1105,SorP!$B$1:$B$6230,0))))","v":""},null,{"$f":"IF(C1105=\"\",NA(),MATCH($B1105&$C1105,'Smelter Look-up'!$J:$J,0))","v":{"$error":"#N/A"}},null,0,null,null,null,""]
[{"$nulls":18},{"$f":"IF(ISERROR($W1106),\"\",OFFSET('Smelter Look-up'!$C$4,$W1106-4,0)&\"\")","v":""},"",{"$f":"IF(B1106=\"\",\"\",IF(ISERROR(MATCH($J1106,SorP!$B$1:$B$6230,0)),\"\",INDIRECT(\"'SorP'!$A$\"&MATCH($J1106,SorP!$B$1:$B$6230,0))))","v":""},null,{"$f":"IF(C1106=\"\",NA(),MATCH($B1106&$C1106,'Smelter Look-up'!$J:$J,0))","v":{"$error":"#N/A"}},null,0,null,null,null,""]
[{"$nulls":18},{"$f":"IF(ISERROR($W1107),\"\",OFFSET('Smelter Look-up'!$C$4,$W1107-4,0)&\"\")","v":""},"",{"$f":"IF(B1107=\"\",\"\",IF(ISERROR(MATCH($J1107,SorP!$B$1:$B$6230,0)),\"\",INDIRECT(\"'SorP'!$A$\"&MATCH($J1107,SorP!$B$1:$B$6230,0))))","v":""},null,{"$f":"IF(C1107=\"\",NA(),MATCH($B1107&$C1107,'Smelter Look-up'!$J:$J,0))","v":{"$error":"#N/A"}},null,0,null,null,null,""]
[{"$nulls":18},{"$f":"IF(ISERROR($W1108),\"\",OFFSET('Smelter Look-up'!$C$4,$W1108-4,0)&\"\")","v":""},"",{"$f":"IF(B1108=\"\",\"\",IF(ISERROR(MATCH($J1108,SorP!$B$1:$B$6230,0)),\"\",INDIRECT(\"'SorP'!$A$\"&MATCH($J1108,SorP!$B$1:$B$6230,0))))","v":""},null,{"$f":"IF(C1108=\"\",NA(),MATCH($B1108&$C1108,'Smelter Look-up'!$J:$J,0))","v":{"$error":"#N/A"}},null,0,null,null,null,""]
[{"$nulls":18},{"$f":"IF(ISERROR($W1109),\"\",OFFSET('Smelter Look-up'!$C$4,$W1109-4,0)&\"\")","v":""},"",{"$f":"IF(B1109=\"\",\"\",IF(ISERROR(MATCH($J1109,SorP!$B$1:$B$6230,0)),\"\",INDIRECT(\"'SorP'!$A$\"&MATCH($J1109,SorP!$B$1:$B$6230,0))))","v":""},null,{"$f":"IF(C1109=\"\",NA(),MATCH($B1109&$C1109,'Smelter Look-up'!$J:$J,0))","v":{"$error":"#N/A"}},null,0,null,null,null,""]
[{"$nulls":18},{"$f":"IF(ISERROR($W1110),\"\",OFFSET('Smelter Look-up'!$C$4,$W1110-4,0)&\"\")","v":""},"",{"$f":"IF(B1110=\"\",\"\",IF(ISERROR(MATCH($J1110,SorP!$B$1:$B$6230,0)),\"\",INDIRECT(\"'SorP'!$A$\"&MATCH($J1110,SorP!$B$1:$B$6230,0))))","v":""},null,{"$f":"IF(C1110=\"\",NA(),MATCH($B1110&$C1110,'Smelter Look-up'!$J:$J,0))","v":{"$error":"#N/A"}},null,0,null,null,null,""]
[{"$nulls":18},{"$f":"IF(ISERROR($W1111),\"\",OFFSET('Smelter Look-up'!$C$4,$W1111-4,0)&\"\")","v":""},"",{"$f":"IF(B1111=\"\",\"\",IF(ISERROR(MATCH($J1111,SorP!$B$1:$B$6230,0)),\"\",INDIRECT(\"'SorP'!$A$\"&MATCH($J1111,SorP!$B$1:$B$6230,0))))","v":""},null,{"$f":"IF(C1111=\"\",NA(),MATCH($B1111&$C1111,'Smelter Look-up'!$J:$J,0))","v":{"$error":"#N/A"}},null,0,null,null,null,""]
[{"$nulls":18},{"$f":"IF(ISERROR($W1112),\"\",OFFSET('Smelter Look-up'!$C$4,$W1112-4,0)&\"\")","v":""},"",{"$f":"IF(B1112=\"\",\"\",IF(ISERROR(MATCH($J1112,SorP!$B$1:$B$6230,0)),\"\",INDIRECT(\"'SorP'!$A$\"&MATCH($J1112,SorP!$B$1:$B$6230,0))))","v":""},null,{"$f":"IF(C1112=\"\",NA(),MATCH($B1112&$C1112,'Smelter Look-up'!$J:$J,0))","v":{"$error":"#N/A"}},null,0,null,null,null,""]
[{"$nulls":18},{"$f":"IF(ISERROR($W1113),\"\",OFFSET('Smelter Look-up'!$C$4,$W1113-4,0)&\"\")","v":""},"",{"$f":"IF(B1113=\"\",\"\",IF(ISERROR(MATCH($J1113,SorP!$B$1:$B$6230,0)),\"\",INDIRECT(\"'SorP'!$A$\"&MATCH($J1113,SorP!$B$1:$B$6230,0))))","v":""},null,{"$f":"IF(C1113=\"\",NA(),MATCH($B1113&$C1113,'Smelter Look-up'!$J:$J,0))","v":{"$error":"#N/A"}},null,0,null,null,null,""]
[{"$nulls":18},{"$f":"IF(ISERROR($W1114),\"\",OFFSET('Smelter Look-up'!$C$4,$W1114-4,0)&\"\")","v":""},"",{"$f":"IF(B1114=\"\",\"\",IF(ISERROR(MATCH($J1114,SorP!$B$1:$B$6230,0)),\"\",INDIRECT(\"'SorP'!$A$\"&MATCH($J1114,SorP!$B$1:$B$6230,0))))","v":""},null,{"$f":"IF(C1114=\"\",NA(),MATCH($B1114&$C1114,'Smelter Look-up'!$J:$J,0))","v":{"$error":"#N/A"}},null,0,null,null,null,""]
[{"$nulls":18},{"$f":"IF(ISERROR($W1115),\"\",OFFSET('Smelter Look-up'!$C$4,$W1115-4,0)&\"\")","v":""},"",{"$f":"IF(B1115=\"\",\"\",IF(ISERROR(MATCH($J1115,SorP!$B$1:$B$6230,0)),\"\",INDIRECT(\"'SorP'!$A$\"&MATCH($J1115,SorP!$B$1:$B$6230,0))))","v":""},null,{"$f":"IF(C1115=\"\",NA(),MATCH($B1115&$C1115,'Smelter Look-up'!$J:$J,0))","v":{"$error":"#N/A"}},null,0,null,null,null,""]
[{"$nulls":18},{"$f":"IF(ISERROR($W1116),\"\",OFFSET('Smelter Look-up'!$C$4,$W1116-4,0)&\"\")","v":""},"",{"$f":"IF(B1116=\"\",\"\",IF(ISERROR(MATCH($J1116,SorP!$B$1:$B$6230,0)),\"\",INDIRECT(\"'SorP'!$A$\"&MATCH($J1116,SorP!$B$1:$B$6230,0))))","v":""},null,{"$f":"IF(C1116=\"\",NA(),MATCH($B1116&$C1116,'Smelter Look-up'!$J:$J,0))","v":{"$error":"#N/A"}},null,0,null,null,null,""]
[{"$nulls":18},{"$f":"IF(ISERROR($W1117),\"\",OFFSET('Smelter Look-up'!$C$4,$W1117-4,0)&\"\")","v":""},"",{"$f":"IF(B1117=\"\",\"\",IF(ISERROR(MATCH($J1117,SorP!$B$1:$B$6230,0)),\"\",INDIRECT(\"'SorP'!$A$\"&MATCH($J1117,SorP!$B$1:$B$6230,0))))","v":""},null,{"$f":"IF(C1117=\"\",NA(),MATCH($B1117&$C1117,'Smelter Look-up'!$J:$J,0))","v":{"$error":"#N/A"}},null,0,null,null,null,""]
[{"$nulls":18},{"$f":"IF(ISERROR($W1118),\"\",OFFSET('Smelter Look-up'!$C$4,$W1118-4,0)&\"\")","v":""},"",{"$f":"IF(B1118=\"\",\"\",IF(ISERROR(MATCH($J1118,SorP!$B$1:$B$6230,0)),\"\",INDIRECT(\"'SorP'!$A$\"&MATCH($J1118,SorP!$B$1:$B$6230,0))))","v":""},null,{"$f":"IF(C1118=\"\",NA(),MATCH($B1118&$C1118,'Smelter Look-up'!$J:$J,0))","v":{"$error":"#N/A"}},null,0,null,null,null,""]
[{"$nulls":18},{"$f":"IF(ISERROR($W1119),\"\",OFFSET('Smelter Look-up'!$C$4,$W1119-4,0)&\"\")","v":""},"",{"$f":"IF(B1119=\"\",\"\",IF(ISERROR(MATCH($J1119,SorP!$B$1:$B$6230,0)),\"\",INDIRECT(\"'SorP'!$A$\"&MATCH($J1119,SorP!$B$1:$B$6230,0))))","v":""},null,{"$f":"IF(C1119=\"\",NA(),MATCH($B1119&$C1119,'Smelter Look-up'!$J:$J,0))","v":{"$error":"#N/A"}},null,0,null,null,null,""]
[{"$nulls":18},{"$f":"IF(ISERROR($W1120),\"\",OFFSET('Smelter Look-up'!$C$4,$W1120-4,0)&\"\")","v":""},"",{"$f":"IF(B1120=\"\",\"\",IF(ISERROR(MATCH($J1120,SorP!$B$1:$B$6230,0)),\"\",INDIRECT(\"'SorP'!$A$\"&MATCH($J1120,SorP!$B$1:$B$6230,0))))","v":""},null,{"$f":"IF(C1120=\"\",NA(),MATCH($B1120&$C1120,'Smelter Look-up'!$J:$J,0))","v":{"$error":"#N/A"}},null,0,null,null,null,""]
[{"$nulls":18},{"$f":"IF(ISERROR($W1121),\"\",OFFSET('Smelter Look-up'!$C$4,$W1121-4,0)&\"\")","v":""},"",{"$f":"IF(B1121=\"\",\"\",IF(ISERROR(MATCH($J1121,SorP!$B$1:$B$6230,0)),\"\",INDIRECT(\"'SorP'!$A$\"&MATCH($J1121,SorP!$B$1:$B$6230,0))))","v":""},null,{"$f":"IF(C1121=\"\",NA(),MATCH($B1121&$C1121,'Smelter Look-up'!$J:$J,0))","v":{"$error":"#N/A"}},null,0,null,null,null,""]
[{"$nulls":18},{"$f":"IF(ISERROR($W1122),\"\",OFFSET('Smelter Look-up'!$C$4,$W1122-4,0)&\"\")","v":""},"",{"$f":"IF(B1122=\"\",\"\",IF(ISERROR(MATCH($J1122,SorP!$B$1:$B$6230,0)),\"\",INDIRECT(\"'SorP'!$A$\"&MATCH($J1122,SorP!$B$1:$B$6230,0))))","v":""},null,{"$f":"IF(C1122=\"\",NA(),MATCH($B1122&$C1122,'Smelter Look-up'!$J:$J,0))","v":{"$error":"#N/A"}},null,0,null,null,null,""]
[{"$nulls":18},{"$f":"IF(ISERROR($W1123),\"\",OFFSET('Smelter Look-up'!$C$4,$W1123-4,0)&\"\")","v":""},"",{"$f":"IF(B1123=\"\",\"\",IF(ISERROR(MATCH($J1123,SorP!$B$1:$B$6230,0)),\"\",INDIRECT(\"'SorP'!$A$\"&MATCH($J1123,SorP!$B$1:$B$6230,0))))","v":""},null,{"$f":"IF(C1123=\"\",NA(),MATCH($B1123&$C1123,'Smelter Look-up'!$J:$J,0))","v":{"$error":"#N/A"}},null,0,null,null,null,""]
[{"$nulls":18},{"$f":"IF(ISERROR($W1124),\"\",OFFSET('Smelter Look-up'!$C$4,$W1124-4,0)&\"\")","v":""},"",{"$f":"IF(B1124=\"\",\"\",IF(ISERROR(MATCH($J1124,SorP!$B$1:$B$6230,0)),\"\",INDIRECT(\"'SorP'!$A$\"&MATCH($J1124,SorP!$B$1:$B$6230,0))))","v":""},null,{"$f":"IF(C1124=\"\",NA(),MATCH($B1124&$C1124,'Smelter Look-up'!$J:$J,0))","v":{"$error":"#N/A"}},null,0,null,null,null,""]
[{"$nulls":18},{"$f":"IF(ISERROR($W1125),\"\",OFFSET('Smelter Look-up'!$C$4,$W1125-4,0)&\"\")","v":""},"",{"$f":"IF(B1125=\"\",\"\",IF(ISERROR(MATCH($J1125,SorP!$B$1:$B$6230,0)),\"\",INDIRECT(\"'SorP'!$A$\"&MATCH($J1125,SorP!$B$1:$B$6230,0))))","v":""},null,{"$f":"IF(C1125=\"\",NA(),MATCH($B1125&$C1125,'Smelter Look-up'!$J:$J,0))","v":{"$error":"#N/A"}},null,0,null,null,null,""]
[{"$nulls":18},{"$f":"IF(ISERROR($W1126),\"\",OFFSET('Smelter Look-up'!$C$4,$W1126-4,0)&\"\")","v":""},"",{"$f":"IF(B1126=\"\",\"\",IF(ISERROR(MATCH($J1126,SorP!$B$1:$B$6230,0)),\"\",INDIRECT(\"'SorP'!$A$\"&MATCH($J1126,SorP!$B$1:$B$6230,0))))","v":""},null,{"$f":"IF(C1126=\"\",NA(),MATCH($B1126&$C1126,'Smelter Look-up'!$J:$J,0))","v":{"$error":"#N/A"}},null,0,null,null,null,""]
[{"$nulls":18},{"$f":"IF(ISERROR($W1127),\"\",OFFSET('Smelter Look-up'!$C$4,$W1127-4,0)&\"\")","v":""},"",{"$f":"IF(B1127=\"\",\"\",IF(ISERROR(MATCH($J1127,SorP!$B$1:$B$6230,0)),\"\",INDIRECT(\"'SorP'!$A$\"&MATCH($J1127,SorP!$B$1:$B$6230,0))))","v":""},null,{"$f":"IF(C1127=\"\",NA(),MATCH($B1127&$C1127,'Smelter Look-up'!$J:$J,0))","v":{"$error":"#N/A"}},null,0,null,null,null,""]
[{"$nulls":18},{"$f":"IF(ISERROR($W1128),\"\",OFFSET('Smelter Look-up'!$C$4,$W1128-4,0)&\"\")","v":""},"",{"$f":"IF(B1128=\"\",\"\",IF(ISERROR(MATCH($J1128,SorP!$B$1:$B$6230,0)),\"\",INDIRECT(\"'SorP'!$A$\"&MATCH($J1128,SorP!$B$1:$B$6230,0))))","v":""},null,{"$f":"IF(C1128=\"\",NA(),MATCH($B1128&$C1128,'Smelter Look-up'!$J:$J,0))","v":{"$error":"#N/A"}},null,0,null,null,null,""]
[{"$nulls":18},{"$f":"IF(ISERROR($W1129),\"\",OFFSET('Smelter Look-up'!$C$4,$W1129-4,0)&\"\")","v":""},"",{"$f":"IF(B1129=\"\",\"\",IF(ISERROR(MATCH($J1129,SorP!$B$1:$B$6230,0)),\"\",INDIRECT(\"'SorP'!$A$\"&MATCH($J1129,SorP!$B$1:$B$6230,0))))","v":""},null,{"$f":"IF(C1129=\"\",NA(),MATCH($B1129&$C1129,'Smelter Look-up'!$J:$J,0))","v":{"$error":"#N/A"}},null,0,null,null,null,""]
[{"$nulls":18},{"$f":"IF(ISERROR($W1130),\"\",OFFSET('Smelter Look-up'!$C$4,$W1130-4,0)&\"\")","v":""},"",{"$f":"IF(B1130=\"\",\"\",IF(ISERROR(MATCH($J1130,SorP!$B$1:$B$6230,0)),\"\",INDIRECT(\"'SorP'!$A$\"&MATCH($J1130,SorP!$B$1:$B$6230,0))))","v":""},null,{"$f":"IF(C1130=\"\",NA(),MATCH($B1130&$C1130,'Smelter Look-up'!$J:$J,0))","v":{"$error":"#N/A"}},null,0,null,null,null,""]
[{"$nulls":18},{"$f":"IF(ISERROR($W1131),\"\",OFFSET('Smelter Look-up'!$C$4,$W1131-4,0)&\"\")","v":""},"",{"$f":"IF(B1131=\"\",\"\",IF(ISERROR(MATCH($J1131,SorP!$B$1:$B$6230,0)),\"\",INDIRECT(\"'SorP'!$A$\"&MATCH($J1131,SorP!$B$1:$B$6230,0))))","v":""},null,{"$f":"IF(C1131=\"\",NA(),MATCH($B1131&$C1131,'Smelter Look-up'!$J:$J,0))","v":{"$error":"#N/A"}},null,0,null,null,null,""]
[{"$nulls":18},{"$f":"IF(ISERROR($W1132),\"\",OFFSET('Smelter Look-up'!$C$4,$W1132-4,0)&\"\")","v":""},"",{"$f":"IF(B1132=\"\",\"\",IF(ISERROR(MATCH($J1132,SorP!$B$1:$B$6230,0)),\"\",INDIRECT(\"'SorP'!$A$\"&MATCH($J1132,SorP!$B$1:$B$6230,0))))","v":""},null,{"$f":"IF(C1132=\"\",NA(),MATCH($B1132&$C1132,'Smelter Look-up'!$J:$J,0))","v":{"$error":"#N/A"}},null,0,null,null,null,""]
[{"$nulls":18},{"$f":"IF(ISERROR($W1133),\"\",OFFSET('Smelter Look-up'!$C$4,$W1133-4,0)&\"\")","v":""},"",{"$f":"IF(B1133=\"\",\"\",IF(ISERROR(MATCH($J1133,SorP!$B$1:$B$6230,0)),\"\",INDIRECT(\"'SorP'!$A$\"&MATCH($J1133,SorP!$B$1:$B$6230,0))))","v":""},null,{"$f":"IF(C1133=\"\",NA(),MATCH($B1133&$C1133,'Smelter Look-up'!$J:$J,0))","v":{"$error":"#N/A"}},null,0,null,null,null,""]
[{"$nulls":18},{"$f":"IF(ISERROR($W1134),\"\",OFFSET('Smelter Look-up'!$C$4,$W1134-4,0)&\"\")","v":""},"",{"$f":"IF(B1134=\"\",\"\",IF(ISERROR(MATCH($J1134,SorP!$B$1:$B$6230,0)),\"\",INDIRECT(\"'SorP'!$A$\"&MATCH($J1134,SorP!$B$1:$B$6230,0))))","v":""},null,{"$f":"IF(C1134=\"\",NA(),MATCH($B1134&$C1134,'Smelter Look-up'!$J:$J,0))","v":{"$error":"#N/A"}},null,0,null,null,null,""]
[{"$nulls":18},{"$f":"IF(ISERROR($W1135),\"\",OFFSET('Smelter Look-up'!$C$4,$W1135-4,0)&\"\")","v":""},"",{"$f":"IF(B1135=\"\",\"\",IF(ISERROR(MATCH($J1135,SorP!$B$1:$B$6230,0)),\"\",INDIRECT(\"'SorP'!$A$\"&MATCH($J1135,SorP!$B$1:$B$6230,0))))","v":""},null,{"$f":"IF(C1135=\"\",NA(),MATCH($B1135&$C1135,'Smelter Look-up'!$J:$J,0))","v":{"$error":"#N/A"}},null,0,null,null,null,""]
[{"$nulls":18},{"$f":"IF(ISERROR($W1136),\"\",OFFSET('Smelter Look-up'!$C$4,$W1136-4,0)&\"\")","v":""},"",{"$f":"IF(B1136=\"\",\"\",IF(ISERROR(MATCH($J1136,SorP!$B$1:$B$6230,0)),\"\",INDIRECT(\"'SorP'!$A$\"&MATCH($J1136,SorP!$B$1:$B$6230,0))))","v":""},null,{"$f":"IF(C1136=\"\",NA(),MATCH($B1136&$C1136,'Smelter Look-up'!$J:$J,0))","v":{"$error":"#N/A"}},null,0,null,null,null,""]
[{"$nulls":18},{"$f":"IF(ISERROR($W1137),\"\",OFFSET('Smelter Look-up'!$C$4,$W1137-4,0)&\"\")","v":""},"",{"$f":"IF(B1137=\"\",\"\",IF(ISERROR(MATCH($J1137,SorP!$B$1:$B$6230,0)),\"\",INDIRECT(\"'SorP'!$A$\"&MATCH($J1137,SorP!$B$1:$B$6230,0))))","v":""},null,{"$f":"IF(C1137=\"\",NA(),MATCH($B1137&$C1137,'Smelter Look-up'!$J:$J,0))","v":{"$error":"#N/A"}},null,0,null,null,null,""]
[{"$nulls":18},{"$f":"IF(ISERROR($W1138),\"\",OFFSET('Smelter Look-up'!$C$4,$W1138-4,0)&\"\")","v":""},"",{"$f":"IF(B1138=\"\",\"\",IF(ISERROR(MATCH($J1138,SorP!$B$1:$B$6230,0)),\"\",INDIRECT(\"'SorP'!$A$\"&MATCH($J1138,SorP!$B$1:$B$6230,0))))","v":""},null,{"$f":"IF(C1138=\"\",NA(),MATCH($B1138&$C1138,'Smelter Look-up'!$J:$J,0))","v":{"$error":"#N/A"}},null,0,null,null,null,""]
[{"$nulls":18},{"$f":"IF(ISERROR($W1139),\"\",OFFSET('Smelter Look-up'!$C$4,$W1139-4,0)&\"\")","v":""},"",{"$f":"IF(B1139=\"\",\"\",IF(ISERROR(MATCH($J1139,SorP!$B$1:$B$6230,0)),\"\",INDIRECT(\"'SorP'!$A$\"&MATCH($J1139,SorP!$B$1:$B$6230,0))))","v":""},null,{"$f":"IF(C1139=\"\",NA(),MATCH($B1139&$C1139,'Smelter Look-up'!$J:$J,0))","v":{"$error":"#N/A"}},null,0,null,null,null,""]
[{"$nulls":18},{"$f":"IF(ISERROR($W1140),\"\",OFFSET('Smelter Look-up'!$C$4,$W1140-4,0)&\"\")","v":""},"",{"$f":"IF(B1140=\"\",\"\",IF(ISERROR(MATCH($J1140,SorP!$B$1:$B$6230,0)),\"\",INDIRECT(\"'SorP'!$A$\"&MATCH($J1140,SorP!$B$1:$B$6230,0))))","v":""},null,{"$f":"IF(C1140=\"\",NA(),MATCH($B1140&$C1140,'Smelter Look-up'!$J:$J,0))","v":{"$error":"#N/A"}},null,0,null,null,null,""]
[{"$nulls":18},{"$f":"IF(ISERROR($W1141),\"\",OFFSET('Smelter Look-up'!$C$4,$W1141-4,0)&\"\")","v":""},"",{"$f":"IF(B1141=\"\",\"\",IF(ISERROR(MATCH($J1141,SorP!$B$1:$B$6230,0)),\"\",INDIRECT(\"'SorP'!$A$\"&MATCH($J1141,SorP!$B$1:$B$6230,0))))","v":""},null,{"$f":"IF(C1141=\"\",NA(),MATCH($B1141&$C1141,'Smelter Look-up'!$J:$J,0))","v":{"$error":"#N/A"}},null,0,null,null,null,""]
[{"$nulls":18},{"$f":"IF(ISERROR($W1142),\"\",OFFSET('Smelter Look-up'!$C$4,$W1142-4,0)&\"\")","v":""},"",{"$f":"IF(B1142=\"\",\"\",IF(ISERROR(MATCH($J1142,SorP!$B$1:$B$6230,0)),\"\",INDIRECT(\"'SorP'!$A$\"&MATCH($J1142,SorP!$B$1:$B$6230,0))))","v":""},null,{"$f":"IF(C1142=\"\",NA(),MATCH($B1142&$C1142,'Smelter Look-up'!$J:$J,0))","v":{"$error":"#N/A"}},null,0,null,null,null,""]
[{"$nulls":18},{"$f":"IF(ISERROR($W1143),\"\",OFFSET('Smelter Look-up'!$C$4,$W1143-4,0)&\"\")","v":""},"",{"$f":"IF(B1143=\"\",\"\",IF(ISERROR(MATCH($J1143,SorP!$B$1:$B$6230,0)),\"\",INDIRECT(\"'SorP'!$A$\"&MATCH($J1143,SorP!$B$1:$B$6230,0))))","v":""},null,{"$f":"IF(C1143=\"\",NA(),MATCH($B1143&$C1143,'Smelter Look-up'!$J:$J,0))","v":{"$error":"#N/A"}},null,0,null,null,null,""]
[{"$nulls":18},{"$f":"IF(ISERROR($W1144),\"\",OFFSET('Smelter Look-up'!$C$4,$W1144-4,0)&\"\")","v":""},"",{"$f":"IF(B1144=\"\",\"\",IF(ISERROR(MATCH($J1144,SorP!$B$1:$B$6230,0)),\"\",INDIRECT(\"'SorP'!$A$\"&MATCH($J1144,SorP!$B$1:$B$6230,0))))","v":""},null,{"$f":"IF(C1144=\"\",NA(),MATCH($B1144&$C1144,'Smelter Look-up'!$J:$J,0))","v":{"$error":"#N/A"}},null,0,null,null,null,""]
[{"$nulls":18},{"$f":"IF(ISERROR($W1145),\"\",OFFSET('Smelter Look-up'!$C$4,$W1145-4,0)&\"\")","v":""},"",{"$f":"IF(B1145=\"\",\"\",IF(ISERROR(MATCH($J1145,SorP!$B$1:$B$6230,0)),\"\",INDIRECT(\"'SorP'!$A$\"&MATCH($J1145,SorP!$B$1:$B$6230,0))))","v":""},null,{"$f":"IF(C1145=\"\",NA(),MATCH($B1145&$C1145,'Smelter Look-up'!$J:$J,0))","v":{"$error":"#N/A"}},null,0,null,null,null,""]
[{"$nulls":18},{"$f":"IF(ISERROR($W1146),\"\",OFFSET('Smelter Look-up'!$C$4,$W1146-4,0)&\"\")","v":""},"",{"$f":"IF(B1146=\"\",\"\",IF(ISERROR(MATCH($J1146,SorP!$B$1:$B$6230,0)),\"\",INDIRECT(\"'SorP'!$A$\"&MATCH($J1146,SorP!$B$1:$B$6230,0))))","v":""},null,{"$f":"IF(C1146=\"\",NA(),MATCH($B1146&$C1146,'Smelter Look-up'!$J:$J,0))","v":{"$error":"#N/A"}},null,0,null,null,null,""]
[{"$nulls":18},{"$f":"IF(ISERROR($W1147),\"\",OFFSET('Smelter Look-up'!$C$4,$W1147-4,0)&\"\")","v":""},"",{"$f":"IF(B1147=\"\",\"\",IF(ISERROR(MATCH($J1147,SorP!$B$1:$B$6230,0)),\"\",INDIRECT(\"'SorP'!$A$\"&MATCH($J1147,SorP!$B$1:$B$6230,0))))","v":""},null,{"$f":"IF(C1147=\"\",NA(),MATCH($B1147&$C1147,'Smelter Look-up'!$J:$J,0))","v":{"$error":"#N/A"}},null,0,null,null,null,""]
[{"$nulls":18},{"$f":"IF(ISERROR($W1148),\"\",OFFSET('Smelter Look-up'!$C$4,$W1148-4,0)&\"\")","v":""},"",{"$f":"IF(B1148=\"\",\"\",IF(ISERROR(MATCH($J1148,SorP!$B$1:$B$6230,0)),\"\",INDIRECT(\"'SorP'!$A$\"&MATCH($J1148,SorP!$B$1:$B$6230,0))))","v":""},null,{"$f":"IF(C1148=\"\",NA(),MATCH($B1148&$C1148,'Smelter Look-up'!$J:$J,0))","v":{"$error":"#N/A"}},null,0,null,null,null,""]
[{"$nulls":18},{"$f":"IF(ISERROR($W1149),\"\",OFFSET('Smelter Look-up'!$C$4,$W1149-4,0)&\"\")","v":""},"",{"$f":"IF(B1149=\"\",\"\",IF(ISERROR(MATCH($J1149,SorP!$B$1:$B$6230,0)),\"\",INDIRECT(\"'SorP'!$A$\"&MATCH($J1149,SorP!$B$1:$B$6230,0))))","v":""},null,{"$f":"IF(C1149=\"\",NA(),MATCH($B1149&$C1149,'Smelter Look-up'!$J:$J,0))","v":{"$error":"#N/A"}},null,0,null,null,null,""]
[{"$nulls":18},{"$f":"IF(ISERROR($W1150),\"\",OFFSET('Smelter Look-up'!$C$4,$W1150-4,0)&\"\")","v":""},"",{"$f":"IF(B1150=\"\",\"\",IF(ISERROR(MATCH($J1150,SorP!$B$1:$B$6230,0)),\"\",INDIRECT(\"'SorP'!$A$\"&MATCH($J1150,SorP!$B$1:$B$6230,0))))","v":""},null,{"$f":"IF(C1150=\"\",NA(),MATCH($B1150&$C1150,'Smelter Look-up'!$J:$J,0))","v":{"$error":"#N/A"}},null,0,null,null,null,""]
[{"$nulls":18},{"$f":"IF(ISERROR($W1151),\"\",OFFSET('Smelter Look-up'!$C$4,$W1151-4,0)&\"\")","v":""},"",{"$f":"IF(B1151=\"\",\"\",IF(ISERROR(MATCH($J1151,SorP!$B$1:$B$6230,0)),\"\",INDIRECT(\"'SorP'!$A$\"&MATCH($J1151,SorP!$B$1:$B$6230,0))))","v":""},null,{"$f":"IF(C1151=\"\",NA(),MATCH($B1151&$C1151,'Smelter Look-up'!$J:$J,0))","v":{"$error":"#N/A"}},null,0,null,null,null,""]
[{"$nulls":18},{"$f":"IF(ISERROR($W1152),\"\",OFFSET('Smelter Look-up'!$C$4,$W1152-4,0)&\"\")","v":""},"",{"$f":"IF(B1152=\"\",\"\",IF(ISERROR(MATCH($J1152,SorP!$B$1:$B$6230,0)),\"\",INDIRECT(\"'SorP'!$A$\"&MATCH($J1152,SorP!$B$1:$B$6230,0))))","v":""},null,{"$f":"IF(C1152=\"\",NA(),MATCH($B1152&$C1152,'Smelter Look-up'!$J:$J,0))","v":{"$error":"#N/A"}},null,0,null,null,null,""]
[{"$nulls":18},{"$f":"IF(ISERROR($W1153),\"\",OFFSET('Smelter Look-up'!$C$4,$W1153-4,0)&\"\")","v":""},"",{"$f":"IF(B1153=\"\",\"\",IF(ISERROR(MATCH($J1153,SorP!$B$1:$B$6230,0)),\"\",INDIRECT(\"'SorP'!$A$\"&MATCH($J1153,SorP!$B$1:$B$6230,0))))","v":""},null,{"$f":"IF(C1153=\"\",NA(),MATCH($B1153&$C1153,'Smelter Look-up'!$J:$J,0))","v":{"$error":"#N/A"}},null,0,null,null,null,""]
[{"$nulls":18},{"$f":"IF(ISERROR($W1154),\"\",OFFSET('Smelter Look-up'!$C$4,$W1154-4,0)&\"\")","v":""},"",{"$f":"IF(B1154=\"\",\"\",IF(ISERROR(MATCH($J1154,SorP!$B$1:$B$6230,0)),\"\",INDIRECT(\"'SorP'!$A$\"&MATCH($J1154,SorP!$B$1:$B$6230,0))))","v":""},null,{"$f":"IF(C1154=\"\",NA(),MATCH($B1154&$C1154,'Smelter Look-up'!$J:$J,0))","v":{"$error":"#N/A"}},null,0,null,null,null,""]
[{"$nulls":18},{"$f":"IF(ISERROR($W1155),\"\",OFFSET('Smelter Look-up'!$C$4,$W1155-4,0)&\"\")","v":""},"",{"$f":"IF(B1155=\"\",\"\",IF(ISERROR(MATCH($J1155,SorP!$B$1:$B$6230,0)),\"\",INDIRECT(\"'SorP'!$A$\"&MATCH($J1155,SorP!$B$1:$B$6230,0))))","v":""},null,{"$f":"IF(C1155=\"\",NA(),MATCH($B1155&$C1155,'Smelter Look-up'!$J:$J,0))","v":{"$error":"#N/A"}},null,0,null,null,null,""]
[{"$nulls":18},{"$f":"IF(ISERROR($W1156),\"\",OFFSET('Smelter Look-up'!$C$4,$W1156-4,0)&\"\")","v":""},"",{"$f":"IF(B1156=\"\",\"\",IF(ISERROR(MATCH($J1156,SorP!$B$1:$B$6230,0)),\"\",INDIRECT(\"'SorP'!$A$\"&MATCH($J1156,SorP!$B$1:$B$6230,0))))","v":""},null,{"$f":"IF(C1156=\"\",NA(),MATCH($B1156&$C1156,'Smelter Look-up'!$J:$J,0))","v":{"$error":"#N/A"}},null,0,null,null,null,""]
[{"$nulls":18},{"$f":"IF(ISERROR($W1157),\"\",OFFSET('Smelter Look-up'!$C$4,$W1157-4,0)&\"\")","v":""},{"$f":"IF(B1157=\"\",\"\",IF(ISERROR(MATCH($E1157,CL,0)),\"Unknown\",INDIRECT(\"'C'!$A$\"&MATCH($E1157,CL,0)+1)))","v":""},{"$f":"IF(B1157=\"\",\"\",IF(ISERROR(MATCH($J1157,SorP!$B$1:$B$6230,0)),\"\",INDIRECT(\"'SorP'!$A$\"&MATCH($J1157,SorP!$B$1:$B$6230,0))))","v":""},null,{"$f":"IF(C1157=\"\",NA(),MATCH($B1157&$C1157,'Smelter Look-up'!$J:$J,0))","v":{"$error":"#N/A"}},null,{"$f":"IF(AND(C1157=\"Smelter not listed\",OR(LEN(D1157)=0,LEN(E1157)=0)),1,0)","v":0},null,null,null,{"$f":"B1157&C1157","v":""}]
[{"$nulls":18},{"$f":"IF(ISERROR($W1158),\"\",OFFSET('Smelter Look-up'!$C$4,$W1158-4,0)&\"\")","v":""},"",{"$f":"IF(B1158=\"\",\"\",IF(ISERROR(MATCH($J1158,SorP!$B$1:$B$6230,0)),\"\",INDIRECT(\"'SorP'!$A$\"&MATCH($J1158,SorP!$B$1:$B$6230,0))))","v":""},null,{"$f":"IF(C1158=\"\",NA(),MATCH($B1158&$C1158,'Smelter Look-up'!$J:$J,0))","v":{"$error":"#N/A"}},null,0,null,null,null,""]
[{"$nulls":18},{"$f":"IF(ISERROR($W1159),\"\",OFFSET('Smelter Look-up'!$C$4,$W1159-4,0)&\"\")","v":""},"",{"$f":"IF(B1159=\"\",\"\",IF(ISERROR(MATCH($J1159,SorP!$B$1:$B$6230,0)),\"\",INDIRECT(\"'SorP'!$A$\"&MATCH($J1159,SorP!$B$1:$B$6230,0))))","v":""},null,{"$f":"IF(C1159=\"\",NA(),MATCH($B1159&$C1159,'Smelter Look-up'!$J:$J,0))","v":{"$error":"#N/A"}},null,0,null,null,null,""]
[{"$nulls":18},{"$f":"IF(ISERROR($W1160),\"\",OFFSET('Smelter Look-up'!$C$4,$W1160-4,0)&\"\")","v":""},"",{"$f":"IF(B1160=\"\",\"\",IF(ISERROR(MATCH($J1160,SorP!$B$1:$B$6230,0)),\"\",INDIRECT(\"'SorP'!$A$\"&MATCH($J1160,SorP!$B$1:$B$6230,0))))","v":""},null,{"$f":"IF(C1160=\"\",NA(),MATCH($B1160&$C1160,'Smelter Look-up'!$J:$J,0))","v":{"$error":"#N/A"}},null,0,null,null,null,""]
[{"$nulls":18},{"$f":"IF(ISERROR($W1161),\"\",OFFSET('Smelter Look-up'!$C$4,$W1161-4,0)&\"\")","v":""},"",{"$f":"IF(B1161=\"\",\"\",IF(ISERROR(MATCH($J1161,SorP!$B$1:$B$6230,0)),\"\",INDIRECT(\"'SorP'!$A$\"&MATCH($J1161,SorP!$B$1:$B$6230,0))))","v":""},null,{"$f":"IF(C1161=\"\",NA(),MATCH($B1161&$C1161,'Smelter Look-up'!$J:$J,0))","v":{"$error":"#N/A"}},null,0,null,null,null,""]
[{"$nulls":18},{"$f":"IF(ISERROR($W1162),\"\",OFFSET('Smelter Look-up'!$C$4,$W1162-4,0)&\"\")","v":""},"",{"$f":"IF(B1162=\"\",\"\",IF(ISERROR(MATCH($J1162,SorP!$B$1:$B$6230,0)),\"\",INDIRECT(\"'SorP'!$A$\"&MATCH($J1162,SorP!$B$1:$B$6230,0))))","v":""},null,{"$f":"IF(C1162=\"\",NA(),MATCH($B1162&$C1162,'Smelter Look-up'!$J:$J,0))","v":{"$error":"#N/A"}},null,0,null,null,null,""]
[{"$nulls":18},{"$f":"IF(ISERROR($W1163),\"\",OFFSET('Smelter Look-up'!$C$4,$W1163-4,0)&\"\")","v":""},"",{"$f":"IF(B1163=\"\",\"\",IF(ISERROR(MATCH($J1163,SorP!$B$1:$B$6230,0)),\"\",INDIRECT(\"'SorP'!$A$\"&MATCH($J1163,SorP!$B$1:$B$6230,0))))","v":""},null,{"$f":"IF(C1163=\"\",NA(),MATCH($B1163&$C1163,'Smelter Look-up'!$J:$J,0))","v":{"$error":"#N/A"}},null,0,null,null,null,""]
[{"$nulls":18},{"$f":"IF(ISERROR($W1164),\"\",OFFSET('Smelter Look-up'!$C$4,$W1164-4,0)&\"\")","v":""},"",{"$f":"IF(B1164=\"\",\"\",IF(ISERROR(MATCH($J1164,SorP!$B$1:$B$6230,0)),\"\",INDIRECT(\"'SorP'!$A$\"&MATCH($J1164,SorP!$B$1:$B$6230,0))))","v":""},null,{"$f":"IF(C1164=\"\",NA(),MATCH($B1164&$C1164,'Smelter Look-up'!$J:$J,0))","v":{"$error":"#N/A"}},null,0,null,null,null,""]
[{"$nulls":18},{"$f":"IF(ISERROR($W1165),\"\",OFFSET('Smelter Look-up'!$C$4,$W1165-4,0)&\"\")","v":""},"",{"$f":"IF(B1165=\"\",\"\",IF(ISERROR(MATCH($J1165,SorP!$B$1:$B$6230,0)),\"\",INDIRECT(\"'SorP'!$A$\"&MATCH($J1165,SorP!$B$1:$B$6230,0))))","v":""},null,{"$f":"IF(C1165=\"\",NA(),MATCH($B1165&$C1165,'Smelter Look-up'!$J:$J,0))","v":{"$error":"#N/A"}},null,0,null,null,null,""]
[{"$nulls":18},{"$f":"IF(ISERROR($W1166),\"\",OFFSET('Smelter Look-up'!$C$4,$W1166-4,0)&\"\")","v":""},"",{"$f":"IF(B1166=\"\",\"\",IF(ISERROR(MATCH($J1166,SorP!$B$1:$B$6230,0)),\"\",INDIRECT(\"'SorP'!$A$\"&MATCH($J1166,SorP!$B$1:$B$6230,0))))","v":""},null,{"$f":"IF(C1166=\"\",NA(),MATCH($B1166&$C1166,'Smelter Look-up'!$J:$J,0))","v":{"$error":"#N/A"}},null,0,null,null,null,""]
[{"$nulls":18},{"$f":"IF(ISERROR($W1167),\"\",OFFSET('Smelter Look-up'!$C$4,$W1167-4,0)&\"\")","v":""},"",{"$f":"IF(B1167=\"\",\"\",IF(ISERROR(MATCH($J1167,SorP!$B$1:$B$6230,0)),\"\",INDIRECT(\"'SorP'!$A$\"&MATCH($J1167,SorP!$B$1:$B$6230,0))))","v":""},null,{"$f":"IF(C1167=\"\",NA(),MATCH($B1167&$C1167,'Smelter Look-up'!$J:$J,0))","v":{"$error":"#N/A"}},null,0,null,null,null,""]
[{"$nulls":18},{"$f":"IF(ISERROR($W1168),\"\",OFFSET('Smelter Look-up'!$C$4,$W1168-4,0)&\"\")","v":""},"",{"$f":"IF(B1168=\"\",\"\",IF(ISERROR(MATCH($J1168,SorP!$B$1:$B$6230,0)),\"\",INDIRECT(\"'SorP'!$A$\"&MATCH($J1168,SorP!$B$1:$B$6230,0))))","v":""},null,{"$f":"IF(C1168=\"\",NA(),MATCH($B1168&$C1168,'Smelter Look-up'!$J:$J,0))","v":{"$error":"#N/A"}},null,0,null,null,null,""]
[{"$nulls":18},{"$f":"IF(ISERROR($W1169),\"\",OFFSET('Smelter Look-up'!$C$4,$W1169-4,0)&\"\")","v":""},"",{"$f":"IF(B1169=\"\",\"\",IF(ISERROR(MATCH($J1169,SorP!$B$1:$B$6230,0)),\"\",INDIRECT(\"'SorP'!$A$\"&MATCH($J1169,SorP!$B$1:$B$6230,0))))","v":""},null,{"$f":"IF(C1169=\"\",NA(),MATCH($B1169&$C1169,'Smelter Look-up'!$J:$J,0))","v":{"$error":"#N/A"}},null,0,null,null,null,""]
[{"$nulls":18},{"$f":"IF(ISERROR($W1170),\"\",OFFSET('Smelter Look-up'!$C$4,$W1170-4,0)&\"\")","v":""},"",{"$f":"IF(B1170=\"\",\"\",IF(ISERROR(MATCH($J1170,SorP!$B$1:$B$6230,0)),\"\",INDIRECT(\"'SorP'!$A$\"&MATCH($J1170,SorP!$B$1:$B$6230,0))))","v":""},null,{"$f":"IF(C1170=\"\",NA(),MATCH($B1170&$C1170,'Smelter Look-up'!$J:$J,0))","v":{"$error":"#N/A"}},null,0,null,null,null,""]
[{"$nulls":18},{"$f":"IF(ISERROR($W1171),\"\",OFFSET('Smelter Look-up'!$C$4,$W1171-4,0)&\"\")","v":""},"",{"$f":"IF(B1171=\"\",\"\",IF(ISERROR(MATCH($J1171,SorP!$B$1:$B$6230,0)),\"\",INDIRECT(\"'SorP'!$A$\"&MATCH($J1171,SorP!$B$1:$B$6230,0))))","v":""},null,{"$f":"IF(C1171=\"\",NA(),MATCH($B1171&$C1171,'Smelter Look-up'!$J:$J,0))","v":{"$error":"#N/A"}},null,0,null,null,null,""]
[{"$nulls":18},{"$f":"IF(ISERROR($W1172),\"\",OFFSET('Smelter Look-up'!$C$4,$W1172-4,0)&\"\")","v":""},"",{"$f":"IF(B1172=\"\",\"\",IF(ISERROR(MATCH($J1172,SorP!$B$1:$B$6230,0)),\"\",INDIRECT(\"'SorP'!$A$\"&MATCH($J1172,SorP!$B$1:$B$6230,0))))","v":""},null,{"$f":"IF(C1172=\"\",NA(),MATCH($B1172&$C1172,'Smelter Look-up'!$J:$J,0))","v":{"$error":"#N/A"}},null,0,null,null,null,""]
[{"$nulls":18},{"$f":"IF(ISERROR($W1173),\"\",OFFSET('Smelter Look-up'!$C$4,$W1173-4,0)&\"\")","v":""},"",{"$f":"IF(B1173=\"\",\"\",IF(ISERROR(MATCH($J1173,SorP!$B$1:$B$6230,0)),\"\",INDIRECT(\"'SorP'!$A$\"&MATCH($J1173,SorP!$B$1:$B$6230,0))))","v":""},null,{"$f":"IF(C1173=\"\",NA(),MATCH($B1173&$C1173,'Smelter Look-up'!$J:$J,0))","v":{"$error":"#N/A"}},null,0,null,null,null,""]
[{"$nulls":18},{"$f":"IF(ISERROR($W1174),\"\",OFFSET('Smelter Look-up'!$C$4,$W1174-4,0)&\"\")","v":""},"",{"$f":"IF(B1174=\"\",\"\",IF(ISERROR(MATCH($J1174,SorP!$B$1:$B$6230,0)),\"\",INDIRECT(\"'SorP'!$A$\"&MATCH($J1174,SorP!$B$1:$B$6230,0))))","v":""},null,{"$f":"IF(C1174=\"\",NA(),MATCH($B1174&$C1174,'Smelter Look-up'!$J:$J,0))","v":{"$error":"#N/A"}},null,0,null,null,null,""]
[{"$nulls":18},{"$f":"IF(ISERROR($W1175),\"\",OFFSET('Smelter Look-up'!$C$4,$W1175-4,0)&\"\")","v":""},"",{"$f":"IF(B1175=\"\",\"\",IF(ISERROR(MATCH($J1175,SorP!$B$1:$B$6230,0)),\"\",INDIRECT(\"'SorP'!$A$\"&MATCH($J1175,SorP!$B$1:$B$6230,0))))","v":""},null,{"$f":"IF(C1175=\"\",NA(),MATCH($B1175&$C1175,'Smelter Look-up'!$J:$J,0))","v":{"$error":"#N/A"}},null,0,null,null,null,""]
[{"$nulls":18},{"$f":"IF(ISERROR($W1176),\"\",OFFSET('Smelter Look-up'!$C$4,$W1176-4,0)&\"\")","v":""},"",{"$f":"IF(B1176=\"\",\"\",IF(ISERROR(MATCH($J1176,SorP!$B$1:$B$6230,0)),\"\",INDIRECT(\"'SorP'!$A$\"&MATCH($J1176,SorP!$B$1:$B$6230,0))))","v":""},null,{"$f":"IF(C1176=\"\",NA(),MATCH($B1176&$C1176,'Smelter Look-up'!$J:$J,0))","v":{"$error":"#N/A"}},null,0,null,null,null,""]
[{"$nulls":18},{"$f":"IF(ISERROR($W1177),\"\",OFFSET('Smelter Look-up'!$C$4,$W1177-4,0)&\"\")","v":""},"",{"$f":"IF(B1177=\"\",\"\",IF(ISERROR(MATCH($J1177,SorP!$B$1:$B$6230,0)),\"\",INDIRECT(\"'SorP'!$A$\"&MATCH($J1177,SorP!$B$1:$B$6230,0))))","v":""},null,{"$f":"IF(C1177=\"\",NA(),MATCH($B1177&$C1177,'Smelter Look-up'!$J:$J,0))","v":{"$error":"#N/A"}},null,0,null,null,null,""]
[{"$nulls":18},{"$f":"IF(ISERROR($W1178),\"\",OFFSET('Smelter Look-up'!$C$4,$W1178-4,0)&\"\")","v":""},"",{"$f":"IF(B1178=\"\",\"\",IF(ISERROR(MATCH($J1178,SorP!$B$1:$B$6230,0)),\"\",INDIRECT(\"'SorP'!$A$\"&MATCH($J1178,SorP!$B$1:$B$6230,0))))","v":""},null,{"$f":"IF(C1178=\"\",NA(),MATCH($B1178&$C1178,'Smelter Look-up'!$J:$J,0))","v":{"$error":"#N/A"}},null,0,null,null,null,""]
[{"$nulls":18},{"$f":"IF(ISERROR($W1179),\"\",OFFSET('Smelter Look-up'!$C$4,$W1179-4,0)&\"\")","v":""},"",{"$f":"IF(B1179=\"\",\"\",IF(ISERROR(MATCH($J1179,SorP!$B$1:$B$6230,0)),\"\",INDIRECT(\"'SorP'!$A$\"&MATCH($J1179,SorP!$B$1:$B$6230,0))))","v":""},null,{"$f":"IF(C1179=\"\",NA(),MATCH($B1179&$C1179,'Smelter Look-up'!$J:$J,0))","v":{"$error":"#N/A"}},null,0,null,null,null,""]
[{"$nulls":18},{"$f":"IF(ISERROR($W1180),\"\",OFFSET('Smelter Look-up'!$C$4,$W1180-4,0)&\"\")","v":""},"",{"$f":"IF(B1180=\"\",\"\",IF(ISERROR(MATCH($J1180,SorP!$B$1:$B$6230,0)),\"\",INDIRECT(\"'SorP'!$A$\"&MATCH($J1180,SorP!$B$1:$B$6230,0))))","v":""},null,{"$f":"IF(C1180=\"\",NA(),MATCH($B1180&$C1180,'Smelter Look-up'!$J:$J,0))","v":{"$error":"#N/A"}},null,0,null,null,null,""]
[{"$nulls":18},{"$f":"IF(ISERROR($W1181),\"\",OFFSET('Smelter Look-up'!$C$4,$W1181-4,0)&\"\")","v":""},"",{"$f":"IF(B1181=\"\",\"\",IF(ISERROR(MATCH($J1181,SorP!$B$1:$B$6230,0)),\"\",INDIRECT(\"'SorP'!$A$\"&MATCH($J1181,SorP!$B$1:$B$6230,0))))","v":""},null,{"$f":"IF(C1181=\"\",NA(),MATCH($B1181&$C1181,'Smelter Look-up'!$J:$J,0))","v":{"$error":"#N/A"}},null,0,null,null,null,""]
[{"$nulls":18},{"$f":"IF(ISERROR($W1182),\"\",OFFSET('Smelter Look-up'!$C$4,$W1182-4,0)&\"\")","v":""},"",{"$f":"IF(B1182=\"\",\"\",IF(ISERROR(MATCH($J1182,SorP!$B$1:$B$6230,0)),\"\",INDIRECT(\"'SorP'!$A$\"&MATCH($J1182,SorP!$B$1:$B$6230,0))))","v":""},null,{"$f":"IF(C1182=\"\",NA(),MATCH($B1182&$C1182,'Smelter Look-up'!$J:$J,0))","v":{"$error":"#N/A"}},null,0,null,null,null,""]
[{"$nulls":18},{"$f":"IF(ISERROR($W1183),\"\",OFFSET('Smelter Look-up'!$C$4,$W1183-4,0)&\"\")","v":""},"",{"$f":"IF(B1183=\"\",\"\",IF(ISERROR(MATCH($J1183,SorP!$B$1:$B$6230,0)),\"\",INDIRECT(\"'SorP'!$A$\"&MATCH($J1183,SorP!$B$1:$B$6230,0))))","v":""},null,{"$f":"IF(C1183=\"\",NA(),MATCH($B1183&$C1183,'Smelter Look-up'!$J:$J,0))","v":{"$error":"#N/A"}},null,0,null,null,null,""]
[{"$nulls":18},{"$f":"IF(ISERROR($W1184),\"\",OFFSET('Smelter Look-up'!$C$4,$W1184-4,0)&\"\")","v":""},"",{"$f":"IF(B1184=\"\",\"\",IF(ISERROR(MATCH($J1184,SorP!$B$1:$B$6230,0)),\"\",INDIRECT(\"'SorP'!$A$\"&MATCH($J1184,SorP!$B$1:$B$6230,0))))","v":""},null,{"$f":"IF(C1184=\"\",NA(),MATCH($B1184&$C1184,'Smelter Look-up'!$J:$J,0))","v":{"$error":"#N/A"}},null,0,null,null,null,""]
[{"$nulls":18},{"$f":"IF(ISERROR($W1185),\"\",OFFSET('Smelter Look-up'!$C$4,$W1185-4,0)&\"\")","v":""},"",{"$f":"IF(B1185=\"\",\"\",IF(ISERROR(MATCH($J1185,SorP!$B$1:$B$6230,0)),\"\",INDIRECT(\"'SorP'!$A$\"&MATCH($J1185,SorP!$B$1:$B$6230,0))))","v":""},null,{"$f":"IF(C1185=\"\",NA(),MATCH($B1185&$C1185,'Smelter Look-up'!$J:$J,0))","v":{"$error":"#N/A"}},null,0,null,null,null,""]
[{"$nulls":18},{"$f":"IF(ISERROR($W1186),\"\",OFFSET('Smelter Look-up'!$C$4,$W1186-4,0)&\"\")","v":""},"",{"$f":"IF(B1186=\"\",\"\",IF(ISERROR(MATCH($J1186,SorP!$B$1:$B$6230,0)),\"\",INDIRECT(\"'SorP'!$A$\"&MATCH($J1186,SorP!$B$1:$B$6230,0))))","v":""},null,{"$f":"IF(C1186=\"\",NA(),MATCH($B1186&$C1186,'Smelter Look-up'!$J:$J,0))","v":{"$error":"#N/A"}},null,0,null,null,null,""]
[{"$nulls":18},{"$f":"IF(ISERROR($W1187),\"\",OFFSET('Smelter Look-up'!$C$4,$W1187-4,0)&\"\")","v":""},"",{"$f":"IF(B1187=\"\",\"\",IF(ISERROR(MATCH($J1187,SorP!$B$1:$B$6230,0)),\"\",INDIRECT(\"'SorP'!$A$\"&MATCH($J1187,SorP!$B$1:$B$6230,0))))","v":""},null,{"$f":"IF(C1187=\"\",NA(),MATCH($B1187&$C1187,'Smelter Look-up'!$J:$J,0))","v":{"$error":"#N/A"}},null,0,null,null,null,""]
[{"$nulls":18},{"$f":"IF(ISERROR($W1188),\"\",OFFSET('Smelter Look-up'!$C$4,$W1188-4,0)&\"\")","v":""},"",{"$f":"IF(B1188=\"\",\"\",IF(ISERROR(MATCH($J1188,SorP!$B$1:$B$6230,0)),\"\",INDIRECT(\"'SorP'!$A$\"&MATCH($J1188,SorP!$B$1:$B$6230,0))))","v":""},null,{"$f":"IF(C1188=\"\",NA(),MATCH($B1188&$C1188,'Smelter Look-up'!$J:$J,0))","v":{"$error":"#N/A"}},null,0,null,null,null,""]
[{"$nulls":18},{"$f":"IF(ISERROR($W1189),\"\",OFFSET('Smelter Look-up'!$C$4,$W1189-4,0)&\"\")","v":""},"",{"$f":"IF(B1189=\"\",\"\",IF(ISERROR(MATCH($J1189,SorP!$B$1:$B$6230,0)),\"\",INDIRECT(\"'SorP'!$A$\"&MATCH($J1189,SorP!$B$1:$B$6230,0))))","v":""},null,{"$f":"IF(C1189=\"\",NA(),MATCH($B1189&$C1189,'Smelter Look-up'!$J:$J,0))","v":{"$error":"#N/A"}},null,0,null,null,null,""]
[{"$nulls":18},{"$f":"IF(ISERROR($W1190),\"\",OFFSET('Smelter Look-up'!$C$4,$W1190-4,0)&\"\")","v":""},"",{"$f":"IF(B1190=\"\",\"\",IF(ISERROR(MATCH($J1190,SorP!$B$1:$B$6230,0)),\"\",INDIRECT(\"'SorP'!$A$\"&MATCH($J1190,SorP!$B$1:$B$6230,0))))","v":""},null,{"$f":"IF(C1190=\"\",NA(),MATCH($B1190&$C1190,'Smelter Look-up'!$J:$J,0))","v":{"$error":"#N/A"}},null,0,null,null,null,""]
[{"$nulls":18},{"$f":"IF(ISERROR($W1191),\"\",OFFSET('Smelter Look-up'!$C$4,$W1191-4,0)&\"\")","v":""},"",{"$f":"IF(B1191=\"\",\"\",IF(ISERROR(MATCH($J1191,SorP!$B$1:$B$6230,0)),\"\",INDIRECT(\"'SorP'!$A$\"&MATCH($J1191,SorP!$B$1:$B$6230,0))))","v":""},null,{"$f":"IF(C1191=\"\",NA(),MATCH($B1191&$C1191,'Smelter Look-up'!$J:$J,0))","v":{"$error":"#N/A"}},null,0,null,null,null,""]
[{"$nulls":18},{"$f":"IF(ISERROR($W1192),\"\",OFFSET('Smelter Look-up'!$C$4,$W1192-4,0)&\"\")","v":""},"",{"$f":"IF(B1192=\"\",\"\",IF(ISERROR(MATCH($J1192,SorP!$B$1:$B$6230,0)),\"\",INDIRECT(\"'SorP'!$A$\"&MATCH($J1192,SorP!$B$1:$B$6230,0))))","v":""},null,{"$f":"IF(C1192=\"\",NA(),MATCH($B1192&$C1192,'Smelter Look-up'!$J:$J,0))","v":{"$error":"#N/A"}},null,0,null,null,null,""]
[{"$nulls":18},{"$f":"IF(ISERROR($W1193),\"\",OFFSET('Smelter Look-up'!$C$4,$W1193-4,0)&\"\")","v":""},"",{"$f":"IF(B1193=\"\",\"\",IF(ISERROR(MATCH($J1193,SorP!$B$1:$B$6230,0)),\"\",INDIRECT(\"'SorP'!$A$\"&MATCH($J1193,SorP!$B$1:$B$6230,0))))","v":""},null,{"$f":"IF(C1193=\"\",NA(),MATCH($B1193&$C1193,'Smelter Look-up'!$J:$J,0))","v":{"$error":"#N/A"}},null,0,null,null,null,""]
[{"$nulls":18},{"$f":"IF(ISERROR($W1194),\"\",OFFSET('Smelter Look-up'!$C$4,$W1194-4,0)&\"\")","v":""},"",{"$f":"IF(B1194=\"\",\"\",IF(ISERROR(MATCH($J1194,SorP!$B$1:$B$6230,0)),\"\",INDIRECT(\"'SorP'!$A$\"&MATCH($J1194,SorP!$B$1:$B$6230,0))))","v":""},null,{"$f":"IF(C1194=\"\",NA(),MATCH($B1194&$C1194,'Smelter Look-up'!$J:$J,0))","v":{"$error":"#N/A"}},null,0,null,null,null,""]
[{"$nulls":18},{"$f":"IF(ISERROR($W1195),\"\",OFFSET('Smelter Look-up'!$C$4,$W1195-4,0)&\"\")","v":""},"",{"$f":"IF(B1195=\"\",\"\",IF(ISERROR(MATCH($J1195,SorP!$B$1:$B$6230,0)),\"\",INDIRECT(\"'SorP'!$A$\"&MATCH($J1195,SorP!$B$1:$B$6230,0))))","v":""},null,{"$f":"IF(C1195=\"\",NA(),MATCH($B1195&$C1195,'Smelter Look-up'!$J:$J,0))","v":{"$error":"#N/A"}},null,0,null,null,null,""]
[{"$nulls":18},{"$f":"IF(ISERROR($W1196),\"\",OFFSET('Smelter Look-up'!$C$4,$W1196-4,0)&\"\")","v":""},"",{"$f":"IF(B1196=\"\",\"\",IF(ISERROR(MATCH($J1196,SorP!$B$1:$B$6230,0)),\"\",INDIRECT(\"'SorP'!$A$\"&MATCH($J1196,SorP!$B$1:$B$6230,0))))","v":""},null,{"$f":"IF(C1196=\"\",NA(),MATCH($B1196&$C1196,'Smelter Look-up'!$J:$J,0))","v":{"$error":"#N/A"}},null,0,null,null,null,""]
[{"$nulls":18},{"$f":"IF(ISERROR($W1197),\"\",OFFSET('Smelter Look-up'!$C$4,$W1197-4,0)&\"\")","v":""},"",{"$f":"IF(B1197=\"\",\"\",IF(ISERROR(MATCH($J1197,SorP!$B$1:$B$6230,0)),\"\",INDIRECT(\"'SorP'!$A$\"&MATCH($J1197,SorP!$B$1:$B$6230,0))))","v":""},null,{"$f":"IF(C1197=\"\",NA(),MATCH($B1197&$C1197,'Smelter Look-up'!$J:$J,0))","v":{"$error":"#N/A"}},null,0,null,null,null,""]
[{"$nulls":18},{"$f":"IF(ISERROR($W1198),\"\",OFFSET('Smelter Look-up'!$C$4,$W1198-4,0)&\"\")","v":""},"",{"$f":"IF(B1198=\"\",\"\",IF(ISERROR(MATCH($J1198,SorP!$B$1:$B$6230,0)),\"\",INDIRECT(\"'SorP'!$A$\"&MATCH($J1198,SorP!$B$1:$B$6230,0))))","v":""},null,{"$f":"IF(C1198=\"\",NA(),MATCH($B1198&$C1198,'Smelter Look-up'!$J:$J,0))","v":{"$error":"#N/A"}},null,0,null,null,null,""]
[{"$nulls":18},{"$f":"IF(ISERROR($W1199),\"\",OFFSET('Smelter Look-up'!$C$4,$W1199-4,0)&\"\")","v":""},"",{"$f":"IF(B1199=\"\",\"\",IF(ISERROR(MATCH($J1199,SorP!$B$1:$B$6230,0)),\"\",INDIRECT(\"'SorP'!$A$\"&MATCH($J1199,SorP!$B$1:$B$6230,0))))","v":""},null,{"$f":"IF(C1199=\"\",NA(),MATCH($B1199&$C1199,'Smelter Look-up'!$J:$J,0))","v":{"$error":"#N/A"}},null,0,null,null,null,""]
[{"$nulls":18},{"$f":"IF(ISERROR($W1200),\"\",OFFSET('Smelter Look-up'!$C$4,$W1200-4,0)&\"\")","v":""},"",{"$f":"IF(B1200=\"\",\"\",IF(ISERROR(MATCH($J1200,SorP!$B$1:$B$6230,0)),\"\",INDIRECT(\"'SorP'!$A$\"&MATCH($J1200,SorP!$B$1:$B$6230,0))))","v":""},null,{"$f":"IF(C1200=\"\",NA(),MATCH($B1200&$C1200,'Smelter Look-up'!$J:$J,0))","v":{"$error":"#N/A"}},null,0,null,null,null,""]
[{"$nulls":18},{"$f":"IF(ISERROR($W1201),\"\",OFFSET('Smelter Look-up'!$C$4,$W1201-4,0)&\"\")","v":""},"",{"$f":"IF(B1201=\"\",\"\",IF(ISERROR(MATCH($J1201,SorP!$B$1:$B$6230,0)),\"\",INDIRECT(\"'SorP'!$A$\"&MATCH($J1201,SorP!$B$1:$B$6230,0))))","v":""},null,{"$f":"IF(C1201=\"\",NA(),MATCH($B1201&$C1201,'Smelter Look-up'!$J:$J,0))","v":{"$error":"#N/A"}},null,0,null,null,null,""]
[{"$nulls":18},{"$f":"IF(ISERROR($W1202),\"\",OFFSET('Smelter Look-up'!$C$4,$W1202-4,0)&\"\")","v":""},"",{"$f":"IF(B1202=\"\",\"\",IF(ISERROR(MATCH($J1202,SorP!$B$1:$B$6230,0)),\"\",INDIRECT(\"'SorP'!$A$\"&MATCH($J1202,SorP!$B$1:$B$6230,0))))","v":""},null,{"$f":"IF(C1202=\"\",NA(),MATCH($B1202&$C1202,'Smelter Look-up'!$J:$J,0))","v":{"$error":"#N/A"}},null,0,null,null,null,""]
[{"$nulls":18},{"$f":"IF(ISERROR($W1203),\"\",OFFSET('Smelter Look-up'!$C$4,$W1203-4,0)&\"\")","v":""},"",{"$f":"IF(B1203=\"\",\"\",IF(ISERROR(MATCH($J1203,SorP!$B$1:$B$6230,0)),\"\",INDIRECT(\"'SorP'!$A$\"&MATCH($J1203,SorP!$B$1:$B$6230,0))))","v":""},null,{"$f":"IF(C1203=\"\",NA(),MATCH($B1203&$C1203,'Smelter Look-up'!$J:$J,0))","v":{"$error":"#N/A"}},null,0,null,null,null,""]
[{"$nulls":18},{"$f":"IF(ISERROR($W1204),\"\",OFFSET('Smelter Look-up'!$C$4,$W1204-4,0)&\"\")","v":""},"",{"$f":"IF(B1204=\"\",\"\",IF(ISERROR(MATCH($J1204,SorP!$B$1:$B$6230,0)),\"\",INDIRECT(\"'SorP'!$A$\"&MATCH($J1204,SorP!$B$1:$B$6230,0))))","v":""},null,{"$f":"IF(C1204=\"\",NA(),MATCH($B1204&$C1204,'Smelter Look-up'!$J:$J,0))","v":{"$error":"#N/A"}},null,0,null,null,null,""]
[{"$nulls":18},{"$f":"IF(ISERROR($W1205),\"\",OFFSET('Smelter Look-up'!$C$4,$W1205-4,0)&\"\")","v":""},"",{"$f":"IF(B1205=\"\",\"\",IF(ISERROR(MATCH($J1205,SorP!$B$1:$B$6230,0)),\"\",INDIRECT(\"'SorP'!$A$\"&MATCH($J1205,SorP!$B$1:$B$6230,0))))","v":""},null,{"$f":"IF(C1205=\"\",NA(),MATCH($B1205&$C1205,'Smelter Look-up'!$J:$J,0))","v":{"$error":"#N/A"}},null,0,null,null,null,""]
[{"$nulls":18},{"$f":"IF(ISERROR($W1206),\"\",OFFSET('Smelter Look-up'!$C$4,$W1206-4,0)&\"\")","v":""},"",{"$f":"IF(B1206=\"\",\"\",IF(ISERROR(MATCH($J1206,SorP!$B$1:$B$6230,0)),\"\",INDIRECT(\"'SorP'!$A$\"&MATCH($J1206,SorP!$B$1:$B$6230,0))))","v":""},null,{"$f":"IF(C1206=\"\",NA(),MATCH($B1206&$C1206,'Smelter Look-up'!$J:$J,0))","v":{"$error":"#N/A"}},null,0,null,null,null,""]
[{"$nulls":18},{"$f":"IF(ISERROR($W1207),\"\",OFFSET('Smelter Look-up'!$C$4,$W1207-4,0)&\"\")","v":""},"",{"$f":"IF(B1207=\"\",\"\",IF(ISERROR(MATCH($J1207,SorP!$B$1:$B$6230,0)),\"\",INDIRECT(\"'SorP'!$A$\"&MATCH($J1207,SorP!$B$1:$B$6230,0))))","v":""},null,{"$f":"IF(C1207=\"\",NA(),MATCH($B1207&$C1207,'Smelter Look-up'!$J:$J,0))","v":{"$error":"#N/A"}},null,0,null,null,null,""]
[{"$nulls":18},{"$f":"IF(ISERROR($W1208),\"\",OFFSET('Smelter Look-up'!$C$4,$W1208-4,0)&\"\")","v":""},"",{"$f":"IF(B1208=\"\",\"\",IF(ISERROR(MATCH($J1208,SorP!$B$1:$B$6230,0)),\"\",INDIRECT(\"'SorP'!$A$\"&MATCH($J1208,SorP!$B$1:$B$6230,0))))","v":""},null,{"$f":"IF(C1208=\"\",NA(),MATCH($B1208&$C1208,'Smelter Look-up'!$J:$J,0))","v":{"$error":"#N/A"}},null,0,null,null,null,""]
[{"$nulls":18},{"$f":"IF(ISERROR($W1209),\"\",OFFSET('Smelter Look-up'!$C$4,$W1209-4,0)&\"\")","v":""},"",{"$f":"IF(B1209=\"\",\"\",IF(ISERROR(MATCH($J1209,SorP!$B$1:$B$6230,0)),\"\",INDIRECT(\"'SorP'!$A$\"&MATCH($J1209,SorP!$B$1:$B$6230,0))))","v":""},null,{"$f":"IF(C1209=\"\",NA(),MATCH($B1209&$C1209,'Smelter Look-up'!$J:$J,0))","v":{"$error":"#N/A"}},null,0,null,null,null,""]
[{"$nulls":18},{"$f":"IF(ISERROR($W1210),\"\",OFFSET('Smelter Look-up'!$C$4,$W1210-4,0)&\"\")","v":""},"",{"$f":"IF(B1210=\"\",\"\",IF(ISERROR(MATCH($J1210,SorP!$B$1:$B$6230,0)),\"\",INDIRECT(\"'SorP'!$A$\"&MATCH($J1210,SorP!$B$1:$B$6230,0))))","v":""},null,{"$f":"IF(C1210=\"\",NA(),MATCH($B1210&$C1210,'Smelter Look-up'!$J:$J,0))","v":{"$error":"#N/A"}},null,0,null,null,null,""]
[{"$nulls":18},{"$f":"IF(ISERROR($W1211),\"\",OFFSET('Smelter Look-up'!$C$4,$W1211-4,0)&\"\")","v":""},"",{"$f":"IF(B1211=\"\",\"\",IF(ISERROR(MATCH($J1211,SorP!$B$1:$B$6230,0)),\"\",INDIRECT(\"'SorP'!$A$\"&MATCH($J1211,SorP!$B$1:$B$6230,0))))","v":""},null,{"$f":"IF(C1211=\"\",NA(),MATCH($B1211&$C1211,'Smelter Look-up'!$J:$J,0))","v":{"$error":"#N/A"}},null,0,null,null,null,""]
[{"$nulls":18},{"$f":"IF(ISERROR($W1212),\"\",OFFSET('Smelter Look-up'!$C$4,$W1212-4,0)&\"\")","v":""},"",{"$f":"IF(B1212=\"\",\"\",IF(ISERROR(MATCH($J1212,SorP!$B$1:$B$6230,0)),\"\",INDIRECT(\"'SorP'!$A$\"&MATCH($J1212,SorP!$B$1:$B$6230,0))))","v":""},null,{"$f":"IF(C1212=\"\",NA(),MATCH($B1212&$C1212,'Smelter Look-up'!$J:$J,0))","v":{"$error":"#N/A"}},null,0,null,null,null,""]
[{"$nulls":18},{"$f":"IF(ISERROR($W1213),\"\",OFFSET('Smelter Look-up'!$C$4,$W1213-4,0)&\"\")","v":""},"",{"$f":"IF(B1213=\"\",\"\",IF(ISERROR(MATCH($J1213,SorP!$B$1:$B$6230,0)),\"\",INDIRECT(\"'SorP'!$A$\"&MATCH($J1213,SorP!$B$1:$B$6230,0))))","v":""},null,{"$f":"IF(C1213=\"\",NA(),MATCH($B1213&$C1213,'Smelter Look-up'!$J:$J,0))","v":{"$error":"#N/A"}},null,0,null,null,null,""]
[{"$nulls":18},{"$f":"IF(ISERROR($W1214),\"\",OFFSET('Smelter Look-up'!$C$4,$W1214-4,0)&\"\")","v":""},"",{"$f":"IF(B1214=\"\",\"\",IF(ISERROR(MATCH($J1214,SorP!$B$1:$B$6230,0)),\"\",INDIRECT(\"'SorP'!$A$\"&MATCH($J1214,SorP!$B$1:$B$6230,0))))","v":""},null,{"$f":"IF(C1214=\"\",NA(),MATCH($B1214&$C1214,'Smelter Look-up'!$J:$J,0))","v":{"$error":"#N/A"}},null,0,null,null,null,""]
[{"$nulls":18},{"$f":"IF(ISERROR($W1215),\"\",OFFSET('Smelter Look-up'!$C$4,$W1215-4,0)&\"\")","v":""},"",{"$f":"IF(B1215=\"\",\"\",IF(ISERROR(MATCH($J1215,SorP!$B$1:$B$6230,0)),\"\",INDIRECT(\"'SorP'!$A$\"&MATCH($J1215,SorP!$B$1:$B$6230,0))))","v":""},null,{"$f":"IF(C1215=\"\",NA(),MATCH($B1215&$C1215,'Smelter Look-up'!$J:$J,0))","v":{"$error":"#N/A"}},null,0,null,null,null,""]
[{"$nulls":18},{"$f":"IF(ISERROR($W1216),\"\",OFFSET('Smelter Look-up'!$C$4,$W1216-4,0)&\"\")","v":""},"",{"$f":"IF(B1216=\"\",\"\",IF(ISERROR(MATCH($J1216,SorP!$B$1:$B$6230,0)),\"\",INDIRECT(\"'SorP'!$A$\"&MATCH($J1216,SorP!$B$1:$B$6230,0))))","v":""},null,{"$f":"IF(C1216=\"\",NA(),MATCH($B1216&$C1216,'Smelter Look-up'!$J:$J,0))","v":{"$error":"#N/A"}},null,0,null,null,null,""]
[{"$nulls":18},{"$f":"IF(ISERROR($W1217),\"\",OFFSET('Smelter Look-up'!$C$4,$W1217-4,0)&\"\")","v":""},"",{"$f":"IF(B1217=\"\",\"\",IF(ISERROR(MATCH($J1217,SorP!$B$1:$B$6230,0)),\"\",INDIRECT(\"'SorP'!$A$\"&MATCH($J1217,SorP!$B$1:$B$6230,0))))","v":""},null,{"$f":"IF(C1217=\"\",NA(),MATCH($B1217&$C1217,'Smelter Look-up'!$J:$J,0))","v":{"$error":"#N/A"}},null,0,null,null,null,""]
[{"$nulls":18},{"$f":"IF(ISERROR($W1218),\"\",OFFSET('Smelter Look-up'!$C$4,$W1218-4,0)&\"\")","v":""},"",{"$f":"IF(B1218=\"\",\"\",IF(ISERROR(MATCH($J1218,SorP!$B$1:$B$6230,0)),\"\",INDIRECT(\"'SorP'!$A$\"&MATCH($J1218,SorP!$B$1:$B$6230,0))))","v":""},null,{"$f":"IF(C1218=\"\",NA(),MATCH($B1218&$C1218,'Smelter Look-up'!$J:$J,0))","v":{"$error":"#N/A"}},null,0,null,null,null,""]
[{"$nulls":18},{"$f":"IF(ISERROR($W1219),\"\",OFFSET('Smelter Look-up'!$C$4,$W1219-4,0)&\"\")","v":""},"",{"$f":"IF(B1219=\"\",\"\",IF(ISERROR(MATCH($J1219,SorP!$B$1:$B$6230,0)),\"\",INDIRECT(\"'SorP'!$A$\"&MATCH($J1219,SorP!$B$1:$B$6230,0))))","v":""},null,{"$f":"IF(C1219=\"\",NA(),MATCH($B1219&$C1219,'Smelter Look-up'!$J:$J,0))","v":{"$error":"#N/A"}},null,0,null,null,null,""]
[{"$nulls":18},{"$f":"IF(ISERROR($W1220),\"\",OFFSET('Smelter Look-up'!$C$4,$W1220-4,0)&\"\")","v":""},"",{"$f":"IF(B1220=\"\",\"\",IF(ISERROR(MATCH($J1220,SorP!$B$1:$B$6230,0)),\"\",INDIRECT(\"'SorP'!$A$\"&MATCH($J1220,SorP!$B$1:$B$6230,0))))","v":""},null,{"$f":"IF(C1220=\"\",NA(),MATCH($B1220&$C1220,'Smelter Look-up'!$J:$J,0))","v":{"$error":"#N/A"}},null,0,null,null,null,""]
[{"$nulls":18},{"$f":"IF(ISERROR($W1221),\"\",OFFSET('Smelter Look-up'!$C$4,$W1221-4,0)&\"\")","v":""},{"$f":"IF(B1221=\"\",\"\",IF(ISERROR(MATCH($E1221,CL,0)),\"Unknown\",INDIRECT(\"'C'!$A$\"&MATCH($E1221,CL,0)+1)))","v":""},{"$f":"IF(B1221=\"\",\"\",IF(ISERROR(MATCH($J1221,SorP!$B$1:$B$6230,0)),\"\",INDIRECT(\"'SorP'!$A$\"&MATCH($J1221,SorP!$B$1:$B$6230,0))))","v":""},null,{"$f":"IF(C1221=\"\",NA(),MATCH($B1221&$C1221,'Smelter Look-up'!$J:$J,0))","v":{"$error":"#N/A"}},null,{"$f":"IF(AND(C1221=\"Smelter not listed\",OR(LEN(D1221)=0,LEN(E1221)=0)),1,0)","v":0},null,null,null,{"$f":"B1221&C1221","v":""}]
[{"$nulls":18},{"$f":"IF(ISERROR($W1222),\"\",OFFSET('Smelter Look-up'!$C$4,$W1222-4,0)&\"\")","v":""},"",{"$f":"IF(B1222=\"\",\"\",IF(ISERROR(MATCH($J1222,SorP!$B$1:$B$6230,0)),\"\",INDIRECT(\"'SorP'!$A$\"&MATCH($J1222,SorP!$B$1:$B$6230,0))))","v":""},null,{"$f":"IF(C1222=\"\",NA(),MATCH($B1222&$C1222,'Smelter Look-up'!$J:$J,0))","v":{"$error":"#N/A"}},null,0,null,null,null,""]
[{"$nulls":18},{"$f":"IF(ISERROR($W1223),\"\",OFFSET('Smelter Look-up'!$C$4,$W1223-4,0)&\"\")","v":""},"",{"$f":"IF(B1223=\"\",\"\",IF(ISERROR(MATCH($J1223,SorP!$B$1:$B$6230,0)),\"\",INDIRECT(\"'SorP'!$A$\"&MATCH($J1223,SorP!$B$1:$B$6230,0))))","v":""},null,{"$f":"IF(C1223=\"\",NA(),MATCH($B1223&$C1223,'Smelter Look-up'!$J:$J,0))","v":{"$error":"#N/A"}},null,0,null,null,null,""]
[{"$nulls":18},{"$f":"IF(ISERROR($W1224),\"\",OFFSET('Smelter Look-up'!$C$4,$W1224-4,0)&\"\")","v":""},"",{"$f":"IF(B1224=\"\",\"\",IF(ISERROR(MATCH($J1224,SorP!$B$1:$B$6230,0)),\"\",INDIRECT(\"'SorP'!$A$\"&MATCH($J1224,SorP!$B$1:$B$6230,0))))","v":""},null,{"$f":"IF(C1224=\"\",NA(),MATCH($B1224&$C1224,'Smelter Look-up'!$J:$J,0))","v":{"$error":"#N/A"}},null,0,null,null,null,""]
[{"$nulls":18},{"$f":"IF(ISERROR($W1225),\"\",OFFSET('Smelter Look-up'!$C$4,$W1225-4,0)&\"\")","v":""},"",{"$f":"IF(B1225=\"\",\"\",IF(ISERROR(MATCH($J1225,SorP!$B$1:$B$6230,0)),\"\",INDIRECT(\"'SorP'!$A$\"&MATCH($J1225,SorP!$B$1:$B$6230,0))))","v":""},null,{"$f":"IF(C1225=\"\",NA(),MATCH($B1225&$C1225,'Smelter Look-up'!$J:$J,0))","v":{"$error":"#N/A"}},null,0,null,null,null,""]
[{"$nulls":18},{"$f":"IF(ISERROR($W1226),\"\",OFFSET('Smelter Look-up'!$C$4,$W1226-4,0)&\"\")","v":""},"",{"$f":"IF(B1226=\"\",\"\",IF(ISERROR(MATCH($J1226,SorP!$B$1:$B$6230,0)),\"\",INDIRECT(\"'SorP'!$A$\"&MATCH($J1226,SorP!$B$1:$B$6230,0))))","v":""},null,{"$f":"IF(C1226=\"\",NA(),MATCH($B1226&$C1226,'Smelter Look-up'!$J:$J,0))","v":{"$error":"#N/A"}},null,0,null,null,null,""]
[{"$nulls":18},{"$f":"IF(ISERROR($W1227),\"\",OFFSET('Smelter Look-up'!$C$4,$W1227-4,0)&\"\")","v":""},"",{"$f":"IF(B1227=\"\",\"\",IF(ISERROR(MATCH($J1227,SorP!$B$1:$B$6230,0)),\"\",INDIRECT(\"'SorP'!$A$\"&MATCH($J1227,SorP!$B$1:$B$6230,0))))","v":""},null,{"$f":"IF(C1227=\"\",NA(),MATCH($B1227&$C1227,'Smelter Look-up'!$J:$J,0))","v":{"$error":"#N/A"}},null,0,null,null,null,""]
[{"$nulls":18},{"$f":"IF(ISERROR($W1228),\"\",OFFSET('Smelter Look-up'!$C$4,$W1228-4,0)&\"\")","v":""},"",{"$f":"IF(B1228=\"\",\"\",IF(ISERROR(MATCH($J1228,SorP!$B$1:$B$6230,0)),\"\",INDIRECT(\"'SorP'!$A$\"&MATCH($J1228,SorP!$B$1:$B$6230,0))))","v":""},null,{"$f":"IF(C1228=\"\",NA(),MATCH($B1228&$C1228,'Smelter Look-up'!$J:$J,0))","v":{"$error":"#N/A"}},null,0,null,null,null,""]
[{"$nulls":18},{"$f":"IF(ISERROR($W1229),\"\",OFFSET('Smelter Look-up'!$C$4,$W1229-4,0)&\"\")","v":""},"",{"$f":"IF(B1229=\"\",\"\",IF(ISERROR(MATCH($J1229,SorP!$B$1:$B$6230,0)),\"\",INDIRECT(\"'SorP'!$A$\"&MATCH($J1229,SorP!$B$1:$B$6230,0))))","v":""},null,{"$f":"IF(C1229=\"\",NA(),MATCH($B1229&$C1229,'Smelter Look-up'!$J:$J,0))","v":{"$error":"#N/A"}},null,0,null,null,null,""]
[{"$nulls":18},{"$f":"IF(ISERROR($W1230),\"\",OFFSET('Smelter Look-up'!$C$4,$W1230-4,0)&\"\")","v":""},"",{"$f":"IF(B1230=\"\",\"\",IF(ISERROR(MATCH($J1230,SorP!$B$1:$B$6230,0)),\"\",INDIRECT(\"'SorP'!$A$\"&MATCH($J1230,SorP!$B$1:$B$6230,0))))","v":""},null,{"$f":"IF(C1230=\"\",NA(),MATCH($B1230&$C1230,'Smelter Look-up'!$J:$J,0))","v":{"$error":"#N/A"}},null,0,null,null,null,""]
[{"$nulls":18},{"$f":"IF(ISERROR($W1231),\"\",OFFSET('Smelter Look-up'!$C$4,$W1231-4,0)&\"\")","v":""},"",{"$f":"IF(B1231=\"\",\"\",IF(ISERROR(MATCH($J1231,SorP!$B$1:$B$6230,0)),\"\",INDIRECT(\"'SorP'!$A$\"&MATCH($J1231,SorP!$B$1:$B$6230,0))))","v":""},null,{"$f":"IF(C1231=\"\",NA(),MATCH($B1231&$C1231,'Smelter Look-up'!$J:$J,0))","v":{"$error":"#N/A"}},null,0,null,null,null,""]
[{"$nulls":18},{"$f":"IF(ISERROR($W1232),\"\",OFFSET('Smelter Look-up'!$C$4,$W1232-4,0)&\"\")","v":""},"",{"$f":"IF(B1232=\"\",\"\",IF(ISERROR(MATCH($J1232,SorP!$B$1:$B$6230,0)),\"\",INDIRECT(\"'SorP'!$A$\"&MATCH($J1232,SorP!$B$1:$B$6230,0))))","v":""},null,{"$f":"IF(C1232=\"\",NA(),MATCH($B1232&$C1232,'Smelter Look-up'!$J:$J,0))","v":{"$error":"#N/A"}},null,0,null,null,null,""]
[{"$nulls":18},{"$f":"IF(ISERROR($W1233),\"\",OFFSET('Smelter Look-up'!$C$4,$W1233-4,0)&\"\")","v":""},"",{"$f":"IF(B1233=\"\",\"\",IF(ISERROR(MATCH($J1233,SorP!$B$1:$B$6230,0)),\"\",INDIRECT(\"'SorP'!$A$\"&MATCH($J1233,SorP!$B$1:$B$6230,0))))","v":""},null,{"$f":"IF(C1233=\"\",NA(),MATCH($B1233&$C1233,'Smelter Look-up'!$J:$J,0))","v":{"$error":"#N/A"}},null,0,null,null,null,""]
[{"$nulls":18},{"$f":"IF(ISERROR($W1234),\"\",OFFSET('Smelter Look-up'!$C$4,$W1234-4,0)&\"\")","v":""},"",{"$f":"IF(B1234=\"\",\"\",IF(ISERROR(MATCH($J1234,SorP!$B$1:$B$6230,0)),\"\",INDIRECT(\"'SorP'!$A$\"&MATCH($J1234,SorP!$B$1:$B$6230,0))))","v":""},null,{"$f":"IF(C1234=\"\",NA(),MATCH($B1234&$C1234,'Smelter Look-up'!$J:$J,0))","v":{"$error":"#N/A"}},null,0,null,null,null,""]
[{"$nulls":18},{"$f":"IF(ISERROR($W1235),\"\",OFFSET('Smelter Look-up'!$C$4,$W1235-4,0)&\"\")","v":""},"",{"$f":"IF(B1235=\"\",\"\",IF(ISERROR(MATCH($J1235,SorP!$B$1:$B$6230,0)),\"\",INDIRECT(\"'SorP'!$A$\"&MATCH($J1235,SorP!$B$1:$B$6230,0))))","v":""},null,{"$f":"IF(C1235=\"\",NA(),MATCH($B1235&$C1235,'Smelter Look-up'!$J:$J,0))","v":{"$error":"#N/A"}},null,0,null,null,null,""]
[{"$nulls":18},{"$f":"IF(ISERROR($W1236),\"\",OFFSET('Smelter Look-up'!$C$4,$W1236-4,0)&\"\")","v":""},"",{"$f":"IF(B1236=\"\",\"\",IF(ISERROR(MATCH($J1236,SorP!$B$1:$B$6230,0)),\"\",INDIRECT(\"'SorP'!$A$\"&MATCH($J1236,SorP!$B$1:$B$6230,0))))","v":""},null,{"$f":"IF(C1236=\"\",NA(),MATCH($B1236&$C1236,'Smelter Look-up'!$J:$J,0))","v":{"$error":"#N/A"}},null,0,null,null,null,""]
[{"$nulls":18},{"$f":"IF(ISERROR($W1237),\"\",OFFSET('Smelter Look-up'!$C$4,$W1237-4,0)&\"\")","v":""},"",{"$f":"IF(B1237=\"\",\"\",IF(ISERROR(MATCH($J1237,SorP!$B$1:$B$6230,0)),\"\",INDIRECT(\"'SorP'!$A$\"&MATCH($J1237,SorP!$B$1:$B$6230,0))))","v":""},null,{"$f":"IF(C1237=\"\",NA(),MATCH($B1237&$C1237,'Smelter Look-up'!$J:$J,0))","v":{"$error":"#N/A"}},null,0,null,null,null,""]
[{"$nulls":18},{"$f":"IF(ISERROR($W1238),\"\",OFFSET('Smelter Look-up'!$C$4,$W1238-4,0)&\"\")","v":""},"",{"$f":"IF(B1238=\"\",\"\",IF(ISERROR(MATCH($J1238,SorP!$B$1:$B$6230,0)),\"\",INDIRECT(\"'SorP'!$A$\"&MATCH($J1238,SorP!$B$1:$B$6230,0))))","v":""},null,{"$f":"IF(C1238=\"\",NA(),MATCH($B1238&$C1238,'Smelter Look-up'!$J:$J,0))","v":{"$error":"#N/A"}},null,0,null,null,null,""]
[{"$nulls":18},{"$f":"IF(ISERROR($W1239),\"\",OFFSET('Smelter Look-up'!$C$4,$W1239-4,0)&\"\")","v":""},"",{"$f":"IF(B1239=\"\",\"\",IF(ISERROR(MATCH($J1239,SorP!$B$1:$B$6230,0)),\"\",INDIRECT(\"'SorP'!$A$\"&MATCH($J1239,SorP!$B$1:$B$6230,0))))","v":""},null,{"$f":"IF(C1239=\"\",NA(),MATCH($B1239&$C1239,'Smelter Look-up'!$J:$J,0))","v":{"$error":"#N/A"}},null,0,null,null,null,""]
[{"$nulls":18},{"$f":"IF(ISERROR($W1240),\"\",OFFSET('Smelter Look-up'!$C$4,$W1240-4,0)&\"\")","v":""},"",{"$f":"IF(B1240=\"\",\"\",IF(ISERROR(MATCH($J1240,SorP!$B$1:$B$6230,0)),\"\",INDIRECT(\"'SorP'!$A$\"&MATCH($J1240,SorP!$B$1:$B$6230,0))))","v":""},null,{"$f":"IF(C1240=\"\",NA(),MATCH($B1240&$C1240,'Smelter Look-up'!$J:$J,0))","v":{"$error":"#N/A"}},null,0,null,null,null,""]
[{"$nulls":18},{"$f":"IF(ISERROR($W1241),\"\",OFFSET('Smelter Look-up'!$C$4,$W1241-4,0)&\"\")","v":""},"",{"$f":"IF(B1241=\"\",\"\",IF(ISERROR(MATCH($J1241,SorP!$B$1:$B$6230,0)),\"\",INDIRECT(\"'SorP'!$A$\"&MATCH($J1241,SorP!$B$1:$B$6230,0))))","v":""},null,{"$f":"IF(C1241=\"\",NA(),MATCH($B1241&$C1241,'Smelter Look-up'!$J:$J,0))","v":{"$error":"#N/A"}},null,0,null,null,null,""]
[{"$nulls":18},{"$f":"IF(ISERROR($W1242),\"\",OFFSET('Smelter Look-up'!$C$4,$W1242-4,0)&\"\")","v":""},"",{"$f":"IF(B1242=\"\",\"\",IF(ISERROR(MATCH($J1242,SorP!$B$1:$B$6230,0)),\"\",INDIRECT(\"'SorP'!$A$\"&MATCH($J1242,SorP!$B$1:$B$6230,0))))","v":""},null,{"$f":"IF(C1242=\"\",NA(),MATCH($B1242&$C1242,'Smelter Look-up'!$J:$J,0))","v":{"$error":"#N/A"}},null,0,null,null,null,""]
[{"$nulls":18},{"$f":"IF(ISERROR($W1243),\"\",OFFSET('Smelter Look-up'!$C$4,$W1243-4,0)&\"\")","v":""},"",{"$f":"IF(B1243=\"\",\"\",IF(ISERROR(MATCH($J1243,SorP!$B$1:$B$6230,0)),\"\",INDIRECT(\"'SorP'!$A$\"&MATCH($J1243,SorP!$B$1:$B$6230,0))))","v":""},null,{"$f":"IF(C1243=\"\",NA(),MATCH($B1243&$C1243,'Smelter Look-up'!$J:$J,0))","v":{"$error":"#N/A"}},null,0,null,null,null,""]
[{"$nulls":18},{"$f":"IF(ISERROR($W1244),\"\",OFFSET('Smelter Look-up'!$C$4,$W1244-4,0)&\"\")","v":""},"",{"$f":"IF(B1244=\"\",\"\",IF(ISERROR(MATCH($J1244,SorP!$B$1:$B$6230,0)),\"\",INDIRECT(\"'SorP'!$A$\"&MATCH($J1244,SorP!$B$1:$B$6230,0))))","v":""},null,{"$f":"IF(C1244=\"\",NA(),MATCH($B1244&$C1244,'Smelter Look-up'!$J:$J,0))","v":{"$error":"#N/A"}},null,0,null,null,null,""]
[{"$nulls":18},{"$f":"IF(ISERROR($W1245),\"\",OFFSET('Smelter Look-up'!$C$4,$W1245-4,0)&\"\")","v":""},"",{"$f":"IF(B1245=\"\",\"\",IF(ISERROR(MATCH($J1245,SorP!$B$1:$B$6230,0)),\"\",INDIRECT(\"'SorP'!$A$\"&MATCH($J1245,SorP!$B$1:$B$6230,0))))","v":""},null,{"$f":"IF(C1245=\"\",NA(),MATCH($B1245&$C1245,'Smelter Look-up'!$J:$J,0))","v":{"$error":"#N/A"}},null,0,null,null,null,""]
[{"$nulls":18},{"$f":"IF(ISERROR($W1246),\"\",OFFSET('Smelter Look-up'!$C$4,$W1246-4,0)&\"\")","v":""},"",{"$f":"IF(B1246=\"\",\"\",IF(ISERROR(MATCH($J1246,SorP!$B$1:$B$6230,0)),\"\",INDIRECT(\"'SorP'!$A$\"&MATCH($J1246,SorP!$B$1:$B$6230,0))))","v":""},null,{"$f":"IF(C1246=\"\",NA(),MATCH($B1246&$C1246,'Smelter Look-up'!$J:$J,0))","v":{"$error":"#N/A"}},null,0,null,null,null,""]
[{"$nulls":18},{"$f":"IF(ISERROR($W1247),\"\",OFFSET('Smelter Look-up'!$C$4,$W1247-4,0)&\"\")","v":""},"",{"$f":"IF(B1247=\"\",\"\",IF(ISERROR(MATCH($J1247,SorP!$B$1:$B$6230,0)),\"\",INDIRECT(\"'SorP'!$A$\"&MATCH($J1247,SorP!$B$1:$B$6230,0))))","v":""},null,{"$f":"IF(C1247=\"\",NA(),MATCH($B1247&$C1247,'Smelter Look-up'!$J:$J,0))","v":{"$error":"#N/A"}},null,0,null,null,null,""]
[{"$nulls":18},{"$f":"IF(ISERROR($W1248),\"\",OFFSET('Smelter Look-up'!$C$4,$W1248-4,0)&\"\")","v":""},"",{"$f":"IF(B1248=\"\",\"\",IF(ISERROR(MATCH($J1248,SorP!$B$1:$B$6230,0)),\"\",INDIRECT(\"'SorP'!$A$\"&MATCH($J1248,SorP!$B$1:$B$6230,0))))","v":""},null,{"$f":"IF(C1248=\"\",NA(),MATCH($B1248&$C1248,'Smelter Look-up'!$J:$J,0))","v":{"$error":"#N/A"}},null,0,null,null,null,""]
[{"$nulls":18},{"$f":"IF(ISERROR($W1249),\"\",OFFSET('Smelter Look-up'!$C$4,$W1249-4,0)&\"\")","v":""},"",{"$f":"IF(B1249=\"\",\"\",IF(ISERROR(MATCH($J1249,SorP!$B$1:$B$6230,0)),\"\",INDIRECT(\"'SorP'!$A$\"&MATCH($J1249,SorP!$B$1:$B$6230,0))))","v":""},null,{"$f":"IF(C1249=\"\",NA(),MATCH($B1249&$C1249,'Smelter Look-up'!$J:$J,0))","v":{"$error":"#N/A"}},null,0,null,null,null,""]
[{"$nulls":18},{"$f":"IF(ISERROR($W1250),\"\",OFFSET('Smelter Look-up'!$C$4,$W1250-4,0)&\"\")","v":""},"",{"$f":"IF(B1250=\"\",\"\",IF(ISERROR(MATCH($J1250,SorP!$B$1:$B$6230,0)),\"\",INDIRECT(\"'SorP'!$A$\"&MATCH($J1250,SorP!$B$1:$B$6230,0))))","v":""},null,{"$f":"IF(C1250=\"\",NA(),MATCH($B1250&$C1250,'Smelter Look-up'!$J:$J,0))","v":{"$error":"#N/A"}},null,0,null,null,null,""]
[{"$nulls":18},{"$f":"IF(ISERROR($W1251),\"\",OFFSET('Smelter Look-up'!$C$4,$W1251-4,0)&\"\")","v":""},"",{"$f":"IF(B1251=\"\",\"\",IF(ISERROR(MATCH($J1251,SorP!$B$1:$B$6230,0)),\"\",INDIRECT(\"'SorP'!$A$\"&MATCH($J1251,SorP!$B$1:$B$6230,0))))","v":""},null,{"$f":"IF(C1251=\"\",NA(),MATCH($B1251&$C1251,'Smelter Look-up'!$J:$J,0))","v":{"$error":"#N/A"}},null,0,null,null,null,""]
[{"$nulls":18},{"$f":"IF(ISERROR($W1252),\"\",OFFSET('Smelter Look-up'!$C$4,$W1252-4,0)&\"\")","v":""},"",{"$f":"IF(B1252=\"\",\"\",IF(ISERROR(MATCH($J1252,SorP!$B$1:$B$6230,0)),\"\",INDIRECT(\"'SorP'!$A$\"&MATCH($J1252,SorP!$B$1:$B$6230,0))))","v":""},null,{"$f":"IF(C1252=\"\",NA(),MATCH($B1252&$C1252,'Smelter Look-up'!$J:$J,0))","v":{"$error":"#N/A"}},null,0,null,null,null,""]
[{"$nulls":18},{"$f":"IF(ISERROR($W1253),\"\",OFFSET('Smelter Look-up'!$C$4,$W1253-4,0)&\"\")","v":""},"",{"$f":"IF(B1253=\"\",\"\",IF(ISERROR(MATCH($J1253,SorP!$B$1:$B$6230,0)),\"\",INDIRECT(\"'SorP'!$A$\"&MATCH($J1253,SorP!$B$1:$B$6230,0))))","v":""},null,{"$f":"IF(C1253=\"\",NA(),MATCH($B1253&$C1253,'Smelter Look-up'!$J:$J,0))","v":{"$error":"#N/A"}},null,0,null,null,null,""]
[{"$nulls":18},{"$f":"IF(ISERROR($W1254),\"\",OFFSET('Smelter Look-up'!$C$4,$W1254-4,0)&\"\")","v":""},"",{"$f":"IF(B1254=\"\",\"\",IF(ISERROR(MATCH($J1254,SorP!$B$1:$B$6230,0)),\"\",INDIRECT(\"'SorP'!$A$\"&MATCH($J1254,SorP!$B$1:$B$6230,0))))","v":""},null,{"$f":"IF(C1254=\"\",NA(),MATCH($B1254&$C1254,'Smelter Look-up'!$J:$J,0))","v":{"$error":"#N/A"}},null,0,null,null,null,""]
[{"$nulls":18},{"$f":"IF(ISERROR($W1255),\"\",OFFSET('Smelter Look-up'!$C$4,$W1255-4,0)&\"\")","v":""},"",{"$f":"IF(B1255=\"\",\"\",IF(ISERROR(MATCH($J1255,SorP!$B$1:$B$6230,0)),\"\",INDIRECT(\"'SorP'!$A$\"&MATCH($J1255,SorP!$B$1:$B$6230,0))))","v":""},null,{"$f":"IF(C1255=\"\",NA(),MATCH($B1255&$C1255,'Smelter Look-up'!$J:$J,0))","v":{"$error":"#N/A"}},null,0,null,null,null,""]
[{"$nulls":18},{"$f":"IF(ISERROR($W1256),\"\",OFFSET('Smelter Look-up'!$C$4,$W1256-4,0)&\"\")","v":""},"",{"$f":"IF(B1256=\"\",\"\",IF(ISERROR(MATCH($J1256,SorP!$B$1:$B$6230,0)),\"\",INDIRECT(\"'SorP'!$A$\"&MATCH($J1256,SorP!$B$1:$B$6230,0))))","v":""},null,{"$f":"IF(C1256=\"\",NA(),MATCH($B1256&$C1256,'Smelter Look-up'!$J:$J,0))","v":{"$error":"#N/A"}},null,0,null,null,null,""]
[{"$nulls":18},{"$f":"IF(ISERROR($W1257),\"\",OFFSET('Smelter Look-up'!$C$4,$W1257-4,0)&\"\")","v":""},"",{"$f":"IF(B1257=\"\",\"\",IF(ISERROR(MATCH($J1257,SorP!$B$1:$B$6230,0)),\"\",INDIRECT(\"'SorP'!$A$\"&MATCH($J1257,SorP!$B$1:$B$6230,0))))","v":""},null,{"$f":"IF(C1257=\"\",NA(),MATCH($B1257&$C1257,'Smelter Look-up'!$J:$J,0))","v":{"$error":"#N/A"}},null,0,null,null,null,""]
[{"$nulls":18},{"$f":"IF(ISERROR($W1258),\"\",OFFSET('Smelter Look-up'!$C$4,$W1258-4,0)&\"\")","v":""},"",{"$f":"IF(B1258=\"\",\"\",IF(ISERROR(MATCH($J1258,SorP!$B$1:$B$6230,0)),\"\",INDIRECT(\"'SorP'!$A$\"&MATCH($J1258,SorP!$B$1:$B$6230,0))))","v":""},null,{"$f":"IF(C1258=\"\",NA(),MATCH($B1258&$C1258,'Smelter Look-up'!$J:$J,0))","v":{"$error":"#N/A"}},null,0,null,null,null,""]
[{"$nulls":18},{"$f":"IF(ISERROR($W1259),\"\",OFFSET('Smelter Look-up'!$C$4,$W1259-4,0)&\"\")","v":""},"",{"$f":"IF(B1259=\"\",\"\",IF(ISERROR(MATCH($J1259,SorP!$B$1:$B$6230,0)),\"\",INDIRECT(\"'SorP'!$A$\"&MATCH($J1259,SorP!$B$1:$B$6230,0))))","v":""},null,{"$f":"IF(C1259=\"\",NA(),MATCH($B1259&$C1259,'Smelter Look-up'!$J:$J,0))","v":{"$error":"#N/A"}},null,0,null,null,null,""]
[{"$nulls":18},{"$f":"IF(ISERROR($W1260),\"\",OFFSET('Smelter Look-up'!$C$4,$W1260-4,0)&\"\")","v":""},"",{"$f":"IF(B1260=\"\",\"\",IF(ISERROR(MATCH($J1260,SorP!$B$1:$B$6230,0)),\"\",INDIRECT(\"'SorP'!$A$\"&MATCH($J1260,SorP!$B$1:$B$6230,0))))","v":""},null,{"$f":"IF(C1260=\"\",NA(),MATCH($B1260&$C1260,'Smelter Look-up'!$J:$J,0))","v":{"$error":"#N/A"}},null,0,null,null,null,""]
[{"$nulls":18},{"$f":"IF(ISERROR($W1261),\"\",OFFSET('Smelter Look-up'!$C$4,$W1261-4,0)&\"\")","v":""},"",{"$f":"IF(B1261=\"\",\"\",IF(ISERROR(MATCH($J1261,SorP!$B$1:$B$6230,0)),\"\",INDIRECT(\"'SorP'!$A$\"&MATCH($J1261,SorP!$B$1:$B$6230,0))))","v":""},null,{"$f":"IF(C1261=\"\",NA(),MATCH($B1261&$C1261,'Smelter Look-up'!$J:$J,0))","v":{"$error":"#N/A"}},null,0,null,null,null,""]
[{"$nulls":18},{"$f":"IF(ISERROR($W1262),\"\",OFFSET('Smelter Look-up'!$C$4,$W1262-4,0)&\"\")","v":""},"",{"$f":"IF(B1262=\"\",\"\",IF(ISERROR(MATCH($J1262,SorP!$B$1:$B$6230,0)),\"\",INDIRECT(\"'SorP'!$A$\"&MATCH($J1262,SorP!$B$1:$B$6230,0))))","v":""},null,{"$f":"IF(C1262=\"\",NA(),MATCH($B1262&$C1262,'Smelter Look-up'!$J:$J,0))","v":{"$error":"#N/A"}},null,0,null,null,null,""]
[{"$nulls":18},{"$f":"IF(ISERROR($W1263),\"\",OFFSET('Smelter Look-up'!$C$4,$W1263-4,0)&\"\")","v":""},"",{"$f":"IF(B1263=\"\",\"\",IF(ISERROR(MATCH($J1263,SorP!$B$1:$B$6230,0)),\"\",INDIRECT(\"'SorP'!$A$\"&MATCH($J1263,SorP!$B$1:$B$6230,0))))","v":""},null,{"$f":"IF(C1263=\"\",NA(),MATCH($B1263&$C1263,'Smelter Look-up'!$J:$J,0))","v":{"$error":"#N/A"}},null,0,null,null,null,""]
[{"$nulls":18},{"$f":"IF(ISERROR($W1264),\"\",OFFSET('Smelter Look-up'!$C$4,$W1264-4,0)&\"\")","v":""},"",{"$f":"IF(B1264=\"\",\"\",IF(ISERROR(MATCH($J1264,SorP!$B$1:$B$6230,0)),\"\",INDIRECT(\"'SorP'!$A$\"&MATCH($J1264,SorP!$B$1:$B$6230,0))))","v":""},null,{"$f":"IF(C1264=\"\",NA(),MATCH($B1264&$C1264,'Smelter Look-up'!$J:$J,0))","v":{"$error":"#N/A"}},null,0,null,null,null,""]
[{"$nulls":18},{"$f":"IF(ISERROR($W1265),\"\",OFFSET('Smelter Look-up'!$C$4,$W1265-4,0)&\"\")","v":""},"",{"$f":"IF(B1265=\"\",\"\",IF(ISERROR(MATCH($J1265,SorP!$B$1:$B$6230,0)),\"\",INDIRECT(\"'SorP'!$A$\"&MATCH($J1265,SorP!$B$1:$B$6230,0))))","v":""},null,{"$f":"IF(C1265=\"\",NA(),MATCH($B1265&$C1265,'Smelter Look-up'!$J:$J,0))","v":{"$error":"#N/A"}},null,0,null,null,null,""]
[{"$nulls":18},{"$f":"IF(ISERROR($W1266),\"\",OFFSET('Smelter Look-up'!$C$4,$W1266-4,0)&\"\")","v":""},"",{"$f":"IF(B1266=\"\",\"\",IF(ISERROR(MATCH($J1266,SorP!$B$1:$B$6230,0)),\"\",INDIRECT(\"'SorP'!$A$\"&MATCH($J1266,SorP!$B$1:$B$6230,0))))","v":""},null,{"$f":"IF(C1266=\"\",NA(),MATCH($B1266&$C1266,'Smelter Look-up'!$J:$J,0))","v":{"$error":"#N/A"}},null,0,null,null,null,""]
[{"$nulls":18},{"$f":"IF(ISERROR($W1267),\"\",OFFSET('Smelter Look-up'!$C$4,$W1267-4,0)&\"\")","v":""},"",{"$f":"IF(B1267=\"\",\"\",IF(ISERROR(MATCH($J1267,SorP!$B$1:$B$6230,0)),\"\",INDIRECT(\"'SorP'!$A$\"&MATCH($J1267,SorP!$B$1:$B$6230,0))))","v":""},null,{"$f":"IF(C1267=\"\",NA(),MATCH($B1267&$C1267,'Smelter Look-up'!$J:$J,0))","v":{"$error":"#N/A"}},null,0,null,null,null,""]
[{"$nulls":18},{"$f":"IF(ISERROR($W1268),\"\",OFFSET('Smelter Look-up'!$C$4,$W1268-4,0)&\"\")","v":""},"",{"$f":"IF(B1268=\"\",\"\",IF(ISERROR(MATCH($J1268,SorP!$B$1:$B$6230,0)),\"\",INDIRECT(\"'SorP'!$A$\"&MATCH($J1268,SorP!$B$1:$B$6230,0))))","v":""},null,{"$f":"IF(C1268=\"\",NA(),MATCH($B1268&$C1268,'Smelter Look-up'!$J:$J,0))","v":{"$error":"#N/A"}},null,0,null,null,null,""]
[{"$nulls":18},{"$f":"IF(ISERROR($W1269),\"\",OFFSET('Smelter Look-up'!$C$4,$W1269-4,0)&\"\")","v":""},"",{"$f":"IF(B1269=\"\",\"\",IF(ISERROR(MATCH($J1269,SorP!$B$1:$B$6230,0)),\"\",INDIRECT(\"'SorP'!$A$\"&MATCH($J1269,SorP!$B$1:$B$6230,0))))","v":""},null,{"$f":"IF(C1269=\"\",NA(),MATCH($B1269&$C1269,'Smelter Look-up'!$J:$J,0))","v":{"$error":"#N/A"}},null,0,null,null,null,""]
[{"$nulls":18},{"$f":"IF(ISERROR($W1270),\"\",OFFSET('Smelter Look-up'!$C$4,$W1270-4,0)&\"\")","v":""},"",{"$f":"IF(B1270=\"\",\"\",IF(ISERROR(MATCH($J1270,SorP!$B$1:$B$6230,0)),\"\",INDIRECT(\"'SorP'!$A$\"&MATCH($J1270,SorP!$B$1:$B$6230,0))))","v":""},null,{"$f":"IF(C1270=\"\",NA(),MATCH($B1270&$C1270,'Smelter Look-up'!$J:$J,0))","v":{"$error":"#N/A"}},null,0,null,null,null,""]
[{"$nulls":18},{"$f":"IF(ISERROR($W1271),\"\",OFFSET('Smelter Look-up'!$C$4,$W1271-4,0)&\"\")","v":""},"",{"$f":"IF(B1271=\"\",\"\",IF(ISERROR(MATCH($J1271,SorP!$B$1:$B$6230,0)),\"\",INDIRECT(\"'SorP'!$A$\"&MATCH($J1271,SorP!$B$1:$B$6230,0))))","v":""},null,{"$f":"IF(C1271=\"\",NA(),MATCH($B1271&$C1271,'Smelter Look-up'!$J:$J,0))","v":{"$error":"#N/A"}},null,0,null,null,null,""]
[{"$nulls":18},{"$f":"IF(ISERROR($W1272),\"\",OFFSET('Smelter Look-up'!$C$4,$W1272-4,0)&\"\")","v":""},"",{"$f":"IF(B1272=\"\",\"\",IF(ISERROR(MATCH($J1272,SorP!$B$1:$B$6230,0)),\"\",INDIRECT(\"'SorP'!$A$\"&MATCH($J1272,SorP!$B$1:$B$6230,0))))","v":""},null,{"$f":"IF(C1272=\"\",NA(),MATCH($B1272&$C1272,'Smelter Look-up'!$J:$J,0))","v":{"$error":"#N/A"}},null,0,null,null,null,""]
[{"$nulls":18},{"$f":"IF(ISERROR($W1273),\"\",OFFSET('Smelter Look-up'!$C$4,$W1273-4,0)&\"\")","v":""},"",{"$f":"IF(B1273=\"\",\"\",IF(ISERROR(MATCH($J1273,SorP!$B$1:$B$6230,0)),\"\",INDIRECT(\"'SorP'!$A$\"&MATCH($J1273,SorP!$B$1:$B$6230,0))))","v":""},null,{"$f":"IF(C1273=\"\",NA(),MATCH($B1273&$C1273,'Smelter Look-up'!$J:$J,0))","v":{"$error":"#N/A"}},null,0,null,null,null,""]
[{"$nulls":18},{"$f":"IF(ISERROR($W1274),\"\",OFFSET('Smelter Look-up'!$C$4,$W1274-4,0)&\"\")","v":""},"",{"$f":"IF(B1274=\"\",\"\",IF(ISERROR(MATCH($J1274,SorP!$B$1:$B$6230,0)),\"\",INDIRECT(\"'SorP'!$A$\"&MATCH($J1274,SorP!$B$1:$B$6230,0))))","v":""},null,{"$f":"IF(C1274=\"\",NA(),MATCH($B1274&$C1274,'Smelter Look-up'!$J:$J,0))","v":{"$error":"#N/A"}},null,0,null,null,null,""]
[{"$nulls":18},{"$f":"IF(ISERROR($W1275),\"\",OFFSET('Smelter Look-up'!$C$4,$W1275-4,0)&\"\")","v":""},"",{"$f":"IF(B1275=\"\",\"\",IF(ISERROR(MATCH($J1275,SorP!$B$1:$B$6230,0)),\"\",INDIRECT(\"'SorP'!$A$\"&MATCH($J1275,SorP!$B$1:$B$6230,0))))","v":""},null,{"$f":"IF(C1275=\"\",NA(),MATCH($B1275&$C1275,'Smelter Look-up'!$J:$J,0))","v":{"$error":"#N/A"}},null,0,null,null,null,""]
[{"$nulls":18},{"$f":"IF(ISERROR($W1276),\"\",OFFSET('Smelter Look-up'!$C$4,$W1276-4,0)&\"\")","v":""},"",{"$f":"IF(B1276=\"\",\"\",IF(ISERROR(MATCH($J1276,SorP!$B$1:$B$6230,0)),\"\",INDIRECT(\"'SorP'!$A$\"&MATCH($J1276,SorP!$B$1:$B$6230,0))))","v":""},null,{"$f":"IF(C1276=\"\",NA(),MATCH($B1276&$C1276,'Smelter Look-up'!$J:$J,0))","v":{"$error":"#N/A"}},null,0,null,null,null,""]
[{"$nulls":18},{"$f":"IF(ISERROR($W1277),\"\",OFFSET('Smelter Look-up'!$C$4,$W1277-4,0)&\"\")","v":""},"",{"$f":"IF(B1277=\"\",\"\",IF(ISERROR(MATCH($J1277,SorP!$B$1:$B$6230,0)),\"\",INDIRECT(\"'SorP'!$A$\"&MATCH($J1277,SorP!$B$1:$B$6230,0))))","v":""},null,{"$f":"IF(C1277=\"\",NA(),MATCH($B1277&$C1277,'Smelter Look-up'!$J:$J,0))","v":{"$error":"#N/A"}},null,0,null,null,null,""]
[{"$nulls":18},{"$f":"IF(ISERROR($W1278),\"\",OFFSET('Smelter Look-up'!$C$4,$W1278-4,0)&\"\")","v":""},"",{"$f":"IF(B1278=\"\",\"\",IF(ISERROR(MATCH($J1278,SorP!$B$1:$B$6230,0)),\"\",INDIRECT(\"'SorP'!$A$\"&MATCH($J1278,SorP!$B$1:$B$6230,0))))","v":""},null,{"$f":"IF(C1278=\"\",NA(),MATCH($B1278&$C1278,'Smelter Look-up'!$J:$J,0))","v":{"$error":"#N/A"}},null,0,null,null,null,""]
[{"$nulls":18},{"$f":"IF(ISERROR($W1279),\"\",OFFSET('Smelter Look-up'!$C$4,$W1279-4,0)&\"\")","v":""},"",{"$f":"IF(B1279=\"\",\"\",IF(ISERROR(MATCH($J1279,SorP!$B$1:$B$6230,0)),\"\",INDIRECT(\"'SorP'!$A$\"&MATCH($J1279,SorP!$B$1:$B$6230,0))))","v":""},null,{"$f":"IF(C1279=\"\",NA(),MATCH($B1279&$C1279,'Smelter Look-up'!$J:$J,0))","v":{"$error":"#N/A"}},null,0,null,null,null,""]
[{"$nulls":18},{"$f":"IF(ISERROR($W1280),\"\",OFFSET('Smelter Look-up'!$C$4,$W1280-4,0)&\"\")","v":""},"",{"$f":"IF(B1280=\"\",\"\",IF(ISERROR(MATCH($J1280,SorP!$B$1:$B$6230,0)),\"\",INDIRECT(\"'SorP'!$A$\"&MATCH($J1280,SorP!$B$1:$B$6230,0))))","v":""},null,{"$f":"IF(C1280=\"\",NA(),MATCH($B1280&$C1280,'Smelter Look-up'!$J:$J,0))","v":{"$error":"#N/A"}},null,0,null,null,null,""]
[{"$nulls":18},{"$f":"IF(ISERROR($W1281),\"\",OFFSET('Smelter Look-up'!$C$4,$W1281-4,0)&\"\")","v":""},"",{"$f":"IF(B1281=\"\",\"\",IF(ISERROR(MATCH($J1281,SorP!$B$1:$B$6230,0)),\"\",INDIRECT(\"'SorP'!$A$\"&MATCH($J1281,SorP!$B$1:$B$6230,0))))","v":""},null,{"$f":"IF(C1281=\"\",NA(),MATCH($B1281&$C1281,'Smelter Look-up'!$J:$J,0))","v":{"$error":"#N/A"}},null,0,null,null,null,""]
[{"$nulls":18},{"$f":"IF(ISERROR($W1282),\"\",OFFSET('Smelter Look-up'!$C$4,$W1282-4,0)&\"\")","v":""},"",{"$f":"IF(B1282=\"\",\"\",IF(ISERROR(MATCH($J1282,SorP!$B$1:$B$6230,0)),\"\",INDIRECT(\"'SorP'!$A$\"&MATCH($J1282,SorP!$B$1:$B$6230,0))))","v":""},null,{"$f":"IF(C1282=\"\",NA(),MATCH($B1282&$C1282,'Smelter Look-up'!$J:$J,0))","v":{"$error":"#N/A"}},null,0,null,null,null,""]
[{"$nulls":18},{"$f":"IF(ISERROR($W1283),\"\",OFFSET('Smelter Look-up'!$C$4,$W1283-4,0)&\"\")","v":""},"",{"$f":"IF(B1283=\"\",\"\",IF(ISERROR(MATCH($J1283,SorP!$B$1:$B$6230,0)),\"\",INDIRECT(\"'SorP'!$A$\"&MATCH($J1283,SorP!$B$1:$B$6230,0))))","v":""},null,{"$f":"IF(C1283=\"\",NA(),MATCH($B1283&$C1283,'Smelter Look-up'!$J:$J,0))","v":{"$error":"#N/A"}},null,0,null,null,null,""]
[{"$nulls":18},{"$f":"IF(ISERROR($W1284),\"\",OFFSET('Smelter Look-up'!$C$4,$W1284-4,0)&\"\")","v":""},"",{"$f":"IF(B1284=\"\",\"\",IF(ISERROR(MATCH($J1284,SorP!$B$1:$B$6230,0)),\"\",INDIRECT(\"'SorP'!$A$\"&MATCH($J1284,SorP!$B$1:$B$6230,0))))","v":""},null,{"$f":"IF(C1284=\"\",NA(),MATCH($B1284&$C1284,'Smelter Look-up'!$J:$J,0))","v":{"$error":"#N/A"}},null,0,null,null,null,""]
[{"$nulls":18},{"$f":"IF(ISERROR($W1285),\"\",OFFSET('Smelter Look-up'!$C$4,$W1285-4,0)&\"\")","v":""},{"$f":"IF(B1285=\"\",\"\",IF(ISERROR(MATCH($E1285,CL,0)),\"Unknown\",INDIRECT(\"'C'!$A$\"&MATCH($E1285,CL,0)+1)))","v":""},{"$f":"IF(B1285=\"\",\"\",IF(ISERROR(MATCH($J1285,SorP!$B$1:$B$6230,0)),\"\",INDIRECT(\"'SorP'!$A$\"&MATCH($J1285,SorP!$B$1:$B$6230,0))))","v":""},null,{"$f":"IF(C1285=\"\",NA(),MATCH($B1285&$C1285,'Smelter Look-up'!$J:$J,0))","v":{"$error":"#N/A"}},null,{"$f":"IF(AND(C1285=\"Smelter not listed\",OR(LEN(D1285)=0,LEN(E1285)=0)),1,0)","v":0},null,null,null,{"$f":"B1285&C1285","v":""}]
[{"$nulls":18},{"$f":"IF(ISERROR($W1286),\"\",OFFSET('Smelter Look-up'!$C$4,$W1286-4,0)&\"\")","v":""},"",{"$f":"IF(B1286=\"\",\"\",IF(ISERROR(MATCH($J1286,SorP!$B$1:$B$6230,0)),\"\",INDIRECT(\"'SorP'!$A$\"&MATCH($J1286,SorP!$B$1:$B$6230,0))))","v":""},null,{"$f":"IF(C1286=\"\",NA(),MATCH($B1286&$C1286,'Smelter Look-up'!$J:$J,0))","v":{"$error":"#N/A"}},null,0,null,null,null,""]
[{"$nulls":18},{"$f":"IF(ISERROR($W1287),\"\",OFFSET('Smelter Look-up'!$C$4,$W1287-4,0)&\"\")","v":""},"",{"$f":"IF(B1287=\"\",\"\",IF(ISERROR(MATCH($J1287,SorP!$B$1:$B$6230,0)),\"\",INDIRECT(\"'SorP'!$A$\"&MATCH($J1287,SorP!$B$1:$B$6230,0))))","v":""},null,{"$f":"IF(C1287=\"\",NA(),MATCH($B1287&$C1287,'Smelter Look-up'!$J:$J,0))","v":{"$error":"#N/A"}},null,0,null,null,null,""]
[{"$nulls":18},{"$f":"IF(ISERROR($W1288),\"\",OFFSET('Smelter Look-up'!$C$4,$W1288-4,0)&\"\")","v":""},"",{"$f":"IF(B1288=\"\",\"\",IF(ISERROR(MATCH($J1288,SorP!$B$1:$B$6230,0)),\"\",INDIRECT(\"'SorP'!$A$\"&MATCH($J1288,SorP!$B$1:$B$6230,0))))","v":""},null,{"$f":"IF(C1288=\"\",NA(),MATCH($B1288&$C1288,'Smelter Look-up'!$J:$J,0))","v":{"$error":"#N/A"}},null,0,null,null,null,""]
[{"$nulls":18},{"$f":"IF(ISERROR($W1289),\"\",OFFSET('Smelter Look-up'!$C$4,$W1289-4,0)&\"\")","v":""},"",{"$f":"IF(B1289=\"\",\"\",IF(ISERROR(MATCH($J1289,SorP!$B$1:$B$6230,0)),\"\",INDIRECT(\"'SorP'!$A$\"&MATCH($J1289,SorP!$B$1:$B$6230,0))))","v":""},null,{"$f":"IF(C1289=\"\",NA(),MATCH($B1289&$C1289,'Smelter Look-up'!$J:$J,0))","v":{"$error":"#N/A"}},null,0,null,null,null,""]
[{"$nulls":18},{"$f":"IF(ISERROR($W1290),\"\",OFFSET('Smelter Look-up'!$C$4,$W1290-4,0)&\"\")","v":""},"",{"$f":"IF(B1290=\"\",\"\",IF(ISERROR(MATCH($J1290,SorP!$B$1:$B$6230,0)),\"\",INDIRECT(\"'SorP'!$A$\"&MATCH($J1290,SorP!$B$1:$B$6230,0))))","v":""},null,{"$f":"IF(C1290=\"\",NA(),MATCH($B1290&$C1290,'Smelter Look-up'!$J:$J,0))","v":{"$error":"#N/A"}},null,0,null,null,null,""]
[{"$nulls":18},{"$f":"IF(ISERROR($W1291),\"\",OFFSET('Smelter Look-up'!$C$4,$W1291-4,0)&\"\")","v":""},"",{"$f":"IF(B1291=\"\",\"\",IF(ISERROR(MATCH($J1291,SorP!$B$1:$B$6230,0)),\"\",INDIRECT(\"'SorP'!$A$\"&MATCH($J1291,SorP!$B$1:$B$6230,0))))","v":""},null,{"$f":"IF(C1291=\"\",NA(),MATCH($B1291&$C1291,'Smelter Look-up'!$J:$J,0))","v":{"$error":"#N/A"}},null,0,null,null,null,""]
[{"$nulls":18},{"$f":"IF(ISERROR($W1292),\"\",OFFSET('Smelter Look-up'!$C$4,$W1292-4,0)&\"\")","v":""},"",{"$f":"IF(B1292=\"\",\"\",IF(ISERROR(MATCH($J1292,SorP!$B$1:$B$6230,0)),\"\",INDIRECT(\"'SorP'!$A$\"&MATCH($J1292,SorP!$B$1:$B$6230,0))))","v":""},null,{"$f":"IF(C1292=\"\",NA(),MATCH($B1292&$C1292,'Smelter Look-up'!$J:$J,0))","v":{"$error":"#N/A"}},null,0,null,null,null,""]
[{"$nulls":18},{"$f":"IF(ISERROR($W1293),\"\",OFFSET('Smelter Look-up'!$C$4,$W1293-4,0)&\"\")","v":""},"",{"$f":"IF(B1293=\"\",\"\",IF(ISERROR(MATCH($J1293,SorP!$B$1:$B$6230,0)),\"\",INDIRECT(\"'SorP'!$A$\"&MATCH($J1293,SorP!$B$1:$B$6230,0))))","v":""},null,{"$f":"IF(C1293=\"\",NA(),MATCH($B1293&$C1293,'Smelter Look-up'!$J:$J,0))","v":{"$error":"#N/A"}},null,0,null,null,null,""]
[{"$nulls":18},{"$f":"IF(ISERROR($W1294),\"\",OFFSET('Smelter Look-up'!$C$4,$W1294-4,0)&\"\")","v":""},"",{"$f":"IF(B1294=\"\",\"\",IF(ISERROR(MATCH($J1294,SorP!$B$1:$B$6230,0)),\"\",INDIRECT(\"'SorP'!$A$\"&MATCH($J1294,SorP!$B$1:$B$6230,0))))","v":""},null,{"$f":"IF(C1294=\"\",NA(),MATCH($B1294&$C1294,'Smelter Look-up'!$J:$J,0))","v":{"$error":"#N/A"}},null,0,null,null,null,""]
[{"$nulls":18},{"$f":"IF(ISERROR($W1295),\"\",OFFSET('Smelter Look-up'!$C$4,$W1295-4,0)&\"\")","v":""},"",{"$f":"IF(B1295=\"\",\"\",IF(ISERROR(MATCH($J1295,SorP!$B$1:$B$6230,0)),\"\",INDIRECT(\"'SorP'!$A$\"&MATCH($J1295,SorP!$B$1:$B$6230,0))))","v":""},null,{"$f":"IF(C1295=\"\",NA(),MATCH($B1295&$C1295,'Smelter Look-up'!$J:$J,0))","v":{"$error":"#N/A"}},null,0,null,null,null,""]
[{"$nulls":18},{"$f":"IF(ISERROR($W1296),\"\",OFFSET('Smelter Look-up'!$C$4,$W1296-4,0)&\"\")","v":""},"",{"$f":"IF(B1296=\"\",\"\",IF(ISERROR(MATCH($J1296,SorP!$B$1:$B$6230,0)),\"\",INDIRECT(\"'SorP'!$A$\"&MATCH($J1296,SorP!$B$1:$B$6230,0))))","v":""},null,{"$f":"IF(C1296=\"\",NA(),MATCH($B1296&$C1296,'Smelter Look-up'!$J:$J,0))","v":{"$error":"#N/A"}},null,0,null,null,null,""]
[{"$nulls":18},{"$f":"IF(ISERROR($W1297),\"\",OFFSET('Smelter Look-up'!$C$4,$W1297-4,0)&\"\")","v":""},"",{"$f":"IF(B1297=\"\",\"\",IF(ISERROR(MATCH($J1297,SorP!$B$1:$B$6230,0)),\"\",INDIRECT(\"'SorP'!$A$\"&MATCH($J1297,SorP!$B$1:$B$6230,0))))","v":""},null,{"$f":"IF(C1297=\"\",NA(),MATCH($B1297&$C1297,'Smelter Look-up'!$J:$J,0))","v":{"$error":"#N/A"}},null,0,null,null,null,""]
[{"$nulls":18},{"$f":"IF(ISERROR($W1298),\"\",OFFSET('Smelter Look-up'!$C$4,$W1298-4,0)&\"\")","v":""},"",{"$f":"IF(B1298=\"\",\"\",IF(ISERROR(MATCH($J1298,SorP!$B$1:$B$6230,0)),\"\",INDIRECT(\"'SorP'!$A$\"&MATCH($J1298,SorP!$B$1:$B$6230,0))))","v":""},null,{"$f":"IF(C1298=\"\",NA(),MATCH($B1298&$C1298,'Smelter Look-up'!$J:$J,0))","v":{"$error":"#N/A"}},null,0,null,null,null,""]
[{"$nulls":18},{"$f":"IF(ISERROR($W1299),\"\",OFFSET('Smelter Look-up'!$C$4,$W1299-4,0)&\"\")","v":""},"",{"$f":"IF(B1299=\"\",\"\",IF(ISERROR(MATCH($J1299,SorP!$B$1:$B$6230,0)),\"\",INDIRECT(\"'SorP'!$A$\"&MATCH($J1299,SorP!$B$1:$B$6230,0))))","v":""},null,{"$f":"IF(C1299=\"\",NA(),MATCH($B1299&$C1299,'Smelter Look-up'!$J:$J,0))","v":{"$error":"#N/A"}},null,0,null,null,null,""]
[{"$nulls":18},{"$f":"IF(ISERROR($W1300),\"\",OFFSET('Smelter Look-up'!$C$4,$W1300-4,0)&\"\")","v":""},"",{"$f":"IF(B1300=\"\",\"\",IF(ISERROR(MATCH($J1300,SorP!$B$1:$B$6230,0)),\"\",INDIRECT(\"'SorP'!$A$\"&MATCH($J1300,SorP!$B$1:$B$6230,0))))","v":""},null,{"$f":"IF(C1300=\"\",NA(),MATCH($B1300&$C1300,'Smelter Look-up'!$J:$J,0))","v":{"$error":"#N/A"}},null,0,null,null,null,""]
[{"$nulls":18},{"$f":"IF(ISERROR($W1301),\"\",OFFSET('Smelter Look-up'!$C$4,$W1301-4,0)&\"\")","v":""},"",{"$f":"IF(B1301=\"\",\"\",IF(ISERROR(MATCH($J1301,SorP!$B$1:$B$6230,0)),\"\",INDIRECT(\"'SorP'!$A$\"&MATCH($J1301,SorP!$B$1:$B$6230,0))))","v":""},null,{"$f":"IF(C1301=\"\",NA(),MATCH($B1301&$C1301,'Smelter Look-up'!$J:$J,0))","v":{"$error":"#N/A"}},null,0,null,null,null,""]
[{"$nulls":18},{"$f":"IF(ISERROR($W1302),\"\",OFFSET('Smelter Look-up'!$C$4,$W1302-4,0)&\"\")","v":""},"",{"$f":"IF(B1302=\"\",\"\",IF(ISERROR(MATCH($J1302,SorP!$B$1:$B$6230,0)),\"\",INDIRECT(\"'SorP'!$A$\"&MATCH($J1302,SorP!$B$1:$B$6230,0))))","v":""},null,{"$f":"IF(C1302=\"\",NA(),MATCH($B1302&$C1302,'Smelter Look-up'!$J:$J,0))","v":{"$error":"#N/A"}},null,0,null,null,null,""]
[{"$nulls":18},{"$f":"IF(ISERROR($W1303),\"\",OFFSET('Smelter Look-up'!$C$4,$W1303-4,0)&\"\")","v":""},"",{"$f":"IF(B1303=\"\",\"\",IF(ISERROR(MATCH($J1303,SorP!$B$1:$B$6230,0)),\"\",INDIRECT(\"'SorP'!$A$\"&MATCH($J1303,SorP!$B$1:$B$6230,0))))","v":""},null,{"$f":"IF(C1303=\"\",NA(),MATCH($B1303&$C1303,'Smelter Look-up'!$J:$J,0))","v":{"$error":"#N/A"}},null,0,null,null,null,""]
[{"$nulls":18},{"$f":"IF(ISERROR($W1304),\"\",OFFSET('Smelter Look-up'!$C$4,$W1304-4,0)&\"\")","v":""},"",{"$f":"IF(B1304=\"\",\"\",IF(ISERROR(MATCH($J1304,SorP!$B$1:$B$6230,0)),\"\",INDIRECT(\"'SorP'!$A$\"&MATCH($J1304,SorP!$B$1:$B$6230,0))))","v":""},null,{"$f":"IF(C1304=\"\",NA(),MATCH($B1304&$C1304,'Smelter Look-up'!$J:$J,0))","v":{"$error":"#N/A"}},null,0,null,null,null,""]
[{"$nulls":18},{"$f":"IF(ISERROR($W1305),\"\",OFFSET('Smelter Look-up'!$C$4,$W1305-4,0)&\"\")","v":""},"",{"$f":"IF(B1305=\"\",\"\",IF(ISERROR(MATCH($J1305,SorP!$B$1:$B$6230,0)),\"\",INDIRECT(\"'SorP'!$A$\"&MATCH($J1305,SorP!$B$1:$B$6230,0))))","v":""},null,{"$f":"IF(C1305=\"\",NA(),MATCH($B1305&$C1305,'Smelter Look-up'!$J:$J,0))","v":{"$error":"#N/A"}},null,0,null,null,null,""]
[{"$nulls":18},{"$f":"IF(ISERROR($W1306),\"\",OFFSET('Smelter Look-up'!$C$4,$W1306-4,0)&\"\")","v":""},"",{"$f":"IF(B1306=\"\",\"\",IF(ISERROR(MATCH($J1306,SorP!$B$1:$B$6230,0)),\"\",INDIRECT(\"'SorP'!$A$\"&MATCH($J1306,SorP!$B$1:$B$6230,0))))","v":""},null,{"$f":"IF(C1306=\"\",NA(),MATCH($B1306&$C1306,'Smelter Look-up'!$J:$J,0))","v":{"$error":"#N/A"}},null,0,null,null,null,""]
[{"$nulls":18},{"$f":"IF(ISERROR($W1307),\"\",OFFSET('Smelter Look-up'!$C$4,$W1307-4,0)&\"\")","v":""},"",{"$f":"IF(B1307=\"\",\"\",IF(ISERROR(MATCH($J1307,SorP!$B$1:$B$6230,0)),\"\",INDIRECT(\"'SorP'!$A$\"&MATCH($J1307,SorP!$B$1:$B$6230,0))))","v":""},null,{"$f":"IF(C1307=\"\",NA(),MATCH($B1307&$C1307,'Smelter Look-up'!$J:$J,0))","v":{"$error":"#N/A"}},null,0,null,null,null,""]
[{"$nulls":18},{"$f":"IF(ISERROR($W1308),\"\",OFFSET('Smelter Look-up'!$C$4,$W1308-4,0)&\"\")","v":""},"",{"$f":"IF(B1308=\"\",\"\",IF(ISERROR(MATCH($J1308,SorP!$B$1:$B$6230,0)),\"\",INDIRECT(\"'SorP'!$A$\"&MATCH($J1308,SorP!$B$1:$B$6230,0))))","v":""},null,{"$f":"IF(C1308=\"\",NA(),MATCH($B1308&$C1308,'Smelter Look-up'!$J:$J,0))","v":{"$error":"#N/A"}},null,0,null,null,null,""]
[{"$nulls":18},{"$f":"IF(ISERROR($W1309),\"\",OFFSET('Smelter Look-up'!$C$4,$W1309-4,0)&\"\")","v":""},"",{"$f":"IF(B1309=\"\",\"\",IF(ISERROR(MATCH($J1309,SorP!$B$1:$B$6230,0)),\"\",INDIRECT(\"'SorP'!$A$\"&MATCH($J1309,SorP!$B$1:$B$6230,0))))","v":""},null,{"$f":"IF(C1309=\"\",NA(),MATCH($B1309&$C1309,'Smelter Look-up'!$J:$J,0))","v":{"$error":"#N/A"}},null,0,null,null,null,""]
[{"$nulls":18},{"$f":"IF(ISERROR($W1310),\"\",OFFSET('Smelter Look-up'!$C$4,$W1310-4,0)&\"\")","v":""},"",{"$f":"IF(B1310=\"\",\"\",IF(ISERROR(MATCH($J1310,SorP!$B$1:$B$6230,0)),\"\",INDIRECT(\"'SorP'!$A$\"&MATCH($J1310,SorP!$B$1:$B$6230,0))))","v":""},null,{"$f":"IF(C1310=\"\",NA(),MATCH($B1310&$C1310,'Smelter Look-up'!$J:$J,0))","v":{"$error":"#N/A"}},null,0,null,null,null,""]
[{"$nulls":18},{"$f":"IF(ISERROR($W1311),\"\",OFFSET('Smelter Look-up'!$C$4,$W1311-4,0)&\"\")","v":""},"",{"$f":"IF(B1311=\"\",\"\",IF(ISERROR(MATCH($J1311,SorP!$B$1:$B$6230,0)),\"\",INDIRECT(\"'SorP'!$A$\"&MATCH($J1311,SorP!$B$1:$B$6230,0))))","v":""},null,{"$f":"IF(C1311=\"\",NA(),MATCH($B1311&$C1311,'Smelter Look-up'!$J:$J,0))","v":{"$error":"#N/A"}},null,0,null,null,null,""]
[{"$nulls":18},{"$f":"IF(ISERROR($W1312),\"\",OFFSET('Smelter Look-up'!$C$4,$W1312-4,0)&\"\")","v":""},"",{"$f":"IF(B1312=\"\",\"\",IF(ISERROR(MATCH($J1312,SorP!$B$1:$B$6230,0)),\"\",INDIRECT(\"'SorP'!$A$\"&MATCH($J1312,SorP!$B$1:$B$6230,0))))","v":""},null,{"$f":"IF(C1312=\"\",NA(),MATCH($B1312&$C1312,'Smelter Look-up'!$J:$J,0))","v":{"$error":"#N/A"}},null,0,null,null,null,""]
[{"$nulls":18},{"$f":"IF(ISERROR($W1313),\"\",OFFSET('Smelter Look-up'!$C$4,$W1313-4,0)&\"\")","v":""},"",{"$f":"IF(B1313=\"\",\"\",IF(ISERROR(MATCH($J1313,SorP!$B$1:$B$6230,0)),\"\",INDIRECT(\"'SorP'!$A$\"&MATCH($J1313,SorP!$B$1:$B$6230,0))))","v":""},null,{"$f":"IF(C1313=\"\",NA(),MATCH($B1313&$C1313,'Smelter Look-up'!$J:$J,0))","v":{"$error":"#N/A"}},null,0,null,null,null,""]
[{"$nulls":18},{"$f":"IF(ISERROR($W1314),\"\",OFFSET('Smelter Look-up'!$C$4,$W1314-4,0)&\"\")","v":""},"",{"$f":"IF(B1314=\"\",\"\",IF(ISERROR(MATCH($J1314,SorP!$B$1:$B$6230,0)),\"\",INDIRECT(\"'SorP'!$A$\"&MATCH($J1314,SorP!$B$1:$B$6230,0))))","v":""},null,{"$f":"IF(C1314=\"\",NA(),MATCH($B1314&$C1314,'Smelter Look-up'!$J:$J,0))","v":{"$error":"#N/A"}},null,0,null,null,null,""]
[{"$nulls":18},{"$f":"IF(ISERROR($W1315),\"\",OFFSET('Smelter Look-up'!$C$4,$W1315-4,0)&\"\")","v":""},"",{"$f":"IF(B1315=\"\",\"\",IF(ISERROR(MATCH($J1315,SorP!$B$1:$B$6230,0)),\"\",INDIRECT(\"'SorP'!$A$\"&MATCH($J1315,SorP!$B$1:$B$6230,0))))","v":""},null,{"$f":"IF(C1315=\"\",NA(),MATCH($B1315&$C1315,'Smelter Look-up'!$J:$J,0))","v":{"$error":"#N/A"}},null,0,null,null,null,""]
[{"$nulls":18},{"$f":"IF(ISERROR($W1316),\"\",OFFSET('Smelter Look-up'!$C$4,$W1316-4,0)&\"\")","v":""},"",{"$f":"IF(B1316=\"\",\"\",IF(ISERROR(MATCH($J1316,SorP!$B$1:$B$6230,0)),\"\",INDIRECT(\"'SorP'!$A$\"&MATCH($J1316,SorP!$B$1:$B$6230,0))))","v":""},null,{"$f":"IF(C1316=\"\",NA(),MATCH($B1316&$C1316,'Smelter Look-up'!$J:$J,0))","v":{"$error":"#N/A"}},null,0,null,null,null,""]
[{"$nulls":18},{"$f":"IF(ISERROR($W1317),\"\",OFFSET('Smelter Look-up'!$C$4,$W1317-4,0)&\"\")","v":""},"",{"$f":"IF(B1317=\"\",\"\",IF(ISERROR(MATCH($J1317,SorP!$B$1:$B$6230,0)),\"\",INDIRECT(\"'SorP'!$A$\"&MATCH($J1317,SorP!$B$1:$B$6230,0))))","v":""},null,{"$f":"IF(C1317=\"\",NA(),MATCH($B1317&$C1317,'Smelter Look-up'!$J:$J,0))","v":{"$error":"#N/A"}},null,0,null,null,null,""]
[{"$nulls":18},{"$f":"IF(ISERROR($W1318),\"\",OFFSET('Smelter Look-up'!$C$4,$W1318-4,0)&\"\")","v":""},"",{"$f":"IF(B1318=\"\",\"\",IF(ISERROR(MATCH($J1318,SorP!$B$1:$B$6230,0)),\"\",INDIRECT(\"'SorP'!$A$\"&MATCH($J1318,SorP!$B$1:$B$6230,0))))","v":""},null,{"$f":"IF(C1318=\"\",NA(),MATCH($B1318&$C1318,'Smelter Look-up'!$J:$J,0))","v":{"$error":"#N/A"}},null,0,null,null,null,""]
[{"$nulls":18},{"$f":"IF(ISERROR($W1319),\"\",OFFSET('Smelter Look-up'!$C$4,$W1319-4,0)&\"\")","v":""},"",{"$f":"IF(B1319=\"\",\"\",IF(ISERROR(MATCH($J1319,SorP!$B$1:$B$6230,0)),\"\",INDIRECT(\"'SorP'!$A$\"&MATCH($J1319,SorP!$B$1:$B$6230,0))))","v":""},null,{"$f":"IF(C1319=\"\",NA(),MATCH($B1319&$C1319,'Smelter Look-up'!$J:$J,0))","v":{"$error":"#N/A"}},null,0,null,null,null,""]
[{"$nulls":18},{"$f":"IF(ISERROR($W1320),\"\",OFFSET('Smelter Look-up'!$C$4,$W1320-4,0)&\"\")","v":""},"",{"$f":"IF(B1320=\"\",\"\",IF(ISERROR(MATCH($J1320,SorP!$B$1:$B$6230,0)),\"\",INDIRECT(\"'SorP'!$A$\"&MATCH($J1320,SorP!$B$1:$B$6230,0))))","v":""},null,{"$f":"IF(C1320=\"\",NA(),MATCH($B1320&$C1320,'Smelter Look-up'!$J:$J,0))","v":{"$error":"#N/A"}},null,0,null,null,null,""]
[{"$nulls":18},{"$f":"IF(ISERROR($W1321),\"\",OFFSET('Smelter Look-up'!$C$4,$W1321-4,0)&\"\")","v":""},"",{"$f":"IF(B1321=\"\",\"\",IF(ISERROR(MATCH($J1321,SorP!$B$1:$B$6230,0)),\"\",INDIRECT(\"'SorP'!$A$\"&MATCH($J1321,SorP!$B$1:$B$6230,0))))","v":""},null,{"$f":"IF(C1321=\"\",NA(),MATCH($B1321&$C1321,'Smelter Look-up'!$J:$J,0))","v":{"$error":"#N/A"}},null,0,null,null,null,""]
[{"$nulls":18},{"$f":"IF(ISERROR($W1322),\"\",OFFSET('Smelter Look-up'!$C$4,$W1322-4,0)&\"\")","v":""},"",{"$f":"IF(B1322=\"\",\"\",IF(ISERROR(MATCH($J1322,SorP!$B$1:$B$6230,0)),\"\",INDIRECT(\"'SorP'!$A$\"&MATCH($J1322,SorP!$B$1:$B$6230,0))))","v":""},null,{"$f":"IF(C1322=\"\",NA(),MATCH($B1322&$C1322,'Smelter Look-up'!$J:$J,0))","v":{"$error":"#N/A"}},null,0,null,null,null,""]
[{"$nulls":18},{"$f":"IF(ISERROR($W1323),\"\",OFFSET('Smelter Look-up'!$C$4,$W1323-4,0)&\"\")","v":""},"",{"$f":"IF(B1323=\"\",\"\",IF(ISERROR(MATCH($J1323,SorP!$B$1:$B$6230,0)),\"\",INDIRECT(\"'SorP'!$A$\"&MATCH($J1323,SorP!$B$1:$B$6230,0))))","v":""},null,{"$f":"IF(C1323=\"\",NA(),MATCH($B1323&$C1323,'Smelter Look-up'!$J:$J,0))","v":{"$error":"#N/A"}},null,0,null,null,null,""]
[{"$nulls":18},{"$f":"IF(ISERROR($W1324),\"\",OFFSET('Smelter Look-up'!$C$4,$W1324-4,0)&\"\")","v":""},"",{"$f":"IF(B1324=\"\",\"\",IF(ISERROR(MATCH($J1324,SorP!$B$1:$B$6230,0)),\"\",INDIRECT(\"'SorP'!$A$\"&MATCH($J1324,SorP!$B$1:$B$6230,0))))","v":""},null,{"$f":"IF(C1324=\"\",NA(),MATCH($B1324&$C1324,'Smelter Look-up'!$J:$J,0))","v":{"$error":"#N/A"}},null,0,null,null,null,""]
[{"$nulls":18},{"$f":"IF(ISERROR($W1325),\"\",OFFSET('Smelter Look-up'!$C$4,$W1325-4,0)&\"\")","v":""},"",{"$f":"IF(B1325=\"\",\"\",IF(ISERROR(MATCH($J1325,SorP!$B$1:$B$6230,0)),\"\",INDIRECT(\"'SorP'!$A$\"&MATCH($J1325,SorP!$B$1:$B$6230,0))))","v":""},null,{"$f":"IF(C1325=\"\",NA(),MATCH($B1325&$C1325,'Smelter Look-up'!$J:$J,0))","v":{"$error":"#N/A"}},null,0,null,null,null,""]
[{"$nulls":18},{"$f":"IF(ISERROR($W1326),\"\",OFFSET('Smelter Look-up'!$C$4,$W1326-4,0)&\"\")","v":""},"",{"$f":"IF(B1326=\"\",\"\",IF(ISERROR(MATCH($J1326,SorP!$B$1:$B$6230,0)),\"\",INDIRECT(\"'SorP'!$A$\"&MATCH($J1326,SorP!$B$1:$B$6230,0))))","v":""},null,{"$f":"IF(C1326=\"\",NA(),MATCH($B1326&$C1326,'Smelter Look-up'!$J:$J,0))","v":{"$error":"#N/A"}},null,0,null,null,null,""]
[{"$nulls":18},{"$f":"IF(ISERROR($W1327),\"\",OFFSET('Smelter Look-up'!$C$4,$W1327-4,0)&\"\")","v":""},"",{"$f":"IF(B1327=\"\",\"\",IF(ISERROR(MATCH($J1327,SorP!$B$1:$B$6230,0)),\"\",INDIRECT(\"'SorP'!$A$\"&MATCH($J1327,SorP!$B$1:$B$6230,0))))","v":""},null,{"$f":"IF(C1327=\"\",NA(),MATCH($B1327&$C1327,'Smelter Look-up'!$J:$J,0))","v":{"$error":"#N/A"}},null,0,null,null,null,""]
[{"$nulls":18},{"$f":"IF(ISERROR($W1328),\"\",OFFSET('Smelter Look-up'!$C$4,$W1328-4,0)&\"\")","v":""},"",{"$f":"IF(B1328=\"\",\"\",IF(ISERROR(MATCH($J1328,SorP!$B$1:$B$6230,0)),\"\",INDIRECT(\"'SorP'!$A$\"&MATCH($J1328,SorP!$B$1:$B$6230,0))))","v":""},null,{"$f":"IF(C1328=\"\",NA(),MATCH($B1328&$C1328,'Smelter Look-up'!$J:$J,0))","v":{"$error":"#N/A"}},null,0,null,null,null,""]
[{"$nulls":18},{"$f":"IF(ISERROR($W1329),\"\",OFFSET('Smelter Look-up'!$C$4,$W1329-4,0)&\"\")","v":""},"",{"$f":"IF(B1329=\"\",\"\",IF(ISERROR(MATCH($J1329,SorP!$B$1:$B$6230,0)),\"\",INDIRECT(\"'SorP'!$A$\"&MATCH($J1329,SorP!$B$1:$B$6230,0))))","v":""},null,{"$f":"IF(C1329=\"\",NA(),MATCH($B1329&$C1329,'Smelter Look-up'!$J:$J,0))","v":{"$error":"#N/A"}},null,0,null,null,null,""]
[{"$nulls":18},{"$f":"IF(ISERROR($W1330),\"\",OFFSET('Smelter Look-up'!$C$4,$W1330-4,0)&\"\")","v":""},"",{"$f":"IF(B1330=\"\",\"\",IF(ISERROR(MATCH($J1330,SorP!$B$1:$B$6230,0)),\"\",INDIRECT(\"'SorP'!$A$\"&MATCH($J1330,SorP!$B$1:$B$6230,0))))","v":""},null,{"$f":"IF(C1330=\"\",NA(),MATCH($B1330&$C1330,'Smelter Look-up'!$J:$J,0))","v":{"$error":"#N/A"}},null,0,null,null,null,""]
[{"$nulls":18},{"$f":"IF(ISERROR($W1331),\"\",OFFSET('Smelter Look-up'!$C$4,$W1331-4,0)&\"\")","v":""},"",{"$f":"IF(B1331=\"\",\"\",IF(ISERROR(MATCH($J1331,SorP!$B$1:$B$6230,0)),\"\",INDIRECT(\"'SorP'!$A$\"&MATCH($J1331,SorP!$B$1:$B$6230,0))))","v":""},null,{"$f":"IF(C1331=\"\",NA(),MATCH($B1331&$C1331,'Smelter Look-up'!$J:$J,0))","v":{"$error":"#N/A"}},null,0,null,null,null,""]
[{"$nulls":18},{"$f":"IF(ISERROR($W1332),\"\",OFFSET('Smelter Look-up'!$C$4,$W1332-4,0)&\"\")","v":""},"",{"$f":"IF(B1332=\"\",\"\",IF(ISERROR(MATCH($J1332,SorP!$B$1:$B$6230,0)),\"\",INDIRECT(\"'SorP'!$A$\"&MATCH($J1332,SorP!$B$1:$B$6230,0))))","v":""},null,{"$f":"IF(C1332=\"\",NA(),MATCH($B1332&$C1332,'Smelter Look-up'!$J:$J,0))","v":{"$error":"#N/A"}},null,0,null,null,null,""]
[{"$nulls":18},{"$f":"IF(ISERROR($W1333),\"\",OFFSET('Smelter Look-up'!$C$4,$W1333-4,0)&\"\")","v":""},"",{"$f":"IF(B1333=\"\",\"\",IF(ISERROR(MATCH($J1333,SorP!$B$1:$B$6230,0)),\"\",INDIRECT(\"'SorP'!$A$\"&MATCH($J1333,SorP!$B$1:$B$6230,0))))","v":""},null,{"$f":"IF(C1333=\"\",NA(),MATCH($B1333&$C1333,'Smelter Look-up'!$J:$J,0))","v":{"$error":"#N/A"}},null,0,null,null,null,""]
[{"$nulls":18},{"$f":"IF(ISERROR($W1334),\"\",OFFSET('Smelter Look-up'!$C$4,$W1334-4,0)&\"\")","v":""},"",{"$f":"IF(B1334=\"\",\"\",IF(ISERROR(MATCH($J1334,SorP!$B$1:$B$6230,0)),\"\",INDIRECT(\"'SorP'!$A$\"&MATCH($J1334,SorP!$B$1:$B$6230,0))))","v":""},null,{"$f":"IF(C1334=\"\",NA(),MATCH($B1334&$C1334,'Smelter Look-up'!$J:$J,0))","v":{"$error":"#N/A"}},null,0,null,null,null,""]
[{"$nulls":18},{"$f":"IF(ISERROR($W1335),\"\",OFFSET('Smelter Look-up'!$C$4,$W1335-4,0)&\"\")","v":""},"",{"$f":"IF(B1335=\"\",\"\",IF(ISERROR(MATCH($J1335,SorP!$B$1:$B$6230,0)),\"\",INDIRECT(\"'SorP'!$A$\"&MATCH($J1335,SorP!$B$1:$B$6230,0))))","v":""},null,{"$f":"IF(C1335=\"\",NA(),MATCH($B1335&$C1335,'Smelter Look-up'!$J:$J,0))","v":{"$error":"#N/A"}},null,0,null,null,null,""]
[{"$nulls":18},{"$f":"IF(ISERROR($W1336),\"\",OFFSET('Smelter Look-up'!$C$4,$W1336-4,0)&\"\")","v":""},"",{"$f":"IF(B1336=\"\",\"\",IF(ISERROR(MATCH($J1336,SorP!$B$1:$B$6230,0)),\"\",INDIRECT(\"'SorP'!$A$\"&MATCH($J1336,SorP!$B$1:$B$6230,0))))","v":""},null,{"$f":"IF(C1336=\"\",NA(),MATCH($B1336&$C1336,'Smelter Look-up'!$J:$J,0))","v":{"$error":"#N/A"}},null,0,null,null,null,""]
[{"$nulls":18},{"$f":"IF(ISERROR($W1337),\"\",OFFSET('Smelter Look-up'!$C$4,$W1337-4,0)&\"\")","v":""},"",{"$f":"IF(B1337=\"\",\"\",IF(ISERROR(MATCH($J1337,SorP!$B$1:$B$6230,0)),\"\",INDIRECT(\"'SorP'!$A$\"&MATCH($J1337,SorP!$B$1:$B$6230,0))))","v":""},null,{"$f":"IF(C1337=\"\",NA(),MATCH($B1337&$C1337,'Smelter Look-up'!$J:$J,0))","v":{"$error":"#N/A"}},null,0,null,null,null,""]
[{"$nulls":18},{"$f":"IF(ISERROR($W1338),\"\",OFFSET('Smelter Look-up'!$C$4,$W1338-4,0)&\"\")","v":""},"",{"$f":"IF(B1338=\"\",\"\",IF(ISERROR(MATCH($J1338,SorP!$B$1:$B$6230,0)),\"\",INDIRECT(\"'SorP'!$A$\"&MATCH($J1338,SorP!$B$1:$B$6230,0))))","v":""},null,{"$f":"IF(C1338=\"\",NA(),MATCH($B1338&$C1338,'Smelter Look-up'!$J:$J,0))","v":{"$error":"#N/A"}},null,0,null,null,null,""]
[{"$nulls":18},{"$f":"IF(ISERROR($W1339),\"\",OFFSET('Smelter Look-up'!$C$4,$W1339-4,0)&\"\")","v":""},"",{"$f":"IF(B1339=\"\",\"\",IF(ISERROR(MATCH($J1339,SorP!$B$1:$B$6230,0)),\"\",INDIRECT(\"'SorP'!$A$\"&MATCH($J1339,SorP!$B$1:$B$6230,0))))","v":""},null,{"$f":"IF(C1339=\"\",NA(),MATCH($B1339&$C1339,'Smelter Look-up'!$J:$J,0))","v":{"$error":"#N/A"}},null,0,null,null,null,""]
[{"$nulls":18},{"$f":"IF(ISERROR($W1340),\"\",OFFSET('Smelter Look-up'!$C$4,$W1340-4,0)&\"\")","v":""},"",{"$f":"IF(B1340=\"\",\"\",IF(ISERROR(MATCH($J1340,SorP!$B$1:$B$6230,0)),\"\",INDIRECT(\"'SorP'!$A$\"&MATCH($J1340,SorP!$B$1:$B$6230,0))))","v":""},null,{"$f":"IF(C1340=\"\",NA(),MATCH($B1340&$C1340,'Smelter Look-up'!$J:$J,0))","v":{"$error":"#N/A"}},null,0,null,null,null,""]
[{"$nulls":18},{"$f":"IF(ISERROR($W1341),\"\",OFFSET('Smelter Look-up'!$C$4,$W1341-4,0)&\"\")","v":""},"",{"$f":"IF(B1341=\"\",\"\",IF(ISERROR(MATCH($J1341,SorP!$B$1:$B$6230,0)),\"\",INDIRECT(\"'SorP'!$A$\"&MATCH($J1341,SorP!$B$1:$B$6230,0))))","v":""},null,{"$f":"IF(C1341=\"\",NA(),MATCH($B1341&$C1341,'Smelter Look-up'!$J:$J,0))","v":{"$error":"#N/A"}},null,0,null,null,null,""]
[{"$nulls":18},{"$f":"IF(ISERROR($W1342),\"\",OFFSET('Smelter Look-up'!$C$4,$W1342-4,0)&\"\")","v":""},"",{"$f":"IF(B1342=\"\",\"\",IF(ISERROR(MATCH($J1342,SorP!$B$1:$B$6230,0)),\"\",INDIRECT(\"'SorP'!$A$\"&MATCH($J1342,SorP!$B$1:$B$6230,0))))","v":""},null,{"$f":"IF(C1342=\"\",NA(),MATCH($B1342&$C1342,'Smelter Look-up'!$J:$J,0))","v":{"$error":"#N/A"}},null,0,null,null,null,""]
[{"$nulls":18},{"$f":"IF(ISERROR($W1343),\"\",OFFSET('Smelter Look-up'!$C$4,$W1343-4,0)&\"\")","v":""},"",{"$f":"IF(B1343=\"\",\"\",IF(ISERROR(MATCH($J1343,SorP!$B$1:$B$6230,0)),\"\",INDIRECT(\"'SorP'!$A$\"&MATCH($J1343,SorP!$B$1:$B$6230,0))))","v":""},null,{"$f":"IF(C1343=\"\",NA(),MATCH($B1343&$C1343,'Smelter Look-up'!$J:$J,0))","v":{"$error":"#N/A"}},null,0,null,null,null,""]
[{"$nulls":18},{"$f":"IF(ISERROR($W1344),\"\",OFFSET('Smelter Look-up'!$C$4,$W1344-4,0)&\"\")","v":""},"",{"$f":"IF(B1344=\"\",\"\",IF(ISERROR(MATCH($J1344,SorP!$B$1:$B$6230,0)),\"\",INDIRECT(\"'SorP'!$A$\"&MATCH($J1344,SorP!$B$1:$B$6230,0))))","v":""},null,{"$f":"IF(C1344=\"\",NA(),MATCH($B1344&$C1344,'Smelter Look-up'!$J:$J,0))","v":{"$error":"#N/A"}},null,0,null,null,null,""]
[{"$nulls":18},{"$f":"IF(ISERROR($W1345),\"\",OFFSET('Smelter Look-up'!$C$4,$W1345-4,0)&\"\")","v":""},"",{"$f":"IF(B1345=\"\",\"\",IF(ISERROR(MATCH($J1345,SorP!$B$1:$B$6230,0)),\"\",INDIRECT(\"'SorP'!$A$\"&MATCH($J1345,SorP!$B$1:$B$6230,0))))","v":""},null,{"$f":"IF(C1345=\"\",NA(),MATCH($B1345&$C1345,'Smelter Look-up'!$J:$J,0))","v":{"$error":"#N/A"}},null,0,null,null,null,""]
[{"$nulls":18},{"$f":"IF(ISERROR($W1346),\"\",OFFSET('Smelter Look-up'!$C$4,$W1346-4,0)&\"\")","v":""},"",{"$f":"IF(B1346=\"\",\"\",IF(ISERROR(MATCH($J1346,SorP!$B$1:$B$6230,0)),\"\",INDIRECT(\"'SorP'!$A$\"&MATCH($J1346,SorP!$B$1:$B$6230,0))))","v":""},null,{"$f":"IF(C1346=\"\",NA(),MATCH($B1346&$C1346,'Smelter Look-up'!$J:$J,0))","v":{"$error":"#N/A"}},null,0,null,null,null,""]
[{"$nulls":18},{"$f":"IF(ISERROR($W1347),\"\",OFFSET('Smelter Look-up'!$C$4,$W1347-4,0)&\"\")","v":""},"",{"$f":"IF(B1347=\"\",\"\",IF(ISERROR(MATCH($J1347,SorP!$B$1:$B$6230,0)),\"\",INDIRECT(\"'SorP'!$A$\"&MATCH($J1347,SorP!$B$1:$B$6230,0))))","v":""},null,{"$f":"IF(C1347=\"\",NA(),MATCH($B1347&$C1347,'Smelter Look-up'!$J:$J,0))","v":{"$error":"#N/A"}},null,0,null,null,null,""]
[{"$nulls":18},{"$f":"IF(ISERROR($W1348),\"\",OFFSET('Smelter Look-up'!$C$4,$W1348-4,0)&\"\")","v":""},"",{"$f":"IF(B1348=\"\",\"\",IF(ISERROR(MATCH($J1348,SorP!$B$1:$B$6230,0)),\"\",INDIRECT(\"'SorP'!$A$\"&MATCH($J1348,SorP!$B$1:$B$6230,0))))","v":""},null,{"$f":"IF(C1348=\"\",NA(),MATCH($B1348&$C1348,'Smelter Look-up'!$J:$J,0))","v":{"$error":"#N/A"}},null,0,null,null,null,""]
[{"$nulls":18},{"$f":"IF(ISERROR($W1349),\"\",OFFSET('Smelter Look-up'!$C$4,$W1349-4,0)&\"\")","v":""},{"$f":"IF(B1349=\"\",\"\",IF(ISERROR(MATCH($E1349,CL,0)),\"Unknown\",INDIRECT(\"'C'!$A$\"&MATCH($E1349,CL,0)+1)))","v":""},{"$f":"IF(B1349=\"\",\"\",IF(ISERROR(MATCH($J1349,SorP!$B$1:$B$6230,0)),\"\",INDIRECT(\"'SorP'!$A$\"&MATCH($J1349,SorP!$B$1:$B$6230,0))))","v":""},null,{"$f":"IF(C1349=\"\",NA(),MATCH($B1349&$C1349,'Smelter Look-up'!$J:$J,0))","v":{"$error":"#N/A"}},null,{"$f":"IF(AND(C1349=\"Smelter not listed\",OR(LEN(D1349)=0,LEN(E1349)=0)),1,0)","v":0},null,null,null,{"$f":"B1349&C1349","v":""}]
[{"$nulls":18},{"$f":"IF(ISERROR($W1350),\"\",OFFSET('Smelter Look-up'!$C$4,$W1350-4,0)&\"\")","v":""},"",{"$f":"IF(B1350=\"\",\"\",IF(ISERROR(MATCH($J1350,SorP!$B$1:$B$6230,0)),\"\",INDIRECT(\"'SorP'!$A$\"&MATCH($J1350,SorP!$B$1:$B$6230,0))))","v":""},null,{"$f":"IF(C1350=\"\",NA(),MATCH($B1350&$C1350,'Smelter Look-up'!$J:$J,0))","v":{"$error":"#N/A"}},null,0,null,null,null,""]
[{"$nulls":18},{"$f":"IF(ISERROR($W1351),\"\",OFFSET('Smelter Look-up'!$C$4,$W1351-4,0)&\"\")","v":""},"",{"$f":"IF(B1351=\"\",\"\",IF(ISERROR(MATCH($J1351,SorP!$B$1:$B$6230,0)),\"\",INDIRECT(\"'SorP'!$A$\"&MATCH($J1351,SorP!$B$1:$B$6230,0))))","v":""},null,{"$f":"IF(C1351=\"\",NA(),MATCH($B1351&$C1351,'Smelter Look-up'!$J:$J,0))","v":{"$error":"#N/A"}},null,0,null,null,null,""]
[{"$nulls":18},{"$f":"IF(ISERROR($W1352),\"\",OFFSET('Smelter Look-up'!$C$4,$W1352-4,0)&\"\")","v":""},"",{"$f":"IF(B1352=\"\",\"\",IF(ISERROR(MATCH($J1352,SorP!$B$1:$B$6230,0)),\"\",INDIRECT(\"'SorP'!$A$\"&MATCH($J1352,SorP!$B$1:$B$6230,0))))","v":""},null,{"$f":"IF(C1352=\"\",NA(),MATCH($B1352&$C1352,'Smelter Look-up'!$J:$J,0))","v":{"$error":"#N/A"}},null,0,null,null,null,""]
[{"$nulls":18},{"$f":"IF(ISERROR($W1353),\"\",OFFSET('Smelter Look-up'!$C$4,$W1353-4,0)&\"\")","v":""},"",{"$f":"IF(B1353=\"\",\"\",IF(ISERROR(MATCH($J1353,SorP!$B$1:$B$6230,0)),\"\",INDIRECT(\"'SorP'!$A$\"&MATCH($J1353,SorP!$B$1:$B$6230,0))))","v":""},null,{"$f":"IF(C1353=\"\",NA(),MATCH($B1353&$C1353,'Smelter Look-up'!$J:$J,0))","v":{"$error":"#N/A"}},null,0,null,null,null,""]
[{"$nulls":18},{"$f":"IF(ISERROR($W1354),\"\",OFFSET('Smelter Look-up'!$C$4,$W1354-4,0)&\"\")","v":""},"",{"$f":"IF(B1354=\"\",\"\",IF(ISERROR(MATCH($J1354,SorP!$B$1:$B$6230,0)),\"\",INDIRECT(\"'SorP'!$A$\"&MATCH($J1354,SorP!$B$1:$B$6230,0))))","v":""},null,{"$f":"IF(C1354=\"\",NA(),MATCH($B1354&$C1354,'Smelter Look-up'!$J:$J,0))","v":{"$error":"#N/A"}},null,0,null,null,null,""]
[{"$nulls":18},{"$f":"IF(ISERROR($W1355),\"\",OFFSET('Smelter Look-up'!$C$4,$W1355-4,0)&\"\")","v":""},"",{"$f":"IF(B1355=\"\",\"\",IF(ISERROR(MATCH($J1355,SorP!$B$1:$B$6230,0)),\"\",INDIRECT(\"'SorP'!$A$\"&MATCH($J1355,SorP!$B$1:$B$6230,0))))","v":""},null,{"$f":"IF(C1355=\"\",NA(),MATCH($B1355&$C1355,'Smelter Look-up'!$J:$J,0))","v":{"$error":"#N/A"}},null,0,null,null,null,""]
[{"$nulls":18},{"$f":"IF(ISERROR($W1356),\"\",OFFSET('Smelter Look-up'!$C$4,$W1356-4,0)&\"\")","v":""},"",{"$f":"IF(B1356=\"\",\"\",IF(ISERROR(MATCH($J1356,SorP!$B$1:$B$6230,0)),\"\",INDIRECT(\"'SorP'!$A$\"&MATCH($J1356,SorP!$B$1:$B$6230,0))))","v":""},null,{"$f":"IF(C1356=\"\",NA(),MATCH($B1356&$C1356,'Smelter Look-up'!$J:$J,0))","v":{"$error":"#N/A"}},null,0,null,null,null,""]
[{"$nulls":18},{"$f":"IF(ISERROR($W1357),\"\",OFFSET('Smelter Look-up'!$C$4,$W1357-4,0)&\"\")","v":""},"",{"$f":"IF(B1357=\"\",\"\",IF(ISERROR(MATCH($J1357,SorP!$B$1:$B$6230,0)),\"\",INDIRECT(\"'SorP'!$A$\"&MATCH($J1357,SorP!$B$1:$B$6230,0))))","v":""},null,{"$f":"IF(C1357=\"\",NA(),MATCH($B1357&$C1357,'Smelter Look-up'!$J:$J,0))","v":{"$error":"#N/A"}},null,0,null,null,null,""]
[{"$nulls":18},{"$f":"IF(ISERROR($W1358),\"\",OFFSET('Smelter Look-up'!$C$4,$W1358-4,0)&\"\")","v":""},"",{"$f":"IF(B1358=\"\",\"\",IF(ISERROR(MATCH($J1358,SorP!$B$1:$B$6230,0)),\"\",INDIRECT(\"'SorP'!$A$\"&MATCH($J1358,SorP!$B$1:$B$6230,0))))","v":""},null,{"$f":"IF(C1358=\"\",NA(),MATCH($B1358&$C1358,'Smelter Look-up'!$J:$J,0))","v":{"$error":"#N/A"}},null,0,null,null,null,""]
[{"$nulls":18},{"$f":"IF(ISERROR($W1359),\"\",OFFSET('Smelter Look-up'!$C$4,$W1359-4,0)&\"\")","v":""},"",{"$f":"IF(B1359=\"\",\"\",IF(ISERROR(MATCH($J1359,SorP!$B$1:$B$6230,0)),\"\",INDIRECT(\"'SorP'!$A$\"&MATCH($J1359,SorP!$B$1:$B$6230,0))))","v":""},null,{"$f":"IF(C1359=\"\",NA(),MATCH($B1359&$C1359,'Smelter Look-up'!$J:$J,0))","v":{"$error":"#N/A"}},null,0,null,null,null,""]
[{"$nulls":18},{"$f":"IF(ISERROR($W1360),\"\",OFFSET('Smelter Look-up'!$C$4,$W1360-4,0)&\"\")","v":""},"",{"$f":"IF(B1360=\"\",\"\",IF(ISERROR(MATCH($J1360,SorP!$B$1:$B$6230,0)),\"\",INDIRECT(\"'SorP'!$A$\"&MATCH($J1360,SorP!$B$1:$B$6230,0))))","v":""},null,{"$f":"IF(C1360=\"\",NA(),MATCH($B1360&$C1360,'Smelter Look-up'!$J:$J,0))","v":{"$error":"#N/A"}},null,0,null,null,null,""]
[{"$nulls":18},{"$f":"IF(ISERROR($W1361),\"\",OFFSET('Smelter Look-up'!$C$4,$W1361-4,0)&\"\")","v":""},"",{"$f":"IF(B1361=\"\",\"\",IF(ISERROR(MATCH($J1361,SorP!$B$1:$B$6230,0)),\"\",INDIRECT(\"'SorP'!$A$\"&MATCH($J1361,SorP!$B$1:$B$6230,0))))","v":""},null,{"$f":"IF(C1361=\"\",NA(),MATCH($B1361&$C1361,'Smelter Look-up'!$J:$J,0))","v":{"$error":"#N/A"}},null,0,null,null,null,""]
[{"$nulls":18},{"$f":"IF(ISERROR($W1362),\"\",OFFSET('Smelter Look-up'!$C$4,$W1362-4,0)&\"\")","v":""},"",{"$f":"IF(B1362=\"\",\"\",IF(ISERROR(MATCH($J1362,SorP!$B$1:$B$6230,0)),\"\",INDIRECT(\"'SorP'!$A$\"&MATCH($J1362,SorP!$B$1:$B$6230,0))))","v":""},null,{"$f":"IF(C1362=\"\",NA(),MATCH($B1362&$C1362,'Smelter Look-up'!$J:$J,0))","v":{"$error":"#N/A"}},null,0,null,null,null,""]
[{"$nulls":18},{"$f":"IF(ISERROR($W1363),\"\",OFFSET('Smelter Look-up'!$C$4,$W1363-4,0)&\"\")","v":""},"",{"$f":"IF(B1363=\"\",\"\",IF(ISERROR(MATCH($J1363,SorP!$B$1:$B$6230,0)),\"\",INDIRECT(\"'SorP'!$A$\"&MATCH($J1363,SorP!$B$1:$B$6230,0))))","v":""},null,{"$f":"IF(C1363=\"\",NA(),MATCH($B1363&$C1363,'Smelter Look-up'!$J:$J,0))","v":{"$error":"#N/A"}},null,0,null,null,null,""]
[{"$nulls":18},{"$f":"IF(ISERROR($W1364),\"\",OFFSET('Smelter Look-up'!$C$4,$W1364-4,0)&\"\")","v":""},"",{"$f":"IF(B1364=\"\",\"\",IF(ISERROR(MATCH($J1364,SorP!$B$1:$B$6230,0)),\"\",INDIRECT(\"'SorP'!$A$\"&MATCH($J1364,SorP!$B$1:$B$6230,0))))","v":""},null,{"$f":"IF(C1364=\"\",NA(),MATCH($B1364&$C1364,'Smelter Look-up'!$J:$J,0))","v":{"$error":"#N/A"}},null,0,null,null,null,""]
[{"$nulls":18},{"$f":"IF(ISERROR($W1365),\"\",OFFSET('Smelter Look-up'!$C$4,$W1365-4,0)&\"\")","v":""},"",{"$f":"IF(B1365=\"\",\"\",IF(ISERROR(MATCH($J1365,SorP!$B$1:$B$6230,0)),\"\",INDIRECT(\"'SorP'!$A$\"&MATCH($J1365,SorP!$B$1:$B$6230,0))))","v":""},null,{"$f":"IF(C1365=\"\",NA(),MATCH($B1365&$C1365,'Smelter Look-up'!$J:$J,0))","v":{"$error":"#N/A"}},null,0,null,null,null,""]
[{"$nulls":18},{"$f":"IF(ISERROR($W1366),\"\",OFFSET('Smelter Look-up'!$C$4,$W1366-4,0)&\"\")","v":""},"",{"$f":"IF(B1366=\"\",\"\",IF(ISERROR(MATCH($J1366,SorP!$B$1:$B$6230,0)),\"\",INDIRECT(\"'SorP'!$A$\"&MATCH($J1366,SorP!$B$1:$B$6230,0))))","v":""},null,{"$f":"IF(C1366=\"\",NA(),MATCH($B1366&$C1366,'Smelter Look-up'!$J:$J,0))","v":{"$error":"#N/A"}},null,0,null,null,null,""]
[{"$nulls":18},{"$f":"IF(ISERROR($W1367),\"\",OFFSET('Smelter Look-up'!$C$4,$W1367-4,0)&\"\")","v":""},"",{"$f":"IF(B1367=\"\",\"\",IF(ISERROR(MATCH($J1367,SorP!$B$1:$B$6230,0)),\"\",INDIRECT(\"'SorP'!$A$\"&MATCH($J1367,SorP!$B$1:$B$6230,0))))","v":""},null,{"$f":"IF(C1367=\"\",NA(),MATCH($B1367&$C1367,'Smelter Look-up'!$J:$J,0))","v":{"$error":"#N/A"}},null,0,null,null,null,""]
[{"$nulls":18},{"$f":"IF(ISERROR($W1368),\"\",OFFSET('Smelter Look-up'!$C$4,$W1368-4,0)&\"\")","v":""},"",{"$f":"IF(B1368=\"\",\"\",IF(ISERROR(MATCH($J1368,SorP!$B$1:$B$6230,0)),\"\",INDIRECT(\"'SorP'!$A$\"&MATCH($J1368,SorP!$B$1:$B$6230,0))))","v":""},null,{"$f":"IF(C1368=\"\",NA(),MATCH($B1368&$C1368,'Smelter Look-up'!$J:$J,0))","v":{"$error":"#N/A"}},null,0,null,null,null,""]
[{"$nulls":18},{"$f":"IF(ISERROR($W1369),\"\",OFFSET('Smelter Look-up'!$C$4,$W1369-4,0)&\"\")","v":""},"",{"$f":"IF(B1369=\"\",\"\",IF(ISERROR(MATCH($J1369,SorP!$B$1:$B$6230,0)),\"\",INDIRECT(\"'SorP'!$A$\"&MATCH($J1369,SorP!$B$1:$B$6230,0))))","v":""},null,{"$f":"IF(C1369=\"\",NA(),MATCH($B1369&$C1369,'Smelter Look-up'!$J:$J,0))","v":{"$error":"#N/A"}},null,0,null,null,null,""]
[{"$nulls":18},{"$f":"IF(ISERROR($W1370),\"\",OFFSET('Smelter Look-up'!$C$4,$W1370-4,0)&\"\")","v":""},"",{"$f":"IF(B1370=\"\",\"\",IF(ISERROR(MATCH($J1370,SorP!$B$1:$B$6230,0)),\"\",INDIRECT(\"'SorP'!$A$\"&MATCH($J1370,SorP!$B$1:$B$6230,0))))","v":""},null,{"$f":"IF(C1370=\"\",NA(),MATCH($B1370&$C1370,'Smelter Look-up'!$J:$J,0))","v":{"$error":"#N/A"}},null,0,null,null,null,""]
[{"$nulls":18},{"$f":"IF(ISERROR($W1371),\"\",OFFSET('Smelter Look-up'!$C$4,$W1371-4,0)&\"\")","v":""},"",{"$f":"IF(B1371=\"\",\"\",IF(ISERROR(MATCH($J1371,SorP!$B$1:$B$6230,0)),\"\",INDIRECT(\"'SorP'!$A$\"&MATCH($J1371,SorP!$B$1:$B$6230,0))))","v":""},null,{"$f":"IF(C1371=\"\",NA(),MATCH($B1371&$C1371,'Smelter Look-up'!$J:$J,0))","v":{"$error":"#N/A"}},null,0,null,null,null,""]
[{"$nulls":18},{"$f":"IF(ISERROR($W1372),\"\",OFFSET('Smelter Look-up'!$C$4,$W1372-4,0)&\"\")","v":""},"",{"$f":"IF(B1372=\"\",\"\",IF(ISERROR(MATCH($J1372,SorP!$B$1:$B$6230,0)),\"\",INDIRECT(\"'SorP'!$A$\"&MATCH($J1372,SorP!$B$1:$B$6230,0))))","v":""},null,{"$f":"IF(C1372=\"\",NA(),MATCH($B1372&$C1372,'Smelter Look-up'!$J:$J,0))","v":{"$error":"#N/A"}},null,0,null,null,null,""]
[{"$nulls":18},{"$f":"IF(ISERROR($W1373),\"\",OFFSET('Smelter Look-up'!$C$4,$W1373-4,0)&\"\")","v":""},"",{"$f":"IF(B1373=\"\",\"\",IF(ISERROR(MATCH($J1373,SorP!$B$1:$B$6230,0)),\"\",INDIRECT(\"'SorP'!$A$\"&MATCH($J1373,SorP!$B$1:$B$6230,0))))","v":""},null,{"$f":"IF(C1373=\"\",NA(),MATCH($B1373&$C1373,'Smelter Look-up'!$J:$J,0))","v":{"$error":"#N/A"}},null,0,null,null,null,""]
[{"$nulls":18},{"$f":"IF(ISERROR($W1374),\"\",OFFSET('Smelter Look-up'!$C$4,$W1374-4,0)&\"\")","v":""},"",{"$f":"IF(B1374=\"\",\"\",IF(ISERROR(MATCH($J1374,SorP!$B$1:$B$6230,0)),\"\",INDIRECT(\"'SorP'!$A$\"&MATCH($J1374,SorP!$B$1:$B$6230,0))))","v":""},null,{"$f":"IF(C1374=\"\",NA(),MATCH($B1374&$C1374,'Smelter Look-up'!$J:$J,0))","v":{"$error":"#N/A"}},null,0,null,null,null,""]
[{"$nulls":18},{"$f":"IF(ISERROR($W1375),\"\",OFFSET('Smelter Look-up'!$C$4,$W1375-4,0)&\"\")","v":""},"",{"$f":"IF(B1375=\"\",\"\",IF(ISERROR(MATCH($J1375,SorP!$B$1:$B$6230,0)),\"\",INDIRECT(\"'SorP'!$A$\"&MATCH($J1375,SorP!$B$1:$B$6230,0))))","v":""},null,{"$f":"IF(C1375=\"\",NA(),MATCH($B1375&$C1375,'Smelter Look-up'!$J:$J,0))","v":{"$error":"#N/A"}},null,0,null,null,null,""]
[{"$nulls":18},{"$f":"IF(ISERROR($W1376),\"\",OFFSET('Smelter Look-up'!$C$4,$W1376-4,0)&\"\")","v":""},"",{"$f":"IF(B1376=\"\",\"\",IF(ISERROR(MATCH($J1376,SorP!$B$1:$B$6230,0)),\"\",INDIRECT(\"'SorP'!$A$\"&MATCH($J1376,SorP!$B$1:$B$6230,0))))","v":""},null,{"$f":"IF(C1376=\"\",NA(),MATCH($B1376&$C1376,'Smelter Look-up'!$J:$J,0))","v":{"$error":"#N/A"}},null,0,null,null,null,""]
[{"$nulls":18},{"$f":"IF(ISERROR($W1377),\"\",OFFSET('Smelter Look-up'!$C$4,$W1377-4,0)&\"\")","v":""},"",{"$f":"IF(B1377=\"\",\"\",IF(ISERROR(MATCH($J1377,SorP!$B$1:$B$6230,0)),\"\",INDIRECT(\"'SorP'!$A$\"&MATCH($J1377,SorP!$B$1:$B$6230,0))))","v":""},null,{"$f":"IF(C1377=\"\",NA(),MATCH($B1377&$C1377,'Smelter Look-up'!$J:$J,0))","v":{"$error":"#N/A"}},null,0,null,null,null,""]
[{"$nulls":18},{"$f":"IF(ISERROR($W1378),\"\",OFFSET('Smelter Look-up'!$C$4,$W1378-4,0)&\"\")","v":""},"",{"$f":"IF(B1378=\"\",\"\",IF(ISERROR(MATCH($J1378,SorP!$B$1:$B$6230,0)),\"\",INDIRECT(\"'SorP'!$A$\"&MATCH($J1378,SorP!$B$1:$B$6230,0))))","v":""},null,{"$f":"IF(C1378=\"\",NA(),MATCH($B1378&$C1378,'Smelter Look-up'!$J:$J,0))","v":{"$error":"#N/A"}},null,0,null,null,null,""]
[{"$nulls":18},{"$f":"IF(ISERROR($W1379),\"\",OFFSET('Smelter Look-up'!$C$4,$W1379-4,0)&\"\")","v":""},"",{"$f":"IF(B1379=\"\",\"\",IF(ISERROR(MATCH($J1379,SorP!$B$1:$B$6230,0)),\"\",INDIRECT(\"'SorP'!$A$\"&MATCH($J1379,SorP!$B$1:$B$6230,0))))","v":""},null,{"$f":"IF(C1379=\"\",NA(),MATCH($B1379&$C1379,'Smelter Look-up'!$J:$J,0))","v":{"$error":"#N/A"}},null,0,null,null,null,""]
[{"$nulls":18},{"$f":"IF(ISERROR($W1380),\"\",OFFSET('Smelter Look-up'!$C$4,$W1380-4,0)&\"\")","v":""},"",{"$f":"IF(B1380=\"\",\"\",IF(ISERROR(MATCH($J1380,SorP!$B$1:$B$6230,0)),\"\",INDIRECT(\"'SorP'!$A$\"&MATCH($J1380,SorP!$B$1:$B$6230,0))))","v":""},null,{"$f":"IF(C1380=\"\",NA(),MATCH($B1380&$C1380,'Smelter Look-up'!$J:$J,0))","v":{"$error":"#N/A"}},null,0,null,null,null,""]
[{"$nulls":18},{"$f":"IF(ISERROR($W1381),\"\",OFFSET('Smelter Look-up'!$C$4,$W1381-4,0)&\"\")","v":""},"",{"$f":"IF(B1381=\"\",\"\",IF(ISERROR(MATCH($J1381,SorP!$B$1:$B$6230,0)),\"\",INDIRECT(\"'SorP'!$A$\"&MATCH($J1381,SorP!$B$1:$B$6230,0))))","v":""},null,{"$f":"IF(C1381=\"\",NA(),MATCH($B1381&$C1381,'Smelter Look-up'!$J:$J,0))","v":{"$error":"#N/A"}},null,0,null,null,null,""]
[{"$nulls":18},{"$f":"IF(ISERROR($W1382),\"\",OFFSET('Smelter Look-up'!$C$4,$W1382-4,0)&\"\")","v":""},"",{"$f":"IF(B1382=\"\",\"\",IF(ISERROR(MATCH($J1382,SorP!$B$1:$B$6230,0)),\"\",INDIRECT(\"'SorP'!$A$\"&MATCH($J1382,SorP!$B$1:$B$6230,0))))","v":""},null,{"$f":"IF(C1382=\"\",NA(),MATCH($B1382&$C1382,'Smelter Look-up'!$J:$J,0))","v":{"$error":"#N/A"}},null,0,null,null,null,""]
[{"$nulls":18},{"$f":"IF(ISERROR($W1383),\"\",OFFSET('Smelter Look-up'!$C$4,$W1383-4,0)&\"\")","v":""},"",{"$f":"IF(B1383=\"\",\"\",IF(ISERROR(MATCH($J1383,SorP!$B$1:$B$6230,0)),\"\",INDIRECT(\"'SorP'!$A$\"&MATCH($J1383,SorP!$B$1:$B$6230,0))))","v":""},null,{"$f":"IF(C1383=\"\",NA(),MATCH($B1383&$C1383,'Smelter Look-up'!$J:$J,0))","v":{"$error":"#N/A"}},null,0,null,null,null,""]
[{"$nulls":18},{"$f":"IF(ISERROR($W1384),\"\",OFFSET('Smelter Look-up'!$C$4,$W1384-4,0)&\"\")","v":""},"",{"$f":"IF(B1384=\"\",\"\",IF(ISERROR(MATCH($J1384,SorP!$B$1:$B$6230,0)),\"\",INDIRECT(\"'SorP'!$A$\"&MATCH($J1384,SorP!$B$1:$B$6230,0))))","v":""},null,{"$f":"IF(C1384=\"\",NA(),MATCH($B1384&$C1384,'Smelter Look-up'!$J:$J,0))","v":{"$error":"#N/A"}},null,0,null,null,null,""]
[{"$nulls":18},{"$f":"IF(ISERROR($W1385),\"\",OFFSET('Smelter Look-up'!$C$4,$W1385-4,0)&\"\")","v":""},"",{"$f":"IF(B1385=\"\",\"\",IF(ISERROR(MATCH($J1385,SorP!$B$1:$B$6230,0)),\"\",INDIRECT(\"'SorP'!$A$\"&MATCH($J1385,SorP!$B$1:$B$6230,0))))","v":""},null,{"$f":"IF(C1385=\"\",NA(),MATCH($B1385&$C1385,'Smelter Look-up'!$J:$J,0))","v":{"$error":"#N/A"}},null,0,null,null,null,""]
[{"$nulls":18},{"$f":"IF(ISERROR($W1386),\"\",OFFSET('Smelter Look-up'!$C$4,$W1386-4,0)&\"\")","v":""},"",{"$f":"IF(B1386=\"\",\"\",IF(ISERROR(MATCH($J1386,SorP!$B$1:$B$6230,0)),\"\",INDIRECT(\"'SorP'!$A$\"&MATCH($J1386,SorP!$B$1:$B$6230,0))))","v":""},null,{"$f":"IF(C1386=\"\",NA(),MATCH($B1386&$C1386,'Smelter Look-up'!$J:$J,0))","v":{"$error":"#N/A"}},null,0,null,null,null,""]
[{"$nulls":18},{"$f":"IF(ISERROR($W1387),\"\",OFFSET('Smelter Look-up'!$C$4,$W1387-4,0)&\"\")","v":""},"",{"$f":"IF(B1387=\"\",\"\",IF(ISERROR(MATCH($J1387,SorP!$B$1:$B$6230,0)),\"\",INDIRECT(\"'SorP'!$A$\"&MATCH($J1387,SorP!$B$1:$B$6230,0))))","v":""},null,{"$f":"IF(C1387=\"\",NA(),MATCH($B1387&$C1387,'Smelter Look-up'!$J:$J,0))","v":{"$error":"#N/A"}},null,0,null,null,null,""]
[{"$nulls":18},{"$f":"IF(ISERROR($W1388),\"\",OFFSET('Smelter Look-up'!$C$4,$W1388-4,0)&\"\")","v":""},"",{"$f":"IF(B1388=\"\",\"\",IF(ISERROR(MATCH($J1388,SorP!$B$1:$B$6230,0)),\"\",INDIRECT(\"'SorP'!$A$\"&MATCH($J1388,SorP!$B$1:$B$6230,0))))","v":""},null,{"$f":"IF(C1388=\"\",NA(),MATCH($B1388&$C1388,'Smelter Look-up'!$J:$J,0))","v":{"$error":"#N/A"}},null,0,null,null,null,""]
[{"$nulls":18},{"$f":"IF(ISERROR($W1389),\"\",OFFSET('Smelter Look-up'!$C$4,$W1389-4,0)&\"\")","v":""},"",{"$f":"IF(B1389=\"\",\"\",IF(ISERROR(MATCH($J1389,SorP!$B$1:$B$6230,0)),\"\",INDIRECT(\"'SorP'!$A$\"&MATCH($J1389,SorP!$B$1:$B$6230,0))))","v":""},null,{"$f":"IF(C1389=\"\",NA(),MATCH($B1389&$C1389,'Smelter Look-up'!$J:$J,0))","v":{"$error":"#N/A"}},null,0,null,null,null,""]
[{"$nulls":18},{"$f":"IF(ISERROR($W1390),\"\",OFFSET('Smelter Look-up'!$C$4,$W1390-4,0)&\"\")","v":""},"",{"$f":"IF(B1390=\"\",\"\",IF(ISERROR(MATCH($J1390,SorP!$B$1:$B$6230,0)),\"\",INDIRECT(\"'SorP'!$A$\"&MATCH($J1390,SorP!$B$1:$B$6230,0))))","v":""},null,{"$f":"IF(C1390=\"\",NA(),MATCH($B1390&$C1390,'Smelter Look-up'!$J:$J,0))","v":{"$error":"#N/A"}},null,0,null,null,null,""]
[{"$nulls":18},{"$f":"IF(ISERROR($W1391),\"\",OFFSET('Smelter Look-up'!$C$4,$W1391-4,0)&\"\")","v":""},"",{"$f":"IF(B1391=\"\",\"\",IF(ISERROR(MATCH($J1391,SorP!$B$1:$B$6230,0)),\"\",INDIRECT(\"'SorP'!$A$\"&MATCH($J1391,SorP!$B$1:$B$6230,0))))","v":""},null,{"$f":"IF(C1391=\"\",NA(),MATCH($B1391&$C1391,'Smelter Look-up'!$J:$J,0))","v":{"$error":"#N/A"}},null,0,null,null,null,""]
[{"$nulls":18},{"$f":"IF(ISERROR($W1392),\"\",OFFSET('Smelter Look-up'!$C$4,$W1392-4,0)&\"\")","v":""},"",{"$f":"IF(B1392=\"\",\"\",IF(ISERROR(MATCH($J1392,SorP!$B$1:$B$6230,0)),\"\",INDIRECT(\"'SorP'!$A$\"&MATCH($J1392,SorP!$B$1:$B$6230,0))))","v":""},null,{"$f":"IF(C1392=\"\",NA(),MATCH($B1392&$C1392,'Smelter Look-up'!$J:$J,0))","v":{"$error":"#N/A"}},null,0,null,null,null,""]
[{"$nulls":18},{"$f":"IF(ISERROR($W1393),\"\",OFFSET('Smelter Look-up'!$C$4,$W1393-4,0)&\"\")","v":""},"",{"$f":"IF(B1393=\"\",\"\",IF(ISERROR(MATCH($J1393,SorP!$B$1:$B$6230,0)),\"\",INDIRECT(\"'SorP'!$A$\"&MATCH($J1393,SorP!$B$1:$B$6230,0))))","v":""},null,{"$f":"IF(C1393=\"\",NA(),MATCH($B1393&$C1393,'Smelter Look-up'!$J:$J,0))","v":{"$error":"#N/A"}},null,0,null,null,null,""]
[{"$nulls":18},{"$f":"IF(ISERROR($W1394),\"\",OFFSET('Smelter Look-up'!$C$4,$W1394-4,0)&\"\")","v":""},"",{"$f":"IF(B1394=\"\",\"\",IF(ISERROR(MATCH($J1394,SorP!$B$1:$B$6230,0)),\"\",INDIRECT(\"'SorP'!$A$\"&MATCH($J1394,SorP!$B$1:$B$6230,0))))","v":""},null,{"$f":"IF(C1394=\"\",NA(),MATCH($B1394&$C1394,'Smelter Look-up'!$J:$J,0))","v":{"$error":"#N/A"}},null,0,null,null,null,""]
[{"$nulls":18},{"$f":"IF(ISERROR($W1395),\"\",OFFSET('Smelter Look-up'!$C$4,$W1395-4,0)&\"\")","v":""},"",{"$f":"IF(B1395=\"\",\"\",IF(ISERROR(MATCH($J1395,SorP!$B$1:$B$6230,0)),\"\",INDIRECT(\"'SorP'!$A$\"&MATCH($J1395,SorP!$B$1:$B$6230,0))))","v":""},null,{"$f":"IF(C1395=\"\",NA(),MATCH($B1395&$C1395,'Smelter Look-up'!$J:$J,0))","v":{"$error":"#N/A"}},null,0,null,null,null,""]
[{"$nulls":18},{"$f":"IF(ISERROR($W1396),\"\",OFFSET('Smelter Look-up'!$C$4,$W1396-4,0)&\"\")","v":""},"",{"$f":"IF(B1396=\"\",\"\",IF(ISERROR(MATCH($J1396,SorP!$B$1:$B$6230,0)),\"\",INDIRECT(\"'SorP'!$A$\"&MATCH($J1396,SorP!$B$1:$B$6230,0))))","v":""},null,{"$f":"IF(C1396=\"\",NA(),MATCH($B1396&$C1396,'Smelter Look-up'!$J:$J,0))","v":{"$error":"#N/A"}},null,0,null,null,null,""]
[{"$nulls":18},{"$f":"IF(ISERROR($W1397),\"\",OFFSET('Smelter Look-up'!$C$4,$W1397-4,0)&\"\")","v":""},"",{"$f":"IF(B1397=\"\",\"\",IF(ISERROR(MATCH($J1397,SorP!$B$1:$B$6230,0)),\"\",INDIRECT(\"'SorP'!$A$\"&MATCH($J1397,SorP!$B$1:$B$6230,0))))","v":""},null,{"$f":"IF(C1397=\"\",NA(),MATCH($B1397&$C1397,'Smelter Look-up'!$J:$J,0))","v":{"$error":"#N/A"}},null,0,null,null,null,""]
[{"$nulls":18},{"$f":"IF(ISERROR($W1398),\"\",OFFSET('Smelter Look-up'!$C$4,$W1398-4,0)&\"\")","v":""},"",{"$f":"IF(B1398=\"\",\"\",IF(ISERROR(MATCH($J1398,SorP!$B$1:$B$6230,0)),\"\",INDIRECT(\"'SorP'!$A$\"&MATCH($J1398,SorP!$B$1:$B$6230,0))))","v":""},null,{"$f":"IF(C1398=\"\",NA(),MATCH($B1398&$C1398,'Smelter Look-up'!$J:$J,0))","v":{"$error":"#N/A"}},null,0,null,null,null,""]
[{"$nulls":18},{"$f":"IF(ISERROR($W1399),\"\",OFFSET('Smelter Look-up'!$C$4,$W1399-4,0)&\"\")","v":""},"",{"$f":"IF(B1399=\"\",\"\",IF(ISERROR(MATCH($J1399,SorP!$B$1:$B$6230,0)),\"\",INDIRECT(\"'SorP'!$A$\"&MATCH($J1399,SorP!$B$1:$B$6230,0))))","v":""},null,{"$f":"IF(C1399=\"\",NA(),MATCH($B1399&$C1399,'Smelter Look-up'!$J:$J,0))","v":{"$error":"#N/A"}},null,0,null,null,null,""]
[{"$nulls":18},{"$f":"IF(ISERROR($W1400),\"\",OFFSET('Smelter Look-up'!$C$4,$W1400-4,0)&\"\")","v":""},"",{"$f":"IF(B1400=\"\",\"\",IF(ISERROR(MATCH($J1400,SorP!$B$1:$B$6230,0)),\"\",INDIRECT(\"'SorP'!$A$\"&MATCH($J1400,SorP!$B$1:$B$6230,0))))","v":""},null,{"$f":"IF(C1400=\"\",NA(),MATCH($B1400&$C1400,'Smelter Look-up'!$J:$J,0))","v":{"$error":"#N/A"}},null,0,null,null,null,""]
[{"$nulls":18},{"$f":"IF(ISERROR($W1401),\"\",OFFSET('Smelter Look-up'!$C$4,$W1401-4,0)&\"\")","v":""},"",{"$f":"IF(B1401=\"\",\"\",IF(ISERROR(MATCH($J1401,SorP!$B$1:$B$6230,0)),\"\",INDIRECT(\"'SorP'!$A$\"&MATCH($J1401,SorP!$B$1:$B$6230,0))))","v":""},null,{"$f":"IF(C1401=\"\",NA(),MATCH($B1401&$C1401,'Smelter Look-up'!$J:$J,0))","v":{"$error":"#N/A"}},null,0,null,null,null,""]
[{"$nulls":18},{"$f":"IF(ISERROR($W1402),\"\",OFFSET('Smelter Look-up'!$C$4,$W1402-4,0)&\"\")","v":""},"",{"$f":"IF(B1402=\"\",\"\",IF(ISERROR(MATCH($J1402,SorP!$B$1:$B$6230,0)),\"\",INDIRECT(\"'SorP'!$A$\"&MATCH($J1402,SorP!$B$1:$B$6230,0))))","v":""},null,{"$f":"IF(C1402=\"\",NA(),MATCH($B1402&$C1402,'Smelter Look-up'!$J:$J,0))","v":{"$error":"#N/A"}},null,0,null,null,null,""]
[{"$nulls":18},{"$f":"IF(ISERROR($W1403),\"\",OFFSET('Smelter Look-up'!$C$4,$W1403-4,0)&\"\")","v":""},"",{"$f":"IF(B1403=\"\",\"\",IF(ISERROR(MATCH($J1403,SorP!$B$1:$B$6230,0)),\"\",INDIRECT(\"'SorP'!$A$\"&MATCH($J1403,SorP!$B$1:$B$6230,0))))","v":""},null,{"$f":"IF(C1403=\"\",NA(),MATCH($B1403&$C1403,'Smelter Look-up'!$J:$J,0))","v":{"$error":"#N/A"}},null,0,null,null,null,""]
[{"$nulls":18},{"$f":"IF(ISERROR($W1404),\"\",OFFSET('Smelter Look-up'!$C$4,$W1404-4,0)&\"\")","v":""},"",{"$f":"IF(B1404=\"\",\"\",IF(ISERROR(MATCH($J1404,SorP!$B$1:$B$6230,0)),\"\",INDIRECT(\"'SorP'!$A$\"&MATCH($J1404,SorP!$B$1:$B$6230,0))))","v":""},null,{"$f":"IF(C1404=\"\",NA(),MATCH($B1404&$C1404,'Smelter Look-up'!$J:$J,0))","v":{"$error":"#N/A"}},null,0,null,null,null,""]
[{"$nulls":18},{"$f":"IF(ISERROR($W1405),\"\",OFFSET('Smelter Look-up'!$C$4,$W1405-4,0)&\"\")","v":""},"",{"$f":"IF(B1405=\"\",\"\",IF(ISERROR(MATCH($J1405,SorP!$B$1:$B$6230,0)),\"\",INDIRECT(\"'SorP'!$A$\"&MATCH($J1405,SorP!$B$1:$B$6230,0))))","v":""},null,{"$f":"IF(C1405=\"\",NA(),MATCH($B1405&$C1405,'Smelter Look-up'!$J:$J,0))","v":{"$error":"#N/A"}},null,0,null,null,null,""]
[{"$nulls":18},{"$f":"IF(ISERROR($W1406),\"\",OFFSET('Smelter Look-up'!$C$4,$W1406-4,0)&\"\")","v":""},"",{"$f":"IF(B1406=\"\",\"\",IF(ISERROR(MATCH($J1406,SorP!$B$1:$B$6230,0)),\"\",INDIRECT(\"'SorP'!$A$\"&MATCH($J1406,SorP!$B$1:$B$6230,0))))","v":""},null,{"$f":"IF(C1406=\"\",NA(),MATCH($B1406&$C1406,'Smelter Look-up'!$J:$J,0))","v":{"$error":"#N/A"}},null,0,null,null,null,""]
[{"$nulls":18},{"$f":"IF(ISERROR($W1407),\"\",OFFSET('Smelter Look-up'!$C$4,$W1407-4,0)&\"\")","v":""},"",{"$f":"IF(B1407=\"\",\"\",IF(ISERROR(MATCH($J1407,SorP!$B$1:$B$6230,0)),\"\",INDIRECT(\"'SorP'!$A$\"&MATCH($J1407,SorP!$B$1:$B$6230,0))))","v":""},null,{"$f":"IF(C1407=\"\",NA(),MATCH($B1407&$C1407,'Smelter Look-up'!$J:$J,0))","v":{"$error":"#N/A"}},null,0,null,null,null,""]
[{"$nulls":18},{"$f":"IF(ISERROR($W1408),\"\",OFFSET('Smelter Look-up'!$C$4,$W1408-4,0)&\"\")","v":""},"",{"$f":"IF(B1408=\"\",\"\",IF(ISERROR(MATCH($J1408,SorP!$B$1:$B$6230,0)),\"\",INDIRECT(\"'SorP'!$A$\"&MATCH($J1408,SorP!$B$1:$B$6230,0))))","v":""},null,{"$f":"IF(C1408=\"\",NA(),MATCH($B1408&$C1408,'Smelter Look-up'!$J:$J,0))","v":{"$error":"#N/A"}},null,0,null,null,null,""]
[{"$nulls":18},{"$f":"IF(ISERROR($W1409),\"\",OFFSET('Smelter Look-up'!$C$4,$W1409-4,0)&\"\")","v":""},"",{"$f":"IF(B1409=\"\",\"\",IF(ISERROR(MATCH($J1409,SorP!$B$1:$B$6230,0)),\"\",INDIRECT(\"'SorP'!$A$\"&MATCH($J1409,SorP!$B$1:$B$6230,0))))","v":""},null,{"$f":"IF(C1409=\"\",NA(),MATCH($B1409&$C1409,'Smelter Look-up'!$J:$J,0))","v":{"$error":"#N/A"}},null,0,null,null,null,""]
[{"$nulls":18},{"$f":"IF(ISERROR($W1410),\"\",OFFSET('Smelter Look-up'!$C$4,$W1410-4,0)&\"\")","v":""},"",{"$f":"IF(B1410=\"\",\"\",IF(ISERROR(MATCH($J1410,SorP!$B$1:$B$6230,0)),\"\",INDIRECT(\"'SorP'!$A$\"&MATCH($J1410,SorP!$B$1:$B$6230,0))))","v":""},null,{"$f":"IF(C1410=\"\",NA(),MATCH($B1410&$C1410,'Smelter Look-up'!$J:$J,0))","v":{"$error":"#N/A"}},null,0,null,null,null,""]
[{"$nulls":18},{"$f":"IF(ISERROR($W1411),\"\",OFFSET('Smelter Look-up'!$C$4,$W1411-4,0)&\"\")","v":""},"",{"$f":"IF(B1411=\"\",\"\",IF(ISERROR(MATCH($J1411,SorP!$B$1:$B$6230,0)),\"\",INDIRECT(\"'SorP'!$A$\"&MATCH($J1411,SorP!$B$1:$B$6230,0))))","v":""},null,{"$f":"IF(C1411=\"\",NA(),MATCH($B1411&$C1411,'Smelter Look-up'!$J:$J,0))","v":{"$error":"#N/A"}},null,0,null,null,null,""]
[{"$nulls":18},{"$f":"IF(ISERROR($W1412),\"\",OFFSET('Smelter Look-up'!$C$4,$W1412-4,0)&\"\")","v":""},"",{"$f":"IF(B1412=\"\",\"\",IF(ISERROR(MATCH($J1412,SorP!$B$1:$B$6230,0)),\"\",INDIRECT(\"'SorP'!$A$\"&MATCH($J1412,SorP!$B$1:$B$6230,0))))","v":""},null,{"$f":"IF(C1412=\"\",NA(),MATCH($B1412&$C1412,'Smelter Look-up'!$J:$J,0))","v":{"$error":"#N/A"}},null,0,null,null,null,""]
[{"$nulls":18},{"$f":"IF(ISERROR($W1413),\"\",OFFSET('Smelter Look-up'!$C$4,$W1413-4,0)&\"\")","v":""},{"$f":"IF(B1413=\"\",\"\",IF(ISERROR(MATCH($E1413,CL,0)),\"Unknown\",INDIRECT(\"'C'!$A$\"&MATCH($E1413,CL,0)+1)))","v":""},{"$f":"IF(B1413=\"\",\"\",IF(ISERROR(MATCH($J1413,SorP!$B$1:$B$6230,0)),\"\",INDIRECT(\"'SorP'!$A$\"&MATCH($J1413,SorP!$B$1:$B$6230,0))))","v":""},null,{"$f":"IF(C1413=\"\",NA(),MATCH($B1413&$C1413,'Smelter Look-up'!$J:$J,0))","v":{"$error":"#N/A"}},null,{"$f":"IF(AND(C1413=\"Smelter not listed\",OR(LEN(D1413)=0,LEN(E1413)=0)),1,0)","v":0},null,null,null,{"$f":"B1413&C1413","v":""}]
[{"$nulls":18},{"$f":"IF(ISERROR($W1414),\"\",OFFSET('Smelter Look-up'!$C$4,$W1414-4,0)&\"\")","v":""},"",{"$f":"IF(B1414=\"\",\"\",IF(ISERROR(MATCH($J1414,SorP!$B$1:$B$6230,0)),\"\",INDIRECT(\"'SorP'!$A$\"&MATCH($J1414,SorP!$B$1:$B$6230,0))))","v":""},null,{"$f":"IF(C1414=\"\",NA(),MATCH($B1414&$C1414,'Smelter Look-up'!$J:$J,0))","v":{"$error":"#N/A"}},null,0,null,null,null,""]
[{"$nulls":18},{"$f":"IF(ISERROR($W1415),\"\",OFFSET('Smelter Look-up'!$C$4,$W1415-4,0)&\"\")","v":""},"",{"$f":"IF(B1415=\"\",\"\",IF(ISERROR(MATCH($J1415,SorP!$B$1:$B$6230,0)),\"\",INDIRECT(\"'SorP'!$A$\"&MATCH($J1415,SorP!$B$1:$B$6230,0))))","v":""},null,{"$f":"IF(C1415=\"\",NA(),MATCH($B1415&$C1415,'Smelter Look-up'!$J:$J,0))","v":{"$error":"#N/A"}},null,0,null,null,null,""]
[{"$nulls":18},{"$f":"IF(ISERROR($W1416),\"\",OFFSET('Smelter Look-up'!$C$4,$W1416-4,0)&\"\")","v":""},"",{"$f":"IF(B1416=\"\",\"\",IF(ISERROR(MATCH($J1416,SorP!$B$1:$B$6230,0)),\"\",INDIRECT(\"'SorP'!$A$\"&MATCH($J1416,SorP!$B$1:$B$6230,0))))","v":""},null,{"$f":"IF(C1416=\"\",NA(),MATCH($B1416&$C1416,'Smelter Look-up'!$J:$J,0))","v":{"$error":"#N/A"}},null,0,null,null,null,""]
[{"$nulls":18},{"$f":"IF(ISERROR($W1417),\"\",OFFSET('Smelter Look-up'!$C$4,$W1417-4,0)&\"\")","v":""},"",{"$f":"IF(B1417=\"\",\"\",IF(ISERROR(MATCH($J1417,SorP!$B$1:$B$6230,0)),\"\",INDIRECT(\"'SorP'!$A$\"&MATCH($J1417,SorP!$B$1:$B$6230,0))))","v":""},null,{"$f":"IF(C1417=\"\",NA(),MATCH($B1417&$C1417,'Smelter Look-up'!$J:$J,0))","v":{"$error":"#N/A"}},null,0,null,null,null,""]
[{"$nulls":18},{"$f":"IF(ISERROR($W1418),\"\",OFFSET('Smelter Look-up'!$C$4,$W1418-4,0)&\"\")","v":""},"",{"$f":"IF(B1418=\"\",\"\",IF(ISERROR(MATCH($J1418,SorP!$B$1:$B$6230,0)),\"\",INDIRECT(\"'SorP'!$A$\"&MATCH($J1418,SorP!$B$1:$B$6230,0))))","v":""},null,{"$f":"IF(C1418=\"\",NA(),MATCH($B1418&$C1418,'Smelter Look-up'!$J:$J,0))","v":{"$error":"#N/A"}},null,0,null,null,null,""]
[{"$nulls":18},{"$f":"IF(ISERROR($W1419),\"\",OFFSET('Smelter Look-up'!$C$4,$W1419-4,0)&\"\")","v":""},"",{"$f":"IF(B1419=\"\",\"\",IF(ISERROR(MATCH($J1419,SorP!$B$1:$B$6230,0)),\"\",INDIRECT(\"'SorP'!$A$\"&MATCH($J1419,SorP!$B$1:$B$6230,0))))","v":""},null,{"$f":"IF(C1419=\"\",NA(),MATCH($B1419&$C1419,'Smelter Look-up'!$J:$J,0))","v":{"$error":"#N/A"}},null,0,null,null,null,""]
[{"$nulls":18},{"$f":"IF(ISERROR($W1420),\"\",OFFSET('Smelter Look-up'!$C$4,$W1420-4,0)&\"\")","v":""},"",{"$f":"IF(B1420=\"\",\"\",IF(ISERROR(MATCH($J1420,SorP!$B$1:$B$6230,0)),\"\",INDIRECT(\"'SorP'!$A$\"&MATCH($J1420,SorP!$B$1:$B$6230,0))))","v":""},null,{"$f":"IF(C1420=\"\",NA(),MATCH($B1420&$C1420,'Smelter Look-up'!$J:$J,0))","v":{"$error":"#N/A"}},null,0,null,null,null,""]
[{"$nulls":18},{"$f":"IF(ISERROR($W1421),\"\",OFFSET('Smelter Look-up'!$C$4,$W1421-4,0)&\"\")","v":""},"",{"$f":"IF(B1421=\"\",\"\",IF(ISERROR(MATCH($J1421,SorP!$B$1:$B$6230,0)),\"\",INDIRECT(\"'SorP'!$A$\"&MATCH($J1421,SorP!$B$1:$B$6230,0))))","v":""},null,{"$f":"IF(C1421=\"\",NA(),MATCH($B1421&$C1421,'Smelter Look-up'!$J:$J,0))","v":{"$error":"#N/A"}},null,0,null,null,null,""]
[{"$nulls":18},{"$f":"IF(ISERROR($W1422),\"\",OFFSET('Smelter Look-up'!$C$4,$W1422-4,0)&\"\")","v":""},"",{"$f":"IF(B1422=\"\",\"\",IF(ISERROR(MATCH($J1422,SorP!$B$1:$B$6230,0)),\"\",INDIRECT(\"'SorP'!$A$\"&MATCH($J1422,SorP!$B$1:$B$6230,0))))","v":""},null,{"$f":"IF(C1422=\"\",NA(),MATCH($B1422&$C1422,'Smelter Look-up'!$J:$J,0))","v":{"$error":"#N/A"}},null,0,null,null,null,""]
[{"$nulls":18},{"$f":"IF(ISERROR($W1423),\"\",OFFSET('Smelter Look-up'!$C$4,$W1423-4,0)&\"\")","v":""},"",{"$f":"IF(B1423=\"\",\"\",IF(ISERROR(MATCH($J1423,SorP!$B$1:$B$6230,0)),\"\",INDIRECT(\"'SorP'!$A$\"&MATCH($J1423,SorP!$B$1:$B$6230,0))))","v":""},null,{"$f":"IF(C1423=\"\",NA(),MATCH($B1423&$C1423,'Smelter Look-up'!$J:$J,0))","v":{"$error":"#N/A"}},null,0,null,null,null,""]
[{"$nulls":18},{"$f":"IF(ISERROR($W1424),\"\",OFFSET('Smelter Look-up'!$C$4,$W1424-4,0)&\"\")","v":""},"",{"$f":"IF(B1424=\"\",\"\",IF(ISERROR(MATCH($J1424,SorP!$B$1:$B$6230,0)),\"\",INDIRECT(\"'SorP'!$A$\"&MATCH($J1424,SorP!$B$1:$B$6230,0))))","v":""},null,{"$f":"IF(C1424=\"\",NA(),MATCH($B1424&$C1424,'Smelter Look-up'!$J:$J,0))","v":{"$error":"#N/A"}},null,0,null,null,null,""]
[{"$nulls":18},{"$f":"IF(ISERROR($W1425),\"\",OFFSET('Smelter Look-up'!$C$4,$W1425-4,0)&\"\")","v":""},"",{"$f":"IF(B1425=\"\",\"\",IF(ISERROR(MATCH($J1425,SorP!$B$1:$B$6230,0)),\"\",INDIRECT(\"'SorP'!$A$\"&MATCH($J1425,SorP!$B$1:$B$6230,0))))","v":""},null,{"$f":"IF(C1425=\"\",NA(),MATCH($B1425&$C1425,'Smelter Look-up'!$J:$J,0))","v":{"$error":"#N/A"}},null,0,null,null,null,""]
[{"$nulls":18},{"$f":"IF(ISERROR($W1426),\"\",OFFSET('Smelter Look-up'!$C$4,$W1426-4,0)&\"\")","v":""},"",{"$f":"IF(B1426=\"\",\"\",IF(ISERROR(MATCH($J1426,SorP!$B$1:$B$6230,0)),\"\",INDIRECT(\"'SorP'!$A$\"&MATCH($J1426,SorP!$B$1:$B$6230,0))))","v":""},null,{"$f":"IF(C1426=\"\",NA(),MATCH($B1426&$C1426,'Smelter Look-up'!$J:$J,0))","v":{"$error":"#N/A"}},null,0,null,null,null,""]
[{"$nulls":18},{"$f":"IF(ISERROR($W1427),\"\",OFFSET('Smelter Look-up'!$C$4,$W1427-4,0)&\"\")","v":""},"",{"$f":"IF(B1427=\"\",\"\",IF(ISERROR(MATCH($J1427,SorP!$B$1:$B$6230,0)),\"\",INDIRECT(\"'SorP'!$A$\"&MATCH($J1427,SorP!$B$1:$B$6230,0))))","v":""},null,{"$f":"IF(C1427=\"\",NA(),MATCH($B1427&$C1427,'Smelter Look-up'!$J:$J,0))","v":{"$error":"#N/A"}},null,0,null,null,null,""]
[{"$nulls":18},{"$f":"IF(ISERROR($W1428),\"\",OFFSET('Smelter Look-up'!$C$4,$W1428-4,0)&\"\")","v":""},"",{"$f":"IF(B1428=\"\",\"\",IF(ISERROR(MATCH($J1428,SorP!$B$1:$B$6230,0)),\"\",INDIRECT(\"'SorP'!$A$\"&MATCH($J1428,SorP!$B$1:$B$6230,0))))","v":""},null,{"$f":"IF(C1428=\"\",NA(),MATCH($B1428&$C1428,'Smelter Look-up'!$J:$J,0))","v":{"$error":"#N/A"}},null,0,null,null,null,""]
[{"$nulls":18},{"$f":"IF(ISERROR($W1429),\"\",OFFSET('Smelter Look-up'!$C$4,$W1429-4,0)&\"\")","v":""},"",{"$f":"IF(B1429=\"\",\"\",IF(ISERROR(MATCH($J1429,SorP!$B$1:$B$6230,0)),\"\",INDIRECT(\"'SorP'!$A$\"&MATCH($J1429,SorP!$B$1:$B$6230,0))))","v":""},null,{"$f":"IF(C1429=\"\",NA(),MATCH($B1429&$C1429,'Smelter Look-up'!$J:$J,0))","v":{"$error":"#N/A"}},null,0,null,null,null,""]
[{"$nulls":18},{"$f":"IF(ISERROR($W1430),\"\",OFFSET('Smelter Look-up'!$C$4,$W1430-4,0)&\"\")","v":""},"",{"$f":"IF(B1430=\"\",\"\",IF(ISERROR(MATCH($J1430,SorP!$B$1:$B$6230,0)),\"\",INDIRECT(\"'SorP'!$A$\"&MATCH($J1430,SorP!$B$1:$B$6230,0))))","v":""},null,{"$f":"IF(C1430=\"\",NA(),MATCH($B1430&$C1430,'Smelter Look-up'!$J:$J,0))","v":{"$error":"#N/A"}},null,0,null,null,null,""]
[{"$nulls":18},{"$f":"IF(ISERROR($W1431),\"\",OFFSET('Smelter Look-up'!$C$4,$W1431-4,0)&\"\")","v":""},"",{"$f":"IF(B1431=\"\",\"\",IF(ISERROR(MATCH($J1431,SorP!$B$1:$B$6230,0)),\"\",INDIRECT(\"'SorP'!$A$\"&MATCH($J1431,SorP!$B$1:$B$6230,0))))","v":""},null,{"$f":"IF(C1431=\"\",NA(),MATCH($B1431&$C1431,'Smelter Look-up'!$J:$J,0))","v":{"$error":"#N/A"}},null,0,null,null,null,""]
[{"$nulls":18},{"$f":"IF(ISERROR($W1432),\"\",OFFSET('Smelter Look-up'!$C$4,$W1432-4,0)&\"\")","v":""},"",{"$f":"IF(B1432=\"\",\"\",IF(ISERROR(MATCH($J1432,SorP!$B$1:$B$6230,0)),\"\",INDIRECT(\"'SorP'!$A$\"&MATCH($J1432,SorP!$B$1:$B$6230,0))))","v":""},null,{"$f":"IF(C1432=\"\",NA(),MATCH($B1432&$C1432,'Smelter Look-up'!$J:$J,0))","v":{"$error":"#N/A"}},null,0,null,null,null,""]
[{"$nulls":18},{"$f":"IF(ISERROR($W1433),\"\",OFFSET('Smelter Look-up'!$C$4,$W1433-4,0)&\"\")","v":""},"",{"$f":"IF(B1433=\"\",\"\",IF(ISERROR(MATCH($J1433,SorP!$B$1:$B$6230,0)),\"\",INDIRECT(\"'SorP'!$A$\"&MATCH($J1433,SorP!$B$1:$B$6230,0))))","v":""},null,{"$f":"IF(C1433=\"\",NA(),MATCH($B1433&$C1433,'Smelter Look-up'!$J:$J,0))","v":{"$error":"#N/A"}},null,0,null,null,null,""]
[{"$nulls":18},{"$f":"IF(ISERROR($W1434),\"\",OFFSET('Smelter Look-up'!$C$4,$W1434-4,0)&\"\")","v":""},"",{"$f":"IF(B1434=\"\",\"\",IF(ISERROR(MATCH($J1434,SorP!$B$1:$B$6230,0)),\"\",INDIRECT(\"'SorP'!$A$\"&MATCH($J1434,SorP!$B$1:$B$6230,0))))","v":""},null,{"$f":"IF(C1434=\"\",NA(),MATCH($B1434&$C1434,'Smelter Look-up'!$J:$J,0))","v":{"$error":"#N/A"}},null,0,null,null,null,""]
[{"$nulls":18},{"$f":"IF(ISERROR($W1435),\"\",OFFSET('Smelter Look-up'!$C$4,$W1435-4,0)&\"\")","v":""},"",{"$f":"IF(B1435=\"\",\"\",IF(ISERROR(MATCH($J1435,SorP!$B$1:$B$6230,0)),\"\",INDIRECT(\"'SorP'!$A$\"&MATCH($J1435,SorP!$B$1:$B$6230,0))))","v":""},null,{"$f":"IF(C1435=\"\",NA(),MATCH($B1435&$C1435,'Smelter Look-up'!$J:$J,0))","v":{"$error":"#N/A"}},null,0,null,null,null,""]
[{"$nulls":18},{"$f":"IF(ISERROR($W1436),\"\",OFFSET('Smelter Look-up'!$C$4,$W1436-4,0)&\"\")","v":""},"",{"$f":"IF(B1436=\"\",\"\",IF(ISERROR(MATCH($J1436,SorP!$B$1:$B$6230,0)),\"\",INDIRECT(\"'SorP'!$A$\"&MATCH($J1436,SorP!$B$1:$B$6230,0))))","v":""},null,{"$f":"IF(C1436=\"\",NA(),MATCH($B1436&$C1436,'Smelter Look-up'!$J:$J,0))","v":{"$error":"#N/A"}},null,0,null,null,null,""]
[{"$nulls":18},{"$f":"IF(ISERROR($W1437),\"\",OFFSET('Smelter Look-up'!$C$4,$W1437-4,0)&\"\")","v":""},"",{"$f":"IF(B1437=\"\",\"\",IF(ISERROR(MATCH($J1437,SorP!$B$1:$B$6230,0)),\"\",INDIRECT(\"'SorP'!$A$\"&MATCH($J1437,SorP!$B$1:$B$6230,0))))","v":""},null,{"$f":"IF(C1437=\"\",NA(),MATCH($B1437&$C1437,'Smelter Look-up'!$J:$J,0))","v":{"$error":"#N/A"}},null,0,null,null,null,""]
[{"$nulls":18},{"$f":"IF(ISERROR($W1438),\"\",OFFSET('Smelter Look-up'!$C$4,$W1438-4,0)&\"\")","v":""},"",{"$f":"IF(B1438=\"\",\"\",IF(ISERROR(MATCH($J1438,SorP!$B$1:$B$6230,0)),\"\",INDIRECT(\"'SorP'!$A$\"&MATCH($J1438,SorP!$B$1:$B$6230,0))))","v":""},null,{"$f":"IF(C1438=\"\",NA(),MATCH($B1438&$C1438,'Smelter Look-up'!$J:$J,0))","v":{"$error":"#N/A"}},null,0,null,null,null,""]
[{"$nulls":18},{"$f":"IF(ISERROR($W1439),\"\",OFFSET('Smelter Look-up'!$C$4,$W1439-4,0)&\"\")","v":""},"",{"$f":"IF(B1439=\"\",\"\",IF(ISERROR(MATCH($J1439,SorP!$B$1:$B$6230,0)),\"\",INDIRECT(\"'SorP'!$A$\"&MATCH($J1439,SorP!$B$1:$B$6230,0))))","v":""},null,{"$f":"IF(C1439=\"\",NA(),MATCH($B1439&$C1439,'Smelter Look-up'!$J:$J,0))","v":{"$error":"#N/A"}},null,0,null,null,null,""]
[{"$nulls":18},{"$f":"IF(ISERROR($W1440),\"\",OFFSET('Smelter Look-up'!$C$4,$W1440-4,0)&\"\")","v":""},"",{"$f":"IF(B1440=\"\",\"\",IF(ISERROR(MATCH($J1440,SorP!$B$1:$B$6230,0)),\"\",INDIRECT(\"'SorP'!$A$\"&MATCH($J1440,SorP!$B$1:$B$6230,0))))","v":""},null,{"$f":"IF(C1440=\"\",NA(),MATCH($B1440&$C1440,'Smelter Look-up'!$J:$J,0))","v":{"$error":"#N/A"}},null,0,null,null,null,""]
[{"$nulls":18},{"$f":"IF(ISERROR($W1441),\"\",OFFSET('Smelter Look-up'!$C$4,$W1441-4,0)&\"\")","v":""},"",{"$f":"IF(B1441=\"\",\"\",IF(ISERROR(MATCH($J1441,SorP!$B$1:$B$6230,0)),\"\",INDIRECT(\"'SorP'!$A$\"&MATCH($J1441,SorP!$B$1:$B$6230,0))))","v":""},null,{"$f":"IF(C1441=\"\",NA(),MATCH($B1441&$C1441,'Smelter Look-up'!$J:$J,0))","v":{"$error":"#N/A"}},null,0,null,null,null,""]
[{"$nulls":18},{"$f":"IF(ISERROR($W1442),\"\",OFFSET('Smelter Look-up'!$C$4,$W1442-4,0)&\"\")","v":""},"",{"$f":"IF(B1442=\"\",\"\",IF(ISERROR(MATCH($J1442,SorP!$B$1:$B$6230,0)),\"\",INDIRECT(\"'SorP'!$A$\"&MATCH($J1442,SorP!$B$1:$B$6230,0))))","v":""},null,{"$f":"IF(C1442=\"\",NA(),MATCH($B1442&$C1442,'Smelter Look-up'!$J:$J,0))","v":{"$error":"#N/A"}},null,0,null,null,null,""]
[{"$nulls":18},{"$f":"IF(ISERROR($W1443),\"\",OFFSET('Smelter Look-up'!$C$4,$W1443-4,0)&\"\")","v":""},"",{"$f":"IF(B1443=\"\",\"\",IF(ISERROR(MATCH($J1443,SorP!$B$1:$B$6230,0)),\"\",INDIRECT(\"'SorP'!$A$\"&MATCH($J1443,SorP!$B$1:$B$6230,0))))","v":""},null,{"$f":"IF(C1443=\"\",NA(),MATCH($B1443&$C1443,'Smelter Look-up'!$J:$J,0))","v":{"$error":"#N/A"}},null,0,null,null,null,""]
[{"$nulls":18},{"$f":"IF(ISERROR($W1444),\"\",OFFSET('Smelter Look-up'!$C$4,$W1444-4,0)&\"\")","v":""},"",{"$f":"IF(B1444=\"\",\"\",IF(ISERROR(MATCH($J1444,SorP!$B$1:$B$6230,0)),\"\",INDIRECT(\"'SorP'!$A$\"&MATCH($J1444,SorP!$B$1:$B$6230,0))))","v":""},null,{"$f":"IF(C1444=\"\",NA(),MATCH($B1444&$C1444,'Smelter Look-up'!$J:$J,0))","v":{"$error":"#N/A"}},null,0,null,null,null,""]
[{"$nulls":18},{"$f":"IF(ISERROR($W1445),\"\",OFFSET('Smelter Look-up'!$C$4,$W1445-4,0)&\"\")","v":""},"",{"$f":"IF(B1445=\"\",\"\",IF(ISERROR(MATCH($J1445,SorP!$B$1:$B$6230,0)),\"\",INDIRECT(\"'SorP'!$A$\"&MATCH($J1445,SorP!$B$1:$B$6230,0))))","v":""},null,{"$f":"IF(C1445=\"\",NA(),MATCH($B1445&$C1445,'Smelter Look-up'!$J:$J,0))","v":{"$error":"#N/A"}},null,0,null,null,null,""]
[{"$nulls":18},{"$f":"IF(ISERROR($W1446),\"\",OFFSET('Smelter Look-up'!$C$4,$W1446-4,0)&\"\")","v":""},"",{"$f":"IF(B1446=\"\",\"\",IF(ISERROR(MATCH($J1446,SorP!$B$1:$B$6230,0)),\"\",INDIRECT(\"'SorP'!$A$\"&MATCH($J1446,SorP!$B$1:$B$6230,0))))","v":""},null,{"$f":"IF(C1446=\"\",NA(),MATCH($B1446&$C1446,'Smelter Look-up'!$J:$J,0))","v":{"$error":"#N/A"}},null,0,null,null,null,""]
[{"$nulls":18},{"$f":"IF(ISERROR($W1447),\"\",OFFSET('Smelter Look-up'!$C$4,$W1447-4,0)&\"\")","v":""},"",{"$f":"IF(B1447=\"\",\"\",IF(ISERROR(MATCH($J1447,SorP!$B$1:$B$6230,0)),\"\",INDIRECT(\"'SorP'!$A$\"&MATCH($J1447,SorP!$B$1:$B$6230,0))))","v":""},null,{"$f":"IF(C1447=\"\",NA(),MATCH($B1447&$C1447,'Smelter Look-up'!$J:$J,0))","v":{"$error":"#N/A"}},null,0,null,null,null,""]
[{"$nulls":18},{"$f":"IF(ISERROR($W1448),\"\",OFFSET('Smelter Look-up'!$C$4,$W1448-4,0)&\"\")","v":""},"",{"$f":"IF(B1448=\"\",\"\",IF(ISERROR(MATCH($J1448,SorP!$B$1:$B$6230,0)),\"\",INDIRECT(\"'SorP'!$A$\"&MATCH($J1448,SorP!$B$1:$B$6230,0))))","v":""},null,{"$f":"IF(C1448=\"\",NA(),MATCH($B1448&$C1448,'Smelter Look-up'!$J:$J,0))","v":{"$error":"#N/A"}},null,0,null,null,null,""]
[{"$nulls":18},{"$f":"IF(ISERROR($W1449),\"\",OFFSET('Smelter Look-up'!$C$4,$W1449-4,0)&\"\")","v":""},"",{"$f":"IF(B1449=\"\",\"\",IF(ISERROR(MATCH($J1449,SorP!$B$1:$B$6230,0)),\"\",INDIRECT(\"'SorP'!$A$\"&MATCH($J1449,SorP!$B$1:$B$6230,0))))","v":""},null,{"$f":"IF(C1449=\"\",NA(),MATCH($B1449&$C1449,'Smelter Look-up'!$J:$J,0))","v":{"$error":"#N/A"}},null,0,null,null,null,""]
[{"$nulls":18},{"$f":"IF(ISERROR($W1450),\"\",OFFSET('Smelter Look-up'!$C$4,$W1450-4,0)&\"\")","v":""},"",{"$f":"IF(B1450=\"\",\"\",IF(ISERROR(MATCH($J1450,SorP!$B$1:$B$6230,0)),\"\",INDIRECT(\"'SorP'!$A$\"&MATCH($J1450,SorP!$B$1:$B$6230,0))))","v":""},null,{"$f":"IF(C1450=\"\",NA(),MATCH($B1450&$C1450,'Smelter Look-up'!$J:$J,0))","v":{"$error":"#N/A"}},null,0,null,null,null,""]
[{"$nulls":18},{"$f":"IF(ISERROR($W1451),\"\",OFFSET('Smelter Look-up'!$C$4,$W1451-4,0)&\"\")","v":""},"",{"$f":"IF(B1451=\"\",\"\",IF(ISERROR(MATCH($J1451,SorP!$B$1:$B$6230,0)),\"\",INDIRECT(\"'SorP'!$A$\"&MATCH($J1451,SorP!$B$1:$B$6230,0))))","v":""},null,{"$f":"IF(C1451=\"\",NA(),MATCH($B1451&$C1451,'Smelter Look-up'!$J:$J,0))","v":{"$error":"#N/A"}},null,0,null,null,null,""]
[{"$nulls":18},{"$f":"IF(ISERROR($W1452),\"\",OFFSET('Smelter Look-up'!$C$4,$W1452-4,0)&\"\")","v":""},"",{"$f":"IF(B1452=\"\",\"\",IF(ISERROR(MATCH($J1452,SorP!$B$1:$B$6230,0)),\"\",INDIRECT(\"'SorP'!$A$\"&MATCH($J1452,SorP!$B$1:$B$6230,0))))","v":""},null,{"$f":"IF(C1452=\"\",NA(),MATCH($B1452&$C1452,'Smelter Look-up'!$J:$J,0))","v":{"$error":"#N/A"}},null,0,null,null,null,""]
[{"$nulls":18},{"$f":"IF(ISERROR($W1453),\"\",OFFSET('Smelter Look-up'!$C$4,$W1453-4,0)&\"\")","v":""},"",{"$f":"IF(B1453=\"\",\"\",IF(ISERROR(MATCH($J1453,SorP!$B$1:$B$6230,0)),\"\",INDIRECT(\"'SorP'!$A$\"&MATCH($J1453,SorP!$B$1:$B$6230,0))))","v":""},null,{"$f":"IF(C1453=\"\",NA(),MATCH($B1453&$C1453,'Smelter Look-up'!$J:$J,0))","v":{"$error":"#N/A"}},null,0,null,null,null,""]
[{"$nulls":18},{"$f":"IF(ISERROR($W1454),\"\",OFFSET('Smelter Look-up'!$C$4,$W1454-4,0)&\"\")","v":""},"",{"$f":"IF(B1454=\"\",\"\",IF(ISERROR(MATCH($J1454,SorP!$B$1:$B$6230,0)),\"\",INDIRECT(\"'SorP'!$A$\"&MATCH($J1454,SorP!$B$1:$B$6230,0))))","v":""},null,{"$f":"IF(C1454=\"\",NA(),MATCH($B1454&$C1454,'Smelter Look-up'!$J:$J,0))","v":{"$error":"#N/A"}},null,0,null,null,null,""]
[{"$nulls":18},{"$f":"IF(ISERROR($W1455),\"\",OFFSET('Smelter Look-up'!$C$4,$W1455-4,0)&\"\")","v":""},"",{"$f":"IF(B1455=\"\",\"\",IF(ISERROR(MATCH($J1455,SorP!$B$1:$B$6230,0)),\"\",INDIRECT(\"'SorP'!$A$\"&MATCH($J1455,SorP!$B$1:$B$6230,0))))","v":""},null,{"$f":"IF(C1455=\"\",NA(),MATCH($B1455&$C1455,'Smelter Look-up'!$J:$J,0))","v":{"$error":"#N/A"}},null,0,null,null,null,""]
[{"$nulls":18},{"$f":"IF(ISERROR($W1456),\"\",OFFSET('Smelter Look-up'!$C$4,$W1456-4,0)&\"\")","v":""},"",{"$f":"IF(B1456=\"\",\"\",IF(ISERROR(MATCH($J1456,SorP!$B$1:$B$6230,0)),\"\",INDIRECT(\"'SorP'!$A$\"&MATCH($J1456,SorP!$B$1:$B$6230,0))))","v":""},null,{"$f":"IF(C1456=\"\",NA(),MATCH($B1456&$C1456,'Smelter Look-up'!$J:$J,0))","v":{"$error":"#N/A"}},null,0,null,null,null,""]
[{"$nulls":18},{"$f":"IF(ISERROR($W1457),\"\",OFFSET('Smelter Look-up'!$C$4,$W1457-4,0)&\"\")","v":""},"",{"$f":"IF(B1457=\"\",\"\",IF(ISERROR(MATCH($J1457,SorP!$B$1:$B$6230,0)),\"\",INDIRECT(\"'SorP'!$A$\"&MATCH($J1457,SorP!$B$1:$B$6230,0))))","v":""},null,{"$f":"IF(C1457=\"\",NA(),MATCH($B1457&$C1457,'Smelter Look-up'!$J:$J,0))","v":{"$error":"#N/A"}},null,0,null,null,null,""]
[{"$nulls":18},{"$f":"IF(ISERROR($W1458),\"\",OFFSET('Smelter Look-up'!$C$4,$W1458-4,0)&\"\")","v":""},"",{"$f":"IF(B1458=\"\",\"\",IF(ISERROR(MATCH($J1458,SorP!$B$1:$B$6230,0)),\"\",INDIRECT(\"'SorP'!$A$\"&MATCH($J1458,SorP!$B$1:$B$6230,0))))","v":""},null,{"$f":"IF(C1458=\"\",NA(),MATCH($B1458&$C1458,'Smelter Look-up'!$J:$J,0))","v":{"$error":"#N/A"}},null,0,null,null,null,""]
[{"$nulls":18},{"$f":"IF(ISERROR($W1459),\"\",OFFSET('Smelter Look-up'!$C$4,$W1459-4,0)&\"\")","v":""},"",{"$f":"IF(B1459=\"\",\"\",IF(ISERROR(MATCH($J1459,SorP!$B$1:$B$6230,0)),\"\",INDIRECT(\"'SorP'!$A$\"&MATCH($J1459,SorP!$B$1:$B$6230,0))))","v":""},null,{"$f":"IF(C1459=\"\",NA(),MATCH($B1459&$C1459,'Smelter Look-up'!$J:$J,0))","v":{"$error":"#N/A"}},null,0,null,null,null,""]
[{"$nulls":18},{"$f":"IF(ISERROR($W1460),\"\",OFFSET('Smelter Look-up'!$C$4,$W1460-4,0)&\"\")","v":""},"",{"$f":"IF(B1460=\"\",\"\",IF(ISERROR(MATCH($J1460,SorP!$B$1:$B$6230,0)),\"\",INDIRECT(\"'SorP'!$A$\"&MATCH($J1460,SorP!$B$1:$B$6230,0))))","v":""},null,{"$f":"IF(C1460=\"\",NA(),MATCH($B1460&$C1460,'Smelter Look-up'!$J:$J,0))","v":{"$error":"#N/A"}},null,0,null,null,null,""]
[{"$nulls":18},{"$f":"IF(ISERROR($W1461),\"\",OFFSET('Smelter Look-up'!$C$4,$W1461-4,0)&\"\")","v":""},"",{"$f":"IF(B1461=\"\",\"\",IF(ISERROR(MATCH($J1461,SorP!$B$1:$B$6230,0)),\"\",INDIRECT(\"'SorP'!$A$\"&MATCH($J1461,SorP!$B$1:$B$6230,0))))","v":""},null,{"$f":"IF(C1461=\"\",NA(),MATCH($B1461&$C1461,'Smelter Look-up'!$J:$J,0))","v":{"$error":"#N/A"}},null,0,null,null,null,""]
[{"$nulls":18},{"$f":"IF(ISERROR($W1462),\"\",OFFSET('Smelter Look-up'!$C$4,$W1462-4,0)&\"\")","v":""},"",{"$f":"IF(B1462=\"\",\"\",IF(ISERROR(MATCH($J1462,SorP!$B$1:$B$6230,0)),\"\",INDIRECT(\"'SorP'!$A$\"&MATCH($J1462,SorP!$B$1:$B$6230,0))))","v":""},null,{"$f":"IF(C1462=\"\",NA(),MATCH($B1462&$C1462,'Smelter Look-up'!$J:$J,0))","v":{"$error":"#N/A"}},null,0,null,null,null,""]
[{"$nulls":18},{"$f":"IF(ISERROR($W1463),\"\",OFFSET('Smelter Look-up'!$C$4,$W1463-4,0)&\"\")","v":""},"",{"$f":"IF(B1463=\"\",\"\",IF(ISERROR(MATCH($J1463,SorP!$B$1:$B$6230,0)),\"\",INDIRECT(\"'SorP'!$A$\"&MATCH($J1463,SorP!$B$1:$B$6230,0))))","v":""},null,{"$f":"IF(C1463=\"\",NA(),MATCH($B1463&$C1463,'Smelter Look-up'!$J:$J,0))","v":{"$error":"#N/A"}},null,0,null,null,null,""]
[{"$nulls":18},{"$f":"IF(ISERROR($W1464),\"\",OFFSET('Smelter Look-up'!$C$4,$W1464-4,0)&\"\")","v":""},"",{"$f":"IF(B1464=\"\",\"\",IF(ISERROR(MATCH($J1464,SorP!$B$1:$B$6230,0)),\"\",INDIRECT(\"'SorP'!$A$\"&MATCH($J1464,SorP!$B$1:$B$6230,0))))","v":""},null,{"$f":"IF(C1464=\"\",NA(),MATCH($B1464&$C1464,'Smelter Look-up'!$J:$J,0))","v":{"$error":"#N/A"}},null,0,null,null,null,""]
[{"$nulls":18},{"$f":"IF(ISERROR($W1465),\"\",OFFSET('Smelter Look-up'!$C$4,$W1465-4,0)&\"\")","v":""},"",{"$f":"IF(B1465=\"\",\"\",IF(ISERROR(MATCH($J1465,SorP!$B$1:$B$6230,0)),\"\",INDIRECT(\"'SorP'!$A$\"&MATCH($J1465,SorP!$B$1:$B$6230,0))))","v":""},null,{"$f":"IF(C1465=\"\",NA(),MATCH($B1465&$C1465,'Smelter Look-up'!$J:$J,0))","v":{"$error":"#N/A"}},null,0,null,null,null,""]
[{"$nulls":18},{"$f":"IF(ISERROR($W1466),\"\",OFFSET('Smelter Look-up'!$C$4,$W1466-4,0)&\"\")","v":""},"",{"$f":"IF(B1466=\"\",\"\",IF(ISERROR(MATCH($J1466,SorP!$B$1:$B$6230,0)),\"\",INDIRECT(\"'SorP'!$A$\"&MATCH($J1466,SorP!$B$1:$B$6230,0))))","v":""},null,{"$f":"IF(C1466=\"\",NA(),MATCH($B1466&$C1466,'Smelter Look-up'!$J:$J,0))","v":{"$error":"#N/A"}},null,0,null,null,null,""]
[{"$nulls":18},{"$f":"IF(ISERROR($W1467),\"\",OFFSET('Smelter Look-up'!$C$4,$W1467-4,0)&\"\")","v":""},"",{"$f":"IF(B1467=\"\",\"\",IF(ISERROR(MATCH($J1467,SorP!$B$1:$B$6230,0)),\"\",INDIRECT(\"'SorP'!$A$\"&MATCH($J1467,SorP!$B$1:$B$6230,0))))","v":""},null,{"$f":"IF(C1467=\"\",NA(),MATCH($B1467&$C1467,'Smelter Look-up'!$J:$J,0))","v":{"$error":"#N/A"}},null,0,null,null,null,""]
[{"$nulls":18},{"$f":"IF(ISERROR($W1468),\"\",OFFSET('Smelter Look-up'!$C$4,$W1468-4,0)&\"\")","v":""},"",{"$f":"IF(B1468=\"\",\"\",IF(ISERROR(MATCH($J1468,SorP!$B$1:$B$6230,0)),\"\",INDIRECT(\"'SorP'!$A$\"&MATCH($J1468,SorP!$B$1:$B$6230,0))))","v":""},null,{"$f":"IF(C1468=\"\",NA(),MATCH($B1468&$C1468,'Smelter Look-up'!$J:$J,0))","v":{"$error":"#N/A"}},null,0,null,null,null,""]
[{"$nulls":18},{"$f":"IF(ISERROR($W1469),\"\",OFFSET('Smelter Look-up'!$C$4,$W1469-4,0)&\"\")","v":""},"",{"$f":"IF(B1469=\"\",\"\",IF(ISERROR(MATCH($J1469,SorP!$B$1:$B$6230,0)),\"\",INDIRECT(\"'SorP'!$A$\"&MATCH($J1469,SorP!$B$1:$B$6230,0))))","v":""},null,{"$f":"IF(C1469=\"\",NA(),MATCH($B1469&$C1469,'Smelter Look-up'!$J:$J,0))","v":{"$error":"#N/A"}},null,0,null,null,null,""]
[{"$nulls":18},{"$f":"IF(ISERROR($W1470),\"\",OFFSET('Smelter Look-up'!$C$4,$W1470-4,0)&\"\")","v":""},"",{"$f":"IF(B1470=\"\",\"\",IF(ISERROR(MATCH($J1470,SorP!$B$1:$B$6230,0)),\"\",INDIRECT(\"'SorP'!$A$\"&MATCH($J1470,SorP!$B$1:$B$6230,0))))","v":""},null,{"$f":"IF(C1470=\"\",NA(),MATCH($B1470&$C1470,'Smelter Look-up'!$J:$J,0))","v":{"$error":"#N/A"}},null,0,null,null,null,""]
[{"$nulls":18},{"$f":"IF(ISERROR($W1471),\"\",OFFSET('Smelter Look-up'!$C$4,$W1471-4,0)&\"\")","v":""},"",{"$f":"IF(B1471=\"\",\"\",IF(ISERROR(MATCH($J1471,SorP!$B$1:$B$6230,0)),\"\",INDIRECT(\"'SorP'!$A$\"&MATCH($J1471,SorP!$B$1:$B$6230,0))))","v":""},null,{"$f":"IF(C1471=\"\",NA(),MATCH($B1471&$C1471,'Smelter Look-up'!$J:$J,0))","v":{"$error":"#N/A"}},null,0,null,null,null,""]
[{"$nulls":18},{"$f":"IF(ISERROR($W1472),\"\",OFFSET('Smelter Look-up'!$C$4,$W1472-4,0)&\"\")","v":""},"",{"$f":"IF(B1472=\"\",\"\",IF(ISERROR(MATCH($J1472,SorP!$B$1:$B$6230,0)),\"\",INDIRECT(\"'SorP'!$A$\"&MATCH($J1472,SorP!$B$1:$B$6230,0))))","v":""},null,{"$f":"IF(C1472=\"\",NA(),MATCH($B1472&$C1472,'Smelter Look-up'!$J:$J,0))","v":{"$error":"#N/A"}},null,0,null,null,null,""]
[{"$nulls":18},{"$f":"IF(ISERROR($W1473),\"\",OFFSET('Smelter Look-up'!$C$4,$W1473-4,0)&\"\")","v":""},"",{"$f":"IF(B1473=\"\",\"\",IF(ISERROR(MATCH($J1473,SorP!$B$1:$B$6230,0)),\"\",INDIRECT(\"'SorP'!$A$\"&MATCH($J1473,SorP!$B$1:$B$6230,0))))","v":""},null,{"$f":"IF(C1473=\"\",NA(),MATCH($B1473&$C1473,'Smelter Look-up'!$J:$J,0))","v":{"$error":"#N/A"}},null,0,null,null,null,""]
[{"$nulls":18},{"$f":"IF(ISERROR($W1474),\"\",OFFSET('Smelter Look-up'!$C$4,$W1474-4,0)&\"\")","v":""},"",{"$f":"IF(B1474=\"\",\"\",IF(ISERROR(MATCH($J1474,SorP!$B$1:$B$6230,0)),\"\",INDIRECT(\"'SorP'!$A$\"&MATCH($J1474,SorP!$B$1:$B$6230,0))))","v":""},null,{"$f":"IF(C1474=\"\",NA(),MATCH($B1474&$C1474,'Smelter Look-up'!$J:$J,0))","v":{"$error":"#N/A"}},null,0,null,null,null,""]
[{"$nulls":18},{"$f":"IF(ISERROR($W1475),\"\",OFFSET('Smelter Look-up'!$C$4,$W1475-4,0)&\"\")","v":""},"",{"$f":"IF(B1475=\"\",\"\",IF(ISERROR(MATCH($J1475,SorP!$B$1:$B$6230,0)),\"\",INDIRECT(\"'SorP'!$A$\"&MATCH($J1475,SorP!$B$1:$B$6230,0))))","v":""},null,{"$f":"IF(C1475=\"\",NA(),MATCH($B1475&$C1475,'Smelter Look-up'!$J:$J,0))","v":{"$error":"#N/A"}},null,0,null,null,null,""]
[{"$nulls":18},{"$f":"IF(ISERROR($W1476),\"\",OFFSET('Smelter Look-up'!$C$4,$W1476-4,0)&\"\")","v":""},"",{"$f":"IF(B1476=\"\",\"\",IF(ISERROR(MATCH($J1476,SorP!$B$1:$B$6230,0)),\"\",INDIRECT(\"'SorP'!$A$\"&MATCH($J1476,SorP!$B$1:$B$6230,0))))","v":""},null,{"$f":"IF(C1476=\"\",NA(),MATCH($B1476&$C1476,'Smelter Look-up'!$J:$J,0))","v":{"$error":"#N/A"}},null,0,null,null,null,""]
[{"$nulls":18},{"$f":"IF(ISERROR($W1477),\"\",OFFSET('Smelter Look-up'!$C$4,$W1477-4,0)&\"\")","v":""},{"$f":"IF(B1477=\"\",\"\",IF(ISERROR(MATCH($E1477,CL,0)),\"Unknown\",INDIRECT(\"'C'!$A$\"&MATCH($E1477,CL,0)+1)))","v":""},{"$f":"IF(B1477=\"\",\"\",IF(ISERROR(MATCH($J1477,SorP!$B$1:$B$6230,0)),\"\",INDIRECT(\"'SorP'!$A$\"&MATCH($J1477,SorP!$B$1:$B$6230,0))))","v":""},null,{"$f":"IF(C1477=\"\",NA(),MATCH($B1477&$C1477,'Smelter Look-up'!$J:$J,0))","v":{"$error":"#N/A"}},null,{"$f":"IF(AND(C1477=\"Smelter not listed\",OR(LEN(D1477)=0,LEN(E1477)=0)),1,0)","v":0},null,null,null,{"$f":"B1477&C1477","v":""}]
[{"$nulls":18},{"$f":"IF(ISERROR($W1478),\"\",OFFSET('Smelter Look-up'!$C$4,$W1478-4,0)&\"\")","v":""},"",{"$f":"IF(B1478=\"\",\"\",IF(ISERROR(MATCH($J1478,SorP!$B$1:$B$6230,0)),\"\",INDIRECT(\"'SorP'!$A$\"&MATCH($J1478,SorP!$B$1:$B$6230,0))))","v":""},null,{"$f":"IF(C1478=\"\",NA(),MATCH($B1478&$C1478,'Smelter Look-up'!$J:$J,0))","v":{"$error":"#N/A"}},null,0,null,null,null,""]
[{"$nulls":18},{"$f":"IF(ISERROR($W1479),\"\",OFFSET('Smelter Look-up'!$C$4,$W1479-4,0)&\"\")","v":""},"",{"$f":"IF(B1479=\"\",\"\",IF(ISERROR(MATCH($J1479,SorP!$B$1:$B$6230,0)),\"\",INDIRECT(\"'SorP'!$A$\"&MATCH($J1479,SorP!$B$1:$B$6230,0))))","v":""},null,{"$f":"IF(C1479=\"\",NA(),MATCH($B1479&$C1479,'Smelter Look-up'!$J:$J,0))","v":{"$error":"#N/A"}},null,0,null,null,null,""]
[{"$nulls":18},{"$f":"IF(ISERROR($W1480),\"\",OFFSET('Smelter Look-up'!$C$4,$W1480-4,0)&\"\")","v":""},"",{"$f":"IF(B1480=\"\",\"\",IF(ISERROR(MATCH($J1480,SorP!$B$1:$B$6230,0)),\"\",INDIRECT(\"'SorP'!$A$\"&MATCH($J1480,SorP!$B$1:$B$6230,0))))","v":""},null,{"$f":"IF(C1480=\"\",NA(),MATCH($B1480&$C1480,'Smelter Look-up'!$J:$J,0))","v":{"$error":"#N/A"}},null,0,null,null,null,""]
[{"$nulls":18},{"$f":"IF(ISERROR($W1481),\"\",OFFSET('Smelter Look-up'!$C$4,$W1481-4,0)&\"\")","v":""},"",{"$f":"IF(B1481=\"\",\"\",IF(ISERROR(MATCH($J1481,SorP!$B$1:$B$6230,0)),\"\",INDIRECT(\"'SorP'!$A$\"&MATCH($J1481,SorP!$B$1:$B$6230,0))))","v":""},null,{"$f":"IF(C1481=\"\",NA(),MATCH($B1481&$C1481,'Smelter Look-up'!$J:$J,0))","v":{"$error":"#N/A"}},null,0,null,null,null,""]
[{"$nulls":18},{"$f":"IF(ISERROR($W1482),\"\",OFFSET('Smelter Look-up'!$C$4,$W1482-4,0)&\"\")","v":""},"",{"$f":"IF(B1482=\"\",\"\",IF(ISERROR(MATCH($J1482,SorP!$B$1:$B$6230,0)),\"\",INDIRECT(\"'SorP'!$A$\"&MATCH($J1482,SorP!$B$1:$B$6230,0))))","v":""},null,{"$f":"IF(C1482=\"\",NA(),MATCH($B1482&$C1482,'Smelter Look-up'!$J:$J,0))","v":{"$error":"#N/A"}},null,0,null,null,null,""]
[{"$nulls":18},{"$f":"IF(ISERROR($W1483),\"\",OFFSET('Smelter Look-up'!$C$4,$W1483-4,0)&\"\")","v":""},"",{"$f":"IF(B1483=\"\",\"\",IF(ISERROR(MATCH($J1483,SorP!$B$1:$B$6230,0)),\"\",INDIRECT(\"'SorP'!$A$\"&MATCH($J1483,SorP!$B$1:$B$6230,0))))","v":""},null,{"$f":"IF(C1483=\"\",NA(),MATCH($B1483&$C1483,'Smelter Look-up'!$J:$J,0))","v":{"$error":"#N/A"}},null,0,null,null,null,""]
[{"$nulls":18},{"$f":"IF(ISERROR($W1484),\"\",OFFSET('Smelter Look-up'!$C$4,$W1484-4,0)&\"\")","v":""},"",{"$f":"IF(B1484=\"\",\"\",IF(ISERROR(MATCH($J1484,SorP!$B$1:$B$6230,0)),\"\",INDIRECT(\"'SorP'!$A$\"&MATCH($J1484,SorP!$B$1:$B$6230,0))))","v":""},null,{"$f":"IF(C1484=\"\",NA(),MATCH($B1484&$C1484,'Smelter Look-up'!$J:$J,0))","v":{"$error":"#N/A"}},null,0,null,null,null,""]
[{"$nulls":18},{"$f":"IF(ISERROR($W1485),\"\",OFFSET('Smelter Look-up'!$C$4,$W1485-4,0)&\"\")","v":""},"",{"$f":"IF(B1485=\"\",\"\",IF(ISERROR(MATCH($J1485,SorP!$B$1:$B$6230,0)),\"\",INDIRECT(\"'SorP'!$A$\"&MATCH($J1485,SorP!$B$1:$B$6230,0))))","v":""},null,{"$f":"IF(C1485=\"\",NA(),MATCH($B1485&$C1485,'Smelter Look-up'!$J:$J,0))","v":{"$error":"#N/A"}},null,0,null,null,null,""]
[{"$nulls":18},{"$f":"IF(ISERROR($W1486),\"\",OFFSET('Smelter Look-up'!$C$4,$W1486-4,0)&\"\")","v":""},"",{"$f":"IF(B1486=\"\",\"\",IF(ISERROR(MATCH($J1486,SorP!$B$1:$B$6230,0)),\"\",INDIRECT(\"'SorP'!$A$\"&MATCH($J1486,SorP!$B$1:$B$6230,0))))","v":""},null,{"$f":"IF(C1486=\"\",NA(),MATCH($B1486&$C1486,'Smelter Look-up'!$J:$J,0))","v":{"$error":"#N/A"}},null,0,null,null,null,""]
[{"$nulls":18},{"$f":"IF(ISERROR($W1487),\"\",OFFSET('Smelter Look-up'!$C$4,$W1487-4,0)&\"\")","v":""},"",{"$f":"IF(B1487=\"\",\"\",IF(ISERROR(MATCH($J1487,SorP!$B$1:$B$6230,0)),\"\",INDIRECT(\"'SorP'!$A$\"&MATCH($J1487,SorP!$B$1:$B$6230,0))))","v":""},null,{"$f":"IF(C1487=\"\",NA(),MATCH($B1487&$C1487,'Smelter Look-up'!$J:$J,0))","v":{"$error":"#N/A"}},null,0,null,null,null,""]
[{"$nulls":18},{"$f":"IF(ISERROR($W1488),\"\",OFFSET('Smelter Look-up'!$C$4,$W1488-4,0)&\"\")","v":""},"",{"$f":"IF(B1488=\"\",\"\",IF(ISERROR(MATCH($J1488,SorP!$B$1:$B$6230,0)),\"\",INDIRECT(\"'SorP'!$A$\"&MATCH($J1488,SorP!$B$1:$B$6230,0))))","v":""},null,{"$f":"IF(C1488=\"\",NA(),MATCH($B1488&$C1488,'Smelter Look-up'!$J:$J,0))","v":{"$error":"#N/A"}},null,0,null,null,null,""]
[{"$nulls":18},{"$f":"IF(ISERROR($W1489),\"\",OFFSET('Smelter Look-up'!$C$4,$W1489-4,0)&\"\")","v":""},"",{"$f":"IF(B1489=\"\",\"\",IF(ISERROR(MATCH($J1489,SorP!$B$1:$B$6230,0)),\"\",INDIRECT(\"'SorP'!$A$\"&MATCH($J1489,SorP!$B$1:$B$6230,0))))","v":""},null,{"$f":"IF(C1489=\"\",NA(),MATCH($B1489&$C1489,'Smelter Look-up'!$J:$J,0))","v":{"$error":"#N/A"}},null,0,null,null,null,""]
[{"$nulls":18},{"$f":"IF(ISERROR($W1490),\"\",OFFSET('Smelter Look-up'!$C$4,$W1490-4,0)&\"\")","v":""},"",{"$f":"IF(B1490=\"\",\"\",IF(ISERROR(MATCH($J1490,SorP!$B$1:$B$6230,0)),\"\",INDIRECT(\"'SorP'!$A$\"&MATCH($J1490,SorP!$B$1:$B$6230,0))))","v":""},null,{"$f":"IF(C1490=\"\",NA(),MATCH($B1490&$C1490,'Smelter Look-up'!$J:$J,0))","v":{"$error":"#N/A"}},null,0,null,null,null,""]
[{"$nulls":18},{"$f":"IF(ISERROR($W1491),\"\",OFFSET('Smelter Look-up'!$C$4,$W1491-4,0)&\"\")","v":""},"",{"$f":"IF(B1491=\"\",\"\",IF(ISERROR(MATCH($J1491,SorP!$B$1:$B$6230,0)),\"\",INDIRECT(\"'SorP'!$A$\"&MATCH($J1491,SorP!$B$1:$B$6230,0))))","v":""},null,{"$f":"IF(C1491=\"\",NA(),MATCH($B1491&$C1491,'Smelter Look-up'!$J:$J,0))","v":{"$error":"#N/A"}},null,0,null,null,null,""]
[{"$nulls":18},{"$f":"IF(ISERROR($W1492),\"\",OFFSET('Smelter Look-up'!$C$4,$W1492-4,0)&\"\")","v":""},"",{"$f":"IF(B1492=\"\",\"\",IF(ISERROR(MATCH($J1492,SorP!$B$1:$B$6230,0)),\"\",INDIRECT(\"'SorP'!$A$\"&MATCH($J1492,SorP!$B$1:$B$6230,0))))","v":""},null,{"$f":"IF(C1492=\"\",NA(),MATCH($B1492&$C1492,'Smelter Look-up'!$J:$J,0))","v":{"$error":"#N/A"}},null,0,null,null,null,""]
[{"$nulls":18},{"$f":"IF(ISERROR($W1493),\"\",OFFSET('Smelter Look-up'!$C$4,$W1493-4,0)&\"\")","v":""},"",{"$f":"IF(B1493=\"\",\"\",IF(ISERROR(MATCH($J1493,SorP!$B$1:$B$6230,0)),\"\",INDIRECT(\"'SorP'!$A$\"&MATCH($J1493,SorP!$B$1:$B$6230,0))))","v":""},null,{"$f":"IF(C1493=\"\",NA(),MATCH($B1493&$C1493,'Smelter Look-up'!$J:$J,0))","v":{"$error":"#N/A"}},null,0,null,null,null,""]
[{"$nulls":18},{"$f":"IF(ISERROR($W1494),\"\",OFFSET('Smelter Look-up'!$C$4,$W1494-4,0)&\"\")","v":""},"",{"$f":"IF(B1494=\"\",\"\",IF(ISERROR(MATCH($J1494,SorP!$B$1:$B$6230,0)),\"\",INDIRECT(\"'SorP'!$A$\"&MATCH($J1494,SorP!$B$1:$B$6230,0))))","v":""},null,{"$f":"IF(C1494=\"\",NA(),MATCH($B1494&$C1494,'Smelter Look-up'!$J:$J,0))","v":{"$error":"#N/A"}},null,0,null,null,null,""]
[{"$nulls":18},{"$f":"IF(ISERROR($W1495),\"\",OFFSET('Smelter Look-up'!$C$4,$W1495-4,0)&\"\")","v":""},"",{"$f":"IF(B1495=\"\",\"\",IF(ISERROR(MATCH($J1495,SorP!$B$1:$B$6230,0)),\"\",INDIRECT(\"'SorP'!$A$\"&MATCH($J1495,SorP!$B$1:$B$6230,0))))","v":""},null,{"$f":"IF(C1495=\"\",NA(),MATCH($B1495&$C1495,'Smelter Look-up'!$J:$J,0))","v":{"$error":"#N/A"}},null,0,null,null,null,""]
[{"$nulls":18},{"$f":"IF(ISERROR($W1496),\"\",OFFSET('Smelter Look-up'!$C$4,$W1496-4,0)&\"\")","v":""},"",{"$f":"IF(B1496=\"\",\"\",IF(ISERROR(MATCH($J1496,SorP!$B$1:$B$6230,0)),\"\",INDIRECT(\"'SorP'!$A$\"&MATCH($J1496,SorP!$B$1:$B$6230,0))))","v":""},null,{"$f":"IF(C1496=\"\",NA(),MATCH($B1496&$C1496,'Smelter Look-up'!$J:$J,0))","v":{"$error":"#N/A"}},null,0,null,null,null,""]
[{"$nulls":18},{"$f":"IF(ISERROR($W1497),\"\",OFFSET('Smelter Look-up'!$C$4,$W1497-4,0)&\"\")","v":""},"",{"$f":"IF(B1497=\"\",\"\",IF(ISERROR(MATCH($J1497,SorP!$B$1:$B$6230,0)),\"\",INDIRECT(\"'SorP'!$A$\"&MATCH($J1497,SorP!$B$1:$B$6230,0))))","v":""},null,{"$f":"IF(C1497=\"\",NA(),MATCH($B1497&$C1497,'Smelter Look-up'!$J:$J,0))","v":{"$error":"#N/A"}},null,0,null,null,null,""]
[{"$nulls":18},{"$f":"IF(ISERROR($W1498),\"\",OFFSET('Smelter Look-up'!$C$4,$W1498-4,0)&\"\")","v":""},"",{"$f":"IF(B1498=\"\",\"\",IF(ISERROR(MATCH($J1498,SorP!$B$1:$B$6230,0)),\"\",INDIRECT(\"'SorP'!$A$\"&MATCH($J1498,SorP!$B$1:$B$6230,0))))","v":""},null,{"$f":"IF(C1498=\"\",NA(),MATCH($B1498&$C1498,'Smelter Look-up'!$J:$J,0))","v":{"$error":"#N/A"}},null,0,null,null,null,""]
[{"$nulls":18},{"$f":"IF(ISERROR($W1499),\"\",OFFSET('Smelter Look-up'!$C$4,$W1499-4,0)&\"\")","v":""},"",{"$f":"IF(B1499=\"\",\"\",IF(ISERROR(MATCH($J1499,SorP!$B$1:$B$6230,0)),\"\",INDIRECT(\"'SorP'!$A$\"&MATCH($J1499,SorP!$B$1:$B$6230,0))))","v":""},null,{"$f":"IF(C1499=\"\",NA(),MATCH($B1499&$C1499,'Smelter Look-up'!$J:$J,0))","v":{"$error":"#N/A"}},null,0,null,null,null,""]
[{"$nulls":18},{"$f":"IF(ISERROR($W1500),\"\",OFFSET('Smelter Look-up'!$C$4,$W1500-4,0)&\"\")","v":""},"",{"$f":"IF(B1500=\"\",\"\",IF(ISERROR(MATCH($J1500,SorP!$B$1:$B$6230,0)),\"\",INDIRECT(\"'SorP'!$A$\"&MATCH($J1500,SorP!$B$1:$B$6230,0))))","v":""},null,{"$f":"IF(C1500=\"\",NA(),MATCH($B1500&$C1500,'Smelter Look-up'!$J:$J,0))","v":{"$error":"#N/A"}},null,0,null,null,null,""]
[{"$nulls":18},{"$f":"IF(ISERROR($W1501),\"\",OFFSET('Smelter Look-up'!$C$4,$W1501-4,0)&\"\")","v":""},"",{"$f":"IF(B1501=\"\",\"\",IF(ISERROR(MATCH($J1501,SorP!$B$1:$B$6230,0)),\"\",INDIRECT(\"'SorP'!$A$\"&MATCH($J1501,SorP!$B$1:$B$6230,0))))","v":""},null,{"$f":"IF(C1501=\"\",NA(),MATCH($B1501&$C1501,'Smelter Look-up'!$J:$J,0))","v":{"$error":"#N/A"}},null,0,null,null,null,""]
[{"$nulls":18},{"$f":"IF(ISERROR($W1502),\"\",OFFSET('Smelter Look-up'!$C$4,$W1502-4,0)&\"\")","v":""},"",{"$f":"IF(B1502=\"\",\"\",IF(ISERROR(MATCH($J1502,SorP!$B$1:$B$6230,0)),\"\",INDIRECT(\"'SorP'!$A$\"&MATCH($J1502,SorP!$B$1:$B$6230,0))))","v":""},null,{"$f":"IF(C1502=\"\",NA(),MATCH($B1502&$C1502,'Smelter Look-up'!$J:$J,0))","v":{"$error":"#N/A"}},null,0,null,null,null,""]
[{"$nulls":18},{"$f":"IF(ISERROR($W1503),\"\",OFFSET('Smelter Look-up'!$C$4,$W1503-4,0)&\"\")","v":""},"",{"$f":"IF(B1503=\"\",\"\",IF(ISERROR(MATCH($J1503,SorP!$B$1:$B$6230,0)),\"\",INDIRECT(\"'SorP'!$A$\"&MATCH($J1503,SorP!$B$1:$B$6230,0))))","v":""},null,{"$f":"IF(C1503=\"\",NA(),MATCH($B1503&$C1503,'Smelter Look-up'!$J:$J,0))","v":{"$error":"#N/A"}},null,0,null,null,null,""]
[{"$nulls":18},{"$f":"IF(ISERROR($W1504),\"\",OFFSET('Smelter Look-up'!$C$4,$W1504-4,0)&\"\")","v":""},"",{"$f":"IF(B1504=\"\",\"\",IF(ISERROR(MATCH($J1504,SorP!$B$1:$B$6230,0)),\"\",INDIRECT(\"'SorP'!$A$\"&MATCH($J1504,SorP!$B$1:$B$6230,0))))","v":""},null,{"$f":"IF(C1504=\"\",NA(),MATCH($B1504&$C1504,'Smelter Look-up'!$J:$J,0))","v":{"$error":"#N/A"}},null,0,null,null,null,""]
[{"$nulls":18},{"$f":"IF(ISERROR($W1505),\"\",OFFSET('Smelter Look-up'!$C$4,$W1505-4,0)&\"\")","v":""},"",{"$f":"IF(B1505=\"\",\"\",IF(ISERROR(MATCH($J1505,SorP!$B$1:$B$6230,0)),\"\",INDIRECT(\"'SorP'!$A$\"&MATCH($J1505,SorP!$B$1:$B$6230,0))))","v":""},null,{"$f":"IF(C1505=\"\",NA(),MATCH($B1505&$C1505,'Smelter Look-up'!$J:$J,0))","v":{"$error":"#N/A"}},null,0,null,null,null,""]
[{"$nulls":18},{"$f":"IF(ISERROR($W1506),\"\",OFFSET('Smelter Look-up'!$C$4,$W1506-4,0)&\"\")","v":""},"",{"$f":"IF(B1506=\"\",\"\",IF(ISERROR(MATCH($J1506,SorP!$B$1:$B$6230,0)),\"\",INDIRECT(\"'SorP'!$A$\"&MATCH($J1506,SorP!$B$1:$B$6230,0))))","v":""},null,{"$f":"IF(C1506=\"\",NA(),MATCH($B1506&$C1506,'Smelter Look-up'!$J:$J,0))","v":{"$error":"#N/A"}},null,0,null,null,null,""]
[{"$nulls":18},{"$f":"IF(ISERROR($W1507),\"\",OFFSET('Smelter Look-up'!$C$4,$W1507-4,0)&\"\")","v":""},"",{"$f":"IF(B1507=\"\",\"\",IF(ISERROR(MATCH($J1507,SorP!$B$1:$B$6230,0)),\"\",INDIRECT(\"'SorP'!$A$\"&MATCH($J1507,SorP!$B$1:$B$6230,0))))","v":""},null,{"$f":"IF(C1507=\"\",NA(),MATCH($B1507&$C1507,'Smelter Look-up'!$J:$J,0))","v":{"$error":"#N/A"}},null,0,null,null,null,""]
[{"$nulls":18},{"$f":"IF(ISERROR($W1508),\"\",OFFSET('Smelter Look-up'!$C$4,$W1508-4,0)&\"\")","v":""},"",{"$f":"IF(B1508=\"\",\"\",IF(ISERROR(MATCH($J1508,SorP!$B$1:$B$6230,0)),\"\",INDIRECT(\"'SorP'!$A$\"&MATCH($J1508,SorP!$B$1:$B$6230,0))))","v":""},null,{"$f":"IF(C1508=\"\",NA(),MATCH($B1508&$C1508,'Smelter Look-up'!$J:$J,0))","v":{"$error":"#N/A"}},null,0,null,null,null,""]
[{"$nulls":18},{"$f":"IF(ISERROR($W1509),\"\",OFFSET('Smelter Look-up'!$C$4,$W1509-4,0)&\"\")","v":""},"",{"$f":"IF(B1509=\"\",\"\",IF(ISERROR(MATCH($J1509,SorP!$B$1:$B$6230,0)),\"\",INDIRECT(\"'SorP'!$A$\"&MATCH($J1509,SorP!$B$1:$B$6230,0))))","v":""},null,{"$f":"IF(C1509=\"\",NA(),MATCH($B1509&$C1509,'Smelter Look-up'!$J:$J,0))","v":{"$error":"#N/A"}},null,0,null,null,null,""]
[{"$nulls":18},{"$f":"IF(ISERROR($W1510),\"\",OFFSET('Smelter Look-up'!$C$4,$W1510-4,0)&\"\")","v":""},"",{"$f":"IF(B1510=\"\",\"\",IF(ISERROR(MATCH($J1510,SorP!$B$1:$B$6230,0)),\"\",INDIRECT(\"'SorP'!$A$\"&MATCH($J1510,SorP!$B$1:$B$6230,0))))","v":""},null,{"$f":"IF(C1510=\"\",NA(),MATCH($B1510&$C1510,'Smelter Look-up'!$J:$J,0))","v":{"$error":"#N/A"}},null,0,null,null,null,""]
[{"$nulls":18},{"$f":"IF(ISERROR($W1511),\"\",OFFSET('Smelter Look-up'!$C$4,$W1511-4,0)&\"\")","v":""},"",{"$f":"IF(B1511=\"\",\"\",IF(ISERROR(MATCH($J1511,SorP!$B$1:$B$6230,0)),\"\",INDIRECT(\"'SorP'!$A$\"&MATCH($J1511,SorP!$B$1:$B$6230,0))))","v":""},null,{"$f":"IF(C1511=\"\",NA(),MATCH($B1511&$C1511,'Smelter Look-up'!$J:$J,0))","v":{"$error":"#N/A"}},null,0,null,null,null,""]
[{"$nulls":18},{"$f":"IF(ISERROR($W1512),\"\",OFFSET('Smelter Look-up'!$C$4,$W1512-4,0)&\"\")","v":""},"",{"$f":"IF(B1512=\"\",\"\",IF(ISERROR(MATCH($J1512,SorP!$B$1:$B$6230,0)),\"\",INDIRECT(\"'SorP'!$A$\"&MATCH($J1512,SorP!$B$1:$B$6230,0))))","v":""},null,{"$f":"IF(C1512=\"\",NA(),MATCH($B1512&$C1512,'Smelter Look-up'!$J:$J,0))","v":{"$error":"#N/A"}},null,0,null,null,null,""]
[{"$nulls":18},{"$f":"IF(ISERROR($W1513),\"\",OFFSET('Smelter Look-up'!$C$4,$W1513-4,0)&\"\")","v":""},"",{"$f":"IF(B1513=\"\",\"\",IF(ISERROR(MATCH($J1513,SorP!$B$1:$B$6230,0)),\"\",INDIRECT(\"'SorP'!$A$\"&MATCH($J1513,SorP!$B$1:$B$6230,0))))","v":""},null,{"$f":"IF(C1513=\"\",NA(),MATCH($B1513&$C1513,'Smelter Look-up'!$J:$J,0))","v":{"$error":"#N/A"}},null,0,null,null,null,""]
[{"$nulls":18},{"$f":"IF(ISERROR($W1514),\"\",OFFSET('Smelter Look-up'!$C$4,$W1514-4,0)&\"\")","v":""},"",{"$f":"IF(B1514=\"\",\"\",IF(ISERROR(MATCH($J1514,SorP!$B$1:$B$6230,0)),\"\",INDIRECT(\"'SorP'!$A$\"&MATCH($J1514,SorP!$B$1:$B$6230,0))))","v":""},null,{"$f":"IF(C1514=\"\",NA(),MATCH($B1514&$C1514,'Smelter Look-up'!$J:$J,0))","v":{"$error":"#N/A"}},null,0,null,null,null,""]
[{"$nulls":18},{"$f":"IF(ISERROR($W1515),\"\",OFFSET('Smelter Look-up'!$C$4,$W1515-4,0)&\"\")","v":""},"",{"$f":"IF(B1515=\"\",\"\",IF(ISERROR(MATCH($J1515,SorP!$B$1:$B$6230,0)),\"\",INDIRECT(\"'SorP'!$A$\"&MATCH($J1515,SorP!$B$1:$B$6230,0))))","v":""},null,{"$f":"IF(C1515=\"\",NA(),MATCH($B1515&$C1515,'Smelter Look-up'!$J:$J,0))","v":{"$error":"#N/A"}},null,0,null,null,null,""]
[{"$nulls":18},{"$f":"IF(ISERROR($W1516),\"\",OFFSET('Smelter Look-up'!$C$4,$W1516-4,0)&\"\")","v":""},"",{"$f":"IF(B1516=\"\",\"\",IF(ISERROR(MATCH($J1516,SorP!$B$1:$B$6230,0)),\"\",INDIRECT(\"'SorP'!$A$\"&MATCH($J1516,SorP!$B$1:$B$6230,0))))","v":""},null,{"$f":"IF(C1516=\"\",NA(),MATCH($B1516&$C1516,'Smelter Look-up'!$J:$J,0))","v":{"$error":"#N/A"}},null,0,null,null,null,""]
[{"$nulls":18},{"$f":"IF(ISERROR($W1517),\"\",OFFSET('Smelter Look-up'!$C$4,$W1517-4,0)&\"\")","v":""},"",{"$f":"IF(B1517=\"\",\"\",IF(ISERROR(MATCH($J1517,SorP!$B$1:$B$6230,0)),\"\",INDIRECT(\"'SorP'!$A$\"&MATCH($J1517,SorP!$B$1:$B$6230,0))))","v":""},null,{"$f":"IF(C1517=\"\",NA(),MATCH($B1517&$C1517,'Smelter Look-up'!$J:$J,0))","v":{"$error":"#N/A"}},null,0,null,null,null,""]
[{"$nulls":18},{"$f":"IF(ISERROR($W1518),\"\",OFFSET('Smelter Look-up'!$C$4,$W1518-4,0)&\"\")","v":""},"",{"$f":"IF(B1518=\"\",\"\",IF(ISERROR(MATCH($J1518,SorP!$B$1:$B$6230,0)),\"\",INDIRECT(\"'SorP'!$A$\"&MATCH($J1518,SorP!$B$1:$B$6230,0))))","v":""},null,{"$f":"IF(C1518=\"\",NA(),MATCH($B1518&$C1518,'Smelter Look-up'!$J:$J,0))","v":{"$error":"#N/A"}},null,0,null,null,null,""]
[{"$nulls":18},{"$f":"IF(ISERROR($W1519),\"\",OFFSET('Smelter Look-up'!$C$4,$W1519-4,0)&\"\")","v":""},"",{"$f":"IF(B1519=\"\",\"\",IF(ISERROR(MATCH($J1519,SorP!$B$1:$B$6230,0)),\"\",INDIRECT(\"'SorP'!$A$\"&MATCH($J1519,SorP!$B$1:$B$6230,0))))","v":""},null,{"$f":"IF(C1519=\"\",NA(),MATCH($B1519&$C1519,'Smelter Look-up'!$J:$J,0))","v":{"$error":"#N/A"}},null,0,null,null,null,""]
[{"$nulls":18},{"$f":"IF(ISERROR($W1520),\"\",OFFSET('Smelter Look-up'!$C$4,$W1520-4,0)&\"\")","v":""},"",{"$f":"IF(B1520=\"\",\"\",IF(ISERROR(MATCH($J1520,SorP!$B$1:$B$6230,0)),\"\",INDIRECT(\"'SorP'!$A$\"&MATCH($J1520,SorP!$B$1:$B$6230,0))))","v":""},null,{"$f":"IF(C1520=\"\",NA(),MATCH($B1520&$C1520,'Smelter Look-up'!$J:$J,0))","v":{"$error":"#N/A"}},null,0,null,null,null,""]
[{"$nulls":18},{"$f":"IF(ISERROR($W1521),\"\",OFFSET('Smelter Look-up'!$C$4,$W1521-4,0)&\"\")","v":""},"",{"$f":"IF(B1521=\"\",\"\",IF(ISERROR(MATCH($J1521,SorP!$B$1:$B$6230,0)),\"\",INDIRECT(\"'SorP'!$A$\"&MATCH($J1521,SorP!$B$1:$B$6230,0))))","v":""},null,{"$f":"IF(C1521=\"\",NA(),MATCH($B1521&$C1521,'Smelter Look-up'!$J:$J,0))","v":{"$error":"#N/A"}},null,0,null,null,null,""]
[{"$nulls":18},{"$f":"IF(ISERROR($W1522),\"\",OFFSET('Smelter Look-up'!$C$4,$W1522-4,0)&\"\")","v":""},"",{"$f":"IF(B1522=\"\",\"\",IF(ISERROR(MATCH($J1522,SorP!$B$1:$B$6230,0)),\"\",INDIRECT(\"'SorP'!$A$\"&MATCH($J1522,SorP!$B$1:$B$6230,0))))","v":""},null,{"$f":"IF(C1522=\"\",NA(),MATCH($B1522&$C1522,'Smelter Look-up'!$J:$J,0))","v":{"$error":"#N/A"}},null,0,null,null,null,""]
[{"$nulls":18},{"$f":"IF(ISERROR($W1523),\"\",OFFSET('Smelter Look-up'!$C$4,$W1523-4,0)&\"\")","v":""},"",{"$f":"IF(B1523=\"\",\"\",IF(ISERROR(MATCH($J1523,SorP!$B$1:$B$6230,0)),\"\",INDIRECT(\"'SorP'!$A$\"&MATCH($J1523,SorP!$B$1:$B$6230,0))))","v":""},null,{"$f":"IF(C1523=\"\",NA(),MATCH($B1523&$C1523,'Smelter Look-up'!$J:$J,0))","v":{"$error":"#N/A"}},null,0,null,null,null,""]
[{"$nulls":18},{"$f":"IF(ISERROR($W1524),\"\",OFFSET('Smelter Look-up'!$C$4,$W1524-4,0)&\"\")","v":""},"",{"$f":"IF(B1524=\"\",\"\",IF(ISERROR(MATCH($J1524,SorP!$B$1:$B$6230,0)),\"\",INDIRECT(\"'SorP'!$A$\"&MATCH($J1524,SorP!$B$1:$B$6230,0))))","v":""},null,{"$f":"IF(C1524=\"\",NA(),MATCH($B1524&$C1524,'Smelter Look-up'!$J:$J,0))","v":{"$error":"#N/A"}},null,0,null,null,null,""]
[{"$nulls":18},{"$f":"IF(ISERROR($W1525),\"\",OFFSET('Smelter Look-up'!$C$4,$W1525-4,0)&\"\")","v":""},"",{"$f":"IF(B1525=\"\",\"\",IF(ISERROR(MATCH($J1525,SorP!$B$1:$B$6230,0)),\"\",INDIRECT(\"'SorP'!$A$\"&MATCH($J1525,SorP!$B$1:$B$6230,0))))","v":""},null,{"$f":"IF(C1525=\"\",NA(),MATCH($B1525&$C1525,'Smelter Look-up'!$J:$J,0))","v":{"$error":"#N/A"}},null,0,null,null,null,""]
[{"$nulls":18},{"$f":"IF(ISERROR($W1526),\"\",OFFSET('Smelter Look-up'!$C$4,$W1526-4,0)&\"\")","v":""},"",{"$f":"IF(B1526=\"\",\"\",IF(ISERROR(MATCH($J1526,SorP!$B$1:$B$6230,0)),\"\",INDIRECT(\"'SorP'!$A$\"&MATCH($J1526,SorP!$B$1:$B$6230,0))))","v":""},null,{"$f":"IF(C1526=\"\",NA(),MATCH($B1526&$C1526,'Smelter Look-up'!$J:$J,0))","v":{"$error":"#N/A"}},null,0,null,null,null,""]
[{"$nulls":18},{"$f":"IF(ISERROR($W1527),\"\",OFFSET('Smelter Look-up'!$C$4,$W1527-4,0)&\"\")","v":""},"",{"$f":"IF(B1527=\"\",\"\",IF(ISERROR(MATCH($J1527,SorP!$B$1:$B$6230,0)),\"\",INDIRECT(\"'SorP'!$A$\"&MATCH($J1527,SorP!$B$1:$B$6230,0))))","v":""},null,{"$f":"IF(C1527=\"\",NA(),MATCH($B1527&$C1527,'Smelter Look-up'!$J:$J,0))","v":{"$error":"#N/A"}},null,0,null,null,null,""]
[{"$nulls":18},{"$f":"IF(ISERROR($W1528),\"\",OFFSET('Smelter Look-up'!$C$4,$W1528-4,0)&\"\")","v":""},"",{"$f":"IF(B1528=\"\",\"\",IF(ISERROR(MATCH($J1528,SorP!$B$1:$B$6230,0)),\"\",INDIRECT(\"'SorP'!$A$\"&MATCH($J1528,SorP!$B$1:$B$6230,0))))","v":""},null,{"$f":"IF(C1528=\"\",NA(),MATCH($B1528&$C1528,'Smelter Look-up'!$J:$J,0))","v":{"$error":"#N/A"}},null,0,null,null,null,""]
[{"$nulls":18},{"$f":"IF(ISERROR($W1529),\"\",OFFSET('Smelter Look-up'!$C$4,$W1529-4,0)&\"\")","v":""},"",{"$f":"IF(B1529=\"\",\"\",IF(ISERROR(MATCH($J1529,SorP!$B$1:$B$6230,0)),\"\",INDIRECT(\"'SorP'!$A$\"&MATCH($J1529,SorP!$B$1:$B$6230,0))))","v":""},null,{"$f":"IF(C1529=\"\",NA(),MATCH($B1529&$C1529,'Smelter Look-up'!$J:$J,0))","v":{"$error":"#N/A"}},null,0,null,null,null,""]
[{"$nulls":18},{"$f":"IF(ISERROR($W1530),\"\",OFFSET('Smelter Look-up'!$C$4,$W1530-4,0)&\"\")","v":""},"",{"$f":"IF(B1530=\"\",\"\",IF(ISERROR(MATCH($J1530,SorP!$B$1:$B$6230,0)),\"\",INDIRECT(\"'SorP'!$A$\"&MATCH($J1530,SorP!$B$1:$B$6230,0))))","v":""},null,{"$f":"IF(C1530=\"\",NA(),MATCH($B1530&$C1530,'Smelter Look-up'!$J:$J,0))","v":{"$error":"#N/A"}},null,0,null,null,null,""]
[{"$nulls":18},{"$f":"IF(ISERROR($W1531),\"\",OFFSET('Smelter Look-up'!$C$4,$W1531-4,0)&\"\")","v":""},"",{"$f":"IF(B1531=\"\",\"\",IF(ISERROR(MATCH($J1531,SorP!$B$1:$B$6230,0)),\"\",INDIRECT(\"'SorP'!$A$\"&MATCH($J1531,SorP!$B$1:$B$6230,0))))","v":""},null,{"$f":"IF(C1531=\"\",NA(),MATCH($B1531&$C1531,'Smelter Look-up'!$J:$J,0))","v":{"$error":"#N/A"}},null,0,null,null,null,""]
[{"$nulls":18},{"$f":"IF(ISERROR($W1532),\"\",OFFSET('Smelter Look-up'!$C$4,$W1532-4,0)&\"\")","v":""},"",{"$f":"IF(B1532=\"\",\"\",IF(ISERROR(MATCH($J1532,SorP!$B$1:$B$6230,0)),\"\",INDIRECT(\"'SorP'!$A$\"&MATCH($J1532,SorP!$B$1:$B$6230,0))))","v":""},null,{"$f":"IF(C1532=\"\",NA(),MATCH($B1532&$C1532,'Smelter Look-up'!$J:$J,0))","v":{"$error":"#N/A"}},null,0,null,null,null,""]
[{"$nulls":18},{"$f":"IF(ISERROR($W1533),\"\",OFFSET('Smelter Look-up'!$C$4,$W1533-4,0)&\"\")","v":""},"",{"$f":"IF(B1533=\"\",\"\",IF(ISERROR(MATCH($J1533,SorP!$B$1:$B$6230,0)),\"\",INDIRECT(\"'SorP'!$A$\"&MATCH($J1533,SorP!$B$1:$B$6230,0))))","v":""},null,{"$f":"IF(C1533=\"\",NA(),MATCH($B1533&$C1533,'Smelter Look-up'!$J:$J,0))","v":{"$error":"#N/A"}},null,0,null,null,null,""]
[{"$nulls":18},{"$f":"IF(ISERROR($W1534),\"\",OFFSET('Smelter Look-up'!$C$4,$W1534-4,0)&\"\")","v":""},"",{"$f":"IF(B1534=\"\",\"\",IF(ISERROR(MATCH($J1534,SorP!$B$1:$B$6230,0)),\"\",INDIRECT(\"'SorP'!$A$\"&MATCH($J1534,SorP!$B$1:$B$6230,0))))","v":""},null,{"$f":"IF(C1534=\"\",NA(),MATCH($B1534&$C1534,'Smelter Look-up'!$J:$J,0))","v":{"$error":"#N/A"}},null,0,null,null,null,""]
[{"$nulls":18},{"$f":"IF(ISERROR($W1535),\"\",OFFSET('Smelter Look-up'!$C$4,$W1535-4,0)&\"\")","v":""},"",{"$f":"IF(B1535=\"\",\"\",IF(ISERROR(MATCH($J1535,SorP!$B$1:$B$6230,0)),\"\",INDIRECT(\"'SorP'!$A$\"&MATCH($J1535,SorP!$B$1:$B$6230,0))))","v":""},null,{"$f":"IF(C1535=\"\",NA(),MATCH($B1535&$C1535,'Smelter Look-up'!$J:$J,0))","v":{"$error":"#N/A"}},null,0,null,null,null,""]
[{"$nulls":18},{"$f":"IF(ISERROR($W1536),\"\",OFFSET('Smelter Look-up'!$C$4,$W1536-4,0)&\"\")","v":""},"",{"$f":"IF(B1536=\"\",\"\",IF(ISERROR(MATCH($J1536,SorP!$B$1:$B$6230,0)),\"\",INDIRECT(\"'SorP'!$A$\"&MATCH($J1536,SorP!$B$1:$B$6230,0))))","v":""},null,{"$f":"IF(C1536=\"\",NA(),MATCH($B1536&$C1536,'Smelter Look-up'!$J:$J,0))","v":{"$error":"#N/A"}},null,0,null,null,null,""]
[{"$nulls":18},{"$f":"IF(ISERROR($W1537),\"\",OFFSET('Smelter Look-up'!$C$4,$W1537-4,0)&\"\")","v":""},"",{"$f":"IF(B1537=\"\",\"\",IF(ISERROR(MATCH($J1537,SorP!$B$1:$B$6230,0)),\"\",INDIRECT(\"'SorP'!$A$\"&MATCH($J1537,SorP!$B$1:$B$6230,0))))","v":""},null,{"$f":"IF(C1537=\"\",NA(),MATCH($B1537&$C1537,'Smelter Look-up'!$J:$J,0))","v":{"$error":"#N/A"}},null,0,null,null,null,""]
[{"$nulls":18},{"$f":"IF(ISERROR($W1538),\"\",OFFSET('Smelter Look-up'!$C$4,$W1538-4,0)&\"\")","v":""},"",{"$f":"IF(B1538=\"\",\"\",IF(ISERROR(MATCH($J1538,SorP!$B$1:$B$6230,0)),\"\",INDIRECT(\"'SorP'!$A$\"&MATCH($J1538,SorP!$B$1:$B$6230,0))))","v":""},null,{"$f":"IF(C1538=\"\",NA(),MATCH($B1538&$C1538,'Smelter Look-up'!$J:$J,0))","v":{"$error":"#N/A"}},null,0,null,null,null,""]
[{"$nulls":18},{"$f":"IF(ISERROR($W1539),\"\",OFFSET('Smelter Look-up'!$C$4,$W1539-4,0)&\"\")","v":""},"",{"$f":"IF(B1539=\"\",\"\",IF(ISERROR(MATCH($J1539,SorP!$B$1:$B$6230,0)),\"\",INDIRECT(\"'SorP'!$A$\"&MATCH($J1539,SorP!$B$1:$B$6230,0))))","v":""},null,{"$f":"IF(C1539=\"\",NA(),MATCH($B1539&$C1539,'Smelter Look-up'!$J:$J,0))","v":{"$error":"#N/A"}},null,0,null,null,null,""]
[{"$nulls":18},{"$f":"IF(ISERROR($W1540),\"\",OFFSET('Smelter Look-up'!$C$4,$W1540-4,0)&\"\")","v":""},"",{"$f":"IF(B1540=\"\",\"\",IF(ISERROR(MATCH($J1540,SorP!$B$1:$B$6230,0)),\"\",INDIRECT(\"'SorP'!$A$\"&MATCH($J1540,SorP!$B$1:$B$6230,0))))","v":""},null,{"$f":"IF(C1540=\"\",NA(),MATCH($B1540&$C1540,'Smelter Look-up'!$J:$J,0))","v":{"$error":"#N/A"}},null,0,null,null,null,""]
[{"$nulls":18},{"$f":"IF(ISERROR($W1541),\"\",OFFSET('Smelter Look-up'!$C$4,$W1541-4,0)&\"\")","v":""},{"$f":"IF(B1541=\"\",\"\",IF(ISERROR(MATCH($E1541,CL,0)),\"Unknown\",INDIRECT(\"'C'!$A$\"&MATCH($E1541,CL,0)+1)))","v":""},{"$f":"IF(B1541=\"\",\"\",IF(ISERROR(MATCH($J1541,SorP!$B$1:$B$6230,0)),\"\",INDIRECT(\"'SorP'!$A$\"&MATCH($J1541,SorP!$B$1:$B$6230,0))))","v":""},null,{"$f":"IF(C1541=\"\",NA(),MATCH($B1541&$C1541,'Smelter Look-up'!$J:$J,0))","v":{"$error":"#N/A"}},null,{"$f":"IF(AND(C1541=\"Smelter not listed\",OR(LEN(D1541)=0,LEN(E1541)=0)),1,0)","v":0},null,null,null,{"$f":"B1541&C1541","v":""}]
[{"$nulls":18},{"$f":"IF(ISERROR($W1542),\"\",OFFSET('Smelter Look-up'!$C$4,$W1542-4,0)&\"\")","v":""},"",{"$f":"IF(B1542=\"\",\"\",IF(ISERROR(MATCH($J1542,SorP!$B$1:$B$6230,0)),\"\",INDIRECT(\"'SorP'!$A$\"&MATCH($J1542,SorP!$B$1:$B$6230,0))))","v":""},null,{"$f":"IF(C1542=\"\",NA(),MATCH($B1542&$C1542,'Smelter Look-up'!$J:$J,0))","v":{"$error":"#N/A"}},null,0,null,null,null,""]
[{"$nulls":18},{"$f":"IF(ISERROR($W1543),\"\",OFFSET('Smelter Look-up'!$C$4,$W1543-4,0)&\"\")","v":""},"",{"$f":"IF(B1543=\"\",\"\",IF(ISERROR(MATCH($J1543,SorP!$B$1:$B$6230,0)),\"\",INDIRECT(\"'SorP'!$A$\"&MATCH($J1543,SorP!$B$1:$B$6230,0))))","v":""},null,{"$f":"IF(C1543=\"\",NA(),MATCH($B1543&$C1543,'Smelter Look-up'!$J:$J,0))","v":{"$error":"#N/A"}},null,0,null,null,null,""]
[{"$nulls":18},{"$f":"IF(ISERROR($W1544),\"\",OFFSET('Smelter Look-up'!$C$4,$W1544-4,0)&\"\")","v":""},"",{"$f":"IF(B1544=\"\",\"\",IF(ISERROR(MATCH($J1544,SorP!$B$1:$B$6230,0)),\"\",INDIRECT(\"'SorP'!$A$\"&MATCH($J1544,SorP!$B$1:$B$6230,0))))","v":""},null,{"$f":"IF(C1544=\"\",NA(),MATCH($B1544&$C1544,'Smelter Look-up'!$J:$J,0))","v":{"$error":"#N/A"}},null,0,null,null,null,""]
[{"$nulls":18},{"$f":"IF(ISERROR($W1545),\"\",OFFSET('Smelter Look-up'!$C$4,$W1545-4,0)&\"\")","v":""},"",{"$f":"IF(B1545=\"\",\"\",IF(ISERROR(MATCH($J1545,SorP!$B$1:$B$6230,0)),\"\",INDIRECT(\"'SorP'!$A$\"&MATCH($J1545,SorP!$B$1:$B$6230,0))))","v":""},null,{"$f":"IF(C1545=\"\",NA(),MATCH($B1545&$C1545,'Smelter Look-up'!$J:$J,0))","v":{"$error":"#N/A"}},null,0,null,null,null,""]
[{"$nulls":18},{"$f":"IF(ISERROR($W1546),\"\",OFFSET('Smelter Look-up'!$C$4,$W1546-4,0)&\"\")","v":""},"",{"$f":"IF(B1546=\"\",\"\",IF(ISERROR(MATCH($J1546,SorP!$B$1:$B$6230,0)),\"\",INDIRECT(\"'SorP'!$A$\"&MATCH($J1546,SorP!$B$1:$B$6230,0))))","v":""},null,{"$f":"IF(C1546=\"\",NA(),MATCH($B1546&$C1546,'Smelter Look-up'!$J:$J,0))","v":{"$error":"#N/A"}},null,0,null,null,null,""]
[{"$nulls":18},{"$f":"IF(ISERROR($W1547),\"\",OFFSET('Smelter Look-up'!$C$4,$W1547-4,0)&\"\")","v":""},"",{"$f":"IF(B1547=\"\",\"\",IF(ISERROR(MATCH($J1547,SorP!$B$1:$B$6230,0)),\"\",INDIRECT(\"'SorP'!$A$\"&MATCH($J1547,SorP!$B$1:$B$6230,0))))","v":""},null,{"$f":"IF(C1547=\"\",NA(),MATCH($B1547&$C1547,'Smelter Look-up'!$J:$J,0))","v":{"$error":"#N/A"}},null,0,null,null,null,""]
[{"$nulls":18},{"$f":"IF(ISERROR($W1548),\"\",OFFSET('Smelter Look-up'!$C$4,$W1548-4,0)&\"\")","v":""},"",{"$f":"IF(B1548=\"\",\"\",IF(ISERROR(MATCH($J1548,SorP!$B$1:$B$6230,0)),\"\",INDIRECT(\"'SorP'!$A$\"&MATCH($J1548,SorP!$B$1:$B$6230,0))))","v":""},null,{"$f":"IF(C1548=\"\",NA(),MATCH($B1548&$C1548,'Smelter Look-up'!$J:$J,0))","v":{"$error":"#N/A"}},null,0,null,null,null,""]
[{"$nulls":18},{"$f":"IF(ISERROR($W1549),\"\",OFFSET('Smelter Look-up'!$C$4,$W1549-4,0)&\"\")","v":""},"",{"$f":"IF(B1549=\"\",\"\",IF(ISERROR(MATCH($J1549,SorP!$B$1:$B$6230,0)),\"\",INDIRECT(\"'SorP'!$A$\"&MATCH($J1549,SorP!$B$1:$B$6230,0))))","v":""},null,{"$f":"IF(C1549=\"\",NA(),MATCH($B1549&$C1549,'Smelter Look-up'!$J:$J,0))","v":{"$error":"#N/A"}},null,0,null,null,null,""]
[{"$nulls":18},{"$f":"IF(ISERROR($W1550),\"\",OFFSET('Smelter Look-up'!$C$4,$W1550-4,0)&\"\")","v":""},"",{"$f":"IF(B1550=\"\",\"\",IF(ISERROR(MATCH($J1550,SorP!$B$1:$B$6230,0)),\"\",INDIRECT(\"'SorP'!$A$\"&MATCH($J1550,SorP!$B$1:$B$6230,0))))","v":""},null,{"$f":"IF(C1550=\"\",NA(),MATCH($B1550&$C1550,'Smelter Look-up'!$J:$J,0))","v":{"$error":"#N/A"}},null,0,null,null,null,""]
[{"$nulls":18},{"$f":"IF(ISERROR($W1551),\"\",OFFSET('Smelter Look-up'!$C$4,$W1551-4,0)&\"\")","v":""},"",{"$f":"IF(B1551=\"\",\"\",IF(ISERROR(MATCH($J1551,SorP!$B$1:$B$6230,0)),\"\",INDIRECT(\"'SorP'!$A$\"&MATCH($J1551,SorP!$B$1:$B$6230,0))))","v":""},null,{"$f":"IF(C1551=\"\",NA(),MATCH($B1551&$C1551,'Smelter Look-up'!$J:$J,0))","v":{"$error":"#N/A"}},null,0,null,null,null,""]
[{"$nulls":18},{"$f":"IF(ISERROR($W1552),\"\",OFFSET('Smelter Look-up'!$C$4,$W1552-4,0)&\"\")","v":""},"",{"$f":"IF(B1552=\"\",\"\",IF(ISERROR(MATCH($J1552,SorP!$B$1:$B$6230,0)),\"\",INDIRECT(\"'SorP'!$A$\"&MATCH($J1552,SorP!$B$1:$B$6230,0))))","v":""},null,{"$f":"IF(C1552=\"\",NA(),MATCH($B1552&$C1552,'Smelter Look-up'!$J:$J,0))","v":{"$error":"#N/A"}},null,0,null,null,null,""]
[{"$nulls":18},{"$f":"IF(ISERROR($W1553),\"\",OFFSET('Smelter Look-up'!$C$4,$W1553-4,0)&\"\")","v":""},"",{"$f":"IF(B1553=\"\",\"\",IF(ISERROR(MATCH($J1553,SorP!$B$1:$B$6230,0)),\"\",INDIRECT(\"'SorP'!$A$\"&MATCH($J1553,SorP!$B$1:$B$6230,0))))","v":""},null,{"$f":"IF(C1553=\"\",NA(),MATCH($B1553&$C1553,'Smelter Look-up'!$J:$J,0))","v":{"$error":"#N/A"}},null,0,null,null,null,""]
[{"$nulls":18},{"$f":"IF(ISERROR($W1554),\"\",OFFSET('Smelter Look-up'!$C$4,$W1554-4,0)&\"\")","v":""},"",{"$f":"IF(B1554=\"\",\"\",IF(ISERROR(MATCH($J1554,SorP!$B$1:$B$6230,0)),\"\",INDIRECT(\"'SorP'!$A$\"&MATCH($J1554,SorP!$B$1:$B$6230,0))))","v":""},null,{"$f":"IF(C1554=\"\",NA(),MATCH($B1554&$C1554,'Smelter Look-up'!$J:$J,0))","v":{"$error":"#N/A"}},null,0,null,null,null,""]
[{"$nulls":18},{"$f":"IF(ISERROR($W1555),\"\",OFFSET('Smelter Look-up'!$C$4,$W1555-4,0)&\"\")","v":""},"",{"$f":"IF(B1555=\"\",\"\",IF(ISERROR(MATCH($J1555,SorP!$B$1:$B$6230,0)),\"\",INDIRECT(\"'SorP'!$A$\"&MATCH($J1555,SorP!$B$1:$B$6230,0))))","v":""},null,{"$f":"IF(C1555=\"\",NA(),MATCH($B1555&$C1555,'Smelter Look-up'!$J:$J,0))","v":{"$error":"#N/A"}},null,0,null,null,null,""]
[{"$nulls":18},{"$f":"IF(ISERROR($W1556),\"\",OFFSET('Smelter Look-up'!$C$4,$W1556-4,0)&\"\")","v":""},"",{"$f":"IF(B1556=\"\",\"\",IF(ISERROR(MATCH($J1556,SorP!$B$1:$B$6230,0)),\"\",INDIRECT(\"'SorP'!$A$\"&MATCH($J1556,SorP!$B$1:$B$6230,0))))","v":""},null,{"$f":"IF(C1556=\"\",NA(),MATCH($B1556&$C1556,'Smelter Look-up'!$J:$J,0))","v":{"$error":"#N/A"}},null,0,null,null,null,""]
[{"$nulls":18},{"$f":"IF(ISERROR($W1557),\"\",OFFSET('Smelter Look-up'!$C$4,$W1557-4,0)&\"\")","v":""},"",{"$f":"IF(B1557=\"\",\"\",IF(ISERROR(MATCH($J1557,SorP!$B$1:$B$6230,0)),\"\",INDIRECT(\"'SorP'!$A$\"&MATCH($J1557,SorP!$B$1:$B$6230,0))))","v":""},null,{"$f":"IF(C1557=\"\",NA(),MATCH($B1557&$C1557,'Smelter Look-up'!$J:$J,0))","v":{"$error":"#N/A"}},null,0,null,null,null,""]
[{"$nulls":18},{"$f":"IF(ISERROR($W1558),\"\",OFFSET('Smelter Look-up'!$C$4,$W1558-4,0)&\"\")","v":""},"",{"$f":"IF(B1558=\"\",\"\",IF(ISERROR(MATCH($J1558,SorP!$B$1:$B$6230,0)),\"\",INDIRECT(\"'SorP'!$A$\"&MATCH($J1558,SorP!$B$1:$B$6230,0))))","v":""},null,{"$f":"IF(C1558=\"\",NA(),MATCH($B1558&$C1558,'Smelter Look-up'!$J:$J,0))","v":{"$error":"#N/A"}},null,0,null,null,null,""]
[{"$nulls":18},{"$f":"IF(ISERROR($W1559),\"\",OFFSET('Smelter Look-up'!$C$4,$W1559-4,0)&\"\")","v":""},"",{"$f":"IF(B1559=\"\",\"\",IF(ISERROR(MATCH($J1559,SorP!$B$1:$B$6230,0)),\"\",INDIRECT(\"'SorP'!$A$\"&MATCH($J1559,SorP!$B$1:$B$6230,0))))","v":""},null,{"$f":"IF(C1559=\"\",NA(),MATCH($B1559&$C1559,'Smelter Look-up'!$J:$J,0))","v":{"$error":"#N/A"}},null,0,null,null,null,""]
[{"$nulls":18},{"$f":"IF(ISERROR($W1560),\"\",OFFSET('Smelter Look-up'!$C$4,$W1560-4,0)&\"\")","v":""},"",{"$f":"IF(B1560=\"\",\"\",IF(ISERROR(MATCH($J1560,SorP!$B$1:$B$6230,0)),\"\",INDIRECT(\"'SorP'!$A$\"&MATCH($J1560,SorP!$B$1:$B$6230,0))))","v":""},null,{"$f":"IF(C1560=\"\",NA(),MATCH($B1560&$C1560,'Smelter Look-up'!$J:$J,0))","v":{"$error":"#N/A"}},null,0,null,null,null,""]
[{"$nulls":18},{"$f":"IF(ISERROR($W1561),\"\",OFFSET('Smelter Look-up'!$C$4,$W1561-4,0)&\"\")","v":""},"",{"$f":"IF(B1561=\"\",\"\",IF(ISERROR(MATCH($J1561,SorP!$B$1:$B$6230,0)),\"\",INDIRECT(\"'SorP'!$A$\"&MATCH($J1561,SorP!$B$1:$B$6230,0))))","v":""},null,{"$f":"IF(C1561=\"\",NA(),MATCH($B1561&$C1561,'Smelter Look-up'!$J:$J,0))","v":{"$error":"#N/A"}},null,0,null,null,null,""]
[{"$nulls":18},{"$f":"IF(ISERROR($W1562),\"\",OFFSET('Smelter Look-up'!$C$4,$W1562-4,0)&\"\")","v":""},"",{"$f":"IF(B1562=\"\",\"\",IF(ISERROR(MATCH($J1562,SorP!$B$1:$B$6230,0)),\"\",INDIRECT(\"'SorP'!$A$\"&MATCH($J1562,SorP!$B$1:$B$6230,0))))","v":""},null,{"$f":"IF(C1562=\"\",NA(),MATCH($B1562&$C1562,'Smelter Look-up'!$J:$J,0))","v":{"$error":"#N/A"}},null,0,null,null,null,""]
[{"$nulls":18},{"$f":"IF(ISERROR($W1563),\"\",OFFSET('Smelter Look-up'!$C$4,$W1563-4,0)&\"\")","v":""},"",{"$f":"IF(B1563=\"\",\"\",IF(ISERROR(MATCH($J1563,SorP!$B$1:$B$6230,0)),\"\",INDIRECT(\"'SorP'!$A$\"&MATCH($J1563,SorP!$B$1:$B$6230,0))))","v":""},null,{"$f":"IF(C1563=\"\",NA(),MATCH($B1563&$C1563,'Smelter Look-up'!$J:$J,0))","v":{"$error":"#N/A"}},null,0,null,null,null,""]
[{"$nulls":18},{"$f":"IF(ISERROR($W1564),\"\",OFFSET('Smelter Look-up'!$C$4,$W1564-4,0)&\"\")","v":""},"",{"$f":"IF(B1564=\"\",\"\",IF(ISERROR(MATCH($J1564,SorP!$B$1:$B$6230,0)),\"\",INDIRECT(\"'SorP'!$A$\"&MATCH($J1564,SorP!$B$1:$B$6230,0))))","v":""},null,{"$f":"IF(C1564=\"\",NA(),MATCH($B1564&$C1564,'Smelter Look-up'!$J:$J,0))","v":{"$error":"#N/A"}},null,0,null,null,null,""]
[{"$nulls":18},{"$f":"IF(ISERROR($W1565),\"\",OFFSET('Smelter Look-up'!$C$4,$W1565-4,0)&\"\")","v":""},"",{"$f":"IF(B1565=\"\",\"\",IF(ISERROR(MATCH($J1565,SorP!$B$1:$B$6230,0)),\"\",INDIRECT(\"'SorP'!$A$\"&MATCH($J1565,SorP!$B$1:$B$6230,0))))","v":""},null,{"$f":"IF(C1565=\"\",NA(),MATCH($B1565&$C1565,'Smelter Look-up'!$J:$J,0))","v":{"$error":"#N/A"}},null,0,null,null,null,""]
[{"$nulls":18},{"$f":"IF(ISERROR($W1566),\"\",OFFSET('Smelter Look-up'!$C$4,$W1566-4,0)&\"\")","v":""},"",{"$f":"IF(B1566=\"\",\"\",IF(ISERROR(MATCH($J1566,SorP!$B$1:$B$6230,0)),\"\",INDIRECT(\"'SorP'!$A$\"&MATCH($J1566,SorP!$B$1:$B$6230,0))))","v":""},null,{"$f":"IF(C1566=\"\",NA(),MATCH($B1566&$C1566,'Smelter Look-up'!$J:$J,0))","v":{"$error":"#N/A"}},null,0,null,null,null,""]
[{"$nulls":18},{"$f":"IF(ISERROR($W1567),\"\",OFFSET('Smelter Look-up'!$C$4,$W1567-4,0)&\"\")","v":""},"",{"$f":"IF(B1567=\"\",\"\",IF(ISERROR(MATCH($J1567,SorP!$B$1:$B$6230,0)),\"\",INDIRECT(\"'SorP'!$A$\"&MATCH($J1567,SorP!$B$1:$B$6230,0))))","v":""},null,{"$f":"IF(C1567=\"\",NA(),MATCH($B1567&$C1567,'Smelter Look-up'!$J:$J,0))","v":{"$error":"#N/A"}},null,0,null,null,null,""]
[{"$nulls":18},{"$f":"IF(ISERROR($W1568),\"\",OFFSET('Smelter Look-up'!$C$4,$W1568-4,0)&\"\")","v":""},"",{"$f":"IF(B1568=\"\",\"\",IF(ISERROR(MATCH($J1568,SorP!$B$1:$B$6230,0)),\"\",INDIRECT(\"'SorP'!$A$\"&MATCH($J1568,SorP!$B$1:$B$6230,0))))","v":""},null,{"$f":"IF(C1568=\"\",NA(),MATCH($B1568&$C1568,'Smelter Look-up'!$J:$J,0))","v":{"$error":"#N/A"}},null,0,null,null,null,""]
[{"$nulls":18},{"$f":"IF(ISERROR($W1569),\"\",OFFSET('Smelter Look-up'!$C$4,$W1569-4,0)&\"\")","v":""},"",{"$f":"IF(B1569=\"\",\"\",IF(ISERROR(MATCH($J1569,SorP!$B$1:$B$6230,0)),\"\",INDIRECT(\"'SorP'!$A$\"&MATCH($J1569,SorP!$B$1:$B$6230,0))))","v":""},null,{"$f":"IF(C1569=\"\",NA(),MATCH($B1569&$C1569,'Smelter Look-up'!$J:$J,0))","v":{"$error":"#N/A"}},null,0,null,null,null,""]
[{"$nulls":18},{"$f":"IF(ISERROR($W1570),\"\",OFFSET('Smelter Look-up'!$C$4,$W1570-4,0)&\"\")","v":""},"",{"$f":"IF(B1570=\"\",\"\",IF(ISERROR(MATCH($J1570,SorP!$B$1:$B$6230,0)),\"\",INDIRECT(\"'SorP'!$A$\"&MATCH($J1570,SorP!$B$1:$B$6230,0))))","v":""},null,{"$f":"IF(C1570=\"\",NA(),MATCH($B1570&$C1570,'Smelter Look-up'!$J:$J,0))","v":{"$error":"#N/A"}},null,0,null,null,null,""]
[{"$nulls":18},{"$f":"IF(ISERROR($W1571),\"\",OFFSET('Smelter Look-up'!$C$4,$W1571-4,0)&\"\")","v":""},"",{"$f":"IF(B1571=\"\",\"\",IF(ISERROR(MATCH($J1571,SorP!$B$1:$B$6230,0)),\"\",INDIRECT(\"'SorP'!$A$\"&MATCH($J1571,SorP!$B$1:$B$6230,0))))","v":""},null,{"$f":"IF(C1571=\"\",NA(),MATCH($B1571&$C1571,'Smelter Look-up'!$J:$J,0))","v":{"$error":"#N/A"}},null,0,null,null,null,""]
[{"$nulls":18},{"$f":"IF(ISERROR($W1572),\"\",OFFSET('Smelter Look-up'!$C$4,$W1572-4,0)&\"\")","v":""},"",{"$f":"IF(B1572=\"\",\"\",IF(ISERROR(MATCH($J1572,SorP!$B$1:$B$6230,0)),\"\",INDIRECT(\"'SorP'!$A$\"&MATCH($J1572,SorP!$B$1:$B$6230,0))))","v":""},null,{"$f":"IF(C1572=\"\",NA(),MATCH($B1572&$C1572,'Smelter Look-up'!$J:$J,0))","v":{"$error":"#N/A"}},null,0,null,null,null,""]
[{"$nulls":18},{"$f":"IF(ISERROR($W1573),\"\",OFFSET('Smelter Look-up'!$C$4,$W1573-4,0)&\"\")","v":""},"",{"$f":"IF(B1573=\"\",\"\",IF(ISERROR(MATCH($J1573,SorP!$B$1:$B$6230,0)),\"\",INDIRECT(\"'SorP'!$A$\"&MATCH($J1573,SorP!$B$1:$B$6230,0))))","v":""},null,{"$f":"IF(C1573=\"\",NA(),MATCH($B1573&$C1573,'Smelter Look-up'!$J:$J,0))","v":{"$error":"#N/A"}},null,0,null,null,null,""]
[{"$nulls":18},{"$f":"IF(ISERROR($W1574),\"\",OFFSET('Smelter Look-up'!$C$4,$W1574-4,0)&\"\")","v":""},"",{"$f":"IF(B1574=\"\",\"\",IF(ISERROR(MATCH($J1574,SorP!$B$1:$B$6230,0)),\"\",INDIRECT(\"'SorP'!$A$\"&MATCH($J1574,SorP!$B$1:$B$6230,0))))","v":""},null,{"$f":"IF(C1574=\"\",NA(),MATCH($B1574&$C1574,'Smelter Look-up'!$J:$J,0))","v":{"$error":"#N/A"}},null,0,null,null,null,""]
[{"$nulls":18},{"$f":"IF(ISERROR($W1575),\"\",OFFSET('Smelter Look-up'!$C$4,$W1575-4,0)&\"\")","v":""},"",{"$f":"IF(B1575=\"\",\"\",IF(ISERROR(MATCH($J1575,SorP!$B$1:$B$6230,0)),\"\",INDIRECT(\"'SorP'!$A$\"&MATCH($J1575,SorP!$B$1:$B$6230,0))))","v":""},null,{"$f":"IF(C1575=\"\",NA(),MATCH($B1575&$C1575,'Smelter Look-up'!$J:$J,0))","v":{"$error":"#N/A"}},null,0,null,null,null,""]
[{"$nulls":18},{"$f":"IF(ISERROR($W1576),\"\",OFFSET('Smelter Look-up'!$C$4,$W1576-4,0)&\"\")","v":""},"",{"$f":"IF(B1576=\"\",\"\",IF(ISERROR(MATCH($J1576,SorP!$B$1:$B$6230,0)),\"\",INDIRECT(\"'SorP'!$A$\"&MATCH($J1576,SorP!$B$1:$B$6230,0))))","v":""},null,{"$f":"IF(C1576=\"\",NA(),MATCH($B1576&$C1576,'Smelter Look-up'!$J:$J,0))","v":{"$error":"#N/A"}},null,0,null,null,null,""]
[{"$nulls":18},{"$f":"IF(ISERROR($W1577),\"\",OFFSET('Smelter Look-up'!$C$4,$W1577-4,0)&\"\")","v":""},"",{"$f":"IF(B1577=\"\",\"\",IF(ISERROR(MATCH($J1577,SorP!$B$1:$B$6230,0)),\"\",INDIRECT(\"'SorP'!$A$\"&MATCH($J1577,SorP!$B$1:$B$6230,0))))","v":""},null,{"$f":"IF(C1577=\"\",NA(),MATCH($B1577&$C1577,'Smelter Look-up'!$J:$J,0))","v":{"$error":"#N/A"}},null,0,null,null,null,""]
[{"$nulls":18},{"$f":"IF(ISERROR($W1578),\"\",OFFSET('Smelter Look-up'!$C$4,$W1578-4,0)&\"\")","v":""},"",{"$f":"IF(B1578=\"\",\"\",IF(ISERROR(MATCH($J1578,SorP!$B$1:$B$6230,0)),\"\",INDIRECT(\"'SorP'!$A$\"&MATCH($J1578,SorP!$B$1:$B$6230,0))))","v":""},null,{"$f":"IF(C1578=\"\",NA(),MATCH($B1578&$C1578,'Smelter Look-up'!$J:$J,0))","v":{"$error":"#N/A"}},null,0,null,null,null,""]
[{"$nulls":18},{"$f":"IF(ISERROR($W1579),\"\",OFFSET('Smelter Look-up'!$C$4,$W1579-4,0)&\"\")","v":""},"",{"$f":"IF(B1579=\"\",\"\",IF(ISERROR(MATCH($J1579,SorP!$B$1:$B$6230,0)),\"\",INDIRECT(\"'SorP'!$A$\"&MATCH($J1579,SorP!$B$1:$B$6230,0))))","v":""},null,{"$f":"IF(C1579=\"\",NA(),MATCH($B1579&$C1579,'Smelter Look-up'!$J:$J,0))","v":{"$error":"#N/A"}},null,0,null,null,null,""]
[{"$nulls":18},{"$f":"IF(ISERROR($W1580),\"\",OFFSET('Smelter Look-up'!$C$4,$W1580-4,0)&\"\")","v":""},"",{"$f":"IF(B1580=\"\",\"\",IF(ISERROR(MATCH($J1580,SorP!$B$1:$B$6230,0)),\"\",INDIRECT(\"'SorP'!$A$\"&MATCH($J1580,SorP!$B$1:$B$6230,0))))","v":""},null,{"$f":"IF(C1580=\"\",NA(),MATCH($B1580&$C1580,'Smelter Look-up'!$J:$J,0))","v":{"$error":"#N/A"}},null,0,null,null,null,""]
[{"$nulls":18},{"$f":"IF(ISERROR($W1581),\"\",OFFSET('Smelter Look-up'!$C$4,$W1581-4,0)&\"\")","v":""},"",{"$f":"IF(B1581=\"\",\"\",IF(ISERROR(MATCH($J1581,SorP!$B$1:$B$6230,0)),\"\",INDIRECT(\"'SorP'!$A$\"&MATCH($J1581,SorP!$B$1:$B$6230,0))))","v":""},null,{"$f":"IF(C1581=\"\",NA(),MATCH($B1581&$C1581,'Smelter Look-up'!$J:$J,0))","v":{"$error":"#N/A"}},null,0,null,null,null,""]
[{"$nulls":18},{"$f":"IF(ISERROR($W1582),\"\",OFFSET('Smelter Look-up'!$C$4,$W1582-4,0)&\"\")","v":""},"",{"$f":"IF(B1582=\"\",\"\",IF(ISERROR(MATCH($J1582,SorP!$B$1:$B$6230,0)),\"\",INDIRECT(\"'SorP'!$A$\"&MATCH($J1582,SorP!$B$1:$B$6230,0))))","v":""},null,{"$f":"IF(C1582=\"\",NA(),MATCH($B1582&$C1582,'Smelter Look-up'!$J:$J,0))","v":{"$error":"#N/A"}},null,0,null,null,null,""]
[{"$nulls":18},{"$f":"IF(ISERROR($W1583),\"\",OFFSET('Smelter Look-up'!$C$4,$W1583-4,0)&\"\")","v":""},"",{"$f":"IF(B1583=\"\",\"\",IF(ISERROR(MATCH($J1583,SorP!$B$1:$B$6230,0)),\"\",INDIRECT(\"'SorP'!$A$\"&MATCH($J1583,SorP!$B$1:$B$6230,0))))","v":""},null,{"$f":"IF(C1583=\"\",NA(),MATCH($B1583&$C1583,'Smelter Look-up'!$J:$J,0))","v":{"$error":"#N/A"}},null,0,null,null,null,""]
[{"$nulls":18},{"$f":"IF(ISERROR($W1584),\"\",OFFSET('Smelter Look-up'!$C$4,$W1584-4,0)&\"\")","v":""},"",{"$f":"IF(B1584=\"\",\"\",IF(ISERROR(MATCH($J1584,SorP!$B$1:$B$6230,0)),\"\",INDIRECT(\"'SorP'!$A$\"&MATCH($J1584,SorP!$B$1:$B$6230,0))))","v":""},null,{"$f":"IF(C1584=\"\",NA(),MATCH($B1584&$C1584,'Smelter Look-up'!$J:$J,0))","v":{"$error":"#N/A"}},null,0,null,null,null,""]
[{"$nulls":18},{"$f":"IF(ISERROR($W1585),\"\",OFFSET('Smelter Look-up'!$C$4,$W1585-4,0)&\"\")","v":""},"",{"$f":"IF(B1585=\"\",\"\",IF(ISERROR(MATCH($J1585,SorP!$B$1:$B$6230,0)),\"\",INDIRECT(\"'SorP'!$A$\"&MATCH($J1585,SorP!$B$1:$B$6230,0))))","v":""},null,{"$f":"IF(C1585=\"\",NA(),MATCH($B1585&$C1585,'Smelter Look-up'!$J:$J,0))","v":{"$error":"#N/A"}},null,0,null,null,null,""]
[{"$nulls":18},{"$f":"IF(ISERROR($W1586),\"\",OFFSET('Smelter Look-up'!$C$4,$W1586-4,0)&\"\")","v":""},"",{"$f":"IF(B1586=\"\",\"\",IF(ISERROR(MATCH($J1586,SorP!$B$1:$B$6230,0)),\"\",INDIRECT(\"'SorP'!$A$\"&MATCH($J1586,SorP!$B$1:$B$6230,0))))","v":""},null,{"$f":"IF(C1586=\"\",NA(),MATCH($B1586&$C1586,'Smelter Look-up'!$J:$J,0))","v":{"$error":"#N/A"}},null,0,null,null,null,""]
[{"$nulls":18},{"$f":"IF(ISERROR($W1587),\"\",OFFSET('Smelter Look-up'!$C$4,$W1587-4,0)&\"\")","v":""},"",{"$f":"IF(B1587=\"\",\"\",IF(ISERROR(MATCH($J1587,SorP!$B$1:$B$6230,0)),\"\",INDIRECT(\"'SorP'!$A$\"&MATCH($J1587,SorP!$B$1:$B$6230,0))))","v":""},null,{"$f":"IF(C1587=\"\",NA(),MATCH($B1587&$C1587,'Smelter Look-up'!$J:$J,0))","v":{"$error":"#N/A"}},null,0,null,null,null,""]
[{"$nulls":18},{"$f":"IF(ISERROR($W1588),\"\",OFFSET('Smelter Look-up'!$C$4,$W1588-4,0)&\"\")","v":""},"",{"$f":"IF(B1588=\"\",\"\",IF(ISERROR(MATCH($J1588,SorP!$B$1:$B$6230,0)),\"\",INDIRECT(\"'SorP'!$A$\"&MATCH($J1588,SorP!$B$1:$B$6230,0))))","v":""},null,{"$f":"IF(C1588=\"\",NA(),MATCH($B1588&$C1588,'Smelter Look-up'!$J:$J,0))","v":{"$error":"#N/A"}},null,0,null,null,null,""]
[{"$nulls":18},{"$f":"IF(ISERROR($W1589),\"\",OFFSET('Smelter Look-up'!$C$4,$W1589-4,0)&\"\")","v":""},"",{"$f":"IF(B1589=\"\",\"\",IF(ISERROR(MATCH($J1589,SorP!$B$1:$B$6230,0)),\"\",INDIRECT(\"'SorP'!$A$\"&MATCH($J1589,SorP!$B$1:$B$6230,0))))","v":""},null,{"$f":"IF(C1589=\"\",NA(),MATCH($B1589&$C1589,'Smelter Look-up'!$J:$J,0))","v":{"$error":"#N/A"}},null,0,null,null,null,""]
[{"$nulls":18},{"$f":"IF(ISERROR($W1590),\"\",OFFSET('Smelter Look-up'!$C$4,$W1590-4,0)&\"\")","v":""},"",{"$f":"IF(B1590=\"\",\"\",IF(ISERROR(MATCH($J1590,SorP!$B$1:$B$6230,0)),\"\",INDIRECT(\"'SorP'!$A$\"&MATCH($J1590,SorP!$B$1:$B$6230,0))))","v":""},null,{"$f":"IF(C1590=\"\",NA(),MATCH($B1590&$C1590,'Smelter Look-up'!$J:$J,0))","v":{"$error":"#N/A"}},null,0,null,null,null,""]
[{"$nulls":18},{"$f":"IF(ISERROR($W1591),\"\",OFFSET('Smelter Look-up'!$C$4,$W1591-4,0)&\"\")","v":""},"",{"$f":"IF(B1591=\"\",\"\",IF(ISERROR(MATCH($J1591,SorP!$B$1:$B$6230,0)),\"\",INDIRECT(\"'SorP'!$A$\"&MATCH($J1591,SorP!$B$1:$B$6230,0))))","v":""},null,{"$f":"IF(C1591=\"\",NA(),MATCH($B1591&$C1591,'Smelter Look-up'!$J:$J,0))","v":{"$error":"#N/A"}},null,0,null,null,null,""]
[{"$nulls":18},{"$f":"IF(ISERROR($W1592),\"\",OFFSET('Smelter Look-up'!$C$4,$W1592-4,0)&\"\")","v":""},"",{"$f":"IF(B1592=\"\",\"\",IF(ISERROR(MATCH($J1592,SorP!$B$1:$B$6230,0)),\"\",INDIRECT(\"'SorP'!$A$\"&MATCH($J1592,SorP!$B$1:$B$6230,0))))","v":""},null,{"$f":"IF(C1592=\"\",NA(),MATCH($B1592&$C1592,'Smelter Look-up'!$J:$J,0))","v":{"$error":"#N/A"}},null,0,null,null,null,""]
[{"$nulls":18},{"$f":"IF(ISERROR($W1593),\"\",OFFSET('Smelter Look-up'!$C$4,$W1593-4,0)&\"\")","v":""},"",{"$f":"IF(B1593=\"\",\"\",IF(ISERROR(MATCH($J1593,SorP!$B$1:$B$6230,0)),\"\",INDIRECT(\"'SorP'!$A$\"&MATCH($J1593,SorP!$B$1:$B$6230,0))))","v":""},null,{"$f":"IF(C1593=\"\",NA(),MATCH($B1593&$C1593,'Smelter Look-up'!$J:$J,0))","v":{"$error":"#N/A"}},null,0,null,null,null,""]
[{"$nulls":18},{"$f":"IF(ISERROR($W1594),\"\",OFFSET('Smelter Look-up'!$C$4,$W1594-4,0)&\"\")","v":""},"",{"$f":"IF(B1594=\"\",\"\",IF(ISERROR(MATCH($J1594,SorP!$B$1:$B$6230,0)),\"\",INDIRECT(\"'SorP'!$A$\"&MATCH($J1594,SorP!$B$1:$B$6230,0))))","v":""},null,{"$f":"IF(C1594=\"\",NA(),MATCH($B1594&$C1594,'Smelter Look-up'!$J:$J,0))","v":{"$error":"#N/A"}},null,0,null,null,null,""]
[{"$nulls":18},{"$f":"IF(ISERROR($W1595),\"\",OFFSET('Smelter Look-up'!$C$4,$W1595-4,0)&\"\")","v":""},"",{"$f":"IF(B1595=\"\",\"\",IF(ISERROR(MATCH($J1595,SorP!$B$1:$B$6230,0)),\"\",INDIRECT(\"'SorP'!$A$\"&MATCH($J1595,SorP!$B$1:$B$6230,0))))","v":""},null,{"$f":"IF(C1595=\"\",NA(),MATCH($B1595&$C1595,'Smelter Look-up'!$J:$J,0))","v":{"$error":"#N/A"}},null,0,null,null,null,""]
[{"$nulls":18},{"$f":"IF(ISERROR($W1596),\"\",OFFSET('Smelter Look-up'!$C$4,$W1596-4,0)&\"\")","v":""},"",{"$f":"IF(B1596=\"\",\"\",IF(ISERROR(MATCH($J1596,SorP!$B$1:$B$6230,0)),\"\",INDIRECT(\"'SorP'!$A$\"&MATCH($J1596,SorP!$B$1:$B$6230,0))))","v":""},null,{"$f":"IF(C1596=\"\",NA(),MATCH($B1596&$C1596,'Smelter Look-up'!$J:$J,0))","v":{"$error":"#N/A"}},null,0,null,null,null,""]
[{"$nulls":18},{"$f":"IF(ISERROR($W1597),\"\",OFFSET('Smelter Look-up'!$C$4,$W1597-4,0)&\"\")","v":""},"",{"$f":"IF(B1597=\"\",\"\",IF(ISERROR(MATCH($J1597,SorP!$B$1:$B$6230,0)),\"\",INDIRECT(\"'SorP'!$A$\"&MATCH($J1597,SorP!$B$1:$B$6230,0))))","v":""},null,{"$f":"IF(C1597=\"\",NA(),MATCH($B1597&$C1597,'Smelter Look-up'!$J:$J,0))","v":{"$error":"#N/A"}},null,0,null,null,null,""]
[{"$nulls":18},{"$f":"IF(ISERROR($W1598),\"\",OFFSET('Smelter Look-up'!$C$4,$W1598-4,0)&\"\")","v":""},"",{"$f":"IF(B1598=\"\",\"\",IF(ISERROR(MATCH($J1598,SorP!$B$1:$B$6230,0)),\"\",INDIRECT(\"'SorP'!$A$\"&MATCH($J1598,SorP!$B$1:$B$6230,0))))","v":""},null,{"$f":"IF(C1598=\"\",NA(),MATCH($B1598&$C1598,'Smelter Look-up'!$J:$J,0))","v":{"$error":"#N/A"}},null,0,null,null,null,""]
[{"$nulls":18},{"$f":"IF(ISERROR($W1599),\"\",OFFSET('Smelter Look-up'!$C$4,$W1599-4,0)&\"\")","v":""},"",{"$f":"IF(B1599=\"\",\"\",IF(ISERROR(MATCH($J1599,SorP!$B$1:$B$6230,0)),\"\",INDIRECT(\"'SorP'!$A$\"&MATCH($J1599,SorP!$B$1:$B$6230,0))))","v":""},null,{"$f":"IF(C1599=\"\",NA(),MATCH($B1599&$C1599,'Smelter Look-up'!$J:$J,0))","v":{"$error":"#N/A"}},null,0,null,null,null,""]
[{"$nulls":18},{"$f":"IF(ISERROR($W1600),\"\",OFFSET('Smelter Look-up'!$C$4,$W1600-4,0)&\"\")","v":""},"",{"$f":"IF(B1600=\"\",\"\",IF(ISERROR(MATCH($J1600,SorP!$B$1:$B$6230,0)),\"\",INDIRECT(\"'SorP'!$A$\"&MATCH($J1600,SorP!$B$1:$B$6230,0))))","v":""},null,{"$f":"IF(C1600=\"\",NA(),MATCH($B1600&$C1600,'Smelter Look-up'!$J:$J,0))","v":{"$error":"#N/A"}},null,0,null,null,null,""]
[{"$nulls":18},{"$f":"IF(ISERROR($W1601),\"\",OFFSET('Smelter Look-up'!$C$4,$W1601-4,0)&\"\")","v":""},"",{"$f":"IF(B1601=\"\",\"\",IF(ISERROR(MATCH($J1601,SorP!$B$1:$B$6230,0)),\"\",INDIRECT(\"'SorP'!$A$\"&MATCH($J1601,SorP!$B$1:$B$6230,0))))","v":""},null,{"$f":"IF(C1601=\"\",NA(),MATCH($B1601&$C1601,'Smelter Look-up'!$J:$J,0))","v":{"$error":"#N/A"}},null,0,null,null,null,""]
[{"$nulls":18},{"$f":"IF(ISERROR($W1602),\"\",OFFSET('Smelter Look-up'!$C$4,$W1602-4,0)&\"\")","v":""},"",{"$f":"IF(B1602=\"\",\"\",IF(ISERROR(MATCH($J1602,SorP!$B$1:$B$6230,0)),\"\",INDIRECT(\"'SorP'!$A$\"&MATCH($J1602,SorP!$B$1:$B$6230,0))))","v":""},null,{"$f":"IF(C1602=\"\",NA(),MATCH($B1602&$C1602,'Smelter Look-up'!$J:$J,0))","v":{"$error":"#N/A"}},null,0,null,null,null,""]
[{"$nulls":18},{"$f":"IF(ISERROR($W1603),\"\",OFFSET('Smelter Look-up'!$C$4,$W1603-4,0)&\"\")","v":""},"",{"$f":"IF(B1603=\"\",\"\",IF(ISERROR(MATCH($J1603,SorP!$B$1:$B$6230,0)),\"\",INDIRECT(\"'SorP'!$A$\"&MATCH($J1603,SorP!$B$1:$B$6230,0))))","v":""},null,{"$f":"IF(C1603=\"\",NA(),MATCH($B1603&$C1603,'Smelter Look-up'!$J:$J,0))","v":{"$error":"#N/A"}},null,0,null,null,null,""]
[{"$nulls":18},{"$f":"IF(ISERROR($W1604),\"\",OFFSET('Smelter Look-up'!$C$4,$W1604-4,0)&\"\")","v":""},"",{"$f":"IF(B1604=\"\",\"\",IF(ISERROR(MATCH($J1604,SorP!$B$1:$B$6230,0)),\"\",INDIRECT(\"'SorP'!$A$\"&MATCH($J1604,SorP!$B$1:$B$6230,0))))","v":""},null,{"$f":"IF(C1604=\"\",NA(),MATCH($B1604&$C1604,'Smelter Look-up'!$J:$J,0))","v":{"$error":"#N/A"}},null,0,null,null,null,""]
[{"$nulls":18},{"$f":"IF(ISERROR($W1605),\"\",OFFSET('Smelter Look-up'!$C$4,$W1605-4,0)&\"\")","v":""},{"$f":"IF(B1605=\"\",\"\",IF(ISERROR(MATCH($E1605,CL,0)),\"Unknown\",INDIRECT(\"'C'!$A$\"&MATCH($E1605,CL,0)+1)))","v":""},{"$f":"IF(B1605=\"\",\"\",IF(ISERROR(MATCH($J1605,SorP!$B$1:$B$6230,0)),\"\",INDIRECT(\"'SorP'!$A$\"&MATCH($J1605,SorP!$B$1:$B$6230,0))))","v":""},null,{"$f":"IF(C1605=\"\",NA(),MATCH($B1605&$C1605,'Smelter Look-up'!$J:$J,0))","v":{"$error":"#N/A"}},null,{"$f":"IF(AND(C1605=\"Smelter not listed\",OR(LEN(D1605)=0,LEN(E1605)=0)),1,0)","v":0},null,null,null,{"$f":"B1605&C1605","v":""}]
[{"$nulls":18},{"$f":"IF(ISERROR($W1606),\"\",OFFSET('Smelter Look-up'!$C$4,$W1606-4,0)&\"\")","v":""},"",{"$f":"IF(B1606=\"\",\"\",IF(ISERROR(MATCH($J1606,SorP!$B$1:$B$6230,0)),\"\",INDIRECT(\"'SorP'!$A$\"&MATCH($J1606,SorP!$B$1:$B$6230,0))))","v":""},null,{"$f":"IF(C1606=\"\",NA(),MATCH($B1606&$C1606,'Smelter Look-up'!$J:$J,0))","v":{"$error":"#N/A"}},null,0,null,null,null,""]
[{"$nulls":18},{"$f":"IF(ISERROR($W1607),\"\",OFFSET('Smelter Look-up'!$C$4,$W1607-4,0)&\"\")","v":""},"",{"$f":"IF(B1607=\"\",\"\",IF(ISERROR(MATCH($J1607,SorP!$B$1:$B$6230,0)),\"\",INDIRECT(\"'SorP'!$A$\"&MATCH($J1607,SorP!$B$1:$B$6230,0))))","v":""},null,{"$f":"IF(C1607=\"\",NA(),MATCH($B1607&$C1607,'Smelter Look-up'!$J:$J,0))","v":{"$error":"#N/A"}},null,0,null,null,null,""]
[{"$nulls":18},{"$f":"IF(ISERROR($W1608),\"\",OFFSET('Smelter Look-up'!$C$4,$W1608-4,0)&\"\")","v":""},"",{"$f":"IF(B1608=\"\",\"\",IF(ISERROR(MATCH($J1608,SorP!$B$1:$B$6230,0)),\"\",INDIRECT(\"'SorP'!$A$\"&MATCH($J1608,SorP!$B$1:$B$6230,0))))","v":""},null,{"$f":"IF(C1608=\"\",NA(),MATCH($B1608&$C1608,'Smelter Look-up'!$J:$J,0))","v":{"$error":"#N/A"}},null,0,null,null,null,""]
[{"$nulls":18},{"$f":"IF(ISERROR($W1609),\"\",OFFSET('Smelter Look-up'!$C$4,$W1609-4,0)&\"\")","v":""},"",{"$f":"IF(B1609=\"\",\"\",IF(ISERROR(MATCH($J1609,SorP!$B$1:$B$6230,0)),\"\",INDIRECT(\"'SorP'!$A$\"&MATCH($J1609,SorP!$B$1:$B$6230,0))))","v":""},null,{"$f":"IF(C1609=\"\",NA(),MATCH($B1609&$C1609,'Smelter Look-up'!$J:$J,0))","v":{"$error":"#N/A"}},null,0,null,null,null,""]
[{"$nulls":18},{"$f":"IF(ISERROR($W1610),\"\",OFFSET('Smelter Look-up'!$C$4,$W1610-4,0)&\"\")","v":""},"",{"$f":"IF(B1610=\"\",\"\",IF(ISERROR(MATCH($J1610,SorP!$B$1:$B$6230,0)),\"\",INDIRECT(\"'SorP'!$A$\"&MATCH($J1610,SorP!$B$1:$B$6230,0))))","v":""},null,{"$f":"IF(C1610=\"\",NA(),MATCH($B1610&$C1610,'Smelter Look-up'!$J:$J,0))","v":{"$error":"#N/A"}},null,0,null,null,null,""]
[{"$nulls":18},{"$f":"IF(ISERROR($W1611),\"\",OFFSET('Smelter Look-up'!$C$4,$W1611-4,0)&\"\")","v":""},"",{"$f":"IF(B1611=\"\",\"\",IF(ISERROR(MATCH($J1611,SorP!$B$1:$B$6230,0)),\"\",INDIRECT(\"'SorP'!$A$\"&MATCH($J1611,SorP!$B$1:$B$6230,0))))","v":""},null,{"$f":"IF(C1611=\"\",NA(),MATCH($B1611&$C1611,'Smelter Look-up'!$J:$J,0))","v":{"$error":"#N/A"}},null,0,null,null,null,""]
[{"$nulls":18},{"$f":"IF(ISERROR($W1612),\"\",OFFSET('Smelter Look-up'!$C$4,$W1612-4,0)&\"\")","v":""},"",{"$f":"IF(B1612=\"\",\"\",IF(ISERROR(MATCH($J1612,SorP!$B$1:$B$6230,0)),\"\",INDIRECT(\"'SorP'!$A$\"&MATCH($J1612,SorP!$B$1:$B$6230,0))))","v":""},null,{"$f":"IF(C1612=\"\",NA(),MATCH($B1612&$C1612,'Smelter Look-up'!$J:$J,0))","v":{"$error":"#N/A"}},null,0,null,null,null,""]
[{"$nulls":18},{"$f":"IF(ISERROR($W1613),\"\",OFFSET('Smelter Look-up'!$C$4,$W1613-4,0)&\"\")","v":""},"",{"$f":"IF(B1613=\"\",\"\",IF(ISERROR(MATCH($J1613,SorP!$B$1:$B$6230,0)),\"\",INDIRECT(\"'SorP'!$A$\"&MATCH($J1613,SorP!$B$1:$B$6230,0))))","v":""},null,{"$f":"IF(C1613=\"\",NA(),MATCH($B1613&$C1613,'Smelter Look-up'!$J:$J,0))","v":{"$error":"#N/A"}},null,0,null,null,null,""]
[{"$nulls":18},{"$f":"IF(ISERROR($W1614),\"\",OFFSET('Smelter Look-up'!$C$4,$W1614-4,0)&\"\")","v":""},"",{"$f":"IF(B1614=\"\",\"\",IF(ISERROR(MATCH($J1614,SorP!$B$1:$B$6230,0)),\"\",INDIRECT(\"'SorP'!$A$\"&MATCH($J1614,SorP!$B$1:$B$6230,0))))","v":""},null,{"$f":"IF(C1614=\"\",NA(),MATCH($B1614&$C1614,'Smelter Look-up'!$J:$J,0))","v":{"$error":"#N/A"}},null,0,null,null,null,""]
[{"$nulls":18},{"$f":"IF(ISERROR($W1615),\"\",OFFSET('Smelter Look-up'!$C$4,$W1615-4,0)&\"\")","v":""},"",{"$f":"IF(B1615=\"\",\"\",IF(ISERROR(MATCH($J1615,SorP!$B$1:$B$6230,0)),\"\",INDIRECT(\"'SorP'!$A$\"&MATCH($J1615,SorP!$B$1:$B$6230,0))))","v":""},null,{"$f":"IF(C1615=\"\",NA(),MATCH($B1615&$C1615,'Smelter Look-up'!$J:$J,0))","v":{"$error":"#N/A"}},null,0,null,null,null,""]
[{"$nulls":18},{"$f":"IF(ISERROR($W1616),\"\",OFFSET('Smelter Look-up'!$C$4,$W1616-4,0)&\"\")","v":""},"",{"$f":"IF(B1616=\"\",\"\",IF(ISERROR(MATCH($J1616,SorP!$B$1:$B$6230,0)),\"\",INDIRECT(\"'SorP'!$A$\"&MATCH($J1616,SorP!$B$1:$B$6230,0))))","v":""},null,{"$f":"IF(C1616=\"\",NA(),MATCH($B1616&$C1616,'Smelter Look-up'!$J:$J,0))","v":{"$error":"#N/A"}},null,0,null,null,null,""]
[{"$nulls":18},{"$f":"IF(ISERROR($W1617),\"\",OFFSET('Smelter Look-up'!$C$4,$W1617-4,0)&\"\")","v":""},"",{"$f":"IF(B1617=\"\",\"\",IF(ISERROR(MATCH($J1617,SorP!$B$1:$B$6230,0)),\"\",INDIRECT(\"'SorP'!$A$\"&MATCH($J1617,SorP!$B$1:$B$6230,0))))","v":""},null,{"$f":"IF(C1617=\"\",NA(),MATCH($B1617&$C1617,'Smelter Look-up'!$J:$J,0))","v":{"$error":"#N/A"}},null,0,null,null,null,""]
[{"$nulls":18},{"$f":"IF(ISERROR($W1618),\"\",OFFSET('Smelter Look-up'!$C$4,$W1618-4,0)&\"\")","v":""},"",{"$f":"IF(B1618=\"\",\"\",IF(ISERROR(MATCH($J1618,SorP!$B$1:$B$6230,0)),\"\",INDIRECT(\"'SorP'!$A$\"&MATCH($J1618,SorP!$B$1:$B$6230,0))))","v":""},null,{"$f":"IF(C1618=\"\",NA(),MATCH($B1618&$C1618,'Smelter Look-up'!$J:$J,0))","v":{"$error":"#N/A"}},null,0,null,null,null,""]
[{"$nulls":18},{"$f":"IF(ISERROR($W1619),\"\",OFFSET('Smelter Look-up'!$C$4,$W1619-4,0)&\"\")","v":""},"",{"$f":"IF(B1619=\"\",\"\",IF(ISERROR(MATCH($J1619,SorP!$B$1:$B$6230,0)),\"\",INDIRECT(\"'SorP'!$A$\"&MATCH($J1619,SorP!$B$1:$B$6230,0))))","v":""},null,{"$f":"IF(C1619=\"\",NA(),MATCH($B1619&$C1619,'Smelter Look-up'!$J:$J,0))","v":{"$error":"#N/A"}},null,0,null,null,null,""]
[{"$nulls":18},{"$f":"IF(ISERROR($W1620),\"\",OFFSET('Smelter Look-up'!$C$4,$W1620-4,0)&\"\")","v":""},"",{"$f":"IF(B1620=\"\",\"\",IF(ISERROR(MATCH($J1620,SorP!$B$1:$B$6230,0)),\"\",INDIRECT(\"'SorP'!$A$\"&MATCH($J1620,SorP!$B$1:$B$6230,0))))","v":""},null,{"$f":"IF(C1620=\"\",NA(),MATCH($B1620&$C1620,'Smelter Look-up'!$J:$J,0))","v":{"$error":"#N/A"}},null,0,null,null,null,""]
[{"$nulls":18},{"$f":"IF(ISERROR($W1621),\"\",OFFSET('Smelter Look-up'!$C$4,$W1621-4,0)&\"\")","v":""},"",{"$f":"IF(B1621=\"\",\"\",IF(ISERROR(MATCH($J1621,SorP!$B$1:$B$6230,0)),\"\",INDIRECT(\"'SorP'!$A$\"&MATCH($J1621,SorP!$B$1:$B$6230,0))))","v":""},null,{"$f":"IF(C1621=\"\",NA(),MATCH($B1621&$C1621,'Smelter Look-up'!$J:$J,0))","v":{"$error":"#N/A"}},null,0,null,null,null,""]
[{"$nulls":18},{"$f":"IF(ISERROR($W1622),\"\",OFFSET('Smelter Look-up'!$C$4,$W1622-4,0)&\"\")","v":""},"",{"$f":"IF(B1622=\"\",\"\",IF(ISERROR(MATCH($J1622,SorP!$B$1:$B$6230,0)),\"\",INDIRECT(\"'SorP'!$A$\"&MATCH($J1622,SorP!$B$1:$B$6230,0))))","v":""},null,{"$f":"IF(C1622=\"\",NA(),MATCH($B1622&$C1622,'Smelter Look-up'!$J:$J,0))","v":{"$error":"#N/A"}},null,0,null,null,null,""]
[{"$nulls":18},{"$f":"IF(ISERROR($W1623),\"\",OFFSET('Smelter Look-up'!$C$4,$W1623-4,0)&\"\")","v":""},"",{"$f":"IF(B1623=\"\",\"\",IF(ISERROR(MATCH($J1623,SorP!$B$1:$B$6230,0)),\"\",INDIRECT(\"'SorP'!$A$\"&MATCH($J1623,SorP!$B$1:$B$6230,0))))","v":""},null,{"$f":"IF(C1623=\"\",NA(),MATCH($B1623&$C1623,'Smelter Look-up'!$J:$J,0))","v":{"$error":"#N/A"}},null,0,null,null,null,""]
[{"$nulls":18},{"$f":"IF(ISERROR($W1624),\"\",OFFSET('Smelter Look-up'!$C$4,$W1624-4,0)&\"\")","v":""},"",{"$f":"IF(B1624=\"\",\"\",IF(ISERROR(MATCH($J1624,SorP!$B$1:$B$6230,0)),\"\",INDIRECT(\"'SorP'!$A$\"&MATCH($J1624,SorP!$B$1:$B$6230,0))))","v":""},null,{"$f":"IF(C1624=\"\",NA(),MATCH($B1624&$C1624,'Smelter Look-up'!$J:$J,0))","v":{"$error":"#N/A"}},null,0,null,null,null,""]
[{"$nulls":18},{"$f":"IF(ISERROR($W1625),\"\",OFFSET('Smelter Look-up'!$C$4,$W1625-4,0)&\"\")","v":""},"",{"$f":"IF(B1625=\"\",\"\",IF(ISERROR(MATCH($J1625,SorP!$B$1:$B$6230,0)),\"\",INDIRECT(\"'SorP'!$A$\"&MATCH($J1625,SorP!$B$1:$B$6230,0))))","v":""},null,{"$f":"IF(C1625=\"\",NA(),MATCH($B1625&$C1625,'Smelter Look-up'!$J:$J,0))","v":{"$error":"#N/A"}},null,0,null,null,null,""]
[{"$nulls":18},{"$f":"IF(ISERROR($W1626),\"\",OFFSET('Smelter Look-up'!$C$4,$W1626-4,0)&\"\")","v":""},"",{"$f":"IF(B1626=\"\",\"\",IF(ISERROR(MATCH($J1626,SorP!$B$1:$B$6230,0)),\"\",INDIRECT(\"'SorP'!$A$\"&MATCH($J1626,SorP!$B$1:$B$6230,0))))","v":""},null,{"$f":"IF(C1626=\"\",NA(),MATCH($B1626&$C1626,'Smelter Look-up'!$J:$J,0))","v":{"$error":"#N/A"}},null,0,null,null,null,""]
[{"$nulls":18},{"$f":"IF(ISERROR($W1627),\"\",OFFSET('Smelter Look-up'!$C$4,$W1627-4,0)&\"\")","v":""},"",{"$f":"IF(B1627=\"\",\"\",IF(ISERROR(MATCH($J1627,SorP!$B$1:$B$6230,0)),\"\",INDIRECT(\"'SorP'!$A$\"&MATCH($J1627,SorP!$B$1:$B$6230,0))))","v":""},null,{"$f":"IF(C1627=\"\",NA(),MATCH($B1627&$C1627,'Smelter Look-up'!$J:$J,0))","v":{"$error":"#N/A"}},null,0,null,null,null,""]
[{"$nulls":18},{"$f":"IF(ISERROR($W1628),\"\",OFFSET('Smelter Look-up'!$C$4,$W1628-4,0)&\"\")","v":""},"",{"$f":"IF(B1628=\"\",\"\",IF(ISERROR(MATCH($J1628,SorP!$B$1:$B$6230,0)),\"\",INDIRECT(\"'SorP'!$A$\"&MATCH($J1628,SorP!$B$1:$B$6230,0))))","v":""},null,{"$f":"IF(C1628=\"\",NA(),MATCH($B1628&$C1628,'Smelter Look-up'!$J:$J,0))","v":{"$error":"#N/A"}},null,0,null,null,null,""]
[{"$nulls":18},{"$f":"IF(ISERROR($W1629),\"\",OFFSET('Smelter Look-up'!$C$4,$W1629-4,0)&\"\")","v":""},"",{"$f":"IF(B1629=\"\",\"\",IF(ISERROR(MATCH($J1629,SorP!$B$1:$B$6230,0)),\"\",INDIRECT(\"'SorP'!$A$\"&MATCH($J1629,SorP!$B$1:$B$6230,0))))","v":""},null,{"$f":"IF(C1629=\"\",NA(),MATCH($B1629&$C1629,'Smelter Look-up'!$J:$J,0))","v":{"$error":"#N/A"}},null,0,null,null,null,""]
[{"$nulls":18},{"$f":"IF(ISERROR($W1630),\"\",OFFSET('Smelter Look-up'!$C$4,$W1630-4,0)&\"\")","v":""},"",{"$f":"IF(B1630=\"\",\"\",IF(ISERROR(MATCH($J1630,SorP!$B$1:$B$6230,0)),\"\",INDIRECT(\"'SorP'!$A$\"&MATCH($J1630,SorP!$B$1:$B$6230,0))))","v":""},null,{"$f":"IF(C1630=\"\",NA(),MATCH($B1630&$C1630,'Smelter Look-up'!$J:$J,0))","v":{"$error":"#N/A"}},null,0,null,null,null,""]
[{"$nulls":18},{"$f":"IF(ISERROR($W1631),\"\",OFFSET('Smelter Look-up'!$C$4,$W1631-4,0)&\"\")","v":""},"",{"$f":"IF(B1631=\"\",\"\",IF(ISERROR(MATCH($J1631,SorP!$B$1:$B$6230,0)),\"\",INDIRECT(\"'SorP'!$A$\"&MATCH($J1631,SorP!$B$1:$B$6230,0))))","v":""},null,{"$f":"IF(C1631=\"\",NA(),MATCH($B1631&$C1631,'Smelter Look-up'!$J:$J,0))","v":{"$error":"#N/A"}},null,0,null,null,null,""]
[{"$nulls":18},{"$f":"IF(ISERROR($W1632),\"\",OFFSET('Smelter Look-up'!$C$4,$W1632-4,0)&\"\")","v":""},"",{"$f":"IF(B1632=\"\",\"\",IF(ISERROR(MATCH($J1632,SorP!$B$1:$B$6230,0)),\"\",INDIRECT(\"'SorP'!$A$\"&MATCH($J1632,SorP!$B$1:$B$6230,0))))","v":""},null,{"$f":"IF(C1632=\"\",NA(),MATCH($B1632&$C1632,'Smelter Look-up'!$J:$J,0))","v":{"$error":"#N/A"}},null,0,null,null,null,""]
[{"$nulls":18},{"$f":"IF(ISERROR($W1633),\"\",OFFSET('Smelter Look-up'!$C$4,$W1633-4,0)&\"\")","v":""},"",{"$f":"IF(B1633=\"\",\"\",IF(ISERROR(MATCH($J1633,SorP!$B$1:$B$6230,0)),\"\",INDIRECT(\"'SorP'!$A$\"&MATCH($J1633,SorP!$B$1:$B$6230,0))))","v":""},null,{"$f":"IF(C1633=\"\",NA(),MATCH($B1633&$C1633,'Smelter Look-up'!$J:$J,0))","v":{"$error":"#N/A"}},null,0,null,null,null,""]
[{"$nulls":18},{"$f":"IF(ISERROR($W1634),\"\",OFFSET('Smelter Look-up'!$C$4,$W1634-4,0)&\"\")","v":""},"",{"$f":"IF(B1634=\"\",\"\",IF(ISERROR(MATCH($J1634,SorP!$B$1:$B$6230,0)),\"\",INDIRECT(\"'SorP'!$A$\"&MATCH($J1634,SorP!$B$1:$B$6230,0))))","v":""},null,{"$f":"IF(C1634=\"\",NA(),MATCH($B1634&$C1634,'Smelter Look-up'!$J:$J,0))","v":{"$error":"#N/A"}},null,0,null,null,null,""]
[{"$nulls":18},{"$f":"IF(ISERROR($W1635),\"\",OFFSET('Smelter Look-up'!$C$4,$W1635-4,0)&\"\")","v":""},"",{"$f":"IF(B1635=\"\",\"\",IF(ISERROR(MATCH($J1635,SorP!$B$1:$B$6230,0)),\"\",INDIRECT(\"'SorP'!$A$\"&MATCH($J1635,SorP!$B$1:$B$6230,0))))","v":""},null,{"$f":"IF(C1635=\"\",NA(),MATCH($B1635&$C1635,'Smelter Look-up'!$J:$J,0))","v":{"$error":"#N/A"}},null,0,null,null,null,""]
[{"$nulls":18},{"$f":"IF(ISERROR($W1636),\"\",OFFSET('Smelter Look-up'!$C$4,$W1636-4,0)&\"\")","v":""},"",{"$f":"IF(B1636=\"\",\"\",IF(ISERROR(MATCH($J1636,SorP!$B$1:$B$6230,0)),\"\",INDIRECT(\"'SorP'!$A$\"&MATCH($J1636,SorP!$B$1:$B$6230,0))))","v":""},null,{"$f":"IF(C1636=\"\",NA(),MATCH($B1636&$C1636,'Smelter Look-up'!$J:$J,0))","v":{"$error":"#N/A"}},null,0,null,null,null,""]
[{"$nulls":18},{"$f":"IF(ISERROR($W1637),\"\",OFFSET('Smelter Look-up'!$C$4,$W1637-4,0)&\"\")","v":""},"",{"$f":"IF(B1637=\"\",\"\",IF(ISERROR(MATCH($J1637,SorP!$B$1:$B$6230,0)),\"\",INDIRECT(\"'SorP'!$A$\"&MATCH($J1637,SorP!$B$1:$B$6230,0))))","v":""},null,{"$f":"IF(C1637=\"\",NA(),MATCH($B1637&$C1637,'Smelter Look-up'!$J:$J,0))","v":{"$error":"#N/A"}},null,0,null,null,null,""]
[{"$nulls":18},{"$f":"IF(ISERROR($W1638),\"\",OFFSET('Smelter Look-up'!$C$4,$W1638-4,0)&\"\")","v":""},"",{"$f":"IF(B1638=\"\",\"\",IF(ISERROR(MATCH($J1638,SorP!$B$1:$B$6230,0)),\"\",INDIRECT(\"'SorP'!$A$\"&MATCH($J1638,SorP!$B$1:$B$6230,0))))","v":""},null,{"$f":"IF(C1638=\"\",NA(),MATCH($B1638&$C1638,'Smelter Look-up'!$J:$J,0))","v":{"$error":"#N/A"}},null,0,null,null,null,""]
[{"$nulls":18},{"$f":"IF(ISERROR($W1639),\"\",OFFSET('Smelter Look-up'!$C$4,$W1639-4,0)&\"\")","v":""},"",{"$f":"IF(B1639=\"\",\"\",IF(ISERROR(MATCH($J1639,SorP!$B$1:$B$6230,0)),\"\",INDIRECT(\"'SorP'!$A$\"&MATCH($J1639,SorP!$B$1:$B$6230,0))))","v":""},null,{"$f":"IF(C1639=\"\",NA(),MATCH($B1639&$C1639,'Smelter Look-up'!$J:$J,0))","v":{"$error":"#N/A"}},null,0,null,null,null,""]
[{"$nulls":18},{"$f":"IF(ISERROR($W1640),\"\",OFFSET('Smelter Look-up'!$C$4,$W1640-4,0)&\"\")","v":""},"",{"$f":"IF(B1640=\"\",\"\",IF(ISERROR(MATCH($J1640,SorP!$B$1:$B$6230,0)),\"\",INDIRECT(\"'SorP'!$A$\"&MATCH($J1640,SorP!$B$1:$B$6230,0))))","v":""},null,{"$f":"IF(C1640=\"\",NA(),MATCH($B1640&$C1640,'Smelter Look-up'!$J:$J,0))","v":{"$error":"#N/A"}},null,0,null,null,null,""]
[{"$nulls":18},{"$f":"IF(ISERROR($W1641),\"\",OFFSET('Smelter Look-up'!$C$4,$W1641-4,0)&\"\")","v":""},"",{"$f":"IF(B1641=\"\",\"\",IF(ISERROR(MATCH($J1641,SorP!$B$1:$B$6230,0)),\"\",INDIRECT(\"'SorP'!$A$\"&MATCH($J1641,SorP!$B$1:$B$6230,0))))","v":""},null,{"$f":"IF(C1641=\"\",NA(),MATCH($B1641&$C1641,'Smelter Look-up'!$J:$J,0))","v":{"$error":"#N/A"}},null,0,null,null,null,""]
[{"$nulls":18},{"$f":"IF(ISERROR($W1642),\"\",OFFSET('Smelter Look-up'!$C$4,$W1642-4,0)&\"\")","v":""},"",{"$f":"IF(B1642=\"\",\"\",IF(ISERROR(MATCH($J1642,SorP!$B$1:$B$6230,0)),\"\",INDIRECT(\"'SorP'!$A$\"&MATCH($J1642,SorP!$B$1:$B$6230,0))))","v":""},null,{"$f":"IF(C1642=\"\",NA(),MATCH($B1642&$C1642,'Smelter Look-up'!$J:$J,0))","v":{"$error":"#N/A"}},null,0,null,null,null,""]
[{"$nulls":18},{"$f":"IF(ISERROR($W1643),\"\",OFFSET('Smelter Look-up'!$C$4,$W1643-4,0)&\"\")","v":""},"",{"$f":"IF(B1643=\"\",\"\",IF(ISERROR(MATCH($J1643,SorP!$B$1:$B$6230,0)),\"\",INDIRECT(\"'SorP'!$A$\"&MATCH($J1643,SorP!$B$1:$B$6230,0))))","v":""},null,{"$f":"IF(C1643=\"\",NA(),MATCH($B1643&$C1643,'Smelter Look-up'!$J:$J,0))","v":{"$error":"#N/A"}},null,0,null,null,null,""]
[{"$nulls":18},{"$f":"IF(ISERROR($W1644),\"\",OFFSET('Smelter Look-up'!$C$4,$W1644-4,0)&\"\")","v":""},"",{"$f":"IF(B1644=\"\",\"\",IF(ISERROR(MATCH($J1644,SorP!$B$1:$B$6230,0)),\"\",INDIRECT(\"'SorP'!$A$\"&MATCH($J1644,SorP!$B$1:$B$6230,0))))","v":""},null,{"$f":"IF(C1644=\"\",NA(),MATCH($B1644&$C1644,'Smelter Look-up'!$J:$J,0))","v":{"$error":"#N/A"}},null,0,null,null,null,""]
[{"$nulls":18},{"$f":"IF(ISERROR($W1645),\"\",OFFSET('Smelter Look-up'!$C$4,$W1645-4,0)&\"\")","v":""},"",{"$f":"IF(B1645=\"\",\"\",IF(ISERROR(MATCH($J1645,SorP!$B$1:$B$6230,0)),\"\",INDIRECT(\"'SorP'!$A$\"&MATCH($J1645,SorP!$B$1:$B$6230,0))))","v":""},null,{"$f":"IF(C1645=\"\",NA(),MATCH($B1645&$C1645,'Smelter Look-up'!$J:$J,0))","v":{"$error":"#N/A"}},null,0,null,null,null,""]
[{"$nulls":18},{"$f":"IF(ISERROR($W1646),\"\",OFFSET('Smelter Look-up'!$C$4,$W1646-4,0)&\"\")","v":""},"",{"$f":"IF(B1646=\"\",\"\",IF(ISERROR(MATCH($J1646,SorP!$B$1:$B$6230,0)),\"\",INDIRECT(\"'SorP'!$A$\"&MATCH($J1646,SorP!$B$1:$B$6230,0))))","v":""},null,{"$f":"IF(C1646=\"\",NA(),MATCH($B1646&$C1646,'Smelter Look-up'!$J:$J,0))","v":{"$error":"#N/A"}},null,0,null,null,null,""]
[{"$nulls":18},{"$f":"IF(ISERROR($W1647),\"\",OFFSET('Smelter Look-up'!$C$4,$W1647-4,0)&\"\")","v":""},"",{"$f":"IF(B1647=\"\",\"\",IF(ISERROR(MATCH($J1647,SorP!$B$1:$B$6230,0)),\"\",INDIRECT(\"'SorP'!$A$\"&MATCH($J1647,SorP!$B$1:$B$6230,0))))","v":""},null,{"$f":"IF(C1647=\"\",NA(),MATCH($B1647&$C1647,'Smelter Look-up'!$J:$J,0))","v":{"$error":"#N/A"}},null,0,null,null,null,""]
[{"$nulls":18},{"$f":"IF(ISERROR($W1648),\"\",OFFSET('Smelter Look-up'!$C$4,$W1648-4,0)&\"\")","v":""},"",{"$f":"IF(B1648=\"\",\"\",IF(ISERROR(MATCH($J1648,SorP!$B$1:$B$6230,0)),\"\",INDIRECT(\"'SorP'!$A$\"&MATCH($J1648,SorP!$B$1:$B$6230,0))))","v":""},null,{"$f":"IF(C1648=\"\",NA(),MATCH($B1648&$C1648,'Smelter Look-up'!$J:$J,0))","v":{"$error":"#N/A"}},null,0,null,null,null,""]
[{"$nulls":18},{"$f":"IF(ISERROR($W1649),\"\",OFFSET('Smelter Look-up'!$C$4,$W1649-4,0)&\"\")","v":""},"",{"$f":"IF(B1649=\"\",\"\",IF(ISERROR(MATCH($J1649,SorP!$B$1:$B$6230,0)),\"\",INDIRECT(\"'SorP'!$A$\"&MATCH($J1649,SorP!$B$1:$B$6230,0))))","v":""},null,{"$f":"IF(C1649=\"\",NA(),MATCH($B1649&$C1649,'Smelter Look-up'!$J:$J,0))","v":{"$error":"#N/A"}},null,0,null,null,null,""]
[{"$nulls":18},{"$f":"IF(ISERROR($W1650),\"\",OFFSET('Smelter Look-up'!$C$4,$W1650-4,0)&\"\")","v":""},"",{"$f":"IF(B1650=\"\",\"\",IF(ISERROR(MATCH($J1650,SorP!$B$1:$B$6230,0)),\"\",INDIRECT(\"'SorP'!$A$\"&MATCH($J1650,SorP!$B$1:$B$6230,0))))","v":""},null,{"$f":"IF(C1650=\"\",NA(),MATCH($B1650&$C1650,'Smelter Look-up'!$J:$J,0))","v":{"$error":"#N/A"}},null,0,null,null,null,""]
[{"$nulls":18},{"$f":"IF(ISERROR($W1651),\"\",OFFSET('Smelter Look-up'!$C$4,$W1651-4,0)&\"\")","v":""},"",{"$f":"IF(B1651=\"\",\"\",IF(ISERROR(MATCH($J1651,SorP!$B$1:$B$6230,0)),\"\",INDIRECT(\"'SorP'!$A$\"&MATCH($J1651,SorP!$B$1:$B$6230,0))))","v":""},null,{"$f":"IF(C1651=\"\",NA(),MATCH($B1651&$C1651,'Smelter Look-up'!$J:$J,0))","v":{"$error":"#N/A"}},null,0,null,null,null,""]
[{"$nulls":18},{"$f":"IF(ISERROR($W1652),\"\",OFFSET('Smelter Look-up'!$C$4,$W1652-4,0)&\"\")","v":""},"",{"$f":"IF(B1652=\"\",\"\",IF(ISERROR(MATCH($J1652,SorP!$B$1:$B$6230,0)),\"\",INDIRECT(\"'SorP'!$A$\"&MATCH($J1652,SorP!$B$1:$B$6230,0))))","v":""},null,{"$f":"IF(C1652=\"\",NA(),MATCH($B1652&$C1652,'Smelter Look-up'!$J:$J,0))","v":{"$error":"#N/A"}},null,0,null,null,null,""]
[{"$nulls":18},{"$f":"IF(ISERROR($W1653),\"\",OFFSET('Smelter Look-up'!$C$4,$W1653-4,0)&\"\")","v":""},"",{"$f":"IF(B1653=\"\",\"\",IF(ISERROR(MATCH($J1653,SorP!$B$1:$B$6230,0)),\"\",INDIRECT(\"'SorP'!$A$\"&MATCH($J1653,SorP!$B$1:$B$6230,0))))","v":""},null,{"$f":"IF(C1653=\"\",NA(),MATCH($B1653&$C1653,'Smelter Look-up'!$J:$J,0))","v":{"$error":"#N/A"}},null,0,null,null,null,""]
[{"$nulls":18},{"$f":"IF(ISERROR($W1654),\"\",OFFSET('Smelter Look-up'!$C$4,$W1654-4,0)&\"\")","v":""},"",{"$f":"IF(B1654=\"\",\"\",IF(ISERROR(MATCH($J1654,SorP!$B$1:$B$6230,0)),\"\",INDIRECT(\"'SorP'!$A$\"&MATCH($J1654,SorP!$B$1:$B$6230,0))))","v":""},null,{"$f":"IF(C1654=\"\",NA(),MATCH($B1654&$C1654,'Smelter Look-up'!$J:$J,0))","v":{"$error":"#N/A"}},null,0,null,null,null,""]
[{"$nulls":18},{"$f":"IF(ISERROR($W1655),\"\",OFFSET('Smelter Look-up'!$C$4,$W1655-4,0)&\"\")","v":""},"",{"$f":"IF(B1655=\"\",\"\",IF(ISERROR(MATCH($J1655,SorP!$B$1:$B$6230,0)),\"\",INDIRECT(\"'SorP'!$A$\"&MATCH($J1655,SorP!$B$1:$B$6230,0))))","v":""},null,{"$f":"IF(C1655=\"\",NA(),MATCH($B1655&$C1655,'Smelter Look-up'!$J:$J,0))","v":{"$error":"#N/A"}},null,0,null,null,null,""]
[{"$nulls":18},{"$f":"IF(ISERROR($W1656),\"\",OFFSET('Smelter Look-up'!$C$4,$W1656-4,0)&\"\")","v":""},"",{"$f":"IF(B1656=\"\",\"\",IF(ISERROR(MATCH($J1656,SorP!$B$1:$B$6230,0)),\"\",INDIRECT(\"'SorP'!$A$\"&MATCH($J1656,SorP!$B$1:$B$6230,0))))","v":""},null,{"$f":"IF(C1656=\"\",NA(),MATCH($B1656&$C1656,'Smelter Look-up'!$J:$J,0))","v":{"$error":"#N/A"}},null,0,null,null,null,""]
[{"$nulls":18},{"$f":"IF(ISERROR($W1657),\"\",OFFSET('Smelter Look-up'!$C$4,$W1657-4,0)&\"\")","v":""},"",{"$f":"IF(B1657=\"\",\"\",IF(ISERROR(MATCH($J1657,SorP!$B$1:$B$6230,0)),\"\",INDIRECT(\"'SorP'!$A$\"&MATCH($J1657,SorP!$B$1:$B$6230,0))))","v":""},null,{"$f":"IF(C1657=\"\",NA(),MATCH($B1657&$C1657,'Smelter Look-up'!$J:$J,0))","v":{"$error":"#N/A"}},null,0,null,null,null,""]
[{"$nulls":18},{"$f":"IF(ISERROR($W1658),\"\",OFFSET('Smelter Look-up'!$C$4,$W1658-4,0)&\"\")","v":""},"",{"$f":"IF(B1658=\"\",\"\",IF(ISERROR(MATCH($J1658,SorP!$B$1:$B$6230,0)),\"\",INDIRECT(\"'SorP'!$A$\"&MATCH($J1658,SorP!$B$1:$B$6230,0))))","v":""},null,{"$f":"IF(C1658=\"\",NA(),MATCH($B1658&$C1658,'Smelter Look-up'!$J:$J,0))","v":{"$error":"#N/A"}},null,0,null,null,null,""]
[{"$nulls":18},{"$f":"IF(ISERROR($W1659),\"\",OFFSET('Smelter Look-up'!$C$4,$W1659-4,0)&\"\")","v":""},"",{"$f":"IF(B1659=\"\",\"\",IF(ISERROR(MATCH($J1659,SorP!$B$1:$B$6230,0)),\"\",INDIRECT(\"'SorP'!$A$\"&MATCH($J1659,SorP!$B$1:$B$6230,0))))","v":""},null,{"$f":"IF(C1659=\"\",NA(),MATCH($B1659&$C1659,'Smelter Look-up'!$J:$J,0))","v":{"$error":"#N/A"}},null,0,null,null,null,""]
[{"$nulls":18},{"$f":"IF(ISERROR($W1660),\"\",OFFSET('Smelter Look-up'!$C$4,$W1660-4,0)&\"\")","v":""},"",{"$f":"IF(B1660=\"\",\"\",IF(ISERROR(MATCH($J1660,SorP!$B$1:$B$6230,0)),\"\",INDIRECT(\"'SorP'!$A$\"&MATCH($J1660,SorP!$B$1:$B$6230,0))))","v":""},null,{"$f":"IF(C1660=\"\",NA(),MATCH($B1660&$C1660,'Smelter Look-up'!$J:$J,0))","v":{"$error":"#N/A"}},null,0,null,null,null,""]
[{"$nulls":18},{"$f":"IF(ISERROR($W1661),\"\",OFFSET('Smelter Look-up'!$C$4,$W1661-4,0)&\"\")","v":""},"",{"$f":"IF(B1661=\"\",\"\",IF(ISERROR(MATCH($J1661,SorP!$B$1:$B$6230,0)),\"\",INDIRECT(\"'SorP'!$A$\"&MATCH($J1661,SorP!$B$1:$B$6230,0))))","v":""},null,{"$f":"IF(C1661=\"\",NA(),MATCH($B1661&$C1661,'Smelter Look-up'!$J:$J,0))","v":{"$error":"#N/A"}},null,0,null,null,null,""]
[{"$nulls":18},{"$f":"IF(ISERROR($W1662),\"\",OFFSET('Smelter Look-up'!$C$4,$W1662-4,0)&\"\")","v":""},"",{"$f":"IF(B1662=\"\",\"\",IF(ISERROR(MATCH($J1662,SorP!$B$1:$B$6230,0)),\"\",INDIRECT(\"'SorP'!$A$\"&MATCH($J1662,SorP!$B$1:$B$6230,0))))","v":""},null,{"$f":"IF(C1662=\"\",NA(),MATCH($B1662&$C1662,'Smelter Look-up'!$J:$J,0))","v":{"$error":"#N/A"}},null,0,null,null,null,""]
[{"$nulls":18},{"$f":"IF(ISERROR($W1663),\"\",OFFSET('Smelter Look-up'!$C$4,$W1663-4,0)&\"\")","v":""},"",{"$f":"IF(B1663=\"\",\"\",IF(ISERROR(MATCH($J1663,SorP!$B$1:$B$6230,0)),\"\",INDIRECT(\"'SorP'!$A$\"&MATCH($J1663,SorP!$B$1:$B$6230,0))))","v":""},null,{"$f":"IF(C1663=\"\",NA(),MATCH($B1663&$C1663,'Smelter Look-up'!$J:$J,0))","v":{"$error":"#N/A"}},null,0,null,null,null,""]
[{"$nulls":18},{"$f":"IF(ISERROR($W1664),\"\",OFFSET('Smelter Look-up'!$C$4,$W1664-4,0)&\"\")","v":""},"",{"$f":"IF(B1664=\"\",\"\",IF(ISERROR(MATCH($J1664,SorP!$B$1:$B$6230,0)),\"\",INDIRECT(\"'SorP'!$A$\"&MATCH($J1664,SorP!$B$1:$B$6230,0))))","v":""},null,{"$f":"IF(C1664=\"\",NA(),MATCH($B1664&$C1664,'Smelter Look-up'!$J:$J,0))","v":{"$error":"#N/A"}},null,0,null,null,null,""]
[{"$nulls":18},{"$f":"IF(ISERROR($W1665),\"\",OFFSET('Smelter Look-up'!$C$4,$W1665-4,0)&\"\")","v":""},"",{"$f":"IF(B1665=\"\",\"\",IF(ISERROR(MATCH($J1665,SorP!$B$1:$B$6230,0)),\"\",INDIRECT(\"'SorP'!$A$\"&MATCH($J1665,SorP!$B$1:$B$6230,0))))","v":""},null,{"$f":"IF(C1665=\"\",NA(),MATCH($B1665&$C1665,'Smelter Look-up'!$J:$J,0))","v":{"$error":"#N/A"}},null,0,null,null,null,""]
[{"$nulls":18},{"$f":"IF(ISERROR($W1666),\"\",OFFSET('Smelter Look-up'!$C$4,$W1666-4,0)&\"\")","v":""},"",{"$f":"IF(B1666=\"\",\"\",IF(ISERROR(MATCH($J1666,SorP!$B$1:$B$6230,0)),\"\",INDIRECT(\"'SorP'!$A$\"&MATCH($J1666,SorP!$B$1:$B$6230,0))))","v":""},null,{"$f":"IF(C1666=\"\",NA(),MATCH($B1666&$C1666,'Smelter Look-up'!$J:$J,0))","v":{"$error":"#N/A"}},null,0,null,null,null,""]
[{"$nulls":18},{"$f":"IF(ISERROR($W1667),\"\",OFFSET('Smelter Look-up'!$C$4,$W1667-4,0)&\"\")","v":""},"",{"$f":"IF(B1667=\"\",\"\",IF(ISERROR(MATCH($J1667,SorP!$B$1:$B$6230,0)),\"\",INDIRECT(\"'SorP'!$A$\"&MATCH($J1667,SorP!$B$1:$B$6230,0))))","v":""},null,{"$f":"IF(C1667=\"\",NA(),MATCH($B1667&$C1667,'Smelter Look-up'!$J:$J,0))","v":{"$error":"#N/A"}},null,0,null,null,null,""]
[{"$nulls":18},{"$f":"IF(ISERROR($W1668),\"\",OFFSET('Smelter Look-up'!$C$4,$W1668-4,0)&\"\")","v":""},"",{"$f":"IF(B1668=\"\",\"\",IF(ISERROR(MATCH($J1668,SorP!$B$1:$B$6230,0)),\"\",INDIRECT(\"'SorP'!$A$\"&MATCH($J1668,SorP!$B$1:$B$6230,0))))","v":""},null,{"$f":"IF(C1668=\"\",NA(),MATCH($B1668&$C1668,'Smelter Look-up'!$J:$J,0))","v":{"$error":"#N/A"}},null,0,null,null,null,""]
[{"$nulls":18},{"$f":"IF(ISERROR($W1669),\"\",OFFSET('Smelter Look-up'!$C$4,$W1669-4,0)&\"\")","v":""},{"$f":"IF(B1669=\"\",\"\",IF(ISERROR(MATCH($E1669,CL,0)),\"Unknown\",INDIRECT(\"'C'!$A$\"&MATCH($E1669,CL,0)+1)))","v":""},{"$f":"IF(B1669=\"\",\"\",IF(ISERROR(MATCH($J1669,SorP!$B$1:$B$6230,0)),\"\",INDIRECT(\"'SorP'!$A$\"&MATCH($J1669,SorP!$B$1:$B$6230,0))))","v":""},null,{"$f":"IF(C1669=\"\",NA(),MATCH($B1669&$C1669,'Smelter Look-up'!$J:$J,0))","v":{"$error":"#N/A"}},null,{"$f":"IF(AND(C1669=\"Smelter not listed\",OR(LEN(D1669)=0,LEN(E1669)=0)),1,0)","v":0},null,null,null,{"$f":"B1669&C1669","v":""}]
[{"$nulls":18},{"$f":"IF(ISERROR($W1670),\"\",OFFSET('Smelter Look-up'!$C$4,$W1670-4,0)&\"\")","v":""},"",{"$f":"IF(B1670=\"\",\"\",IF(ISERROR(MATCH($J1670,SorP!$B$1:$B$6230,0)),\"\",INDIRECT(\"'SorP'!$A$\"&MATCH($J1670,SorP!$B$1:$B$6230,0))))","v":""},null,{"$f":"IF(C1670=\"\",NA(),MATCH($B1670&$C1670,'Smelter Look-up'!$J:$J,0))","v":{"$error":"#N/A"}},null,0,null,null,null,""]
[{"$nulls":18},{"$f":"IF(ISERROR($W1671),\"\",OFFSET('Smelter Look-up'!$C$4,$W1671-4,0)&\"\")","v":""},"",{"$f":"IF(B1671=\"\",\"\",IF(ISERROR(MATCH($J1671,SorP!$B$1:$B$6230,0)),\"\",INDIRECT(\"'SorP'!$A$\"&MATCH($J1671,SorP!$B$1:$B$6230,0))))","v":""},null,{"$f":"IF(C1671=\"\",NA(),MATCH($B1671&$C1671,'Smelter Look-up'!$J:$J,0))","v":{"$error":"#N/A"}},null,0,null,null,null,""]
[{"$nulls":18},{"$f":"IF(ISERROR($W1672),\"\",OFFSET('Smelter Look-up'!$C$4,$W1672-4,0)&\"\")","v":""},"",{"$f":"IF(B1672=\"\",\"\",IF(ISERROR(MATCH($J1672,SorP!$B$1:$B$6230,0)),\"\",INDIRECT(\"'SorP'!$A$\"&MATCH($J1672,SorP!$B$1:$B$6230,0))))","v":""},null,{"$f":"IF(C1672=\"\",NA(),MATCH($B1672&$C1672,'Smelter Look-up'!$J:$J,0))","v":{"$error":"#N/A"}},null,0,null,null,null,""]
[{"$nulls":18},{"$f":"IF(ISERROR($W1673),\"\",OFFSET('Smelter Look-up'!$C$4,$W1673-4,0)&\"\")","v":""},"",{"$f":"IF(B1673=\"\",\"\",IF(ISERROR(MATCH($J1673,SorP!$B$1:$B$6230,0)),\"\",INDIRECT(\"'SorP'!$A$\"&MATCH($J1673,SorP!$B$1:$B$6230,0))))","v":""},null,{"$f":"IF(C1673=\"\",NA(),MATCH($B1673&$C1673,'Smelter Look-up'!$J:$J,0))","v":{"$error":"#N/A"}},null,0,null,null,null,""]
[{"$nulls":18},{"$f":"IF(ISERROR($W1674),\"\",OFFSET('Smelter Look-up'!$C$4,$W1674-4,0)&\"\")","v":""},"",{"$f":"IF(B1674=\"\",\"\",IF(ISERROR(MATCH($J1674,SorP!$B$1:$B$6230,0)),\"\",INDIRECT(\"'SorP'!$A$\"&MATCH($J1674,SorP!$B$1:$B$6230,0))))","v":""},null,{"$f":"IF(C1674=\"\",NA(),MATCH($B1674&$C1674,'Smelter Look-up'!$J:$J,0))","v":{"$error":"#N/A"}},null,0,null,null,null,""]
[{"$nulls":18},{"$f":"IF(ISERROR($W1675),\"\",OFFSET('Smelter Look-up'!$C$4,$W1675-4,0)&\"\")","v":""},"",{"$f":"IF(B1675=\"\",\"\",IF(ISERROR(MATCH($J1675,SorP!$B$1:$B$6230,0)),\"\",INDIRECT(\"'SorP'!$A$\"&MATCH($J1675,SorP!$B$1:$B$6230,0))))","v":""},null,{"$f":"IF(C1675=\"\",NA(),MATCH($B1675&$C1675,'Smelter Look-up'!$J:$J,0))","v":{"$error":"#N/A"}},null,0,null,null,null,""]
[{"$nulls":18},{"$f":"IF(ISERROR($W1676),\"\",OFFSET('Smelter Look-up'!$C$4,$W1676-4,0)&\"\")","v":""},"",{"$f":"IF(B1676=\"\",\"\",IF(ISERROR(MATCH($J1676,SorP!$B$1:$B$6230,0)),\"\",INDIRECT(\"'SorP'!$A$\"&MATCH($J1676,SorP!$B$1:$B$6230,0))))","v":""},null,{"$f":"IF(C1676=\"\",NA(),MATCH($B1676&$C1676,'Smelter Look-up'!$J:$J,0))","v":{"$error":"#N/A"}},null,0,null,null,null,""]
[{"$nulls":18},{"$f":"IF(ISERROR($W1677),\"\",OFFSET('Smelter Look-up'!$C$4,$W1677-4,0)&\"\")","v":""},"",{"$f":"IF(B1677=\"\",\"\",IF(ISERROR(MATCH($J1677,SorP!$B$1:$B$6230,0)),\"\",INDIRECT(\"'SorP'!$A$\"&MATCH($J1677,SorP!$B$1:$B$6230,0))))","v":""},null,{"$f":"IF(C1677=\"\",NA(),MATCH($B1677&$C1677,'Smelter Look-up'!$J:$J,0))","v":{"$error":"#N/A"}},null,0,null,null,null,""]
[{"$nulls":18},{"$f":"IF(ISERROR($W1678),\"\",OFFSET('Smelter Look-up'!$C$4,$W1678-4,0)&\"\")","v":""},"",{"$f":"IF(B1678=\"\",\"\",IF(ISERROR(MATCH($J1678,SorP!$B$1:$B$6230,0)),\"\",INDIRECT(\"'SorP'!$A$\"&MATCH($J1678,SorP!$B$1:$B$6230,0))))","v":""},null,{"$f":"IF(C1678=\"\",NA(),MATCH($B1678&$C1678,'Smelter Look-up'!$J:$J,0))","v":{"$error":"#N/A"}},null,0,null,null,null,""]
[{"$nulls":18},{"$f":"IF(ISERROR($W1679),\"\",OFFSET('Smelter Look-up'!$C$4,$W1679-4,0)&\"\")","v":""},"",{"$f":"IF(B1679=\"\",\"\",IF(ISERROR(MATCH($J1679,SorP!$B$1:$B$6230,0)),\"\",INDIRECT(\"'SorP'!$A$\"&MATCH($J1679,SorP!$B$1:$B$6230,0))))","v":""},null,{"$f":"IF(C1679=\"\",NA(),MATCH($B1679&$C1679,'Smelter Look-up'!$J:$J,0))","v":{"$error":"#N/A"}},null,0,null,null,null,""]
[{"$nulls":18},{"$f":"IF(ISERROR($W1680),\"\",OFFSET('Smelter Look-up'!$C$4,$W1680-4,0)&\"\")","v":""},"",{"$f":"IF(B1680=\"\",\"\",IF(ISERROR(MATCH($J1680,SorP!$B$1:$B$6230,0)),\"\",INDIRECT(\"'SorP'!$A$\"&MATCH($J1680,SorP!$B$1:$B$6230,0))))","v":""},null,{"$f":"IF(C1680=\"\",NA(),MATCH($B1680&$C1680,'Smelter Look-up'!$J:$J,0))","v":{"$error":"#N/A"}},null,0,null,null,null,""]
[{"$nulls":18},{"$f":"IF(ISERROR($W1681),\"\",OFFSET('Smelter Look-up'!$C$4,$W1681-4,0)&\"\")","v":""},"",{"$f":"IF(B1681=\"\",\"\",IF(ISERROR(MATCH($J1681,SorP!$B$1:$B$6230,0)),\"\",INDIRECT(\"'SorP'!$A$\"&MATCH($J1681,SorP!$B$1:$B$6230,0))))","v":""},null,{"$f":"IF(C1681=\"\",NA(),MATCH($B1681&$C1681,'Smelter Look-up'!$J:$J,0))","v":{"$error":"#N/A"}},null,0,null,null,null,""]
[{"$nulls":18},{"$f":"IF(ISERROR($W1682),\"\",OFFSET('Smelter Look-up'!$C$4,$W1682-4,0)&\"\")","v":""},"",{"$f":"IF(B1682=\"\",\"\",IF(ISERROR(MATCH($J1682,SorP!$B$1:$B$6230,0)),\"\",INDIRECT(\"'SorP'!$A$\"&MATCH($J1682,SorP!$B$1:$B$6230,0))))","v":""},null,{"$f":"IF(C1682=\"\",NA(),MATCH($B1682&$C1682,'Smelter Look-up'!$J:$J,0))","v":{"$error":"#N/A"}},null,0,null,null,null,""]
[{"$nulls":18},{"$f":"IF(ISERROR($W1683),\"\",OFFSET('Smelter Look-up'!$C$4,$W1683-4,0)&\"\")","v":""},"",{"$f":"IF(B1683=\"\",\"\",IF(ISERROR(MATCH($J1683,SorP!$B$1:$B$6230,0)),\"\",INDIRECT(\"'SorP'!$A$\"&MATCH($J1683,SorP!$B$1:$B$6230,0))))","v":""},null,{"$f":"IF(C1683=\"\",NA(),MATCH($B1683&$C1683,'Smelter Look-up'!$J:$J,0))","v":{"$error":"#N/A"}},null,0,null,null,null,""]
[{"$nulls":18},{"$f":"IF(ISERROR($W1684),\"\",OFFSET('Smelter Look-up'!$C$4,$W1684-4,0)&\"\")","v":""},"",{"$f":"IF(B1684=\"\",\"\",IF(ISERROR(MATCH($J1684,SorP!$B$1:$B$6230,0)),\"\",INDIRECT(\"'SorP'!$A$\"&MATCH($J1684,SorP!$B$1:$B$6230,0))))","v":""},null,{"$f":"IF(C1684=\"\",NA(),MATCH($B1684&$C1684,'Smelter Look-up'!$J:$J,0))","v":{"$error":"#N/A"}},null,0,null,null,null,""]
[{"$nulls":18},{"$f":"IF(ISERROR($W1685),\"\",OFFSET('Smelter Look-up'!$C$4,$W1685-4,0)&\"\")","v":""},"",{"$f":"IF(B1685=\"\",\"\",IF(ISERROR(MATCH($J1685,SorP!$B$1:$B$6230,0)),\"\",INDIRECT(\"'SorP'!$A$\"&MATCH($J1685,SorP!$B$1:$B$6230,0))))","v":""},null,{"$f":"IF(C1685=\"\",NA(),MATCH($B1685&$C1685,'Smelter Look-up'!$J:$J,0))","v":{"$error":"#N/A"}},null,0,null,null,null,""]
[{"$nulls":18},{"$f":"IF(ISERROR($W1686),\"\",OFFSET('Smelter Look-up'!$C$4,$W1686-4,0)&\"\")","v":""},"",{"$f":"IF(B1686=\"\",\"\",IF(ISERROR(MATCH($J1686,SorP!$B$1:$B$6230,0)),\"\",INDIRECT(\"'SorP'!$A$\"&MATCH($J1686,SorP!$B$1:$B$6230,0))))","v":""},null,{"$f":"IF(C1686=\"\",NA(),MATCH($B1686&$C1686,'Smelter Look-up'!$J:$J,0))","v":{"$error":"#N/A"}},null,0,null,null,null,""]
[{"$nulls":18},{"$f":"IF(ISERROR($W1687),\"\",OFFSET('Smelter Look-up'!$C$4,$W1687-4,0)&\"\")","v":""},"",{"$f":"IF(B1687=\"\",\"\",IF(ISERROR(MATCH($J1687,SorP!$B$1:$B$6230,0)),\"\",INDIRECT(\"'SorP'!$A$\"&MATCH($J1687,SorP!$B$1:$B$6230,0))))","v":""},null,{"$f":"IF(C1687=\"\",NA(),MATCH($B1687&$C1687,'Smelter Look-up'!$J:$J,0))","v":{"$error":"#N/A"}},null,0,null,null,null,""]
[{"$nulls":18},{"$f":"IF(ISERROR($W1688),\"\",OFFSET('Smelter Look-up'!$C$4,$W1688-4,0)&\"\")","v":""},"",{"$f":"IF(B1688=\"\",\"\",IF(ISERROR(MATCH($J1688,SorP!$B$1:$B$6230,0)),\"\",INDIRECT(\"'SorP'!$A$\"&MATCH($J1688,SorP!$B$1:$B$6230,0))))","v":""},null,{"$f":"IF(C1688=\"\",NA(),MATCH($B1688&$C1688,'Smelter Look-up'!$J:$J,0))","v":{"$error":"#N/A"}},null,0,null,null,null,""]
[{"$nulls":18},{"$f":"IF(ISERROR($W1689),\"\",OFFSET('Smelter Look-up'!$C$4,$W1689-4,0)&\"\")","v":""},"",{"$f":"IF(B1689=\"\",\"\",IF(ISERROR(MATCH($J1689,SorP!$B$1:$B$6230,0)),\"\",INDIRECT(\"'SorP'!$A$\"&MATCH($J1689,SorP!$B$1:$B$6230,0))))","v":""},null,{"$f":"IF(C1689=\"\",NA(),MATCH($B1689&$C1689,'Smelter Look-up'!$J:$J,0))","v":{"$error":"#N/A"}},null,0,null,null,null,""]
[{"$nulls":18},{"$f":"IF(ISERROR($W1690),\"\",OFFSET('Smelter Look-up'!$C$4,$W1690-4,0)&\"\")","v":""},"",{"$f":"IF(B1690=\"\",\"\",IF(ISERROR(MATCH($J1690,SorP!$B$1:$B$6230,0)),\"\",INDIRECT(\"'SorP'!$A$\"&MATCH($J1690,SorP!$B$1:$B$6230,0))))","v":""},null,{"$f":"IF(C1690=\"\",NA(),MATCH($B1690&$C1690,'Smelter Look-up'!$J:$J,0))","v":{"$error":"#N/A"}},null,0,null,null,null,""]
[{"$nulls":18},{"$f":"IF(ISERROR($W1691),\"\",OFFSET('Smelter Look-up'!$C$4,$W1691-4,0)&\"\")","v":""},"",{"$f":"IF(B1691=\"\",\"\",IF(ISERROR(MATCH($J1691,SorP!$B$1:$B$6230,0)),\"\",INDIRECT(\"'SorP'!$A$\"&MATCH($J1691,SorP!$B$1:$B$6230,0))))","v":""},null,{"$f":"IF(C1691=\"\",NA(),MATCH($B1691&$C1691,'Smelter Look-up'!$J:$J,0))","v":{"$error":"#N/A"}},null,0,null,null,null,""]
[{"$nulls":18},{"$f":"IF(ISERROR($W1692),\"\",OFFSET('Smelter Look-up'!$C$4,$W1692-4,0)&\"\")","v":""},"",{"$f":"IF(B1692=\"\",\"\",IF(ISERROR(MATCH($J1692,SorP!$B$1:$B$6230,0)),\"\",INDIRECT(\"'SorP'!$A$\"&MATCH($J1692,SorP!$B$1:$B$6230,0))))","v":""},null,{"$f":"IF(C1692=\"\",NA(),MATCH($B1692&$C1692,'Smelter Look-up'!$J:$J,0))","v":{"$error":"#N/A"}},null,0,null,null,null,""]
[{"$nulls":18},{"$f":"IF(ISERROR($W1693),\"\",OFFSET('Smelter Look-up'!$C$4,$W1693-4,0)&\"\")","v":""},"",{"$f":"IF(B1693=\"\",\"\",IF(ISERROR(MATCH($J1693,SorP!$B$1:$B$6230,0)),\"\",INDIRECT(\"'SorP'!$A$\"&MATCH($J1693,SorP!$B$1:$B$6230,0))))","v":""},null,{"$f":"IF(C1693=\"\",NA(),MATCH($B1693&$C1693,'Smelter Look-up'!$J:$J,0))","v":{"$error":"#N/A"}},null,0,null,null,null,""]
[{"$nulls":18},{"$f":"IF(ISERROR($W1694),\"\",OFFSET('Smelter Look-up'!$C$4,$W1694-4,0)&\"\")","v":""},"",{"$f":"IF(B1694=\"\",\"\",IF(ISERROR(MATCH($J1694,SorP!$B$1:$B$6230,0)),\"\",INDIRECT(\"'SorP'!$A$\"&MATCH($J1694,SorP!$B$1:$B$6230,0))))","v":""},null,{"$f":"IF(C1694=\"\",NA(),MATCH($B1694&$C1694,'Smelter Look-up'!$J:$J,0))","v":{"$error":"#N/A"}},null,0,null,null,null,""]
[{"$nulls":18},{"$f":"IF(ISERROR($W1695),\"\",OFFSET('Smelter Look-up'!$C$4,$W1695-4,0)&\"\")","v":""},"",{"$f":"IF(B1695=\"\",\"\",IF(ISERROR(MATCH($J1695,SorP!$B$1:$B$6230,0)),\"\",INDIRECT(\"'SorP'!$A$\"&MATCH($J1695,SorP!$B$1:$B$6230,0))))","v":""},null,{"$f":"IF(C1695=\"\",NA(),MATCH($B1695&$C1695,'Smelter Look-up'!$J:$J,0))","v":{"$error":"#N/A"}},null,0,null,null,null,""]
[{"$nulls":18},{"$f":"IF(ISERROR($W1696),\"\",OFFSET('Smelter Look-up'!$C$4,$W1696-4,0)&\"\")","v":""},"",{"$f":"IF(B1696=\"\",\"\",IF(ISERROR(MATCH($J1696,SorP!$B$1:$B$6230,0)),\"\",INDIRECT(\"'SorP'!$A$\"&MATCH($J1696,SorP!$B$1:$B$6230,0))))","v":""},null,{"$f":"IF(C1696=\"\",NA(),MATCH($B1696&$C1696,'Smelter Look-up'!$J:$J,0))","v":{"$error":"#N/A"}},null,0,null,null,null,""]
[{"$nulls":18},{"$f":"IF(ISERROR($W1697),\"\",OFFSET('Smelter Look-up'!$C$4,$W1697-4,0)&\"\")","v":""},"",{"$f":"IF(B1697=\"\",\"\",IF(ISERROR(MATCH($J1697,SorP!$B$1:$B$6230,0)),\"\",INDIRECT(\"'SorP'!$A$\"&MATCH($J1697,SorP!$B$1:$B$6230,0))))","v":""},null,{"$f":"IF(C1697=\"\",NA(),MATCH($B1697&$C1697,'Smelter Look-up'!$J:$J,0))","v":{"$error":"#N/A"}},null,0,null,null,null,""]
[{"$nulls":18},{"$f":"IF(ISERROR($W1698),\"\",OFFSET('Smelter Look-up'!$C$4,$W1698-4,0)&\"\")","v":""},"",{"$f":"IF(B1698=\"\",\"\",IF(ISERROR(MATCH($J1698,SorP!$B$1:$B$6230,0)),\"\",INDIRECT(\"'SorP'!$A$\"&MATCH($J1698,SorP!$B$1:$B$6230,0))))","v":""},null,{"$f":"IF(C1698=\"\",NA(),MATCH($B1698&$C1698,'Smelter Look-up'!$J:$J,0))","v":{"$error":"#N/A"}},null,0,null,null,null,""]
[{"$nulls":18},{"$f":"IF(ISERROR($W1699),\"\",OFFSET('Smelter Look-up'!$C$4,$W1699-4,0)&\"\")","v":""},"",{"$f":"IF(B1699=\"\",\"\",IF(ISERROR(MATCH($J1699,SorP!$B$1:$B$6230,0)),\"\",INDIRECT(\"'SorP'!$A$\"&MATCH($J1699,SorP!$B$1:$B$6230,0))))","v":""},null,{"$f":"IF(C1699=\"\",NA(),MATCH($B1699&$C1699,'Smelter Look-up'!$J:$J,0))","v":{"$error":"#N/A"}},null,0,null,null,null,""]
[{"$nulls":18},{"$f":"IF(ISERROR($W1700),\"\",OFFSET('Smelter Look-up'!$C$4,$W1700-4,0)&\"\")","v":""},"",{"$f":"IF(B1700=\"\",\"\",IF(ISERROR(MATCH($J1700,SorP!$B$1:$B$6230,0)),\"\",INDIRECT(\"'SorP'!$A$\"&MATCH($J1700,SorP!$B$1:$B$6230,0))))","v":""},null,{"$f":"IF(C1700=\"\",NA(),MATCH($B1700&$C1700,'Smelter Look-up'!$J:$J,0))","v":{"$error":"#N/A"}},null,0,null,null,null,""]
[{"$nulls":18},{"$f":"IF(ISERROR($W1701),\"\",OFFSET('Smelter Look-up'!$C$4,$W1701-4,0)&\"\")","v":""},"",{"$f":"IF(B1701=\"\",\"\",IF(ISERROR(MATCH($J1701,SorP!$B$1:$B$6230,0)),\"\",INDIRECT(\"'SorP'!$A$\"&MATCH($J1701,SorP!$B$1:$B$6230,0))))","v":""},null,{"$f":"IF(C1701=\"\",NA(),MATCH($B1701&$C1701,'Smelter Look-up'!$J:$J,0))","v":{"$error":"#N/A"}},null,0,null,null,null,""]
[{"$nulls":18},{"$f":"IF(ISERROR($W1702),\"\",OFFSET('Smelter Look-up'!$C$4,$W1702-4,0)&\"\")","v":""},"",{"$f":"IF(B1702=\"\",\"\",IF(ISERROR(MATCH($J1702,SorP!$B$1:$B$6230,0)),\"\",INDIRECT(\"'SorP'!$A$\"&MATCH($J1702,SorP!$B$1:$B$6230,0))))","v":""},null,{"$f":"IF(C1702=\"\",NA(),MATCH($B1702&$C1702,'Smelter Look-up'!$J:$J,0))","v":{"$error":"#N/A"}},null,0,null,null,null,""]
[{"$nulls":18},{"$f":"IF(ISERROR($W1703),\"\",OFFSET('Smelter Look-up'!$C$4,$W1703-4,0)&\"\")","v":""},"",{"$f":"IF(B1703=\"\",\"\",IF(ISERROR(MATCH($J1703,SorP!$B$1:$B$6230,0)),\"\",INDIRECT(\"'SorP'!$A$\"&MATCH($J1703,SorP!$B$1:$B$6230,0))))","v":""},null,{"$f":"IF(C1703=\"\",NA(),MATCH($B1703&$C1703,'Smelter Look-up'!$J:$J,0))","v":{"$error":"#N/A"}},null,0,null,null,null,""]
[{"$nulls":18},{"$f":"IF(ISERROR($W1704),\"\",OFFSET('Smelter Look-up'!$C$4,$W1704-4,0)&\"\")","v":""},"",{"$f":"IF(B1704=\"\",\"\",IF(ISERROR(MATCH($J1704,SorP!$B$1:$B$6230,0)),\"\",INDIRECT(\"'SorP'!$A$\"&MATCH($J1704,SorP!$B$1:$B$6230,0))))","v":""},null,{"$f":"IF(C1704=\"\",NA(),MATCH($B1704&$C1704,'Smelter Look-up'!$J:$J,0))","v":{"$error":"#N/A"}},null,0,null,null,null,""]
[{"$nulls":18},{"$f":"IF(ISERROR($W1705),\"\",OFFSET('Smelter Look-up'!$C$4,$W1705-4,0)&\"\")","v":""},"",{"$f":"IF(B1705=\"\",\"\",IF(ISERROR(MATCH($J1705,SorP!$B$1:$B$6230,0)),\"\",INDIRECT(\"'SorP'!$A$\"&MATCH($J1705,SorP!$B$1:$B$6230,0))))","v":""},null,{"$f":"IF(C1705=\"\",NA(),MATCH($B1705&$C1705,'Smelter Look-up'!$J:$J,0))","v":{"$error":"#N/A"}},null,0,null,null,null,""]
[{"$nulls":18},{"$f":"IF(ISERROR($W1706),\"\",OFFSET('Smelter Look-up'!$C$4,$W1706-4,0)&\"\")","v":""},"",{"$f":"IF(B1706=\"\",\"\",IF(ISERROR(MATCH($J1706,SorP!$B$1:$B$6230,0)),\"\",INDIRECT(\"'SorP'!$A$\"&MATCH($J1706,SorP!$B$1:$B$6230,0))))","v":""},null,{"$f":"IF(C1706=\"\",NA(),MATCH($B1706&$C1706,'Smelter Look-up'!$J:$J,0))","v":{"$error":"#N/A"}},null,0,null,null,null,""]
[{"$nulls":18},{"$f":"IF(ISERROR($W1707),\"\",OFFSET('Smelter Look-up'!$C$4,$W1707-4,0)&\"\")","v":""},"",{"$f":"IF(B1707=\"\",\"\",IF(ISERROR(MATCH($J1707,SorP!$B$1:$B$6230,0)),\"\",INDIRECT(\"'SorP'!$A$\"&MATCH($J1707,SorP!$B$1:$B$6230,0))))","v":""},null,{"$f":"IF(C1707=\"\",NA(),MATCH($B1707&$C1707,'Smelter Look-up'!$J:$J,0))","v":{"$error":"#N/A"}},null,0,null,null,null,""]
[{"$nulls":18},{"$f":"IF(ISERROR($W1708),\"\",OFFSET('Smelter Look-up'!$C$4,$W1708-4,0)&\"\")","v":""},"",{"$f":"IF(B1708=\"\",\"\",IF(ISERROR(MATCH($J1708,SorP!$B$1:$B$6230,0)),\"\",INDIRECT(\"'SorP'!$A$\"&MATCH($J1708,SorP!$B$1:$B$6230,0))))","v":""},null,{"$f":"IF(C1708=\"\",NA(),MATCH($B1708&$C1708,'Smelter Look-up'!$J:$J,0))","v":{"$error":"#N/A"}},null,0,null,null,null,""]
[{"$nulls":18},{"$f":"IF(ISERROR($W1709),\"\",OFFSET('Smelter Look-up'!$C$4,$W1709-4,0)&\"\")","v":""},"",{"$f":"IF(B1709=\"\",\"\",IF(ISERROR(MATCH($J1709,SorP!$B$1:$B$6230,0)),\"\",INDIRECT(\"'SorP'!$A$\"&MATCH($J1709,SorP!$B$1:$B$6230,0))))","v":""},null,{"$f":"IF(C1709=\"\",NA(),MATCH($B1709&$C1709,'Smelter Look-up'!$J:$J,0))","v":{"$error":"#N/A"}},null,0,null,null,null,""]
[{"$nulls":18},{"$f":"IF(ISERROR($W1710),\"\",OFFSET('Smelter Look-up'!$C$4,$W1710-4,0)&\"\")","v":""},"",{"$f":"IF(B1710=\"\",\"\",IF(ISERROR(MATCH($J1710,SorP!$B$1:$B$6230,0)),\"\",INDIRECT(\"'SorP'!$A$\"&MATCH($J1710,SorP!$B$1:$B$6230,0))))","v":""},null,{"$f":"IF(C1710=\"\",NA(),MATCH($B1710&$C1710,'Smelter Look-up'!$J:$J,0))","v":{"$error":"#N/A"}},null,0,null,null,null,""]
[{"$nulls":18},{"$f":"IF(ISERROR($W1711),\"\",OFFSET('Smelter Look-up'!$C$4,$W1711-4,0)&\"\")","v":""},"",{"$f":"IF(B1711=\"\",\"\",IF(ISERROR(MATCH($J1711,SorP!$B$1:$B$6230,0)),\"\",INDIRECT(\"'SorP'!$A$\"&MATCH($J1711,SorP!$B$1:$B$6230,0))))","v":""},null,{"$f":"IF(C1711=\"\",NA(),MATCH($B1711&$C1711,'Smelter Look-up'!$J:$J,0))","v":{"$error":"#N/A"}},null,0,null,null,null,""]
[{"$nulls":18},{"$f":"IF(ISERROR($W1712),\"\",OFFSET('Smelter Look-up'!$C$4,$W1712-4,0)&\"\")","v":""},"",{"$f":"IF(B1712=\"\",\"\",IF(ISERROR(MATCH($J1712,SorP!$B$1:$B$6230,0)),\"\",INDIRECT(\"'SorP'!$A$\"&MATCH($J1712,SorP!$B$1:$B$6230,0))))","v":""},null,{"$f":"IF(C1712=\"\",NA(),MATCH($B1712&$C1712,'Smelter Look-up'!$J:$J,0))","v":{"$error":"#N/A"}},null,0,null,null,null,""]
[{"$nulls":18},{"$f":"IF(ISERROR($W1713),\"\",OFFSET('Smelter Look-up'!$C$4,$W1713-4,0)&\"\")","v":""},"",{"$f":"IF(B1713=\"\",\"\",IF(ISERROR(MATCH($J1713,SorP!$B$1:$B$6230,0)),\"\",INDIRECT(\"'SorP'!$A$\"&MATCH($J1713,SorP!$B$1:$B$6230,0))))","v":""},null,{"$f":"IF(C1713=\"\",NA(),MATCH($B1713&$C1713,'Smelter Look-up'!$J:$J,0))","v":{"$error":"#N/A"}},null,0,null,null,null,""]
[{"$nulls":18},{"$f":"IF(ISERROR($W1714),\"\",OFFSET('Smelter Look-up'!$C$4,$W1714-4,0)&\"\")","v":""},"",{"$f":"IF(B1714=\"\",\"\",IF(ISERROR(MATCH($J1714,SorP!$B$1:$B$6230,0)),\"\",INDIRECT(\"'SorP'!$A$\"&MATCH($J1714,SorP!$B$1:$B$6230,0))))","v":""},null,{"$f":"IF(C1714=\"\",NA(),MATCH($B1714&$C1714,'Smelter Look-up'!$J:$J,0))","v":{"$error":"#N/A"}},null,0,null,null,null,""]
[{"$nulls":18},{"$f":"IF(ISERROR($W1715),\"\",OFFSET('Smelter Look-up'!$C$4,$W1715-4,0)&\"\")","v":""},"",{"$f":"IF(B1715=\"\",\"\",IF(ISERROR(MATCH($J1715,SorP!$B$1:$B$6230,0)),\"\",INDIRECT(\"'SorP'!$A$\"&MATCH($J1715,SorP!$B$1:$B$6230,0))))","v":""},null,{"$f":"IF(C1715=\"\",NA(),MATCH($B1715&$C1715,'Smelter Look-up'!$J:$J,0))","v":{"$error":"#N/A"}},null,0,null,null,null,""]
[{"$nulls":18},{"$f":"IF(ISERROR($W1716),\"\",OFFSET('Smelter Look-up'!$C$4,$W1716-4,0)&\"\")","v":""},"",{"$f":"IF(B1716=\"\",\"\",IF(ISERROR(MATCH($J1716,SorP!$B$1:$B$6230,0)),\"\",INDIRECT(\"'SorP'!$A$\"&MATCH($J1716,SorP!$B$1:$B$6230,0))))","v":""},null,{"$f":"IF(C1716=\"\",NA(),MATCH($B1716&$C1716,'Smelter Look-up'!$J:$J,0))","v":{"$error":"#N/A"}},null,0,null,null,null,""]
[{"$nulls":18},{"$f":"IF(ISERROR($W1717),\"\",OFFSET('Smelter Look-up'!$C$4,$W1717-4,0)&\"\")","v":""},"",{"$f":"IF(B1717=\"\",\"\",IF(ISERROR(MATCH($J1717,SorP!$B$1:$B$6230,0)),\"\",INDIRECT(\"'SorP'!$A$\"&MATCH($J1717,SorP!$B$1:$B$6230,0))))","v":""},null,{"$f":"IF(C1717=\"\",NA(),MATCH($B1717&$C1717,'Smelter Look-up'!$J:$J,0))","v":{"$error":"#N/A"}},null,0,null,null,null,""]
[{"$nulls":18},{"$f":"IF(ISERROR($W1718),\"\",OFFSET('Smelter Look-up'!$C$4,$W1718-4,0)&\"\")","v":""},"",{"$f":"IF(B1718=\"\",\"\",IF(ISERROR(MATCH($J1718,SorP!$B$1:$B$6230,0)),\"\",INDIRECT(\"'SorP'!$A$\"&MATCH($J1718,SorP!$B$1:$B$6230,0))))","v":""},null,{"$f":"IF(C1718=\"\",NA(),MATCH($B1718&$C1718,'Smelter Look-up'!$J:$J,0))","v":{"$error":"#N/A"}},null,0,null,null,null,""]
[{"$nulls":18},{"$f":"IF(ISERROR($W1719),\"\",OFFSET('Smelter Look-up'!$C$4,$W1719-4,0)&\"\")","v":""},"",{"$f":"IF(B1719=\"\",\"\",IF(ISERROR(MATCH($J1719,SorP!$B$1:$B$6230,0)),\"\",INDIRECT(\"'SorP'!$A$\"&MATCH($J1719,SorP!$B$1:$B$6230,0))))","v":""},null,{"$f":"IF(C1719=\"\",NA(),MATCH($B1719&$C1719,'Smelter Look-up'!$J:$J,0))","v":{"$error":"#N/A"}},null,0,null,null,null,""]
[{"$nulls":18},{"$f":"IF(ISERROR($W1720),\"\",OFFSET('Smelter Look-up'!$C$4,$W1720-4,0)&\"\")","v":""},"",{"$f":"IF(B1720=\"\",\"\",IF(ISERROR(MATCH($J1720,SorP!$B$1:$B$6230,0)),\"\",INDIRECT(\"'SorP'!$A$\"&MATCH($J1720,SorP!$B$1:$B$6230,0))))","v":""},null,{"$f":"IF(C1720=\"\",NA(),MATCH($B1720&$C1720,'Smelter Look-up'!$J:$J,0))","v":{"$error":"#N/A"}},null,0,null,null,null,""]
[{"$nulls":18},{"$f":"IF(ISERROR($W1721),\"\",OFFSET('Smelter Look-up'!$C$4,$W1721-4,0)&\"\")","v":""},"",{"$f":"IF(B1721=\"\",\"\",IF(ISERROR(MATCH($J1721,SorP!$B$1:$B$6230,0)),\"\",INDIRECT(\"'SorP'!$A$\"&MATCH($J1721,SorP!$B$1:$B$6230,0))))","v":""},null,{"$f":"IF(C1721=\"\",NA(),MATCH($B1721&$C1721,'Smelter Look-up'!$J:$J,0))","v":{"$error":"#N/A"}},null,0,null,null,null,""]
[{"$nulls":18},{"$f":"IF(ISERROR($W1722),\"\",OFFSET('Smelter Look-up'!$C$4,$W1722-4,0)&\"\")","v":""},"",{"$f":"IF(B1722=\"\",\"\",IF(ISERROR(MATCH($J1722,SorP!$B$1:$B$6230,0)),\"\",INDIRECT(\"'SorP'!$A$\"&MATCH($J1722,SorP!$B$1:$B$6230,0))))","v":""},null,{"$f":"IF(C1722=\"\",NA(),MATCH($B1722&$C1722,'Smelter Look-up'!$J:$J,0))","v":{"$error":"#N/A"}},null,0,null,null,null,""]
[{"$nulls":18},{"$f":"IF(ISERROR($W1723),\"\",OFFSET('Smelter Look-up'!$C$4,$W1723-4,0)&\"\")","v":""},"",{"$f":"IF(B1723=\"\",\"\",IF(ISERROR(MATCH($J1723,SorP!$B$1:$B$6230,0)),\"\",INDIRECT(\"'SorP'!$A$\"&MATCH($J1723,SorP!$B$1:$B$6230,0))))","v":""},null,{"$f":"IF(C1723=\"\",NA(),MATCH($B1723&$C1723,'Smelter Look-up'!$J:$J,0))","v":{"$error":"#N/A"}},null,0,null,null,null,""]
[{"$nulls":18},{"$f":"IF(ISERROR($W1724),\"\",OFFSET('Smelter Look-up'!$C$4,$W1724-4,0)&\"\")","v":""},"",{"$f":"IF(B1724=\"\",\"\",IF(ISERROR(MATCH($J1724,SorP!$B$1:$B$6230,0)),\"\",INDIRECT(\"'SorP'!$A$\"&MATCH($J1724,SorP!$B$1:$B$6230,0))))","v":""},null,{"$f":"IF(C1724=\"\",NA(),MATCH($B1724&$C1724,'Smelter Look-up'!$J:$J,0))","v":{"$error":"#N/A"}},null,0,null,null,null,""]
[{"$nulls":18},{"$f":"IF(ISERROR($W1725),\"\",OFFSET('Smelter Look-up'!$C$4,$W1725-4,0)&\"\")","v":""},"",{"$f":"IF(B1725=\"\",\"\",IF(ISERROR(MATCH($J1725,SorP!$B$1:$B$6230,0)),\"\",INDIRECT(\"'SorP'!$A$\"&MATCH($J1725,SorP!$B$1:$B$6230,0))))","v":""},null,{"$f":"IF(C1725=\"\",NA(),MATCH($B1725&$C1725,'Smelter Look-up'!$J:$J,0))","v":{"$error":"#N/A"}},null,0,null,null,null,""]
[{"$nulls":18},{"$f":"IF(ISERROR($W1726),\"\",OFFSET('Smelter Look-up'!$C$4,$W1726-4,0)&\"\")","v":""},"",{"$f":"IF(B1726=\"\",\"\",IF(ISERROR(MATCH($J1726,SorP!$B$1:$B$6230,0)),\"\",INDIRECT(\"'SorP'!$A$\"&MATCH($J1726,SorP!$B$1:$B$6230,0))))","v":""},null,{"$f":"IF(C1726=\"\",NA(),MATCH($B1726&$C1726,'Smelter Look-up'!$J:$J,0))","v":{"$error":"#N/A"}},null,0,null,null,null,""]
[{"$nulls":18},{"$f":"IF(ISERROR($W1727),\"\",OFFSET('Smelter Look-up'!$C$4,$W1727-4,0)&\"\")","v":""},"",{"$f":"IF(B1727=\"\",\"\",IF(ISERROR(MATCH($J1727,SorP!$B$1:$B$6230,0)),\"\",INDIRECT(\"'SorP'!$A$\"&MATCH($J1727,SorP!$B$1:$B$6230,0))))","v":""},null,{"$f":"IF(C1727=\"\",NA(),MATCH($B1727&$C1727,'Smelter Look-up'!$J:$J,0))","v":{"$error":"#N/A"}},null,0,null,null,null,""]
[{"$nulls":18},{"$f":"IF(ISERROR($W1728),\"\",OFFSET('Smelter Look-up'!$C$4,$W1728-4,0)&\"\")","v":""},"",{"$f":"IF(B1728=\"\",\"\",IF(ISERROR(MATCH($J1728,SorP!$B$1:$B$6230,0)),\"\",INDIRECT(\"'SorP'!$A$\"&MATCH($J1728,SorP!$B$1:$B$6230,0))))","v":""},null,{"$f":"IF(C1728=\"\",NA(),MATCH($B1728&$C1728,'Smelter Look-up'!$J:$J,0))","v":{"$error":"#N/A"}},null,0,null,null,null,""]
[{"$nulls":18},{"$f":"IF(ISERROR($W1729),\"\",OFFSET('Smelter Look-up'!$C$4,$W1729-4,0)&\"\")","v":""},"",{"$f":"IF(B1729=\"\",\"\",IF(ISERROR(MATCH($J1729,SorP!$B$1:$B$6230,0)),\"\",INDIRECT(\"'SorP'!$A$\"&MATCH($J1729,SorP!$B$1:$B$6230,0))))","v":""},null,{"$f":"IF(C1729=\"\",NA(),MATCH($B1729&$C1729,'Smelter Look-up'!$J:$J,0))","v":{"$error":"#N/A"}},null,0,null,null,null,""]
[{"$nulls":18},{"$f":"IF(ISERROR($W1730),\"\",OFFSET('Smelter Look-up'!$C$4,$W1730-4,0)&\"\")","v":""},"",{"$f":"IF(B1730=\"\",\"\",IF(ISERROR(MATCH($J1730,SorP!$B$1:$B$6230,0)),\"\",INDIRECT(\"'SorP'!$A$\"&MATCH($J1730,SorP!$B$1:$B$6230,0))))","v":""},null,{"$f":"IF(C1730=\"\",NA(),MATCH($B1730&$C1730,'Smelter Look-up'!$J:$J,0))","v":{"$error":"#N/A"}},null,0,null,null,null,""]
[{"$nulls":18},{"$f":"IF(ISERROR($W1731),\"\",OFFSET('Smelter Look-up'!$C$4,$W1731-4,0)&\"\")","v":""},"",{"$f":"IF(B1731=\"\",\"\",IF(ISERROR(MATCH($J1731,SorP!$B$1:$B$6230,0)),\"\",INDIRECT(\"'SorP'!$A$\"&MATCH($J1731,SorP!$B$1:$B$6230,0))))","v":""},null,{"$f":"IF(C1731=\"\",NA(),MATCH($B1731&$C1731,'Smelter Look-up'!$J:$J,0))","v":{"$error":"#N/A"}},null,0,null,null,null,""]
[{"$nulls":18},{"$f":"IF(ISERROR($W1732),\"\",OFFSET('Smelter Look-up'!$C$4,$W1732-4,0)&\"\")","v":""},"",{"$f":"IF(B1732=\"\",\"\",IF(ISERROR(MATCH($J1732,SorP!$B$1:$B$6230,0)),\"\",INDIRECT(\"'SorP'!$A$\"&MATCH($J1732,SorP!$B$1:$B$6230,0))))","v":""},null,{"$f":"IF(C1732=\"\",NA(),MATCH($B1732&$C1732,'Smelter Look-up'!$J:$J,0))","v":{"$error":"#N/A"}},null,0,null,null,null,""]
[{"$nulls":18},{"$f":"IF(ISERROR($W1733),\"\",OFFSET('Smelter Look-up'!$C$4,$W1733-4,0)&\"\")","v":""},{"$f":"IF(B1733=\"\",\"\",IF(ISERROR(MATCH($E1733,CL,0)),\"Unknown\",INDIRECT(\"'C'!$A$\"&MATCH($E1733,CL,0)+1)))","v":""},{"$f":"IF(B1733=\"\",\"\",IF(ISERROR(MATCH($J1733,SorP!$B$1:$B$6230,0)),\"\",INDIRECT(\"'SorP'!$A$\"&MATCH($J1733,SorP!$B$1:$B$6230,0))))","v":""},null,{"$f":"IF(C1733=\"\",NA(),MATCH($B1733&$C1733,'Smelter Look-up'!$J:$J,0))","v":{"$error":"#N/A"}},null,{"$f":"IF(AND(C1733=\"Smelter not listed\",OR(LEN(D1733)=0,LEN(E1733)=0)),1,0)","v":0},null,null,null,{"$f":"B1733&C1733","v":""}]
[{"$nulls":18},{"$f":"IF(ISERROR($W1734),\"\",OFFSET('Smelter Look-up'!$C$4,$W1734-4,0)&\"\")","v":""},"",{"$f":"IF(B1734=\"\",\"\",IF(ISERROR(MATCH($J1734,SorP!$B$1:$B$6230,0)),\"\",INDIRECT(\"'SorP'!$A$\"&MATCH($J1734,SorP!$B$1:$B$6230,0))))","v":""},null,{"$f":"IF(C1734=\"\",NA(),MATCH($B1734&$C1734,'Smelter Look-up'!$J:$J,0))","v":{"$error":"#N/A"}},null,0,null,null,null,""]
[{"$nulls":18},{"$f":"IF(ISERROR($W1735),\"\",OFFSET('Smelter Look-up'!$C$4,$W1735-4,0)&\"\")","v":""},"",{"$f":"IF(B1735=\"\",\"\",IF(ISERROR(MATCH($J1735,SorP!$B$1:$B$6230,0)),\"\",INDIRECT(\"'SorP'!$A$\"&MATCH($J1735,SorP!$B$1:$B$6230,0))))","v":""},null,{"$f":"IF(C1735=\"\",NA(),MATCH($B1735&$C1735,'Smelter Look-up'!$J:$J,0))","v":{"$error":"#N/A"}},null,0,null,null,null,""]
[{"$nulls":18},{"$f":"IF(ISERROR($W1736),\"\",OFFSET('Smelter Look-up'!$C$4,$W1736-4,0)&\"\")","v":""},"",{"$f":"IF(B1736=\"\",\"\",IF(ISERROR(MATCH($J1736,SorP!$B$1:$B$6230,0)),\"\",INDIRECT(\"'SorP'!$A$\"&MATCH($J1736,SorP!$B$1:$B$6230,0))))","v":""},null,{"$f":"IF(C1736=\"\",NA(),MATCH($B1736&$C1736,'Smelter Look-up'!$J:$J,0))","v":{"$error":"#N/A"}},null,0,null,null,null,""]
[{"$nulls":18},{"$f":"IF(ISERROR($W1737),\"\",OFFSET('Smelter Look-up'!$C$4,$W1737-4,0)&\"\")","v":""},"",{"$f":"IF(B1737=\"\",\"\",IF(ISERROR(MATCH($J1737,SorP!$B$1:$B$6230,0)),\"\",INDIRECT(\"'SorP'!$A$\"&MATCH($J1737,SorP!$B$1:$B$6230,0))))","v":""},null,{"$f":"IF(C1737=\"\",NA(),MATCH($B1737&$C1737,'Smelter Look-up'!$J:$J,0))","v":{"$error":"#N/A"}},null,0,null,null,null,""]
[{"$nulls":18},{"$f":"IF(ISERROR($W1738),\"\",OFFSET('Smelter Look-up'!$C$4,$W1738-4,0)&\"\")","v":""},"",{"$f":"IF(B1738=\"\",\"\",IF(ISERROR(MATCH($J1738,SorP!$B$1:$B$6230,0)),\"\",INDIRECT(\"'SorP'!$A$\"&MATCH($J1738,SorP!$B$1:$B$6230,0))))","v":""},null,{"$f":"IF(C1738=\"\",NA(),MATCH($B1738&$C1738,'Smelter Look-up'!$J:$J,0))","v":{"$error":"#N/A"}},null,0,null,null,null,""]
[{"$nulls":18},{"$f":"IF(ISERROR($W1739),\"\",OFFSET('Smelter Look-up'!$C$4,$W1739-4,0)&\"\")","v":""},"",{"$f":"IF(B1739=\"\",\"\",IF(ISERROR(MATCH($J1739,SorP!$B$1:$B$6230,0)),\"\",INDIRECT(\"'SorP'!$A$\"&MATCH($J1739,SorP!$B$1:$B$6230,0))))","v":""},null,{"$f":"IF(C1739=\"\",NA(),MATCH($B1739&$C1739,'Smelter Look-up'!$J:$J,0))","v":{"$error":"#N/A"}},null,0,null,null,null,""]
[{"$nulls":18},{"$f":"IF(ISERROR($W1740),\"\",OFFSET('Smelter Look-up'!$C$4,$W1740-4,0)&\"\")","v":""},"",{"$f":"IF(B1740=\"\",\"\",IF(ISERROR(MATCH($J1740,SorP!$B$1:$B$6230,0)),\"\",INDIRECT(\"'SorP'!$A$\"&MATCH($J1740,SorP!$B$1:$B$6230,0))))","v":""},null,{"$f":"IF(C1740=\"\",NA(),MATCH($B1740&$C1740,'Smelter Look-up'!$J:$J,0))","v":{"$error":"#N/A"}},null,0,null,null,null,""]
[{"$nulls":18},{"$f":"IF(ISERROR($W1741),\"\",OFFSET('Smelter Look-up'!$C$4,$W1741-4,0)&\"\")","v":""},"",{"$f":"IF(B1741=\"\",\"\",IF(ISERROR(MATCH($J1741,SorP!$B$1:$B$6230,0)),\"\",INDIRECT(\"'SorP'!$A$\"&MATCH($J1741,SorP!$B$1:$B$6230,0))))","v":""},null,{"$f":"IF(C1741=\"\",NA(),MATCH($B1741&$C1741,'Smelter Look-up'!$J:$J,0))","v":{"$error":"#N/A"}},null,0,null,null,null,""]
[{"$nulls":18},{"$f":"IF(ISERROR($W1742),\"\",OFFSET('Smelter Look-up'!$C$4,$W1742-4,0)&\"\")","v":""},"",{"$f":"IF(B1742=\"\",\"\",IF(ISERROR(MATCH($J1742,SorP!$B$1:$B$6230,0)),\"\",INDIRECT(\"'SorP'!$A$\"&MATCH($J1742,SorP!$B$1:$B$6230,0))))","v":""},null,{"$f":"IF(C1742=\"\",NA(),MATCH($B1742&$C1742,'Smelter Look-up'!$J:$J,0))","v":{"$error":"#N/A"}},null,0,null,null,null,""]
[{"$nulls":18},{"$f":"IF(ISERROR($W1743),\"\",OFFSET('Smelter Look-up'!$C$4,$W1743-4,0)&\"\")","v":""},"",{"$f":"IF(B1743=\"\",\"\",IF(ISERROR(MATCH($J1743,SorP!$B$1:$B$6230,0)),\"\",INDIRECT(\"'SorP'!$A$\"&MATCH($J1743,SorP!$B$1:$B$6230,0))))","v":""},null,{"$f":"IF(C1743=\"\",NA(),MATCH($B1743&$C1743,'Smelter Look-up'!$J:$J,0))","v":{"$error":"#N/A"}},null,0,null,null,null,""]
[{"$nulls":18},{"$f":"IF(ISERROR($W1744),\"\",OFFSET('Smelter Look-up'!$C$4,$W1744-4,0)&\"\")","v":""},"",{"$f":"IF(B1744=\"\",\"\",IF(ISERROR(MATCH($J1744,SorP!$B$1:$B$6230,0)),\"\",INDIRECT(\"'SorP'!$A$\"&MATCH($J1744,SorP!$B$1:$B$6230,0))))","v":""},null,{"$f":"IF(C1744=\"\",NA(),MATCH($B1744&$C1744,'Smelter Look-up'!$J:$J,0))","v":{"$error":"#N/A"}},null,0,null,null,null,""]
[{"$nulls":18},{"$f":"IF(ISERROR($W1745),\"\",OFFSET('Smelter Look-up'!$C$4,$W1745-4,0)&\"\")","v":""},"",{"$f":"IF(B1745=\"\",\"\",IF(ISERROR(MATCH($J1745,SorP!$B$1:$B$6230,0)),\"\",INDIRECT(\"'SorP'!$A$\"&MATCH($J1745,SorP!$B$1:$B$6230,0))))","v":""},null,{"$f":"IF(C1745=\"\",NA(),MATCH($B1745&$C1745,'Smelter Look-up'!$J:$J,0))","v":{"$error":"#N/A"}},null,0,null,null,null,""]
[{"$nulls":18},{"$f":"IF(ISERROR($W1746),\"\",OFFSET('Smelter Look-up'!$C$4,$W1746-4,0)&\"\")","v":""},"",{"$f":"IF(B1746=\"\",\"\",IF(ISERROR(MATCH($J1746,SorP!$B$1:$B$6230,0)),\"\",INDIRECT(\"'SorP'!$A$\"&MATCH($J1746,SorP!$B$1:$B$6230,0))))","v":""},null,{"$f":"IF(C1746=\"\",NA(),MATCH($B1746&$C1746,'Smelter Look-up'!$J:$J,0))","v":{"$error":"#N/A"}},null,0,null,null,null,""]
[{"$nulls":18},{"$f":"IF(ISERROR($W1747),\"\",OFFSET('Smelter Look-up'!$C$4,$W1747-4,0)&\"\")","v":""},"",{"$f":"IF(B1747=\"\",\"\",IF(ISERROR(MATCH($J1747,SorP!$B$1:$B$6230,0)),\"\",INDIRECT(\"'SorP'!$A$\"&MATCH($J1747,SorP!$B$1:$B$6230,0))))","v":""},null,{"$f":"IF(C1747=\"\",NA(),MATCH($B1747&$C1747,'Smelter Look-up'!$J:$J,0))","v":{"$error":"#N/A"}},null,0,null,null,null,""]
[{"$nulls":18},{"$f":"IF(ISERROR($W1748),\"\",OFFSET('Smelter Look-up'!$C$4,$W1748-4,0)&\"\")","v":""},"",{"$f":"IF(B1748=\"\",\"\",IF(ISERROR(MATCH($J1748,SorP!$B$1:$B$6230,0)),\"\",INDIRECT(\"'SorP'!$A$\"&MATCH($J1748,SorP!$B$1:$B$6230,0))))","v":""},null,{"$f":"IF(C1748=\"\",NA(),MATCH($B1748&$C1748,'Smelter Look-up'!$J:$J,0))","v":{"$error":"#N/A"}},null,0,null,null,null,""]
[{"$nulls":18},{"$f":"IF(ISERROR($W1749),\"\",OFFSET('Smelter Look-up'!$C$4,$W1749-4,0)&\"\")","v":""},"",{"$f":"IF(B1749=\"\",\"\",IF(ISERROR(MATCH($J1749,SorP!$B$1:$B$6230,0)),\"\",INDIRECT(\"'SorP'!$A$\"&MATCH($J1749,SorP!$B$1:$B$6230,0))))","v":""},null,{"$f":"IF(C1749=\"\",NA(),MATCH($B1749&$C1749,'Smelter Look-up'!$J:$J,0))","v":{"$error":"#N/A"}},null,0,null,null,null,""]
[{"$nulls":18},{"$f":"IF(ISERROR($W1750),\"\",OFFSET('Smelter Look-up'!$C$4,$W1750-4,0)&\"\")","v":""},"",{"$f":"IF(B1750=\"\",\"\",IF(ISERROR(MATCH($J1750,SorP!$B$1:$B$6230,0)),\"\",INDIRECT(\"'SorP'!$A$\"&MATCH($J1750,SorP!$B$1:$B$6230,0))))","v":""},null,{"$f":"IF(C1750=\"\",NA(),MATCH($B1750&$C1750,'Smelter Look-up'!$J:$J,0))","v":{"$error":"#N/A"}},null,0,null,null,null,""]
[{"$nulls":18},{"$f":"IF(ISERROR($W1751),\"\",OFFSET('Smelter Look-up'!$C$4,$W1751-4,0)&\"\")","v":""},"",{"$f":"IF(B1751=\"\",\"\",IF(ISERROR(MATCH($J1751,SorP!$B$1:$B$6230,0)),\"\",INDIRECT(\"'SorP'!$A$\"&MATCH($J1751,SorP!$B$1:$B$6230,0))))","v":""},null,{"$f":"IF(C1751=\"\",NA(),MATCH($B1751&$C1751,'Smelter Look-up'!$J:$J,0))","v":{"$error":"#N/A"}},null,0,null,null,null,""]
[{"$nulls":18},{"$f":"IF(ISERROR($W1752),\"\",OFFSET('Smelter Look-up'!$C$4,$W1752-4,0)&\"\")","v":""},"",{"$f":"IF(B1752=\"\",\"\",IF(ISERROR(MATCH($J1752,SorP!$B$1:$B$6230,0)),\"\",INDIRECT(\"'SorP'!$A$\"&MATCH($J1752,SorP!$B$1:$B$6230,0))))","v":""},null,{"$f":"IF(C1752=\"\",NA(),MATCH($B1752&$C1752,'Smelter Look-up'!$J:$J,0))","v":{"$error":"#N/A"}},null,0,null,null,null,""]
[{"$nulls":18},{"$f":"IF(ISERROR($W1753),\"\",OFFSET('Smelter Look-up'!$C$4,$W1753-4,0)&\"\")","v":""},"",{"$f":"IF(B1753=\"\",\"\",IF(ISERROR(MATCH($J1753,SorP!$B$1:$B$6230,0)),\"\",INDIRECT(\"'SorP'!$A$\"&MATCH($J1753,SorP!$B$1:$B$6230,0))))","v":""},null,{"$f":"IF(C1753=\"\",NA(),MATCH($B1753&$C1753,'Smelter Look-up'!$J:$J,0))","v":{"$error":"#N/A"}},null,0,null,null,null,""]
[{"$nulls":18},{"$f":"IF(ISERROR($W1754),\"\",OFFSET('Smelter Look-up'!$C$4,$W1754-4,0)&\"\")","v":""},"",{"$f":"IF(B1754=\"\",\"\",IF(ISERROR(MATCH($J1754,SorP!$B$1:$B$6230,0)),\"\",INDIRECT(\"'SorP'!$A$\"&MATCH($J1754,SorP!$B$1:$B$6230,0))))","v":""},null,{"$f":"IF(C1754=\"\",NA(),MATCH($B1754&$C1754,'Smelter Look-up'!$J:$J,0))","v":{"$error":"#N/A"}},null,0,null,null,null,""]
[{"$nulls":18},{"$f":"IF(ISERROR($W1755),\"\",OFFSET('Smelter Look-up'!$C$4,$W1755-4,0)&\"\")","v":""},"",{"$f":"IF(B1755=\"\",\"\",IF(ISERROR(MATCH($J1755,SorP!$B$1:$B$6230,0)),\"\",INDIRECT(\"'SorP'!$A$\"&MATCH($J1755,SorP!$B$1:$B$6230,0))))","v":""},null,{"$f":"IF(C1755=\"\",NA(),MATCH($B1755&$C1755,'Smelter Look-up'!$J:$J,0))","v":{"$error":"#N/A"}},null,0,null,null,null,""]
[{"$nulls":18},{"$f":"IF(ISERROR($W1756),\"\",OFFSET('Smelter Look-up'!$C$4,$W1756-4,0)&\"\")","v":""},"",{"$f":"IF(B1756=\"\",\"\",IF(ISERROR(MATCH($J1756,SorP!$B$1:$B$6230,0)),\"\",INDIRECT(\"'SorP'!$A$\"&MATCH($J1756,SorP!$B$1:$B$6230,0))))","v":""},null,{"$f":"IF(C1756=\"\",NA(),MATCH($B1756&$C1756,'Smelter Look-up'!$J:$J,0))","v":{"$error":"#N/A"}},null,0,null,null,null,""]
[{"$nulls":18},{"$f":"IF(ISERROR($W1757),\"\",OFFSET('Smelter Look-up'!$C$4,$W1757-4,0)&\"\")","v":""},"",{"$f":"IF(B1757=\"\",\"\",IF(ISERROR(MATCH($J1757,SorP!$B$1:$B$6230,0)),\"\",INDIRECT(\"'SorP'!$A$\"&MATCH($J1757,SorP!$B$1:$B$6230,0))))","v":""},null,{"$f":"IF(C1757=\"\",NA(),MATCH($B1757&$C1757,'Smelter Look-up'!$J:$J,0))","v":{"$error":"#N/A"}},null,0,null,null,null,""]
[{"$nulls":18},{"$f":"IF(ISERROR($W1758),\"\",OFFSET('Smelter Look-up'!$C$4,$W1758-4,0)&\"\")","v":""},"",{"$f":"IF(B1758=\"\",\"\",IF(ISERROR(MATCH($J1758,SorP!$B$1:$B$6230,0)),\"\",INDIRECT(\"'SorP'!$A$\"&MATCH($J1758,SorP!$B$1:$B$6230,0))))","v":""},null,{"$f":"IF(C1758=\"\",NA(),MATCH($B1758&$C1758,'Smelter Look-up'!$J:$J,0))","v":{"$error":"#N/A"}},null,0,null,null,null,""]
[{"$nulls":18},{"$f":"IF(ISERROR($W1759),\"\",OFFSET('Smelter Look-up'!$C$4,$W1759-4,0)&\"\")","v":""},"",{"$f":"IF(B1759=\"\",\"\",IF(ISERROR(MATCH($J1759,SorP!$B$1:$B$6230,0)),\"\",INDIRECT(\"'SorP'!$A$\"&MATCH($J1759,SorP!$B$1:$B$6230,0))))","v":""},null,{"$f":"IF(C1759=\"\",NA(),MATCH($B1759&$C1759,'Smelter Look-up'!$J:$J,0))","v":{"$error":"#N/A"}},null,0,null,null,null,""]
[{"$nulls":18},{"$f":"IF(ISERROR($W1760),\"\",OFFSET('Smelter Look-up'!$C$4,$W1760-4,0)&\"\")","v":""},"",{"$f":"IF(B1760=\"\",\"\",IF(ISERROR(MATCH($J1760,SorP!$B$1:$B$6230,0)),\"\",INDIRECT(\"'SorP'!$A$\"&MATCH($J1760,SorP!$B$1:$B$6230,0))))","v":""},null,{"$f":"IF(C1760=\"\",NA(),MATCH($B1760&$C1760,'Smelter Look-up'!$J:$J,0))","v":{"$error":"#N/A"}},null,0,null,null,null,""]
[{"$nulls":18},{"$f":"IF(ISERROR($W1761),\"\",OFFSET('Smelter Look-up'!$C$4,$W1761-4,0)&\"\")","v":""},"",{"$f":"IF(B1761=\"\",\"\",IF(ISERROR(MATCH($J1761,SorP!$B$1:$B$6230,0)),\"\",INDIRECT(\"'SorP'!$A$\"&MATCH($J1761,SorP!$B$1:$B$6230,0))))","v":""},null,{"$f":"IF(C1761=\"\",NA(),MATCH($B1761&$C1761,'Smelter Look-up'!$J:$J,0))","v":{"$error":"#N/A"}},null,0,null,null,null,""]
[{"$nulls":18},{"$f":"IF(ISERROR($W1762),\"\",OFFSET('Smelter Look-up'!$C$4,$W1762-4,0)&\"\")","v":""},"",{"$f":"IF(B1762=\"\",\"\",IF(ISERROR(MATCH($J1762,SorP!$B$1:$B$6230,0)),\"\",INDIRECT(\"'SorP'!$A$\"&MATCH($J1762,SorP!$B$1:$B$6230,0))))","v":""},null,{"$f":"IF(C1762=\"\",NA(),MATCH($B1762&$C1762,'Smelter Look-up'!$J:$J,0))","v":{"$error":"#N/A"}},null,0,null,null,null,""]
[{"$nulls":18},{"$f":"IF(ISERROR($W1763),\"\",OFFSET('Smelter Look-up'!$C$4,$W1763-4,0)&\"\")","v":""},"",{"$f":"IF(B1763=\"\",\"\",IF(ISERROR(MATCH($J1763,SorP!$B$1:$B$6230,0)),\"\",INDIRECT(\"'SorP'!$A$\"&MATCH($J1763,SorP!$B$1:$B$6230,0))))","v":""},null,{"$f":"IF(C1763=\"\",NA(),MATCH($B1763&$C1763,'Smelter Look-up'!$J:$J,0))","v":{"$error":"#N/A"}},null,0,null,null,null,""]
[{"$nulls":18},{"$f":"IF(ISERROR($W1764),\"\",OFFSET('Smelter Look-up'!$C$4,$W1764-4,0)&\"\")","v":""},"",{"$f":"IF(B1764=\"\",\"\",IF(ISERROR(MATCH($J1764,SorP!$B$1:$B$6230,0)),\"\",INDIRECT(\"'SorP'!$A$\"&MATCH($J1764,SorP!$B$1:$B$6230,0))))","v":""},null,{"$f":"IF(C1764=\"\",NA(),MATCH($B1764&$C1764,'Smelter Look-up'!$J:$J,0))","v":{"$error":"#N/A"}},null,0,null,null,null,""]
[{"$nulls":18},{"$f":"IF(ISERROR($W1765),\"\",OFFSET('Smelter Look-up'!$C$4,$W1765-4,0)&\"\")","v":""},"",{"$f":"IF(B1765=\"\",\"\",IF(ISERROR(MATCH($J1765,SorP!$B$1:$B$6230,0)),\"\",INDIRECT(\"'SorP'!$A$\"&MATCH($J1765,SorP!$B$1:$B$6230,0))))","v":""},null,{"$f":"IF(C1765=\"\",NA(),MATCH($B1765&$C1765,'Smelter Look-up'!$J:$J,0))","v":{"$error":"#N/A"}},null,0,null,null,null,""]
[{"$nulls":18},{"$f":"IF(ISERROR($W1766),\"\",OFFSET('Smelter Look-up'!$C$4,$W1766-4,0)&\"\")","v":""},"",{"$f":"IF(B1766=\"\",\"\",IF(ISERROR(MATCH($J1766,SorP!$B$1:$B$6230,0)),\"\",INDIRECT(\"'SorP'!$A$\"&MATCH($J1766,SorP!$B$1:$B$6230,0))))","v":""},null,{"$f":"IF(C1766=\"\",NA(),MATCH($B1766&$C1766,'Smelter Look-up'!$J:$J,0))","v":{"$error":"#N/A"}},null,0,null,null,null,""]
[{"$nulls":18},{"$f":"IF(ISERROR($W1767),\"\",OFFSET('Smelter Look-up'!$C$4,$W1767-4,0)&\"\")","v":""},"",{"$f":"IF(B1767=\"\",\"\",IF(ISERROR(MATCH($J1767,SorP!$B$1:$B$6230,0)),\"\",INDIRECT(\"'SorP'!$A$\"&MATCH($J1767,SorP!$B$1:$B$6230,0))))","v":""},null,{"$f":"IF(C1767=\"\",NA(),MATCH($B1767&$C1767,'Smelter Look-up'!$J:$J,0))","v":{"$error":"#N/A"}},null,0,null,null,null,""]
[{"$nulls":18},{"$f":"IF(ISERROR($W1768),\"\",OFFSET('Smelter Look-up'!$C$4,$W1768-4,0)&\"\")","v":""},"",{"$f":"IF(B1768=\"\",\"\",IF(ISERROR(MATCH($J1768,SorP!$B$1:$B$6230,0)),\"\",INDIRECT(\"'SorP'!$A$\"&MATCH($J1768,SorP!$B$1:$B$6230,0))))","v":""},null,{"$f":"IF(C1768=\"\",NA(),MATCH($B1768&$C1768,'Smelter Look-up'!$J:$J,0))","v":{"$error":"#N/A"}},null,0,null,null,null,""]
[{"$nulls":18},{"$f":"IF(ISERROR($W1769),\"\",OFFSET('Smelter Look-up'!$C$4,$W1769-4,0)&\"\")","v":""},"",{"$f":"IF(B1769=\"\",\"\",IF(ISERROR(MATCH($J1769,SorP!$B$1:$B$6230,0)),\"\",INDIRECT(\"'SorP'!$A$\"&MATCH($J1769,SorP!$B$1:$B$6230,0))))","v":""},null,{"$f":"IF(C1769=\"\",NA(),MATCH($B1769&$C1769,'Smelter Look-up'!$J:$J,0))","v":{"$error":"#N/A"}},null,0,null,null,null,""]
[{"$nulls":18},{"$f":"IF(ISERROR($W1770),\"\",OFFSET('Smelter Look-up'!$C$4,$W1770-4,0)&\"\")","v":""},"",{"$f":"IF(B1770=\"\",\"\",IF(ISERROR(MATCH($J1770,SorP!$B$1:$B$6230,0)),\"\",INDIRECT(\"'SorP'!$A$\"&MATCH($J1770,SorP!$B$1:$B$6230,0))))","v":""},null,{"$f":"IF(C1770=\"\",NA(),MATCH($B1770&$C1770,'Smelter Look-up'!$J:$J,0))","v":{"$error":"#N/A"}},null,0,null,null,null,""]
[{"$nulls":18},{"$f":"IF(ISERROR($W1771),\"\",OFFSET('Smelter Look-up'!$C$4,$W1771-4,0)&\"\")","v":""},"",{"$f":"IF(B1771=\"\",\"\",IF(ISERROR(MATCH($J1771,SorP!$B$1:$B$6230,0)),\"\",INDIRECT(\"'SorP'!$A$\"&MATCH($J1771,SorP!$B$1:$B$6230,0))))","v":""},null,{"$f":"IF(C1771=\"\",NA(),MATCH($B1771&$C1771,'Smelter Look-up'!$J:$J,0))","v":{"$error":"#N/A"}},null,0,null,null,null,""]
[{"$nulls":18},{"$f":"IF(ISERROR($W1772),\"\",OFFSET('Smelter Look-up'!$C$4,$W1772-4,0)&\"\")","v":""},"",{"$f":"IF(B1772=\"\",\"\",IF(ISERROR(MATCH($J1772,SorP!$B$1:$B$6230,0)),\"\",INDIRECT(\"'SorP'!$A$\"&MATCH($J1772,SorP!$B$1:$B$6230,0))))","v":""},null,{"$f":"IF(C1772=\"\",NA(),MATCH($B1772&$C1772,'Smelter Look-up'!$J:$J,0))","v":{"$error":"#N/A"}},null,0,null,null,null,""]
[{"$nulls":18},{"$f":"IF(ISERROR($W1773),\"\",OFFSET('Smelter Look-up'!$C$4,$W1773-4,0)&\"\")","v":""},"",{"$f":"IF(B1773=\"\",\"\",IF(ISERROR(MATCH($J1773,SorP!$B$1:$B$6230,0)),\"\",INDIRECT(\"'SorP'!$A$\"&MATCH($J1773,SorP!$B$1:$B$6230,0))))","v":""},null,{"$f":"IF(C1773=\"\",NA(),MATCH($B1773&$C1773,'Smelter Look-up'!$J:$J,0))","v":{"$error":"#N/A"}},null,0,null,null,null,""]
[{"$nulls":18},{"$f":"IF(ISERROR($W1774),\"\",OFFSET('Smelter Look-up'!$C$4,$W1774-4,0)&\"\")","v":""},"",{"$f":"IF(B1774=\"\",\"\",IF(ISERROR(MATCH($J1774,SorP!$B$1:$B$6230,0)),\"\",INDIRECT(\"'SorP'!$A$\"&MATCH($J1774,SorP!$B$1:$B$6230,0))))","v":""},null,{"$f":"IF(C1774=\"\",NA(),MATCH($B1774&$C1774,'Smelter Look-up'!$J:$J,0))","v":{"$error":"#N/A"}},null,0,null,null,null,""]
[{"$nulls":18},{"$f":"IF(ISERROR($W1775),\"\",OFFSET('Smelter Look-up'!$C$4,$W1775-4,0)&\"\")","v":""},"",{"$f":"IF(B1775=\"\",\"\",IF(ISERROR(MATCH($J1775,SorP!$B$1:$B$6230,0)),\"\",INDIRECT(\"'SorP'!$A$\"&MATCH($J1775,SorP!$B$1:$B$6230,0))))","v":""},null,{"$f":"IF(C1775=\"\",NA(),MATCH($B1775&$C1775,'Smelter Look-up'!$J:$J,0))","v":{"$error":"#N/A"}},null,0,null,null,null,""]
[{"$nulls":18},{"$f":"IF(ISERROR($W1776),\"\",OFFSET('Smelter Look-up'!$C$4,$W1776-4,0)&\"\")","v":""},"",{"$f":"IF(B1776=\"\",\"\",IF(ISERROR(MATCH($J1776,SorP!$B$1:$B$6230,0)),\"\",INDIRECT(\"'SorP'!$A$\"&MATCH($J1776,SorP!$B$1:$B$6230,0))))","v":""},null,{"$f":"IF(C1776=\"\",NA(),MATCH($B1776&$C1776,'Smelter Look-up'!$J:$J,0))","v":{"$error":"#N/A"}},null,0,null,null,null,""]
[{"$nulls":18},{"$f":"IF(ISERROR($W1777),\"\",OFFSET('Smelter Look-up'!$C$4,$W1777-4,0)&\"\")","v":""},"",{"$f":"IF(B1777=\"\",\"\",IF(ISERROR(MATCH($J1777,SorP!$B$1:$B$6230,0)),\"\",INDIRECT(\"'SorP'!$A$\"&MATCH($J1777,SorP!$B$1:$B$6230,0))))","v":""},null,{"$f":"IF(C1777=\"\",NA(),MATCH($B1777&$C1777,'Smelter Look-up'!$J:$J,0))","v":{"$error":"#N/A"}},null,0,null,null,null,""]
[{"$nulls":18},{"$f":"IF(ISERROR($W1778),\"\",OFFSET('Smelter Look-up'!$C$4,$W1778-4,0)&\"\")","v":""},"",{"$f":"IF(B1778=\"\",\"\",IF(ISERROR(MATCH($J1778,SorP!$B$1:$B$6230,0)),\"\",INDIRECT(\"'SorP'!$A$\"&MATCH($J1778,SorP!$B$1:$B$6230,0))))","v":""},null,{"$f":"IF(C1778=\"\",NA(),MATCH($B1778&$C1778,'Smelter Look-up'!$J:$J,0))","v":{"$error":"#N/A"}},null,0,null,null,null,""]
[{"$nulls":18},{"$f":"IF(ISERROR($W1779),\"\",OFFSET('Smelter Look-up'!$C$4,$W1779-4,0)&\"\")","v":""},"",{"$f":"IF(B1779=\"\",\"\",IF(ISERROR(MATCH($J1779,SorP!$B$1:$B$6230,0)),\"\",INDIRECT(\"'SorP'!$A$\"&MATCH($J1779,SorP!$B$1:$B$6230,0))))","v":""},null,{"$f":"IF(C1779=\"\",NA(),MATCH($B1779&$C1779,'Smelter Look-up'!$J:$J,0))","v":{"$error":"#N/A"}},null,0,null,null,null,""]
[{"$nulls":18},{"$f":"IF(ISERROR($W1780),\"\",OFFSET('Smelter Look-up'!$C$4,$W1780-4,0)&\"\")","v":""},"",{"$f":"IF(B1780=\"\",\"\",IF(ISERROR(MATCH($J1780,SorP!$B$1:$B$6230,0)),\"\",INDIRECT(\"'SorP'!$A$\"&MATCH($J1780,SorP!$B$1:$B$6230,0))))","v":""},null,{"$f":"IF(C1780=\"\",NA(),MATCH($B1780&$C1780,'Smelter Look-up'!$J:$J,0))","v":{"$error":"#N/A"}},null,0,null,null,null,""]
[{"$nulls":18},{"$f":"IF(ISERROR($W1781),\"\",OFFSET('Smelter Look-up'!$C$4,$W1781-4,0)&\"\")","v":""},"",{"$f":"IF(B1781=\"\",\"\",IF(ISERROR(MATCH($J1781,SorP!$B$1:$B$6230,0)),\"\",INDIRECT(\"'SorP'!$A$\"&MATCH($J1781,SorP!$B$1:$B$6230,0))))","v":""},null,{"$f":"IF(C1781=\"\",NA(),MATCH($B1781&$C1781,'Smelter Look-up'!$J:$J,0))","v":{"$error":"#N/A"}},null,0,null,null,null,""]
[{"$nulls":18},{"$f":"IF(ISERROR($W1782),\"\",OFFSET('Smelter Look-up'!$C$4,$W1782-4,0)&\"\")","v":""},"",{"$f":"IF(B1782=\"\",\"\",IF(ISERROR(MATCH($J1782,SorP!$B$1:$B$6230,0)),\"\",INDIRECT(\"'SorP'!$A$\"&MATCH($J1782,SorP!$B$1:$B$6230,0))))","v":""},null,{"$f":"IF(C1782=\"\",NA(),MATCH($B1782&$C1782,'Smelter Look-up'!$J:$J,0))","v":{"$error":"#N/A"}},null,0,null,null,null,""]
[{"$nulls":18},{"$f":"IF(ISERROR($W1783),\"\",OFFSET('Smelter Look-up'!$C$4,$W1783-4,0)&\"\")","v":""},"",{"$f":"IF(B1783=\"\",\"\",IF(ISERROR(MATCH($J1783,SorP!$B$1:$B$6230,0)),\"\",INDIRECT(\"'SorP'!$A$\"&MATCH($J1783,SorP!$B$1:$B$6230,0))))","v":""},null,{"$f":"IF(C1783=\"\",NA(),MATCH($B1783&$C1783,'Smelter Look-up'!$J:$J,0))","v":{"$error":"#N/A"}},null,0,null,null,null,""]
[{"$nulls":18},{"$f":"IF(ISERROR($W1784),\"\",OFFSET('Smelter Look-up'!$C$4,$W1784-4,0)&\"\")","v":""},"",{"$f":"IF(B1784=\"\",\"\",IF(ISERROR(MATCH($J1784,SorP!$B$1:$B$6230,0)),\"\",INDIRECT(\"'SorP'!$A$\"&MATCH($J1784,SorP!$B$1:$B$6230,0))))","v":""},null,{"$f":"IF(C1784=\"\",NA(),MATCH($B1784&$C1784,'Smelter Look-up'!$J:$J,0))","v":{"$error":"#N/A"}},null,0,null,null,null,""]
[{"$nulls":18},{"$f":"IF(ISERROR($W1785),\"\",OFFSET('Smelter Look-up'!$C$4,$W1785-4,0)&\"\")","v":""},"",{"$f":"IF(B1785=\"\",\"\",IF(ISERROR(MATCH($J1785,SorP!$B$1:$B$6230,0)),\"\",INDIRECT(\"'SorP'!$A$\"&MATCH($J1785,SorP!$B$1:$B$6230,0))))","v":""},null,{"$f":"IF(C1785=\"\",NA(),MATCH($B1785&$C1785,'Smelter Look-up'!$J:$J,0))","v":{"$error":"#N/A"}},null,0,null,null,null,""]
[{"$nulls":18},{"$f":"IF(ISERROR($W1786),\"\",OFFSET('Smelter Look-up'!$C$4,$W1786-4,0)&\"\")","v":""},"",{"$f":"IF(B1786=\"\",\"\",IF(ISERROR(MATCH($J1786,SorP!$B$1:$B$6230,0)),\"\",INDIRECT(\"'SorP'!$A$\"&MATCH($J1786,SorP!$B$1:$B$6230,0))))","v":""},null,{"$f":"IF(C1786=\"\",NA(),MATCH($B1786&$C1786,'Smelter Look-up'!$J:$J,0))","v":{"$error":"#N/A"}},null,0,null,null,null,""]
[{"$nulls":18},{"$f":"IF(ISERROR($W1787),\"\",OFFSET('Smelter Look-up'!$C$4,$W1787-4,0)&\"\")","v":""},"",{"$f":"IF(B1787=\"\",\"\",IF(ISERROR(MATCH($J1787,SorP!$B$1:$B$6230,0)),\"\",INDIRECT(\"'SorP'!$A$\"&MATCH($J1787,SorP!$B$1:$B$6230,0))))","v":""},null,{"$f":"IF(C1787=\"\",NA(),MATCH($B1787&$C1787,'Smelter Look-up'!$J:$J,0))","v":{"$error":"#N/A"}},null,0,null,null,null,""]
[{"$nulls":18},{"$f":"IF(ISERROR($W1788),\"\",OFFSET('Smelter Look-up'!$C$4,$W1788-4,0)&\"\")","v":""},"",{"$f":"IF(B1788=\"\",\"\",IF(ISERROR(MATCH($J1788,SorP!$B$1:$B$6230,0)),\"\",INDIRECT(\"'SorP'!$A$\"&MATCH($J1788,SorP!$B$1:$B$6230,0))))","v":""},null,{"$f":"IF(C1788=\"\",NA(),MATCH($B1788&$C1788,'Smelter Look-up'!$J:$J,0))","v":{"$error":"#N/A"}},null,0,null,null,null,""]
[{"$nulls":18},{"$f":"IF(ISERROR($W1789),\"\",OFFSET('Smelter Look-up'!$C$4,$W1789-4,0)&\"\")","v":""},"",{"$f":"IF(B1789=\"\",\"\",IF(ISERROR(MATCH($J1789,SorP!$B$1:$B$6230,0)),\"\",INDIRECT(\"'SorP'!$A$\"&MATCH($J1789,SorP!$B$1:$B$6230,0))))","v":""},null,{"$f":"IF(C1789=\"\",NA(),MATCH($B1789&$C1789,'Smelter Look-up'!$J:$J,0))","v":{"$error":"#N/A"}},null,0,null,null,null,""]
[{"$nulls":18},{"$f":"IF(ISERROR($W1790),\"\",OFFSET('Smelter Look-up'!$C$4,$W1790-4,0)&\"\")","v":""},"",{"$f":"IF(B1790=\"\",\"\",IF(ISERROR(MATCH($J1790,SorP!$B$1:$B$6230,0)),\"\",INDIRECT(\"'SorP'!$A$\"&MATCH($J1790,SorP!$B$1:$B$6230,0))))","v":""},null,{"$f":"IF(C1790=\"\",NA(),MATCH($B1790&$C1790,'Smelter Look-up'!$J:$J,0))","v":{"$error":"#N/A"}},null,0,null,null,null,""]
[{"$nulls":18},{"$f":"IF(ISERROR($W1791),\"\",OFFSET('Smelter Look-up'!$C$4,$W1791-4,0)&\"\")","v":""},"",{"$f":"IF(B1791=\"\",\"\",IF(ISERROR(MATCH($J1791,SorP!$B$1:$B$6230,0)),\"\",INDIRECT(\"'SorP'!$A$\"&MATCH($J1791,SorP!$B$1:$B$6230,0))))","v":""},null,{"$f":"IF(C1791=\"\",NA(),MATCH($B1791&$C1791,'Smelter Look-up'!$J:$J,0))","v":{"$error":"#N/A"}},null,0,null,null,null,""]
[{"$nulls":18},{"$f":"IF(ISERROR($W1792),\"\",OFFSET('Smelter Look-up'!$C$4,$W1792-4,0)&\"\")","v":""},"",{"$f":"IF(B1792=\"\",\"\",IF(ISERROR(MATCH($J1792,SorP!$B$1:$B$6230,0)),\"\",INDIRECT(\"'SorP'!$A$\"&MATCH($J1792,SorP!$B$1:$B$6230,0))))","v":""},null,{"$f":"IF(C1792=\"\",NA(),MATCH($B1792&$C1792,'Smelter Look-up'!$J:$J,0))","v":{"$error":"#N/A"}},null,0,null,null,null,""]
[{"$nulls":18},{"$f":"IF(ISERROR($W1793),\"\",OFFSET('Smelter Look-up'!$C$4,$W1793-4,0)&\"\")","v":""},"",{"$f":"IF(B1793=\"\",\"\",IF(ISERROR(MATCH($J1793,SorP!$B$1:$B$6230,0)),\"\",INDIRECT(\"'SorP'!$A$\"&MATCH($J1793,SorP!$B$1:$B$6230,0))))","v":""},null,{"$f":"IF(C1793=\"\",NA(),MATCH($B1793&$C1793,'Smelter Look-up'!$J:$J,0))","v":{"$error":"#N/A"}},null,0,null,null,null,""]
[{"$nulls":18},{"$f":"IF(ISERROR($W1794),\"\",OFFSET('Smelter Look-up'!$C$4,$W1794-4,0)&\"\")","v":""},"",{"$f":"IF(B1794=\"\",\"\",IF(ISERROR(MATCH($J1794,SorP!$B$1:$B$6230,0)),\"\",INDIRECT(\"'SorP'!$A$\"&MATCH($J1794,SorP!$B$1:$B$6230,0))))","v":""},null,{"$f":"IF(C1794=\"\",NA(),MATCH($B1794&$C1794,'Smelter Look-up'!$J:$J,0))","v":{"$error":"#N/A"}},null,0,null,null,null,""]
[{"$nulls":18},{"$f":"IF(ISERROR($W1795),\"\",OFFSET('Smelter Look-up'!$C$4,$W1795-4,0)&\"\")","v":""},"",{"$f":"IF(B1795=\"\",\"\",IF(ISERROR(MATCH($J1795,SorP!$B$1:$B$6230,0)),\"\",INDIRECT(\"'SorP'!$A$\"&MATCH($J1795,SorP!$B$1:$B$6230,0))))","v":""},null,{"$f":"IF(C1795=\"\",NA(),MATCH($B1795&$C1795,'Smelter Look-up'!$J:$J,0))","v":{"$error":"#N/A"}},null,0,null,null,null,""]
[{"$nulls":18},{"$f":"IF(ISERROR($W1796),\"\",OFFSET('Smelter Look-up'!$C$4,$W1796-4,0)&\"\")","v":""},"",{"$f":"IF(B1796=\"\",\"\",IF(ISERROR(MATCH($J1796,SorP!$B$1:$B$6230,0)),\"\",INDIRECT(\"'SorP'!$A$\"&MATCH($J1796,SorP!$B$1:$B$6230,0))))","v":""},null,{"$f":"IF(C1796=\"\",NA(),MATCH($B1796&$C1796,'Smelter Look-up'!$J:$J,0))","v":{"$error":"#N/A"}},null,0,null,null,null,""]
[{"$nulls":18},{"$f":"IF(ISERROR($W1797),\"\",OFFSET('Smelter Look-up'!$C$4,$W1797-4,0)&\"\")","v":""},{"$f":"IF(B1797=\"\",\"\",IF(ISERROR(MATCH($E1797,CL,0)),\"Unknown\",INDIRECT(\"'C'!$A$\"&MATCH($E1797,CL,0)+1)))","v":""},{"$f":"IF(B1797=\"\",\"\",IF(ISERROR(MATCH($J1797,SorP!$B$1:$B$6230,0)),\"\",INDIRECT(\"'SorP'!$A$\"&MATCH($J1797,SorP!$B$1:$B$6230,0))))","v":""},null,{"$f":"IF(C1797=\"\",NA(),MATCH($B1797&$C1797,'Smelter Look-up'!$J:$J,0))","v":{"$error":"#N/A"}},null,{"$f":"IF(AND(C1797=\"Smelter not listed\",OR(LEN(D1797)=0,LEN(E1797)=0)),1,0)","v":0},null,null,null,{"$f":"B1797&C1797","v":""}]
[{"$nulls":18},{"$f":"IF(ISERROR($W1798),\"\",OFFSET('Smelter Look-up'!$C$4,$W1798-4,0)&\"\")","v":""},"",{"$f":"IF(B1798=\"\",\"\",IF(ISERROR(MATCH($J1798,SorP!$B$1:$B$6230,0)),\"\",INDIRECT(\"'SorP'!$A$\"&MATCH($J1798,SorP!$B$1:$B$6230,0))))","v":""},null,{"$f":"IF(C1798=\"\",NA(),MATCH($B1798&$C1798,'Smelter Look-up'!$J:$J,0))","v":{"$error":"#N/A"}},null,0,null,null,null,""]
[{"$nulls":18},{"$f":"IF(ISERROR($W1799),\"\",OFFSET('Smelter Look-up'!$C$4,$W1799-4,0)&\"\")","v":""},"",{"$f":"IF(B1799=\"\",\"\",IF(ISERROR(MATCH($J1799,SorP!$B$1:$B$6230,0)),\"\",INDIRECT(\"'SorP'!$A$\"&MATCH($J1799,SorP!$B$1:$B$6230,0))))","v":""},null,{"$f":"IF(C1799=\"\",NA(),MATCH($B1799&$C1799,'Smelter Look-up'!$J:$J,0))","v":{"$error":"#N/A"}},null,0,null,null,null,""]
[{"$nulls":18},{"$f":"IF(ISERROR($W1800),\"\",OFFSET('Smelter Look-up'!$C$4,$W1800-4,0)&\"\")","v":""},"",{"$f":"IF(B1800=\"\",\"\",IF(ISERROR(MATCH($J1800,SorP!$B$1:$B$6230,0)),\"\",INDIRECT(\"'SorP'!$A$\"&MATCH($J1800,SorP!$B$1:$B$6230,0))))","v":""},null,{"$f":"IF(C1800=\"\",NA(),MATCH($B1800&$C1800,'Smelter Look-up'!$J:$J,0))","v":{"$error":"#N/A"}},null,0,null,null,null,""]
[{"$nulls":18},{"$f":"IF(ISERROR($W1801),\"\",OFFSET('Smelter Look-up'!$C$4,$W1801-4,0)&\"\")","v":""},"",{"$f":"IF(B1801=\"\",\"\",IF(ISERROR(MATCH($J1801,SorP!$B$1:$B$6230,0)),\"\",INDIRECT(\"'SorP'!$A$\"&MATCH($J1801,SorP!$B$1:$B$6230,0))))","v":""},null,{"$f":"IF(C1801=\"\",NA(),MATCH($B1801&$C1801,'Smelter Look-up'!$J:$J,0))","v":{"$error":"#N/A"}},null,0,null,null,null,""]
[{"$nulls":18},{"$f":"IF(ISERROR($W1802),\"\",OFFSET('Smelter Look-up'!$C$4,$W1802-4,0)&\"\")","v":""},"",{"$f":"IF(B1802=\"\",\"\",IF(ISERROR(MATCH($J1802,SorP!$B$1:$B$6230,0)),\"\",INDIRECT(\"'SorP'!$A$\"&MATCH($J1802,SorP!$B$1:$B$6230,0))))","v":""},null,{"$f":"IF(C1802=\"\",NA(),MATCH($B1802&$C1802,'Smelter Look-up'!$J:$J,0))","v":{"$error":"#N/A"}},null,0,null,null,null,""]
[{"$nulls":18},{"$f":"IF(ISERROR($W1803),\"\",OFFSET('Smelter Look-up'!$C$4,$W1803-4,0)&\"\")","v":""},"",{"$f":"IF(B1803=\"\",\"\",IF(ISERROR(MATCH($J1803,SorP!$B$1:$B$6230,0)),\"\",INDIRECT(\"'SorP'!$A$\"&MATCH($J1803,SorP!$B$1:$B$6230,0))))","v":""},null,{"$f":"IF(C1803=\"\",NA(),MATCH($B1803&$C1803,'Smelter Look-up'!$J:$J,0))","v":{"$error":"#N/A"}},null,0,null,null,null,""]
[{"$nulls":18},{"$f":"IF(ISERROR($W1804),\"\",OFFSET('Smelter Look-up'!$C$4,$W1804-4,0)&\"\")","v":""},"",{"$f":"IF(B1804=\"\",\"\",IF(ISERROR(MATCH($J1804,SorP!$B$1:$B$6230,0)),\"\",INDIRECT(\"'SorP'!$A$\"&MATCH($J1804,SorP!$B$1:$B$6230,0))))","v":""},null,{"$f":"IF(C1804=\"\",NA(),MATCH($B1804&$C1804,'Smelter Look-up'!$J:$J,0))","v":{"$error":"#N/A"}},null,0,null,null,null,""]
[{"$nulls":18},{"$f":"IF(ISERROR($W1805),\"\",OFFSET('Smelter Look-up'!$C$4,$W1805-4,0)&\"\")","v":""},"",{"$f":"IF(B1805=\"\",\"\",IF(ISERROR(MATCH($J1805,SorP!$B$1:$B$6230,0)),\"\",INDIRECT(\"'SorP'!$A$\"&MATCH($J1805,SorP!$B$1:$B$6230,0))))","v":""},null,{"$f":"IF(C1805=\"\",NA(),MATCH($B1805&$C1805,'Smelter Look-up'!$J:$J,0))","v":{"$error":"#N/A"}},null,0,null,null,null,""]
[{"$nulls":18},{"$f":"IF(ISERROR($W1806),\"\",OFFSET('Smelter Look-up'!$C$4,$W1806-4,0)&\"\")","v":""},"",{"$f":"IF(B1806=\"\",\"\",IF(ISERROR(MATCH($J1806,SorP!$B$1:$B$6230,0)),\"\",INDIRECT(\"'SorP'!$A$\"&MATCH($J1806,SorP!$B$1:$B$6230,0))))","v":""},null,{"$f":"IF(C1806=\"\",NA(),MATCH($B1806&$C1806,'Smelter Look-up'!$J:$J,0))","v":{"$error":"#N/A"}},null,0,null,null,null,""]
[{"$nulls":18},{"$f":"IF(ISERROR($W1807),\"\",OFFSET('Smelter Look-up'!$C$4,$W1807-4,0)&\"\")","v":""},"",{"$f":"IF(B1807=\"\",\"\",IF(ISERROR(MATCH($J1807,SorP!$B$1:$B$6230,0)),\"\",INDIRECT(\"'SorP'!$A$\"&MATCH($J1807,SorP!$B$1:$B$6230,0))))","v":""},null,{"$f":"IF(C1807=\"\",NA(),MATCH($B1807&$C1807,'Smelter Look-up'!$J:$J,0))","v":{"$error":"#N/A"}},null,0,null,null,null,""]
[{"$nulls":18},{"$f":"IF(ISERROR($W1808),\"\",OFFSET('Smelter Look-up'!$C$4,$W1808-4,0)&\"\")","v":""},"",{"$f":"IF(B1808=\"\",\"\",IF(ISERROR(MATCH($J1808,SorP!$B$1:$B$6230,0)),\"\",INDIRECT(\"'SorP'!$A$\"&MATCH($J1808,SorP!$B$1:$B$6230,0))))","v":""},null,{"$f":"IF(C1808=\"\",NA(),MATCH($B1808&$C1808,'Smelter Look-up'!$J:$J,0))","v":{"$error":"#N/A"}},null,0,null,null,null,""]
[{"$nulls":18},{"$f":"IF(ISERROR($W1809),\"\",OFFSET('Smelter Look-up'!$C$4,$W1809-4,0)&\"\")","v":""},"",{"$f":"IF(B1809=\"\",\"\",IF(ISERROR(MATCH($J1809,SorP!$B$1:$B$6230,0)),\"\",INDIRECT(\"'SorP'!$A$\"&MATCH($J1809,SorP!$B$1:$B$6230,0))))","v":""},null,{"$f":"IF(C1809=\"\",NA(),MATCH($B1809&$C1809,'Smelter Look-up'!$J:$J,0))","v":{"$error":"#N/A"}},null,0,null,null,null,""]
[{"$nulls":18},{"$f":"IF(ISERROR($W1810),\"\",OFFSET('Smelter Look-up'!$C$4,$W1810-4,0)&\"\")","v":""},"",{"$f":"IF(B1810=\"\",\"\",IF(ISERROR(MATCH($J1810,SorP!$B$1:$B$6230,0)),\"\",INDIRECT(\"'SorP'!$A$\"&MATCH($J1810,SorP!$B$1:$B$6230,0))))","v":""},null,{"$f":"IF(C1810=\"\",NA(),MATCH($B1810&$C1810,'Smelter Look-up'!$J:$J,0))","v":{"$error":"#N/A"}},null,0,null,null,null,""]
[{"$nulls":18},{"$f":"IF(ISERROR($W1811),\"\",OFFSET('Smelter Look-up'!$C$4,$W1811-4,0)&\"\")","v":""},"",{"$f":"IF(B1811=\"\",\"\",IF(ISERROR(MATCH($J1811,SorP!$B$1:$B$6230,0)),\"\",INDIRECT(\"'SorP'!$A$\"&MATCH($J1811,SorP!$B$1:$B$6230,0))))","v":""},null,{"$f":"IF(C1811=\"\",NA(),MATCH($B1811&$C1811,'Smelter Look-up'!$J:$J,0))","v":{"$error":"#N/A"}},null,0,null,null,null,""]
[{"$nulls":18},{"$f":"IF(ISERROR($W1812),\"\",OFFSET('Smelter Look-up'!$C$4,$W1812-4,0)&\"\")","v":""},"",{"$f":"IF(B1812=\"\",\"\",IF(ISERROR(MATCH($J1812,SorP!$B$1:$B$6230,0)),\"\",INDIRECT(\"'SorP'!$A$\"&MATCH($J1812,SorP!$B$1:$B$6230,0))))","v":""},null,{"$f":"IF(C1812=\"\",NA(),MATCH($B1812&$C1812,'Smelter Look-up'!$J:$J,0))","v":{"$error":"#N/A"}},null,0,null,null,null,""]
[{"$nulls":18},{"$f":"IF(ISERROR($W1813),\"\",OFFSET('Smelter Look-up'!$C$4,$W1813-4,0)&\"\")","v":""},"",{"$f":"IF(B1813=\"\",\"\",IF(ISERROR(MATCH($J1813,SorP!$B$1:$B$6230,0)),\"\",INDIRECT(\"'SorP'!$A$\"&MATCH($J1813,SorP!$B$1:$B$6230,0))))","v":""},null,{"$f":"IF(C1813=\"\",NA(),MATCH($B1813&$C1813,'Smelter Look-up'!$J:$J,0))","v":{"$error":"#N/A"}},null,0,null,null,null,""]
[{"$nulls":18},{"$f":"IF(ISERROR($W1814),\"\",OFFSET('Smelter Look-up'!$C$4,$W1814-4,0)&\"\")","v":""},"",{"$f":"IF(B1814=\"\",\"\",IF(ISERROR(MATCH($J1814,SorP!$B$1:$B$6230,0)),\"\",INDIRECT(\"'SorP'!$A$\"&MATCH($J1814,SorP!$B$1:$B$6230,0))))","v":""},null,{"$f":"IF(C1814=\"\",NA(),MATCH($B1814&$C1814,'Smelter Look-up'!$J:$J,0))","v":{"$error":"#N/A"}},null,0,null,null,null,""]
[{"$nulls":18},{"$f":"IF(ISERROR($W1815),\"\",OFFSET('Smelter Look-up'!$C$4,$W1815-4,0)&\"\")","v":""},"",{"$f":"IF(B1815=\"\",\"\",IF(ISERROR(MATCH($J1815,SorP!$B$1:$B$6230,0)),\"\",INDIRECT(\"'SorP'!$A$\"&MATCH($J1815,SorP!$B$1:$B$6230,0))))","v":""},null,{"$f":"IF(C1815=\"\",NA(),MATCH($B1815&$C1815,'Smelter Look-up'!$J:$J,0))","v":{"$error":"#N/A"}},null,0,null,null,null,""]
[{"$nulls":18},{"$f":"IF(ISERROR($W1816),\"\",OFFSET('Smelter Look-up'!$C$4,$W1816-4,0)&\"\")","v":""},"",{"$f":"IF(B1816=\"\",\"\",IF(ISERROR(MATCH($J1816,SorP!$B$1:$B$6230,0)),\"\",INDIRECT(\"'SorP'!$A$\"&MATCH($J1816,SorP!$B$1:$B$6230,0))))","v":""},null,{"$f":"IF(C1816=\"\",NA(),MATCH($B1816&$C1816,'Smelter Look-up'!$J:$J,0))","v":{"$error":"#N/A"}},null,0,null,null,null,""]
[{"$nulls":18},{"$f":"IF(ISERROR($W1817),\"\",OFFSET('Smelter Look-up'!$C$4,$W1817-4,0)&\"\")","v":""},"",{"$f":"IF(B1817=\"\",\"\",IF(ISERROR(MATCH($J1817,SorP!$B$1:$B$6230,0)),\"\",INDIRECT(\"'SorP'!$A$\"&MATCH($J1817,SorP!$B$1:$B$6230,0))))","v":""},null,{"$f":"IF(C1817=\"\",NA(),MATCH($B1817&$C1817,'Smelter Look-up'!$J:$J,0))","v":{"$error":"#N/A"}},null,0,null,null,null,""]
[{"$nulls":18},{"$f":"IF(ISERROR($W1818),\"\",OFFSET('Smelter Look-up'!$C$4,$W1818-4,0)&\"\")","v":""},"",{"$f":"IF(B1818=\"\",\"\",IF(ISERROR(MATCH($J1818,SorP!$B$1:$B$6230,0)),\"\",INDIRECT(\"'SorP'!$A$\"&MATCH($J1818,SorP!$B$1:$B$6230,0))))","v":""},null,{"$f":"IF(C1818=\"\",NA(),MATCH($B1818&$C1818,'Smelter Look-up'!$J:$J,0))","v":{"$error":"#N/A"}},null,0,null,null,null,""]
[{"$nulls":18},{"$f":"IF(ISERROR($W1819),\"\",OFFSET('Smelter Look-up'!$C$4,$W1819-4,0)&\"\")","v":""},"",{"$f":"IF(B1819=\"\",\"\",IF(ISERROR(MATCH($J1819,SorP!$B$1:$B$6230,0)),\"\",INDIRECT(\"'SorP'!$A$\"&MATCH($J1819,SorP!$B$1:$B$6230,0))))","v":""},null,{"$f":"IF(C1819=\"\",NA(),MATCH($B1819&$C1819,'Smelter Look-up'!$J:$J,0))","v":{"$error":"#N/A"}},null,0,null,null,null,""]
[{"$nulls":18},{"$f":"IF(ISERROR($W1820),\"\",OFFSET('Smelter Look-up'!$C$4,$W1820-4,0)&\"\")","v":""},"",{"$f":"IF(B1820=\"\",\"\",IF(ISERROR(MATCH($J1820,SorP!$B$1:$B$6230,0)),\"\",INDIRECT(\"'SorP'!$A$\"&MATCH($J1820,SorP!$B$1:$B$6230,0))))","v":""},null,{"$f":"IF(C1820=\"\",NA(),MATCH($B1820&$C1820,'Smelter Look-up'!$J:$J,0))","v":{"$error":"#N/A"}},null,0,null,null,null,""]
[{"$nulls":18},{"$f":"IF(ISERROR($W1821),\"\",OFFSET('Smelter Look-up'!$C$4,$W1821-4,0)&\"\")","v":""},"",{"$f":"IF(B1821=\"\",\"\",IF(ISERROR(MATCH($J1821,SorP!$B$1:$B$6230,0)),\"\",INDIRECT(\"'SorP'!$A$\"&MATCH($J1821,SorP!$B$1:$B$6230,0))))","v":""},null,{"$f":"IF(C1821=\"\",NA(),MATCH($B1821&$C1821,'Smelter Look-up'!$J:$J,0))","v":{"$error":"#N/A"}},null,0,null,null,null,""]
[{"$nulls":18},{"$f":"IF(ISERROR($W1822),\"\",OFFSET('Smelter Look-up'!$C$4,$W1822-4,0)&\"\")","v":""},"",{"$f":"IF(B1822=\"\",\"\",IF(ISERROR(MATCH($J1822,SorP!$B$1:$B$6230,0)),\"\",INDIRECT(\"'SorP'!$A$\"&MATCH($J1822,SorP!$B$1:$B$6230,0))))","v":""},null,{"$f":"IF(C1822=\"\",NA(),MATCH($B1822&$C1822,'Smelter Look-up'!$J:$J,0))","v":{"$error":"#N/A"}},null,0,null,null,null,""]
[{"$nulls":18},{"$f":"IF(ISERROR($W1823),\"\",OFFSET('Smelter Look-up'!$C$4,$W1823-4,0)&\"\")","v":""},"",{"$f":"IF(B1823=\"\",\"\",IF(ISERROR(MATCH($J1823,SorP!$B$1:$B$6230,0)),\"\",INDIRECT(\"'SorP'!$A$\"&MATCH($J1823,SorP!$B$1:$B$6230,0))))","v":""},null,{"$f":"IF(C1823=\"\",NA(),MATCH($B1823&$C1823,'Smelter Look-up'!$J:$J,0))","v":{"$error":"#N/A"}},null,0,null,null,null,""]
[{"$nulls":18},{"$f":"IF(ISERROR($W1824),\"\",OFFSET('Smelter Look-up'!$C$4,$W1824-4,0)&\"\")","v":""},"",{"$f":"IF(B1824=\"\",\"\",IF(ISERROR(MATCH($J1824,SorP!$B$1:$B$6230,0)),\"\",INDIRECT(\"'SorP'!$A$\"&MATCH($J1824,SorP!$B$1:$B$6230,0))))","v":""},null,{"$f":"IF(C1824=\"\",NA(),MATCH($B1824&$C1824,'Smelter Look-up'!$J:$J,0))","v":{"$error":"#N/A"}},null,0,null,null,null,""]
[{"$nulls":18},{"$f":"IF(ISERROR($W1825),\"\",OFFSET('Smelter Look-up'!$C$4,$W1825-4,0)&\"\")","v":""},"",{"$f":"IF(B1825=\"\",\"\",IF(ISERROR(MATCH($J1825,SorP!$B$1:$B$6230,0)),\"\",INDIRECT(\"'SorP'!$A$\"&MATCH($J1825,SorP!$B$1:$B$6230,0))))","v":""},null,{"$f":"IF(C1825=\"\",NA(),MATCH($B1825&$C1825,'Smelter Look-up'!$J:$J,0))","v":{"$error":"#N/A"}},null,0,null,null,null,""]
[{"$nulls":18},{"$f":"IF(ISERROR($W1826),\"\",OFFSET('Smelter Look-up'!$C$4,$W1826-4,0)&\"\")","v":""},"",{"$f":"IF(B1826=\"\",\"\",IF(ISERROR(MATCH($J1826,SorP!$B$1:$B$6230,0)),\"\",INDIRECT(\"'SorP'!$A$\"&MATCH($J1826,SorP!$B$1:$B$6230,0))))","v":""},null,{"$f":"IF(C1826=\"\",NA(),MATCH($B1826&$C1826,'Smelter Look-up'!$J:$J,0))","v":{"$error":"#N/A"}},null,0,null,null,null,""]
[{"$nulls":18},{"$f":"IF(ISERROR($W1827),\"\",OFFSET('Smelter Look-up'!$C$4,$W1827-4,0)&\"\")","v":""},"",{"$f":"IF(B1827=\"\",\"\",IF(ISERROR(MATCH($J1827,SorP!$B$1:$B$6230,0)),\"\",INDIRECT(\"'SorP'!$A$\"&MATCH($J1827,SorP!$B$1:$B$6230,0))))","v":""},null,{"$f":"IF(C1827=\"\",NA(),MATCH($B1827&$C1827,'Smelter Look-up'!$J:$J,0))","v":{"$error":"#N/A"}},null,0,null,null,null,""]
[{"$nulls":18},{"$f":"IF(ISERROR($W1828),\"\",OFFSET('Smelter Look-up'!$C$4,$W1828-4,0)&\"\")","v":""},"",{"$f":"IF(B1828=\"\",\"\",IF(ISERROR(MATCH($J1828,SorP!$B$1:$B$6230,0)),\"\",INDIRECT(\"'SorP'!$A$\"&MATCH($J1828,SorP!$B$1:$B$6230,0))))","v":""},null,{"$f":"IF(C1828=\"\",NA(),MATCH($B1828&$C1828,'Smelter Look-up'!$J:$J,0))","v":{"$error":"#N/A"}},null,0,null,null,null,""]
[{"$nulls":18},{"$f":"IF(ISERROR($W1829),\"\",OFFSET('Smelter Look-up'!$C$4,$W1829-4,0)&\"\")","v":""},"",{"$f":"IF(B1829=\"\",\"\",IF(ISERROR(MATCH($J1829,SorP!$B$1:$B$6230,0)),\"\",INDIRECT(\"'SorP'!$A$\"&MATCH($J1829,SorP!$B$1:$B$6230,0))))","v":""},null,{"$f":"IF(C1829=\"\",NA(),MATCH($B1829&$C1829,'Smelter Look-up'!$J:$J,0))","v":{"$error":"#N/A"}},null,0,null,null,null,""]
[{"$nulls":18},{"$f":"IF(ISERROR($W1830),\"\",OFFSET('Smelter Look-up'!$C$4,$W1830-4,0)&\"\")","v":""},"",{"$f":"IF(B1830=\"\",\"\",IF(ISERROR(MATCH($J1830,SorP!$B$1:$B$6230,0)),\"\",INDIRECT(\"'SorP'!$A$\"&MATCH($J1830,SorP!$B$1:$B$6230,0))))","v":""},null,{"$f":"IF(C1830=\"\",NA(),MATCH($B1830&$C1830,'Smelter Look-up'!$J:$J,0))","v":{"$error":"#N/A"}},null,0,null,null,null,""]
[{"$nulls":18},{"$f":"IF(ISERROR($W1831),\"\",OFFSET('Smelter Look-up'!$C$4,$W1831-4,0)&\"\")","v":""},"",{"$f":"IF(B1831=\"\",\"\",IF(ISERROR(MATCH($J1831,SorP!$B$1:$B$6230,0)),\"\",INDIRECT(\"'SorP'!$A$\"&MATCH($J1831,SorP!$B$1:$B$6230,0))))","v":""},null,{"$f":"IF(C1831=\"\",NA(),MATCH($B1831&$C1831,'Smelter Look-up'!$J:$J,0))","v":{"$error":"#N/A"}},null,0,null,null,null,""]
[{"$nulls":18},{"$f":"IF(ISERROR($W1832),\"\",OFFSET('Smelter Look-up'!$C$4,$W1832-4,0)&\"\")","v":""},"",{"$f":"IF(B1832=\"\",\"\",IF(ISERROR(MATCH($J1832,SorP!$B$1:$B$6230,0)),\"\",INDIRECT(\"'SorP'!$A$\"&MATCH($J1832,SorP!$B$1:$B$6230,0))))","v":""},null,{"$f":"IF(C1832=\"\",NA(),MATCH($B1832&$C1832,'Smelter Look-up'!$J:$J,0))","v":{"$error":"#N/A"}},null,0,null,null,null,""]
[{"$nulls":18},{"$f":"IF(ISERROR($W1833),\"\",OFFSET('Smelter Look-up'!$C$4,$W1833-4,0)&\"\")","v":""},"",{"$f":"IF(B1833=\"\",\"\",IF(ISERROR(MATCH($J1833,SorP!$B$1:$B$6230,0)),\"\",INDIRECT(\"'SorP'!$A$\"&MATCH($J1833,SorP!$B$1:$B$6230,0))))","v":""},null,{"$f":"IF(C1833=\"\",NA(),MATCH($B1833&$C1833,'Smelter Look-up'!$J:$J,0))","v":{"$error":"#N/A"}},null,0,null,null,null,""]
[{"$nulls":18},{"$f":"IF(ISERROR($W1834),\"\",OFFSET('Smelter Look-up'!$C$4,$W1834-4,0)&\"\")","v":""},"",{"$f":"IF(B1834=\"\",\"\",IF(ISERROR(MATCH($J1834,SorP!$B$1:$B$6230,0)),\"\",INDIRECT(\"'SorP'!$A$\"&MATCH($J1834,SorP!$B$1:$B$6230,0))))","v":""},null,{"$f":"IF(C1834=\"\",NA(),MATCH($B1834&$C1834,'Smelter Look-up'!$J:$J,0))","v":{"$error":"#N/A"}},null,0,null,null,null,""]
[{"$nulls":18},{"$f":"IF(ISERROR($W1835),\"\",OFFSET('Smelter Look-up'!$C$4,$W1835-4,0)&\"\")","v":""},"",{"$f":"IF(B1835=\"\",\"\",IF(ISERROR(MATCH($J1835,SorP!$B$1:$B$6230,0)),\"\",INDIRECT(\"'SorP'!$A$\"&MATCH($J1835,SorP!$B$1:$B$6230,0))))","v":""},null,{"$f":"IF(C1835=\"\",NA(),MATCH($B1835&$C1835,'Smelter Look-up'!$J:$J,0))","v":{"$error":"#N/A"}},null,0,null,null,null,""]
[{"$nulls":18},{"$f":"IF(ISERROR($W1836),\"\",OFFSET('Smelter Look-up'!$C$4,$W1836-4,0)&\"\")","v":""},"",{"$f":"IF(B1836=\"\",\"\",IF(ISERROR(MATCH($J1836,SorP!$B$1:$B$6230,0)),\"\",INDIRECT(\"'SorP'!$A$\"&MATCH($J1836,SorP!$B$1:$B$6230,0))))","v":""},null,{"$f":"IF(C1836=\"\",NA(),MATCH($B1836&$C1836,'Smelter Look-up'!$J:$J,0))","v":{"$error":"#N/A"}},null,0,null,null,null,""]
[{"$nulls":18},{"$f":"IF(ISERROR($W1837),\"\",OFFSET('Smelter Look-up'!$C$4,$W1837-4,0)&\"\")","v":""},"",{"$f":"IF(B1837=\"\",\"\",IF(ISERROR(MATCH($J1837,SorP!$B$1:$B$6230,0)),\"\",INDIRECT(\"'SorP'!$A$\"&MATCH($J1837,SorP!$B$1:$B$6230,0))))","v":""},null,{"$f":"IF(C1837=\"\",NA(),MATCH($B1837&$C1837,'Smelter Look-up'!$J:$J,0))","v":{"$error":"#N/A"}},null,0,null,null,null,""]
[{"$nulls":18},{"$f":"IF(ISERROR($W1838),\"\",OFFSET('Smelter Look-up'!$C$4,$W1838-4,0)&\"\")","v":""},"",{"$f":"IF(B1838=\"\",\"\",IF(ISERROR(MATCH($J1838,SorP!$B$1:$B$6230,0)),\"\",INDIRECT(\"'SorP'!$A$\"&MATCH($J1838,SorP!$B$1:$B$6230,0))))","v":""},null,{"$f":"IF(C1838=\"\",NA(),MATCH($B1838&$C1838,'Smelter Look-up'!$J:$J,0))","v":{"$error":"#N/A"}},null,0,null,null,null,""]
[{"$nulls":18},{"$f":"IF(ISERROR($W1839),\"\",OFFSET('Smelter Look-up'!$C$4,$W1839-4,0)&\"\")","v":""},"",{"$f":"IF(B1839=\"\",\"\",IF(ISERROR(MATCH($J1839,SorP!$B$1:$B$6230,0)),\"\",INDIRECT(\"'SorP'!$A$\"&MATCH($J1839,SorP!$B$1:$B$6230,0))))","v":""},null,{"$f":"IF(C1839=\"\",NA(),MATCH($B1839&$C1839,'Smelter Look-up'!$J:$J,0))","v":{"$error":"#N/A"}},null,0,null,null,null,""]
[{"$nulls":18},{"$f":"IF(ISERROR($W1840),\"\",OFFSET('Smelter Look-up'!$C$4,$W1840-4,0)&\"\")","v":""},"",{"$f":"IF(B1840=\"\",\"\",IF(ISERROR(MATCH($J1840,SorP!$B$1:$B$6230,0)),\"\",INDIRECT(\"'SorP'!$A$\"&MATCH($J1840,SorP!$B$1:$B$6230,0))))","v":""},null,{"$f":"IF(C1840=\"\",NA(),MATCH($B1840&$C1840,'Smelter Look-up'!$J:$J,0))","v":{"$error":"#N/A"}},null,0,null,null,null,""]
[{"$nulls":18},{"$f":"IF(ISERROR($W1841),\"\",OFFSET('Smelter Look-up'!$C$4,$W1841-4,0)&\"\")","v":""},"",{"$f":"IF(B1841=\"\",\"\",IF(ISERROR(MATCH($J1841,SorP!$B$1:$B$6230,0)),\"\",INDIRECT(\"'SorP'!$A$\"&MATCH($J1841,SorP!$B$1:$B$6230,0))))","v":""},null,{"$f":"IF(C1841=\"\",NA(),MATCH($B1841&$C1841,'Smelter Look-up'!$J:$J,0))","v":{"$error":"#N/A"}},null,0,null,null,null,""]
[{"$nulls":18},{"$f":"IF(ISERROR($W1842),\"\",OFFSET('Smelter Look-up'!$C$4,$W1842-4,0)&\"\")","v":""},"",{"$f":"IF(B1842=\"\",\"\",IF(ISERROR(MATCH($J1842,SorP!$B$1:$B$6230,0)),\"\",INDIRECT(\"'SorP'!$A$\"&MATCH($J1842,SorP!$B$1:$B$6230,0))))","v":""},null,{"$f":"IF(C1842=\"\",NA(),MATCH($B1842&$C1842,'Smelter Look-up'!$J:$J,0))","v":{"$error":"#N/A"}},null,0,null,null,null,""]
[{"$nulls":18},{"$f":"IF(ISERROR($W1843),\"\",OFFSET('Smelter Look-up'!$C$4,$W1843-4,0)&\"\")","v":""},"",{"$f":"IF(B1843=\"\",\"\",IF(ISERROR(MATCH($J1843,SorP!$B$1:$B$6230,0)),\"\",INDIRECT(\"'SorP'!$A$\"&MATCH($J1843,SorP!$B$1:$B$6230,0))))","v":""},null,{"$f":"IF(C1843=\"\",NA(),MATCH($B1843&$C1843,'Smelter Look-up'!$J:$J,0))","v":{"$error":"#N/A"}},null,0,null,null,null,""]
[{"$nulls":18},{"$f":"IF(ISERROR($W1844),\"\",OFFSET('Smelter Look-up'!$C$4,$W1844-4,0)&\"\")","v":""},"",{"$f":"IF(B1844=\"\",\"\",IF(ISERROR(MATCH($J1844,SorP!$B$1:$B$6230,0)),\"\",INDIRECT(\"'SorP'!$A$\"&MATCH($J1844,SorP!$B$1:$B$6230,0))))","v":""},null,{"$f":"IF(C1844=\"\",NA(),MATCH($B1844&$C1844,'Smelter Look-up'!$J:$J,0))","v":{"$error":"#N/A"}},null,0,null,null,null,""]
[{"$nulls":18},{"$f":"IF(ISERROR($W1845),\"\",OFFSET('Smelter Look-up'!$C$4,$W1845-4,0)&\"\")","v":""},"",{"$f":"IF(B1845=\"\",\"\",IF(ISERROR(MATCH($J1845,SorP!$B$1:$B$6230,0)),\"\",INDIRECT(\"'SorP'!$A$\"&MATCH($J1845,SorP!$B$1:$B$6230,0))))","v":""},null,{"$f":"IF(C1845=\"\",NA(),MATCH($B1845&$C1845,'Smelter Look-up'!$J:$J,0))","v":{"$error":"#N/A"}},null,0,null,null,null,""]
[{"$nulls":18},{"$f":"IF(ISERROR($W1846),\"\",OFFSET('Smelter Look-up'!$C$4,$W1846-4,0)&\"\")","v":""},"",{"$f":"IF(B1846=\"\",\"\",IF(ISERROR(MATCH($J1846,SorP!$B$1:$B$6230,0)),\"\",INDIRECT(\"'SorP'!$A$\"&MATCH($J1846,SorP!$B$1:$B$6230,0))))","v":""},null,{"$f":"IF(C1846=\"\",NA(),MATCH($B1846&$C1846,'Smelter Look-up'!$J:$J,0))","v":{"$error":"#N/A"}},null,0,null,null,null,""]
[{"$nulls":18},{"$f":"IF(ISERROR($W1847),\"\",OFFSET('Smelter Look-up'!$C$4,$W1847-4,0)&\"\")","v":""},"",{"$f":"IF(B1847=\"\",\"\",IF(ISERROR(MATCH($J1847,SorP!$B$1:$B$6230,0)),\"\",INDIRECT(\"'SorP'!$A$\"&MATCH($J1847,SorP!$B$1:$B$6230,0))))","v":""},null,{"$f":"IF(C1847=\"\",NA(),MATCH($B1847&$C1847,'Smelter Look-up'!$J:$J,0))","v":{"$error":"#N/A"}},null,0,null,null,null,""]
[{"$nulls":18},{"$f":"IF(ISERROR($W1848),\"\",OFFSET('Smelter Look-up'!$C$4,$W1848-4,0)&\"\")","v":""},"",{"$f":"IF(B1848=\"\",\"\",IF(ISERROR(MATCH($J1848,SorP!$B$1:$B$6230,0)),\"\",INDIRECT(\"'SorP'!$A$\"&MATCH($J1848,SorP!$B$1:$B$6230,0))))","v":""},null,{"$f":"IF(C1848=\"\",NA(),MATCH($B1848&$C1848,'Smelter Look-up'!$J:$J,0))","v":{"$error":"#N/A"}},null,0,null,null,null,""]
[{"$nulls":18},{"$f":"IF(ISERROR($W1849),\"\",OFFSET('Smelter Look-up'!$C$4,$W1849-4,0)&\"\")","v":""},"",{"$f":"IF(B1849=\"\",\"\",IF(ISERROR(MATCH($J1849,SorP!$B$1:$B$6230,0)),\"\",INDIRECT(\"'SorP'!$A$\"&MATCH($J1849,SorP!$B$1:$B$6230,0))))","v":""},null,{"$f":"IF(C1849=\"\",NA(),MATCH($B1849&$C1849,'Smelter Look-up'!$J:$J,0))","v":{"$error":"#N/A"}},null,0,null,null,null,""]
[{"$nulls":18},{"$f":"IF(ISERROR($W1850),\"\",OFFSET('Smelter Look-up'!$C$4,$W1850-4,0)&\"\")","v":""},"",{"$f":"IF(B1850=\"\",\"\",IF(ISERROR(MATCH($J1850,SorP!$B$1:$B$6230,0)),\"\",INDIRECT(\"'SorP'!$A$\"&MATCH($J1850,SorP!$B$1:$B$6230,0))))","v":""},null,{"$f":"IF(C1850=\"\",NA(),MATCH($B1850&$C1850,'Smelter Look-up'!$J:$J,0))","v":{"$error":"#N/A"}},null,0,null,null,null,""]
[{"$nulls":18},{"$f":"IF(ISERROR($W1851),\"\",OFFSET('Smelter Look-up'!$C$4,$W1851-4,0)&\"\")","v":""},"",{"$f":"IF(B1851=\"\",\"\",IF(ISERROR(MATCH($J1851,SorP!$B$1:$B$6230,0)),\"\",INDIRECT(\"'SorP'!$A$\"&MATCH($J1851,SorP!$B$1:$B$6230,0))))","v":""},null,{"$f":"IF(C1851=\"\",NA(),MATCH($B1851&$C1851,'Smelter Look-up'!$J:$J,0))","v":{"$error":"#N/A"}},null,0,null,null,null,""]
[{"$nulls":18},{"$f":"IF(ISERROR($W1852),\"\",OFFSET('Smelter Look-up'!$C$4,$W1852-4,0)&\"\")","v":""},"",{"$f":"IF(B1852=\"\",\"\",IF(ISERROR(MATCH($J1852,SorP!$B$1:$B$6230,0)),\"\",INDIRECT(\"'SorP'!$A$\"&MATCH($J1852,SorP!$B$1:$B$6230,0))))","v":""},null,{"$f":"IF(C1852=\"\",NA(),MATCH($B1852&$C1852,'Smelter Look-up'!$J:$J,0))","v":{"$error":"#N/A"}},null,0,null,null,null,""]
[{"$nulls":18},{"$f":"IF(ISERROR($W1853),\"\",OFFSET('Smelter Look-up'!$C$4,$W1853-4,0)&\"\")","v":""},"",{"$f":"IF(B1853=\"\",\"\",IF(ISERROR(MATCH($J1853,SorP!$B$1:$B$6230,0)),\"\",INDIRECT(\"'SorP'!$A$\"&MATCH($J1853,SorP!$B$1:$B$6230,0))))","v":""},null,{"$f":"IF(C1853=\"\",NA(),MATCH($B1853&$C1853,'Smelter Look-up'!$J:$J,0))","v":{"$error":"#N/A"}},null,0,null,null,null,""]
[{"$nulls":18},{"$f":"IF(ISERROR($W1854),\"\",OFFSET('Smelter Look-up'!$C$4,$W1854-4,0)&\"\")","v":""},"",{"$f":"IF(B1854=\"\",\"\",IF(ISERROR(MATCH($J1854,SorP!$B$1:$B$6230,0)),\"\",INDIRECT(\"'SorP'!$A$\"&MATCH($J1854,SorP!$B$1:$B$6230,0))))","v":""},null,{"$f":"IF(C1854=\"\",NA(),MATCH($B1854&$C1854,'Smelter Look-up'!$J:$J,0))","v":{"$error":"#N/A"}},null,0,null,null,null,""]
[{"$nulls":18},{"$f":"IF(ISERROR($W1855),\"\",OFFSET('Smelter Look-up'!$C$4,$W1855-4,0)&\"\")","v":""},"",{"$f":"IF(B1855=\"\",\"\",IF(ISERROR(MATCH($J1855,SorP!$B$1:$B$6230,0)),\"\",INDIRECT(\"'SorP'!$A$\"&MATCH($J1855,SorP!$B$1:$B$6230,0))))","v":""},null,{"$f":"IF(C1855=\"\",NA(),MATCH($B1855&$C1855,'Smelter Look-up'!$J:$J,0))","v":{"$error":"#N/A"}},null,0,null,null,null,""]
[{"$nulls":18},{"$f":"IF(ISERROR($W1856),\"\",OFFSET('Smelter Look-up'!$C$4,$W1856-4,0)&\"\")","v":""},"",{"$f":"IF(B1856=\"\",\"\",IF(ISERROR(MATCH($J1856,SorP!$B$1:$B$6230,0)),\"\",INDIRECT(\"'SorP'!$A$\"&MATCH($J1856,SorP!$B$1:$B$6230,0))))","v":""},null,{"$f":"IF(C1856=\"\",NA(),MATCH($B1856&$C1856,'Smelter Look-up'!$J:$J,0))","v":{"$error":"#N/A"}},null,0,null,null,null,""]
[{"$nulls":18},{"$f":"IF(ISERROR($W1857),\"\",OFFSET('Smelter Look-up'!$C$4,$W1857-4,0)&\"\")","v":""},"",{"$f":"IF(B1857=\"\",\"\",IF(ISERROR(MATCH($J1857,SorP!$B$1:$B$6230,0)),\"\",INDIRECT(\"'SorP'!$A$\"&MATCH($J1857,SorP!$B$1:$B$6230,0))))","v":""},null,{"$f":"IF(C1857=\"\",NA(),MATCH($B1857&$C1857,'Smelter Look-up'!$J:$J,0))","v":{"$error":"#N/A"}},null,0,null,null,null,""]
[{"$nulls":18},{"$f":"IF(ISERROR($W1858),\"\",OFFSET('Smelter Look-up'!$C$4,$W1858-4,0)&\"\")","v":""},"",{"$f":"IF(B1858=\"\",\"\",IF(ISERROR(MATCH($J1858,SorP!$B$1:$B$6230,0)),\"\",INDIRECT(\"'SorP'!$A$\"&MATCH($J1858,SorP!$B$1:$B$6230,0))))","v":""},null,{"$f":"IF(C1858=\"\",NA(),MATCH($B1858&$C1858,'Smelter Look-up'!$J:$J,0))","v":{"$error":"#N/A"}},null,0,null,null,null,""]
[{"$nulls":18},{"$f":"IF(ISERROR($W1859),\"\",OFFSET('Smelter Look-up'!$C$4,$W1859-4,0)&\"\")","v":""},"",{"$f":"IF(B1859=\"\",\"\",IF(ISERROR(MATCH($J1859,SorP!$B$1:$B$6230,0)),\"\",INDIRECT(\"'SorP'!$A$\"&MATCH($J1859,SorP!$B$1:$B$6230,0))))","v":""},null,{"$f":"IF(C1859=\"\",NA(),MATCH($B1859&$C1859,'Smelter Look-up'!$J:$J,0))","v":{"$error":"#N/A"}},null,0,null,null,null,""]
[{"$nulls":18},{"$f":"IF(ISERROR($W1860),\"\",OFFSET('Smelter Look-up'!$C$4,$W1860-4,0)&\"\")","v":""},"",{"$f":"IF(B1860=\"\",\"\",IF(ISERROR(MATCH($J1860,SorP!$B$1:$B$6230,0)),\"\",INDIRECT(\"'SorP'!$A$\"&MATCH($J1860,SorP!$B$1:$B$6230,0))))","v":""},null,{"$f":"IF(C1860=\"\",NA(),MATCH($B1860&$C1860,'Smelter Look-up'!$J:$J,0))","v":{"$error":"#N/A"}},null,0,null,null,null,""]
[{"$nulls":18},{"$f":"IF(ISERROR($W1861),\"\",OFFSET('Smelter Look-up'!$C$4,$W1861-4,0)&\"\")","v":""},{"$f":"IF(B1861=\"\",\"\",IF(ISERROR(MATCH($E1861,CL,0)),\"Unknown\",INDIRECT(\"'C'!$A$\"&MATCH($E1861,CL,0)+1)))","v":""},{"$f":"IF(B1861=\"\",\"\",IF(ISERROR(MATCH($J1861,SorP!$B$1:$B$6230,0)),\"\",INDIRECT(\"'SorP'!$A$\"&MATCH($J1861,SorP!$B$1:$B$6230,0))))","v":""},null,{"$f":"IF(C1861=\"\",NA(),MATCH($B1861&$C1861,'Smelter Look-up'!$J:$J,0))","v":{"$error":"#N/A"}},null,{"$f":"IF(AND(C1861=\"Smelter not listed\",OR(LEN(D1861)=0,LEN(E1861)=0)),1,0)","v":0},null,null,null,{"$f":"B1861&C1861","v":""}]
[{"$nulls":18},{"$f":"IF(ISERROR($W1862),\"\",OFFSET('Smelter Look-up'!$C$4,$W1862-4,0)&\"\")","v":""},"",{"$f":"IF(B1862=\"\",\"\",IF(ISERROR(MATCH($J1862,SorP!$B$1:$B$6230,0)),\"\",INDIRECT(\"'SorP'!$A$\"&MATCH($J1862,SorP!$B$1:$B$6230,0))))","v":""},null,{"$f":"IF(C1862=\"\",NA(),MATCH($B1862&$C1862,'Smelter Look-up'!$J:$J,0))","v":{"$error":"#N/A"}},null,0,null,null,null,""]
[{"$nulls":18},{"$f":"IF(ISERROR($W1863),\"\",OFFSET('Smelter Look-up'!$C$4,$W1863-4,0)&\"\")","v":""},"",{"$f":"IF(B1863=\"\",\"\",IF(ISERROR(MATCH($J1863,SorP!$B$1:$B$6230,0)),\"\",INDIRECT(\"'SorP'!$A$\"&MATCH($J1863,SorP!$B$1:$B$6230,0))))","v":""},null,{"$f":"IF(C1863=\"\",NA(),MATCH($B1863&$C1863,'Smelter Look-up'!$J:$J,0))","v":{"$error":"#N/A"}},null,0,null,null,null,""]
[{"$nulls":18},{"$f":"IF(ISERROR($W1864),\"\",OFFSET('Smelter Look-up'!$C$4,$W1864-4,0)&\"\")","v":""},"",{"$f":"IF(B1864=\"\",\"\",IF(ISERROR(MATCH($J1864,SorP!$B$1:$B$6230,0)),\"\",INDIRECT(\"'SorP'!$A$\"&MATCH($J1864,SorP!$B$1:$B$6230,0))))","v":""},null,{"$f":"IF(C1864=\"\",NA(),MATCH($B1864&$C1864,'Smelter Look-up'!$J:$J,0))","v":{"$error":"#N/A"}},null,0,null,null,null,""]
[{"$nulls":18},{"$f":"IF(ISERROR($W1865),\"\",OFFSET('Smelter Look-up'!$C$4,$W1865-4,0)&\"\")","v":""},"",{"$f":"IF(B1865=\"\",\"\",IF(ISERROR(MATCH($J1865,SorP!$B$1:$B$6230,0)),\"\",INDIRECT(\"'SorP'!$A$\"&MATCH($J1865,SorP!$B$1:$B$6230,0))))","v":""},null,{"$f":"IF(C1865=\"\",NA(),MATCH($B1865&$C1865,'Smelter Look-up'!$J:$J,0))","v":{"$error":"#N/A"}},null,0,null,null,null,""]
[{"$nulls":18},{"$f":"IF(ISERROR($W1866),\"\",OFFSET('Smelter Look-up'!$C$4,$W1866-4,0)&\"\")","v":""},"",{"$f":"IF(B1866=\"\",\"\",IF(ISERROR(MATCH($J1866,SorP!$B$1:$B$6230,0)),\"\",INDIRECT(\"'SorP'!$A$\"&MATCH($J1866,SorP!$B$1:$B$6230,0))))","v":""},null,{"$f":"IF(C1866=\"\",NA(),MATCH($B1866&$C1866,'Smelter Look-up'!$J:$J,0))","v":{"$error":"#N/A"}},null,0,null,null,null,""]
[{"$nulls":18},{"$f":"IF(ISERROR($W1867),\"\",OFFSET('Smelter Look-up'!$C$4,$W1867-4,0)&\"\")","v":""},"",{"$f":"IF(B1867=\"\",\"\",IF(ISERROR(MATCH($J1867,SorP!$B$1:$B$6230,0)),\"\",INDIRECT(\"'SorP'!$A$\"&MATCH($J1867,SorP!$B$1:$B$6230,0))))","v":""},null,{"$f":"IF(C1867=\"\",NA(),MATCH($B1867&$C1867,'Smelter Look-up'!$J:$J,0))","v":{"$error":"#N/A"}},null,0,null,null,null,""]
[{"$nulls":18},{"$f":"IF(ISERROR($W1868),\"\",OFFSET('Smelter Look-up'!$C$4,$W1868-4,0)&\"\")","v":""},"",{"$f":"IF(B1868=\"\",\"\",IF(ISERROR(MATCH($J1868,SorP!$B$1:$B$6230,0)),\"\",INDIRECT(\"'SorP'!$A$\"&MATCH($J1868,SorP!$B$1:$B$6230,0))))","v":""},null,{"$f":"IF(C1868=\"\",NA(),MATCH($B1868&$C1868,'Smelter Look-up'!$J:$J,0))","v":{"$error":"#N/A"}},null,0,null,null,null,""]
[{"$nulls":18},{"$f":"IF(ISERROR($W1869),\"\",OFFSET('Smelter Look-up'!$C$4,$W1869-4,0)&\"\")","v":""},"",{"$f":"IF(B1869=\"\",\"\",IF(ISERROR(MATCH($J1869,SorP!$B$1:$B$6230,0)),\"\",INDIRECT(\"'SorP'!$A$\"&MATCH($J1869,SorP!$B$1:$B$6230,0))))","v":""},null,{"$f":"IF(C1869=\"\",NA(),MATCH($B1869&$C1869,'Smelter Look-up'!$J:$J,0))","v":{"$error":"#N/A"}},null,0,null,null,null,""]
[{"$nulls":18},{"$f":"IF(ISERROR($W1870),\"\",OFFSET('Smelter Look-up'!$C$4,$W1870-4,0)&\"\")","v":""},"",{"$f":"IF(B1870=\"\",\"\",IF(ISERROR(MATCH($J1870,SorP!$B$1:$B$6230,0)),\"\",INDIRECT(\"'SorP'!$A$\"&MATCH($J1870,SorP!$B$1:$B$6230,0))))","v":""},null,{"$f":"IF(C1870=\"\",NA(),MATCH($B1870&$C1870,'Smelter Look-up'!$J:$J,0))","v":{"$error":"#N/A"}},null,0,null,null,null,""]
[{"$nulls":18},{"$f":"IF(ISERROR($W1871),\"\",OFFSET('Smelter Look-up'!$C$4,$W1871-4,0)&\"\")","v":""},"",{"$f":"IF(B1871=\"\",\"\",IF(ISERROR(MATCH($J1871,SorP!$B$1:$B$6230,0)),\"\",INDIRECT(\"'SorP'!$A$\"&MATCH($J1871,SorP!$B$1:$B$6230,0))))","v":""},null,{"$f":"IF(C1871=\"\",NA(),MATCH($B1871&$C1871,'Smelter Look-up'!$J:$J,0))","v":{"$error":"#N/A"}},null,0,null,null,null,""]
[{"$nulls":18},{"$f":"IF(ISERROR($W1872),\"\",OFFSET('Smelter Look-up'!$C$4,$W1872-4,0)&\"\")","v":""},"",{"$f":"IF(B1872=\"\",\"\",IF(ISERROR(MATCH($J1872,SorP!$B$1:$B$6230,0)),\"\",INDIRECT(\"'SorP'!$A$\"&MATCH($J1872,SorP!$B$1:$B$6230,0))))","v":""},null,{"$f":"IF(C1872=\"\",NA(),MATCH($B1872&$C1872,'Smelter Look-up'!$J:$J,0))","v":{"$error":"#N/A"}},null,0,null,null,null,""]
[{"$nulls":18},{"$f":"IF(ISERROR($W1873),\"\",OFFSET('Smelter Look-up'!$C$4,$W1873-4,0)&\"\")","v":""},"",{"$f":"IF(B1873=\"\",\"\",IF(ISERROR(MATCH($J1873,SorP!$B$1:$B$6230,0)),\"\",INDIRECT(\"'SorP'!$A$\"&MATCH($J1873,SorP!$B$1:$B$6230,0))))","v":""},null,{"$f":"IF(C1873=\"\",NA(),MATCH($B1873&$C1873,'Smelter Look-up'!$J:$J,0))","v":{"$error":"#N/A"}},null,0,null,null,null,""]
[{"$nulls":18},{"$f":"IF(ISERROR($W1874),\"\",OFFSET('Smelter Look-up'!$C$4,$W1874-4,0)&\"\")","v":""},"",{"$f":"IF(B1874=\"\",\"\",IF(ISERROR(MATCH($J1874,SorP!$B$1:$B$6230,0)),\"\",INDIRECT(\"'SorP'!$A$\"&MATCH($J1874,SorP!$B$1:$B$6230,0))))","v":""},null,{"$f":"IF(C1874=\"\",NA(),MATCH($B1874&$C1874,'Smelter Look-up'!$J:$J,0))","v":{"$error":"#N/A"}},null,0,null,null,null,""]
[{"$nulls":18},{"$f":"IF(ISERROR($W1875),\"\",OFFSET('Smelter Look-up'!$C$4,$W1875-4,0)&\"\")","v":""},"",{"$f":"IF(B1875=\"\",\"\",IF(ISERROR(MATCH($J1875,SorP!$B$1:$B$6230,0)),\"\",INDIRECT(\"'SorP'!$A$\"&MATCH($J1875,SorP!$B$1:$B$6230,0))))","v":""},null,{"$f":"IF(C1875=\"\",NA(),MATCH($B1875&$C1875,'Smelter Look-up'!$J:$J,0))","v":{"$error":"#N/A"}},null,0,null,null,null,""]
[{"$nulls":18},{"$f":"IF(ISERROR($W1876),\"\",OFFSET('Smelter Look-up'!$C$4,$W1876-4,0)&\"\")","v":""},"",{"$f":"IF(B1876=\"\",\"\",IF(ISERROR(MATCH($J1876,SorP!$B$1:$B$6230,0)),\"\",INDIRECT(\"'SorP'!$A$\"&MATCH($J1876,SorP!$B$1:$B$6230,0))))","v":""},null,{"$f":"IF(C1876=\"\",NA(),MATCH($B1876&$C1876,'Smelter Look-up'!$J:$J,0))","v":{"$error":"#N/A"}},null,0,null,null,null,""]
[{"$nulls":18},{"$f":"IF(ISERROR($W1877),\"\",OFFSET('Smelter Look-up'!$C$4,$W1877-4,0)&\"\")","v":""},"",{"$f":"IF(B1877=\"\",\"\",IF(ISERROR(MATCH($J1877,SorP!$B$1:$B$6230,0)),\"\",INDIRECT(\"'SorP'!$A$\"&MATCH($J1877,SorP!$B$1:$B$6230,0))))","v":""},null,{"$f":"IF(C1877=\"\",NA(),MATCH($B1877&$C1877,'Smelter Look-up'!$J:$J,0))","v":{"$error":"#N/A"}},null,0,null,null,null,""]
[{"$nulls":18},{"$f":"IF(ISERROR($W1878),\"\",OFFSET('Smelter Look-up'!$C$4,$W1878-4,0)&\"\")","v":""},"",{"$f":"IF(B1878=\"\",\"\",IF(ISERROR(MATCH($J1878,SorP!$B$1:$B$6230,0)),\"\",INDIRECT(\"'SorP'!$A$\"&MATCH($J1878,SorP!$B$1:$B$6230,0))))","v":""},null,{"$f":"IF(C1878=\"\",NA(),MATCH($B1878&$C1878,'Smelter Look-up'!$J:$J,0))","v":{"$error":"#N/A"}},null,0,null,null,null,""]
[{"$nulls":18},{"$f":"IF(ISERROR($W1879),\"\",OFFSET('Smelter Look-up'!$C$4,$W1879-4,0)&\"\")","v":""},"",{"$f":"IF(B1879=\"\",\"\",IF(ISERROR(MATCH($J1879,SorP!$B$1:$B$6230,0)),\"\",INDIRECT(\"'SorP'!$A$\"&MATCH($J1879,SorP!$B$1:$B$6230,0))))","v":""},null,{"$f":"IF(C1879=\"\",NA(),MATCH($B1879&$C1879,'Smelter Look-up'!$J:$J,0))","v":{"$error":"#N/A"}},null,0,null,null,null,""]
[{"$nulls":18},{"$f":"IF(ISERROR($W1880),\"\",OFFSET('Smelter Look-up'!$C$4,$W1880-4,0)&\"\")","v":""},"",{"$f":"IF(B1880=\"\",\"\",IF(ISERROR(MATCH($J1880,SorP!$B$1:$B$6230,0)),\"\",INDIRECT(\"'SorP'!$A$\"&MATCH($J1880,SorP!$B$1:$B$6230,0))))","v":""},null,{"$f":"IF(C1880=\"\",NA(),MATCH($B1880&$C1880,'Smelter Look-up'!$J:$J,0))","v":{"$error":"#N/A"}},null,0,null,null,null,""]
[{"$nulls":18},{"$f":"IF(ISERROR($W1881),\"\",OFFSET('Smelter Look-up'!$C$4,$W1881-4,0)&\"\")","v":""},"",{"$f":"IF(B1881=\"\",\"\",IF(ISERROR(MATCH($J1881,SorP!$B$1:$B$6230,0)),\"\",INDIRECT(\"'SorP'!$A$\"&MATCH($J1881,SorP!$B$1:$B$6230,0))))","v":""},null,{"$f":"IF(C1881=\"\",NA(),MATCH($B1881&$C1881,'Smelter Look-up'!$J:$J,0))","v":{"$error":"#N/A"}},null,0,null,null,null,""]
[{"$nulls":18},{"$f":"IF(ISERROR($W1882),\"\",OFFSET('Smelter Look-up'!$C$4,$W1882-4,0)&\"\")","v":""},"",{"$f":"IF(B1882=\"\",\"\",IF(ISERROR(MATCH($J1882,SorP!$B$1:$B$6230,0)),\"\",INDIRECT(\"'SorP'!$A$\"&MATCH($J1882,SorP!$B$1:$B$6230,0))))","v":""},null,{"$f":"IF(C1882=\"\",NA(),MATCH($B1882&$C1882,'Smelter Look-up'!$J:$J,0))","v":{"$error":"#N/A"}},null,0,null,null,null,""]
[{"$nulls":18},{"$f":"IF(ISERROR($W1883),\"\",OFFSET('Smelter Look-up'!$C$4,$W1883-4,0)&\"\")","v":""},"",{"$f":"IF(B1883=\"\",\"\",IF(ISERROR(MATCH($J1883,SorP!$B$1:$B$6230,0)),\"\",INDIRECT(\"'SorP'!$A$\"&MATCH($J1883,SorP!$B$1:$B$6230,0))))","v":""},null,{"$f":"IF(C1883=\"\",NA(),MATCH($B1883&$C1883,'Smelter Look-up'!$J:$J,0))","v":{"$error":"#N/A"}},null,0,null,null,null,""]
[{"$nulls":18},{"$f":"IF(ISERROR($W1884),\"\",OFFSET('Smelter Look-up'!$C$4,$W1884-4,0)&\"\")","v":""},"",{"$f":"IF(B1884=\"\",\"\",IF(ISERROR(MATCH($J1884,SorP!$B$1:$B$6230,0)),\"\",INDIRECT(\"'SorP'!$A$\"&MATCH($J1884,SorP!$B$1:$B$6230,0))))","v":""},null,{"$f":"IF(C1884=\"\",NA(),MATCH($B1884&$C1884,'Smelter Look-up'!$J:$J,0))","v":{"$error":"#N/A"}},null,0,null,null,null,""]
[{"$nulls":18},{"$f":"IF(ISERROR($W1885),\"\",OFFSET('Smelter Look-up'!$C$4,$W1885-4,0)&\"\")","v":""},"",{"$f":"IF(B1885=\"\",\"\",IF(ISERROR(MATCH($J1885,SorP!$B$1:$B$6230,0)),\"\",INDIRECT(\"'SorP'!$A$\"&MATCH($J1885,SorP!$B$1:$B$6230,0))))","v":""},null,{"$f":"IF(C1885=\"\",NA(),MATCH($B1885&$C1885,'Smelter Look-up'!$J:$J,0))","v":{"$error":"#N/A"}},null,0,null,null,null,""]
[{"$nulls":18},{"$f":"IF(ISERROR($W1886),\"\",OFFSET('Smelter Look-up'!$C$4,$W1886-4,0)&\"\")","v":""},"",{"$f":"IF(B1886=\"\",\"\",IF(ISERROR(MATCH($J1886,SorP!$B$1:$B$6230,0)),\"\",INDIRECT(\"'SorP'!$A$\"&MATCH($J1886,SorP!$B$1:$B$6230,0))))","v":""},null,{"$f":"IF(C1886=\"\",NA(),MATCH($B1886&$C1886,'Smelter Look-up'!$J:$J,0))","v":{"$error":"#N/A"}},null,0,null,null,null,""]
[{"$nulls":18},{"$f":"IF(ISERROR($W1887),\"\",OFFSET('Smelter Look-up'!$C$4,$W1887-4,0)&\"\")","v":""},"",{"$f":"IF(B1887=\"\",\"\",IF(ISERROR(MATCH($J1887,SorP!$B$1:$B$6230,0)),\"\",INDIRECT(\"'SorP'!$A$\"&MATCH($J1887,SorP!$B$1:$B$6230,0))))","v":""},null,{"$f":"IF(C1887=\"\",NA(),MATCH($B1887&$C1887,'Smelter Look-up'!$J:$J,0))","v":{"$error":"#N/A"}},null,0,null,null,null,""]
[{"$nulls":18},{"$f":"IF(ISERROR($W1888),\"\",OFFSET('Smelter Look-up'!$C$4,$W1888-4,0)&\"\")","v":""},"",{"$f":"IF(B1888=\"\",\"\",IF(ISERROR(MATCH($J1888,SorP!$B$1:$B$6230,0)),\"\",INDIRECT(\"'SorP'!$A$\"&MATCH($J1888,SorP!$B$1:$B$6230,0))))","v":""},null,{"$f":"IF(C1888=\"\",NA(),MATCH($B1888&$C1888,'Smelter Look-up'!$J:$J,0))","v":{"$error":"#N/A"}},null,0,null,null,null,""]
[{"$nulls":18},{"$f":"IF(ISERROR($W1889),\"\",OFFSET('Smelter Look-up'!$C$4,$W1889-4,0)&\"\")","v":""},"",{"$f":"IF(B1889=\"\",\"\",IF(ISERROR(MATCH($J1889,SorP!$B$1:$B$6230,0)),\"\",INDIRECT(\"'SorP'!$A$\"&MATCH($J1889,SorP!$B$1:$B$6230,0))))","v":""},null,{"$f":"IF(C1889=\"\",NA(),MATCH($B1889&$C1889,'Smelter Look-up'!$J:$J,0))","v":{"$error":"#N/A"}},null,0,null,null,null,""]
[{"$nulls":18},{"$f":"IF(ISERROR($W1890),\"\",OFFSET('Smelter Look-up'!$C$4,$W1890-4,0)&\"\")","v":""},"",{"$f":"IF(B1890=\"\",\"\",IF(ISERROR(MATCH($J1890,SorP!$B$1:$B$6230,0)),\"\",INDIRECT(\"'SorP'!$A$\"&MATCH($J1890,SorP!$B$1:$B$6230,0))))","v":""},null,{"$f":"IF(C1890=\"\",NA(),MATCH($B1890&$C1890,'Smelter Look-up'!$J:$J,0))","v":{"$error":"#N/A"}},null,0,null,null,null,""]
[{"$nulls":18},{"$f":"IF(ISERROR($W1891),\"\",OFFSET('Smelter Look-up'!$C$4,$W1891-4,0)&\"\")","v":""},"",{"$f":"IF(B1891=\"\",\"\",IF(ISERROR(MATCH($J1891,SorP!$B$1:$B$6230,0)),\"\",INDIRECT(\"'SorP'!$A$\"&MATCH($J1891,SorP!$B$1:$B$6230,0))))","v":""},null,{"$f":"IF(C1891=\"\",NA(),MATCH($B1891&$C1891,'Smelter Look-up'!$J:$J,0))","v":{"$error":"#N/A"}},null,0,null,null,null,""]
[{"$nulls":18},{"$f":"IF(ISERROR($W1892),\"\",OFFSET('Smelter Look-up'!$C$4,$W1892-4,0)&\"\")","v":""},"",{"$f":"IF(B1892=\"\",\"\",IF(ISERROR(MATCH($J1892,SorP!$B$1:$B$6230,0)),\"\",INDIRECT(\"'SorP'!$A$\"&MATCH($J1892,SorP!$B$1:$B$6230,0))))","v":""},null,{"$f":"IF(C1892=\"\",NA(),MATCH($B1892&$C1892,'Smelter Look-up'!$J:$J,0))","v":{"$error":"#N/A"}},null,0,null,null,null,""]
[{"$nulls":18},{"$f":"IF(ISERROR($W1893),\"\",OFFSET('Smelter Look-up'!$C$4,$W1893-4,0)&\"\")","v":""},"",{"$f":"IF(B1893=\"\",\"\",IF(ISERROR(MATCH($J1893,SorP!$B$1:$B$6230,0)),\"\",INDIRECT(\"'SorP'!$A$\"&MATCH($J1893,SorP!$B$1:$B$6230,0))))","v":""},null,{"$f":"IF(C1893=\"\",NA(),MATCH($B1893&$C1893,'Smelter Look-up'!$J:$J,0))","v":{"$error":"#N/A"}},null,0,null,null,null,""]
[{"$nulls":18},{"$f":"IF(ISERROR($W1894),\"\",OFFSET('Smelter Look-up'!$C$4,$W1894-4,0)&\"\")","v":""},"",{"$f":"IF(B1894=\"\",\"\",IF(ISERROR(MATCH($J1894,SorP!$B$1:$B$6230,0)),\"\",INDIRECT(\"'SorP'!$A$\"&MATCH($J1894,SorP!$B$1:$B$6230,0))))","v":""},null,{"$f":"IF(C1894=\"\",NA(),MATCH($B1894&$C1894,'Smelter Look-up'!$J:$J,0))","v":{"$error":"#N/A"}},null,0,null,null,null,""]
[{"$nulls":18},{"$f":"IF(ISERROR($W1895),\"\",OFFSET('Smelter Look-up'!$C$4,$W1895-4,0)&\"\")","v":""},"",{"$f":"IF(B1895=\"\",\"\",IF(ISERROR(MATCH($J1895,SorP!$B$1:$B$6230,0)),\"\",INDIRECT(\"'SorP'!$A$\"&MATCH($J1895,SorP!$B$1:$B$6230,0))))","v":""},null,{"$f":"IF(C1895=\"\",NA(),MATCH($B1895&$C1895,'Smelter Look-up'!$J:$J,0))","v":{"$error":"#N/A"}},null,0,null,null,null,""]
[{"$nulls":18},{"$f":"IF(ISERROR($W1896),\"\",OFFSET('Smelter Look-up'!$C$4,$W1896-4,0)&\"\")","v":""},"",{"$f":"IF(B1896=\"\",\"\",IF(ISERROR(MATCH($J1896,SorP!$B$1:$B$6230,0)),\"\",INDIRECT(\"'SorP'!$A$\"&MATCH($J1896,SorP!$B$1:$B$6230,0))))","v":""},null,{"$f":"IF(C1896=\"\",NA(),MATCH($B1896&$C1896,'Smelter Look-up'!$J:$J,0))","v":{"$error":"#N/A"}},null,0,null,null,null,""]
[{"$nulls":18},{"$f":"IF(ISERROR($W1897),\"\",OFFSET('Smelter Look-up'!$C$4,$W1897-4,0)&\"\")","v":""},"",{"$f":"IF(B1897=\"\",\"\",IF(ISERROR(MATCH($J1897,SorP!$B$1:$B$6230,0)),\"\",INDIRECT(\"'SorP'!$A$\"&MATCH($J1897,SorP!$B$1:$B$6230,0))))","v":""},null,{"$f":"IF(C1897=\"\",NA(),MATCH($B1897&$C1897,'Smelter Look-up'!$J:$J,0))","v":{"$error":"#N/A"}},null,0,null,null,null,""]
[{"$nulls":18},{"$f":"IF(ISERROR($W1898),\"\",OFFSET('Smelter Look-up'!$C$4,$W1898-4,0)&\"\")","v":""},"",{"$f":"IF(B1898=\"\",\"\",IF(ISERROR(MATCH($J1898,SorP!$B$1:$B$6230,0)),\"\",INDIRECT(\"'SorP'!$A$\"&MATCH($J1898,SorP!$B$1:$B$6230,0))))","v":""},null,{"$f":"IF(C1898=\"\",NA(),MATCH($B1898&$C1898,'Smelter Look-up'!$J:$J,0))","v":{"$error":"#N/A"}},null,0,null,null,null,""]
[{"$nulls":18},{"$f":"IF(ISERROR($W1899),\"\",OFFSET('Smelter Look-up'!$C$4,$W1899-4,0)&\"\")","v":""},"",{"$f":"IF(B1899=\"\",\"\",IF(ISERROR(MATCH($J1899,SorP!$B$1:$B$6230,0)),\"\",INDIRECT(\"'SorP'!$A$\"&MATCH($J1899,SorP!$B$1:$B$6230,0))))","v":""},null,{"$f":"IF(C1899=\"\",NA(),MATCH($B1899&$C1899,'Smelter Look-up'!$J:$J,0))","v":{"$error":"#N/A"}},null,0,null,null,null,""]
[{"$nulls":18},{"$f":"IF(ISERROR($W1900),\"\",OFFSET('Smelter Look-up'!$C$4,$W1900-4,0)&\"\")","v":""},"",{"$f":"IF(B1900=\"\",\"\",IF(ISERROR(MATCH($J1900,SorP!$B$1:$B$6230,0)),\"\",INDIRECT(\"'SorP'!$A$\"&MATCH($J1900,SorP!$B$1:$B$6230,0))))","v":""},null,{"$f":"IF(C1900=\"\",NA(),MATCH($B1900&$C1900,'Smelter Look-up'!$J:$J,0))","v":{"$error":"#N/A"}},null,0,null,null,null,""]
[{"$nulls":18},{"$f":"IF(ISERROR($W1901),\"\",OFFSET('Smelter Look-up'!$C$4,$W1901-4,0)&\"\")","v":""},"",{"$f":"IF(B1901=\"\",\"\",IF(ISERROR(MATCH($J1901,SorP!$B$1:$B$6230,0)),\"\",INDIRECT(\"'SorP'!$A$\"&MATCH($J1901,SorP!$B$1:$B$6230,0))))","v":""},null,{"$f":"IF(C1901=\"\",NA(),MATCH($B1901&$C1901,'Smelter Look-up'!$J:$J,0))","v":{"$error":"#N/A"}},null,0,null,null,null,""]
[{"$nulls":18},{"$f":"IF(ISERROR($W1902),\"\",OFFSET('Smelter Look-up'!$C$4,$W1902-4,0)&\"\")","v":""},"",{"$f":"IF(B1902=\"\",\"\",IF(ISERROR(MATCH($J1902,SorP!$B$1:$B$6230,0)),\"\",INDIRECT(\"'SorP'!$A$\"&MATCH($J1902,SorP!$B$1:$B$6230,0))))","v":""},null,{"$f":"IF(C1902=\"\",NA(),MATCH($B1902&$C1902,'Smelter Look-up'!$J:$J,0))","v":{"$error":"#N/A"}},null,0,null,null,null,""]
[{"$nulls":18},{"$f":"IF(ISERROR($W1903),\"\",OFFSET('Smelter Look-up'!$C$4,$W1903-4,0)&\"\")","v":""},"",{"$f":"IF(B1903=\"\",\"\",IF(ISERROR(MATCH($J1903,SorP!$B$1:$B$6230,0)),\"\",INDIRECT(\"'SorP'!$A$\"&MATCH($J1903,SorP!$B$1:$B$6230,0))))","v":""},null,{"$f":"IF(C1903=\"\",NA(),MATCH($B1903&$C1903,'Smelter Look-up'!$J:$J,0))","v":{"$error":"#N/A"}},null,0,null,null,null,""]
[{"$nulls":18},{"$f":"IF(ISERROR($W1904),\"\",OFFSET('Smelter Look-up'!$C$4,$W1904-4,0)&\"\")","v":""},"",{"$f":"IF(B1904=\"\",\"\",IF(ISERROR(MATCH($J1904,SorP!$B$1:$B$6230,0)),\"\",INDIRECT(\"'SorP'!$A$\"&MATCH($J1904,SorP!$B$1:$B$6230,0))))","v":""},null,{"$f":"IF(C1904=\"\",NA(),MATCH($B1904&$C1904,'Smelter Look-up'!$J:$J,0))","v":{"$error":"#N/A"}},null,0,null,null,null,""]
[{"$nulls":18},{"$f":"IF(ISERROR($W1905),\"\",OFFSET('Smelter Look-up'!$C$4,$W1905-4,0)&\"\")","v":""},"",{"$f":"IF(B1905=\"\",\"\",IF(ISERROR(MATCH($J1905,SorP!$B$1:$B$6230,0)),\"\",INDIRECT(\"'SorP'!$A$\"&MATCH($J1905,SorP!$B$1:$B$6230,0))))","v":""},null,{"$f":"IF(C1905=\"\",NA(),MATCH($B1905&$C1905,'Smelter Look-up'!$J:$J,0))","v":{"$error":"#N/A"}},null,0,null,null,null,""]
[{"$nulls":18},{"$f":"IF(ISERROR($W1906),\"\",OFFSET('Smelter Look-up'!$C$4,$W1906-4,0)&\"\")","v":""},"",{"$f":"IF(B1906=\"\",\"\",IF(ISERROR(MATCH($J1906,SorP!$B$1:$B$6230,0)),\"\",INDIRECT(\"'SorP'!$A$\"&MATCH($J1906,SorP!$B$1:$B$6230,0))))","v":""},null,{"$f":"IF(C1906=\"\",NA(),MATCH($B1906&$C1906,'Smelter Look-up'!$J:$J,0))","v":{"$error":"#N/A"}},null,0,null,null,null,""]
[{"$nulls":18},{"$f":"IF(ISERROR($W1907),\"\",OFFSET('Smelter Look-up'!$C$4,$W1907-4,0)&\"\")","v":""},"",{"$f":"IF(B1907=\"\",\"\",IF(ISERROR(MATCH($J1907,SorP!$B$1:$B$6230,0)),\"\",INDIRECT(\"'SorP'!$A$\"&MATCH($J1907,SorP!$B$1:$B$6230,0))))","v":""},null,{"$f":"IF(C1907=\"\",NA(),MATCH($B1907&$C1907,'Smelter Look-up'!$J:$J,0))","v":{"$error":"#N/A"}},null,0,null,null,null,""]
[{"$nulls":18},{"$f":"IF(ISERROR($W1908),\"\",OFFSET('Smelter Look-up'!$C$4,$W1908-4,0)&\"\")","v":""},"",{"$f":"IF(B1908=\"\",\"\",IF(ISERROR(MATCH($J1908,SorP!$B$1:$B$6230,0)),\"\",INDIRECT(\"'SorP'!$A$\"&MATCH($J1908,SorP!$B$1:$B$6230,0))))","v":""},null,{"$f":"IF(C1908=\"\",NA(),MATCH($B1908&$C1908,'Smelter Look-up'!$J:$J,0))","v":{"$error":"#N/A"}},null,0,null,null,null,""]
[{"$nulls":18},{"$f":"IF(ISERROR($W1909),\"\",OFFSET('Smelter Look-up'!$C$4,$W1909-4,0)&\"\")","v":""},"",{"$f":"IF(B1909=\"\",\"\",IF(ISERROR(MATCH($J1909,SorP!$B$1:$B$6230,0)),\"\",INDIRECT(\"'SorP'!$A$\"&MATCH($J1909,SorP!$B$1:$B$6230,0))))","v":""},null,{"$f":"IF(C1909=\"\",NA(),MATCH($B1909&$C1909,'Smelter Look-up'!$J:$J,0))","v":{"$error":"#N/A"}},null,0,null,null,null,""]
[{"$nulls":18},{"$f":"IF(ISERROR($W1910),\"\",OFFSET('Smelter Look-up'!$C$4,$W1910-4,0)&\"\")","v":""},"",{"$f":"IF(B1910=\"\",\"\",IF(ISERROR(MATCH($J1910,SorP!$B$1:$B$6230,0)),\"\",INDIRECT(\"'SorP'!$A$\"&MATCH($J1910,SorP!$B$1:$B$6230,0))))","v":""},null,{"$f":"IF(C1910=\"\",NA(),MATCH($B1910&$C1910,'Smelter Look-up'!$J:$J,0))","v":{"$error":"#N/A"}},null,0,null,null,null,""]
[{"$nulls":18},{"$f":"IF(ISERROR($W1911),\"\",OFFSET('Smelter Look-up'!$C$4,$W1911-4,0)&\"\")","v":""},"",{"$f":"IF(B1911=\"\",\"\",IF(ISERROR(MATCH($J1911,SorP!$B$1:$B$6230,0)),\"\",INDIRECT(\"'SorP'!$A$\"&MATCH($J1911,SorP!$B$1:$B$6230,0))))","v":""},null,{"$f":"IF(C1911=\"\",NA(),MATCH($B1911&$C1911,'Smelter Look-up'!$J:$J,0))","v":{"$error":"#N/A"}},null,0,null,null,null,""]
[{"$nulls":18},{"$f":"IF(ISERROR($W1912),\"\",OFFSET('Smelter Look-up'!$C$4,$W1912-4,0)&\"\")","v":""},"",{"$f":"IF(B1912=\"\",\"\",IF(ISERROR(MATCH($J1912,SorP!$B$1:$B$6230,0)),\"\",INDIRECT(\"'SorP'!$A$\"&MATCH($J1912,SorP!$B$1:$B$6230,0))))","v":""},null,{"$f":"IF(C1912=\"\",NA(),MATCH($B1912&$C1912,'Smelter Look-up'!$J:$J,0))","v":{"$error":"#N/A"}},null,0,null,null,null,""]
[{"$nulls":18},{"$f":"IF(ISERROR($W1913),\"\",OFFSET('Smelter Look-up'!$C$4,$W1913-4,0)&\"\")","v":""},"",{"$f":"IF(B1913=\"\",\"\",IF(ISERROR(MATCH($J1913,SorP!$B$1:$B$6230,0)),\"\",INDIRECT(\"'SorP'!$A$\"&MATCH($J1913,SorP!$B$1:$B$6230,0))))","v":""},null,{"$f":"IF(C1913=\"\",NA(),MATCH($B1913&$C1913,'Smelter Look-up'!$J:$J,0))","v":{"$error":"#N/A"}},null,0,null,null,null,""]
[{"$nulls":18},{"$f":"IF(ISERROR($W1914),\"\",OFFSET('Smelter Look-up'!$C$4,$W1914-4,0)&\"\")","v":""},"",{"$f":"IF(B1914=\"\",\"\",IF(ISERROR(MATCH($J1914,SorP!$B$1:$B$6230,0)),\"\",INDIRECT(\"'SorP'!$A$\"&MATCH($J1914,SorP!$B$1:$B$6230,0))))","v":""},null,{"$f":"IF(C1914=\"\",NA(),MATCH($B1914&$C1914,'Smelter Look-up'!$J:$J,0))","v":{"$error":"#N/A"}},null,0,null,null,null,""]
[{"$nulls":18},{"$f":"IF(ISERROR($W1915),\"\",OFFSET('Smelter Look-up'!$C$4,$W1915-4,0)&\"\")","v":""},"",{"$f":"IF(B1915=\"\",\"\",IF(ISERROR(MATCH($J1915,SorP!$B$1:$B$6230,0)),\"\",INDIRECT(\"'SorP'!$A$\"&MATCH($J1915,SorP!$B$1:$B$6230,0))))","v":""},null,{"$f":"IF(C1915=\"\",NA(),MATCH($B1915&$C1915,'Smelter Look-up'!$J:$J,0))","v":{"$error":"#N/A"}},null,0,null,null,null,""]
[{"$nulls":18},{"$f":"IF(ISERROR($W1916),\"\",OFFSET('Smelter Look-up'!$C$4,$W1916-4,0)&\"\")","v":""},"",{"$f":"IF(B1916=\"\",\"\",IF(ISERROR(MATCH($J1916,SorP!$B$1:$B$6230,0)),\"\",INDIRECT(\"'SorP'!$A$\"&MATCH($J1916,SorP!$B$1:$B$6230,0))))","v":""},null,{"$f":"IF(C1916=\"\",NA(),MATCH($B1916&$C1916,'Smelter Look-up'!$J:$J,0))","v":{"$error":"#N/A"}},null,0,null,null,null,""]
[{"$nulls":18},{"$f":"IF(ISERROR($W1917),\"\",OFFSET('Smelter Look-up'!$C$4,$W1917-4,0)&\"\")","v":""},"",{"$f":"IF(B1917=\"\",\"\",IF(ISERROR(MATCH($J1917,SorP!$B$1:$B$6230,0)),\"\",INDIRECT(\"'SorP'!$A$\"&MATCH($J1917,SorP!$B$1:$B$6230,0))))","v":""},null,{"$f":"IF(C1917=\"\",NA(),MATCH($B1917&$C1917,'Smelter Look-up'!$J:$J,0))","v":{"$error":"#N/A"}},null,0,null,null,null,""]
[{"$nulls":18},{"$f":"IF(ISERROR($W1918),\"\",OFFSET('Smelter Look-up'!$C$4,$W1918-4,0)&\"\")","v":""},"",{"$f":"IF(B1918=\"\",\"\",IF(ISERROR(MATCH($J1918,SorP!$B$1:$B$6230,0)),\"\",INDIRECT(\"'SorP'!$A$\"&MATCH($J1918,SorP!$B$1:$B$6230,0))))","v":""},null,{"$f":"IF(C1918=\"\",NA(),MATCH($B1918&$C1918,'Smelter Look-up'!$J:$J,0))","v":{"$error":"#N/A"}},null,0,null,null,null,""]
[{"$nulls":18},{"$f":"IF(ISERROR($W1919),\"\",OFFSET('Smelter Look-up'!$C$4,$W1919-4,0)&\"\")","v":""},"",{"$f":"IF(B1919=\"\",\"\",IF(ISERROR(MATCH($J1919,SorP!$B$1:$B$6230,0)),\"\",INDIRECT(\"'SorP'!$A$\"&MATCH($J1919,SorP!$B$1:$B$6230,0))))","v":""},null,{"$f":"IF(C1919=\"\",NA(),MATCH($B1919&$C1919,'Smelter Look-up'!$J:$J,0))","v":{"$error":"#N/A"}},null,0,null,null,null,""]
[{"$nulls":18},{"$f":"IF(ISERROR($W1920),\"\",OFFSET('Smelter Look-up'!$C$4,$W1920-4,0)&\"\")","v":""},"",{"$f":"IF(B1920=\"\",\"\",IF(ISERROR(MATCH($J1920,SorP!$B$1:$B$6230,0)),\"\",INDIRECT(\"'SorP'!$A$\"&MATCH($J1920,SorP!$B$1:$B$6230,0))))","v":""},null,{"$f":"IF(C1920=\"\",NA(),MATCH($B1920&$C1920,'Smelter Look-up'!$J:$J,0))","v":{"$error":"#N/A"}},null,0,null,null,null,""]
[{"$nulls":18},{"$f":"IF(ISERROR($W1921),\"\",OFFSET('Smelter Look-up'!$C$4,$W1921-4,0)&\"\")","v":""},"",{"$f":"IF(B1921=\"\",\"\",IF(ISERROR(MATCH($J1921,SorP!$B$1:$B$6230,0)),\"\",INDIRECT(\"'SorP'!$A$\"&MATCH($J1921,SorP!$B$1:$B$6230,0))))","v":""},null,{"$f":"IF(C1921=\"\",NA(),MATCH($B1921&$C1921,'Smelter Look-up'!$J:$J,0))","v":{"$error":"#N/A"}},null,0,null,null,null,""]
[{"$nulls":18},{"$f":"IF(ISERROR($W1922),\"\",OFFSET('Smelter Look-up'!$C$4,$W1922-4,0)&\"\")","v":""},"",{"$f":"IF(B1922=\"\",\"\",IF(ISERROR(MATCH($J1922,SorP!$B$1:$B$6230,0)),\"\",INDIRECT(\"'SorP'!$A$\"&MATCH($J1922,SorP!$B$1:$B$6230,0))))","v":""},null,{"$f":"IF(C1922=\"\",NA(),MATCH($B1922&$C1922,'Smelter Look-up'!$J:$J,0))","v":{"$error":"#N/A"}},null,0,null,null,null,""]
[{"$nulls":18},{"$f":"IF(ISERROR($W1923),\"\",OFFSET('Smelter Look-up'!$C$4,$W1923-4,0)&\"\")","v":""},"",{"$f":"IF(B1923=\"\",\"\",IF(ISERROR(MATCH($J1923,SorP!$B$1:$B$6230,0)),\"\",INDIRECT(\"'SorP'!$A$\"&MATCH($J1923,SorP!$B$1:$B$6230,0))))","v":""},null,{"$f":"IF(C1923=\"\",NA(),MATCH($B1923&$C1923,'Smelter Look-up'!$J:$J,0))","v":{"$error":"#N/A"}},null,0,null,null,null,""]
[{"$nulls":18},{"$f":"IF(ISERROR($W1924),\"\",OFFSET('Smelter Look-up'!$C$4,$W1924-4,0)&\"\")","v":""},"",{"$f":"IF(B1924=\"\",\"\",IF(ISERROR(MATCH($J1924,SorP!$B$1:$B$6230,0)),\"\",INDIRECT(\"'SorP'!$A$\"&MATCH($J1924,SorP!$B$1:$B$6230,0))))","v":""},null,{"$f":"IF(C1924=\"\",NA(),MATCH($B1924&$C1924,'Smelter Look-up'!$J:$J,0))","v":{"$error":"#N/A"}},null,0,null,null,null,""]
[{"$nulls":18},{"$f":"IF(ISERROR($W1925),\"\",OFFSET('Smelter Look-up'!$C$4,$W1925-4,0)&\"\")","v":""},{"$f":"IF(B1925=\"\",\"\",IF(ISERROR(MATCH($E1925,CL,0)),\"Unknown\",INDIRECT(\"'C'!$A$\"&MATCH($E1925,CL,0)+1)))","v":""},{"$f":"IF(B1925=\"\",\"\",IF(ISERROR(MATCH($J1925,SorP!$B$1:$B$6230,0)),\"\",INDIRECT(\"'SorP'!$A$\"&MATCH($J1925,SorP!$B$1:$B$6230,0))))","v":""},null,{"$f":"IF(C1925=\"\",NA(),MATCH($B1925&$C1925,'Smelter Look-up'!$J:$J,0))","v":{"$error":"#N/A"}},null,{"$f":"IF(AND(C1925=\"Smelter not listed\",OR(LEN(D1925)=0,LEN(E1925)=0)),1,0)","v":0},null,null,null,{"$f":"B1925&C1925","v":""}]
[{"$nulls":18},{"$f":"IF(ISERROR($W1926),\"\",OFFSET('Smelter Look-up'!$C$4,$W1926-4,0)&\"\")","v":""},"",{"$f":"IF(B1926=\"\",\"\",IF(ISERROR(MATCH($J1926,SorP!$B$1:$B$6230,0)),\"\",INDIRECT(\"'SorP'!$A$\"&MATCH($J1926,SorP!$B$1:$B$6230,0))))","v":""},null,{"$f":"IF(C1926=\"\",NA(),MATCH($B1926&$C1926,'Smelter Look-up'!$J:$J,0))","v":{"$error":"#N/A"}},null,0,null,null,null,""]
[{"$nulls":18},{"$f":"IF(ISERROR($W1927),\"\",OFFSET('Smelter Look-up'!$C$4,$W1927-4,0)&\"\")","v":""},"",{"$f":"IF(B1927=\"\",\"\",IF(ISERROR(MATCH($J1927,SorP!$B$1:$B$6230,0)),\"\",INDIRECT(\"'SorP'!$A$\"&MATCH($J1927,SorP!$B$1:$B$6230,0))))","v":""},null,{"$f":"IF(C1927=\"\",NA(),MATCH($B1927&$C1927,'Smelter Look-up'!$J:$J,0))","v":{"$error":"#N/A"}},null,0,null,null,null,""]
[{"$nulls":18},{"$f":"IF(ISERROR($W1928),\"\",OFFSET('Smelter Look-up'!$C$4,$W1928-4,0)&\"\")","v":""},"",{"$f":"IF(B1928=\"\",\"\",IF(ISERROR(MATCH($J1928,SorP!$B$1:$B$6230,0)),\"\",INDIRECT(\"'SorP'!$A$\"&MATCH($J1928,SorP!$B$1:$B$6230,0))))","v":""},null,{"$f":"IF(C1928=\"\",NA(),MATCH($B1928&$C1928,'Smelter Look-up'!$J:$J,0))","v":{"$error":"#N/A"}},null,0,null,null,null,""]
[{"$nulls":18},{"$f":"IF(ISERROR($W1929),\"\",OFFSET('Smelter Look-up'!$C$4,$W1929-4,0)&\"\")","v":""},"",{"$f":"IF(B1929=\"\",\"\",IF(ISERROR(MATCH($J1929,SorP!$B$1:$B$6230,0)),\"\",INDIRECT(\"'SorP'!$A$\"&MATCH($J1929,SorP!$B$1:$B$6230,0))))","v":""},null,{"$f":"IF(C1929=\"\",NA(),MATCH($B1929&$C1929,'Smelter Look-up'!$J:$J,0))","v":{"$error":"#N/A"}},null,0,null,null,null,""]
[{"$nulls":18},{"$f":"IF(ISERROR($W1930),\"\",OFFSET('Smelter Look-up'!$C$4,$W1930-4,0)&\"\")","v":""},"",{"$f":"IF(B1930=\"\",\"\",IF(ISERROR(MATCH($J1930,SorP!$B$1:$B$6230,0)),\"\",INDIRECT(\"'SorP'!$A$\"&MATCH($J1930,SorP!$B$1:$B$6230,0))))","v":""},null,{"$f":"IF(C1930=\"\",NA(),MATCH($B1930&$C1930,'Smelter Look-up'!$J:$J,0))","v":{"$error":"#N/A"}},null,0,null,null,null,""]
[{"$nulls":18},{"$f":"IF(ISERROR($W1931),\"\",OFFSET('Smelter Look-up'!$C$4,$W1931-4,0)&\"\")","v":""},"",{"$f":"IF(B1931=\"\",\"\",IF(ISERROR(MATCH($J1931,SorP!$B$1:$B$6230,0)),\"\",INDIRECT(\"'SorP'!$A$\"&MATCH($J1931,SorP!$B$1:$B$6230,0))))","v":""},null,{"$f":"IF(C1931=\"\",NA(),MATCH($B1931&$C1931,'Smelter Look-up'!$J:$J,0))","v":{"$error":"#N/A"}},null,0,null,null,null,""]
[{"$nulls":18},{"$f":"IF(ISERROR($W1932),\"\",OFFSET('Smelter Look-up'!$C$4,$W1932-4,0)&\"\")","v":""},"",{"$f":"IF(B1932=\"\",\"\",IF(ISERROR(MATCH($J1932,SorP!$B$1:$B$6230,0)),\"\",INDIRECT(\"'SorP'!$A$\"&MATCH($J1932,SorP!$B$1:$B$6230,0))))","v":""},null,{"$f":"IF(C1932=\"\",NA(),MATCH($B1932&$C1932,'Smelter Look-up'!$J:$J,0))","v":{"$error":"#N/A"}},null,0,null,null,null,""]
[{"$nulls":18},{"$f":"IF(ISERROR($W1933),\"\",OFFSET('Smelter Look-up'!$C$4,$W1933-4,0)&\"\")","v":""},"",{"$f":"IF(B1933=\"\",\"\",IF(ISERROR(MATCH($J1933,SorP!$B$1:$B$6230,0)),\"\",INDIRECT(\"'SorP'!$A$\"&MATCH($J1933,SorP!$B$1:$B$6230,0))))","v":""},null,{"$f":"IF(C1933=\"\",NA(),MATCH($B1933&$C1933,'Smelter Look-up'!$J:$J,0))","v":{"$error":"#N/A"}},null,0,null,null,null,""]
[{"$nulls":18},{"$f":"IF(ISERROR($W1934),\"\",OFFSET('Smelter Look-up'!$C$4,$W1934-4,0)&\"\")","v":""},"",{"$f":"IF(B1934=\"\",\"\",IF(ISERROR(MATCH($J1934,SorP!$B$1:$B$6230,0)),\"\",INDIRECT(\"'SorP'!$A$\"&MATCH($J1934,SorP!$B$1:$B$6230,0))))","v":""},null,{"$f":"IF(C1934=\"\",NA(),MATCH($B1934&$C1934,'Smelter Look-up'!$J:$J,0))","v":{"$error":"#N/A"}},null,0,null,null,null,""]
[{"$nulls":18},{"$f":"IF(ISERROR($W1935),\"\",OFFSET('Smelter Look-up'!$C$4,$W1935-4,0)&\"\")","v":""},"",{"$f":"IF(B1935=\"\",\"\",IF(ISERROR(MATCH($J1935,SorP!$B$1:$B$6230,0)),\"\",INDIRECT(\"'SorP'!$A$\"&MATCH($J1935,SorP!$B$1:$B$6230,0))))","v":""},null,{"$f":"IF(C1935=\"\",NA(),MATCH($B1935&$C1935,'Smelter Look-up'!$J:$J,0))","v":{"$error":"#N/A"}},null,0,null,null,null,""]
[{"$nulls":18},{"$f":"IF(ISERROR($W1936),\"\",OFFSET('Smelter Look-up'!$C$4,$W1936-4,0)&\"\")","v":""},"",{"$f":"IF(B1936=\"\",\"\",IF(ISERROR(MATCH($J1936,SorP!$B$1:$B$6230,0)),\"\",INDIRECT(\"'SorP'!$A$\"&MATCH($J1936,SorP!$B$1:$B$6230,0))))","v":""},null,{"$f":"IF(C1936=\"\",NA(),MATCH($B1936&$C1936,'Smelter Look-up'!$J:$J,0))","v":{"$error":"#N/A"}},null,0,null,null,null,""]
[{"$nulls":18},{"$f":"IF(ISERROR($W1937),\"\",OFFSET('Smelter Look-up'!$C$4,$W1937-4,0)&\"\")","v":""},"",{"$f":"IF(B1937=\"\",\"\",IF(ISERROR(MATCH($J1937,SorP!$B$1:$B$6230,0)),\"\",INDIRECT(\"'SorP'!$A$\"&MATCH($J1937,SorP!$B$1:$B$6230,0))))","v":""},null,{"$f":"IF(C1937=\"\",NA(),MATCH($B1937&$C1937,'Smelter Look-up'!$J:$J,0))","v":{"$error":"#N/A"}},null,0,null,null,null,""]
[{"$nulls":18},{"$f":"IF(ISERROR($W1938),\"\",OFFSET('Smelter Look-up'!$C$4,$W1938-4,0)&\"\")","v":""},"",{"$f":"IF(B1938=\"\",\"\",IF(ISERROR(MATCH($J1938,SorP!$B$1:$B$6230,0)),\"\",INDIRECT(\"'SorP'!$A$\"&MATCH($J1938,SorP!$B$1:$B$6230,0))))","v":""},null,{"$f":"IF(C1938=\"\",NA(),MATCH($B1938&$C1938,'Smelter Look-up'!$J:$J,0))","v":{"$error":"#N/A"}},null,0,null,null,null,""]
[{"$nulls":18},{"$f":"IF(ISERROR($W1939),\"\",OFFSET('Smelter Look-up'!$C$4,$W1939-4,0)&\"\")","v":""},"",{"$f":"IF(B1939=\"\",\"\",IF(ISERROR(MATCH($J1939,SorP!$B$1:$B$6230,0)),\"\",INDIRECT(\"'SorP'!$A$\"&MATCH($J1939,SorP!$B$1:$B$6230,0))))","v":""},null,{"$f":"IF(C1939=\"\",NA(),MATCH($B1939&$C1939,'Smelter Look-up'!$J:$J,0))","v":{"$error":"#N/A"}},null,0,null,null,null,""]
[{"$nulls":18},{"$f":"IF(ISERROR($W1940),\"\",OFFSET('Smelter Look-up'!$C$4,$W1940-4,0)&\"\")","v":""},"",{"$f":"IF(B1940=\"\",\"\",IF(ISERROR(MATCH($J1940,SorP!$B$1:$B$6230,0)),\"\",INDIRECT(\"'SorP'!$A$\"&MATCH($J1940,SorP!$B$1:$B$6230,0))))","v":""},null,{"$f":"IF(C1940=\"\",NA(),MATCH($B1940&$C1940,'Smelter Look-up'!$J:$J,0))","v":{"$error":"#N/A"}},null,0,null,null,null,""]
[{"$nulls":18},{"$f":"IF(ISERROR($W1941),\"\",OFFSET('Smelter Look-up'!$C$4,$W1941-4,0)&\"\")","v":""},"",{"$f":"IF(B1941=\"\",\"\",IF(ISERROR(MATCH($J1941,SorP!$B$1:$B$6230,0)),\"\",INDIRECT(\"'SorP'!$A$\"&MATCH($J1941,SorP!$B$1:$B$6230,0))))","v":""},null,{"$f":"IF(C1941=\"\",NA(),MATCH($B1941&$C1941,'Smelter Look-up'!$J:$J,0))","v":{"$error":"#N/A"}},null,0,null,null,null,""]
[{"$nulls":18},{"$f":"IF(ISERROR($W1942),\"\",OFFSET('Smelter Look-up'!$C$4,$W1942-4,0)&\"\")","v":""},"",{"$f":"IF(B1942=\"\",\"\",IF(ISERROR(MATCH($J1942,SorP!$B$1:$B$6230,0)),\"\",INDIRECT(\"'SorP'!$A$\"&MATCH($J1942,SorP!$B$1:$B$6230,0))))","v":""},null,{"$f":"IF(C1942=\"\",NA(),MATCH($B1942&$C1942,'Smelter Look-up'!$J:$J,0))","v":{"$error":"#N/A"}},null,0,null,null,null,""]
[{"$nulls":18},{"$f":"IF(ISERROR($W1943),\"\",OFFSET('Smelter Look-up'!$C$4,$W1943-4,0)&\"\")","v":""},"",{"$f":"IF(B1943=\"\",\"\",IF(ISERROR(MATCH($J1943,SorP!$B$1:$B$6230,0)),\"\",INDIRECT(\"'SorP'!$A$\"&MATCH($J1943,SorP!$B$1:$B$6230,0))))","v":""},null,{"$f":"IF(C1943=\"\",NA(),MATCH($B1943&$C1943,'Smelter Look-up'!$J:$J,0))","v":{"$error":"#N/A"}},null,0,null,null,null,""]
[{"$nulls":18},{"$f":"IF(ISERROR($W1944),\"\",OFFSET('Smelter Look-up'!$C$4,$W1944-4,0)&\"\")","v":""},"",{"$f":"IF(B1944=\"\",\"\",IF(ISERROR(MATCH($J1944,SorP!$B$1:$B$6230,0)),\"\",INDIRECT(\"'SorP'!$A$\"&MATCH($J1944,SorP!$B$1:$B$6230,0))))","v":""},null,{"$f":"IF(C1944=\"\",NA(),MATCH($B1944&$C1944,'Smelter Look-up'!$J:$J,0))","v":{"$error":"#N/A"}},null,0,null,null,null,""]
[{"$nulls":18},{"$f":"IF(ISERROR($W1945),\"\",OFFSET('Smelter Look-up'!$C$4,$W1945-4,0)&\"\")","v":""},"",{"$f":"IF(B1945=\"\",\"\",IF(ISERROR(MATCH($J1945,SorP!$B$1:$B$6230,0)),\"\",INDIRECT(\"'SorP'!$A$\"&MATCH($J1945,SorP!$B$1:$B$6230,0))))","v":""},null,{"$f":"IF(C1945=\"\",NA(),MATCH($B1945&$C1945,'Smelter Look-up'!$J:$J,0))","v":{"$error":"#N/A"}},null,0,null,null,null,""]
[{"$nulls":18},{"$f":"IF(ISERROR($W1946),\"\",OFFSET('Smelter Look-up'!$C$4,$W1946-4,0)&\"\")","v":""},"",{"$f":"IF(B1946=\"\",\"\",IF(ISERROR(MATCH($J1946,SorP!$B$1:$B$6230,0)),\"\",INDIRECT(\"'SorP'!$A$\"&MATCH($J1946,SorP!$B$1:$B$6230,0))))","v":""},null,{"$f":"IF(C1946=\"\",NA(),MATCH($B1946&$C1946,'Smelter Look-up'!$J:$J,0))","v":{"$error":"#N/A"}},null,0,null,null,null,""]
[{"$nulls":18},{"$f":"IF(ISERROR($W1947),\"\",OFFSET('Smelter Look-up'!$C$4,$W1947-4,0)&\"\")","v":""},"",{"$f":"IF(B1947=\"\",\"\",IF(ISERROR(MATCH($J1947,SorP!$B$1:$B$6230,0)),\"\",INDIRECT(\"'SorP'!$A$\"&MATCH($J1947,SorP!$B$1:$B$6230,0))))","v":""},null,{"$f":"IF(C1947=\"\",NA(),MATCH($B1947&$C1947,'Smelter Look-up'!$J:$J,0))","v":{"$error":"#N/A"}},null,0,null,null,null,""]
[{"$nulls":18},{"$f":"IF(ISERROR($W1948),\"\",OFFSET('Smelter Look-up'!$C$4,$W1948-4,0)&\"\")","v":""},"",{"$f":"IF(B1948=\"\",\"\",IF(ISERROR(MATCH($J1948,SorP!$B$1:$B$6230,0)),\"\",INDIRECT(\"'SorP'!$A$\"&MATCH($J1948,SorP!$B$1:$B$6230,0))))","v":""},null,{"$f":"IF(C1948=\"\",NA(),MATCH($B1948&$C1948,'Smelter Look-up'!$J:$J,0))","v":{"$error":"#N/A"}},null,0,null,null,null,""]
[{"$nulls":18},{"$f":"IF(ISERROR($W1949),\"\",OFFSET('Smelter Look-up'!$C$4,$W1949-4,0)&\"\")","v":""},"",{"$f":"IF(B1949=\"\",\"\",IF(ISERROR(MATCH($J1949,SorP!$B$1:$B$6230,0)),\"\",INDIRECT(\"'SorP'!$A$\"&MATCH($J1949,SorP!$B$1:$B$6230,0))))","v":""},null,{"$f":"IF(C1949=\"\",NA(),MATCH($B1949&$C1949,'Smelter Look-up'!$J:$J,0))","v":{"$error":"#N/A"}},null,0,null,null,null,""]
[{"$nulls":18},{"$f":"IF(ISERROR($W1950),\"\",OFFSET('Smelter Look-up'!$C$4,$W1950-4,0)&\"\")","v":""},"",{"$f":"IF(B1950=\"\",\"\",IF(ISERROR(MATCH($J1950,SorP!$B$1:$B$6230,0)),\"\",INDIRECT(\"'SorP'!$A$\"&MATCH($J1950,SorP!$B$1:$B$6230,0))))","v":""},null,{"$f":"IF(C1950=\"\",NA(),MATCH($B1950&$C1950,'Smelter Look-up'!$J:$J,0))","v":{"$error":"#N/A"}},null,0,null,null,null,""]
[{"$nulls":18},{"$f":"IF(ISERROR($W1951),\"\",OFFSET('Smelter Look-up'!$C$4,$W1951-4,0)&\"\")","v":""},"",{"$f":"IF(B1951=\"\",\"\",IF(ISERROR(MATCH($J1951,SorP!$B$1:$B$6230,0)),\"\",INDIRECT(\"'SorP'!$A$\"&MATCH($J1951,SorP!$B$1:$B$6230,0))))","v":""},null,{"$f":"IF(C1951=\"\",NA(),MATCH($B1951&$C1951,'Smelter Look-up'!$J:$J,0))","v":{"$error":"#N/A"}},null,0,null,null,null,""]
[{"$nulls":18},{"$f":"IF(ISERROR($W1952),\"\",OFFSET('Smelter Look-up'!$C$4,$W1952-4,0)&\"\")","v":""},"",{"$f":"IF(B1952=\"\",\"\",IF(ISERROR(MATCH($J1952,SorP!$B$1:$B$6230,0)),\"\",INDIRECT(\"'SorP'!$A$\"&MATCH($J1952,SorP!$B$1:$B$6230,0))))","v":""},null,{"$f":"IF(C1952=\"\",NA(),MATCH($B1952&$C1952,'Smelter Look-up'!$J:$J,0))","v":{"$error":"#N/A"}},null,0,null,null,null,""]
[{"$nulls":18},{"$f":"IF(ISERROR($W1953),\"\",OFFSET('Smelter Look-up'!$C$4,$W1953-4,0)&\"\")","v":""},"",{"$f":"IF(B1953=\"\",\"\",IF(ISERROR(MATCH($J1953,SorP!$B$1:$B$6230,0)),\"\",INDIRECT(\"'SorP'!$A$\"&MATCH($J1953,SorP!$B$1:$B$6230,0))))","v":""},null,{"$f":"IF(C1953=\"\",NA(),MATCH($B1953&$C1953,'Smelter Look-up'!$J:$J,0))","v":{"$error":"#N/A"}},null,0,null,null,null,""]
[{"$nulls":18},{"$f":"IF(ISERROR($W1954),\"\",OFFSET('Smelter Look-up'!$C$4,$W1954-4,0)&\"\")","v":""},"",{"$f":"IF(B1954=\"\",\"\",IF(ISERROR(MATCH($J1954,SorP!$B$1:$B$6230,0)),\"\",INDIRECT(\"'SorP'!$A$\"&MATCH($J1954,SorP!$B$1:$B$6230,0))))","v":""},null,{"$f":"IF(C1954=\"\",NA(),MATCH($B1954&$C1954,'Smelter Look-up'!$J:$J,0))","v":{"$error":"#N/A"}},null,0,null,null,null,""]
[{"$nulls":18},{"$f":"IF(ISERROR($W1955),\"\",OFFSET('Smelter Look-up'!$C$4,$W1955-4,0)&\"\")","v":""},"",{"$f":"IF(B1955=\"\",\"\",IF(ISERROR(MATCH($J1955,SorP!$B$1:$B$6230,0)),\"\",INDIRECT(\"'SorP'!$A$\"&MATCH($J1955,SorP!$B$1:$B$6230,0))))","v":""},null,{"$f":"IF(C1955=\"\",NA(),MATCH($B1955&$C1955,'Smelter Look-up'!$J:$J,0))","v":{"$error":"#N/A"}},null,0,null,null,null,""]
[{"$nulls":18},{"$f":"IF(ISERROR($W1956),\"\",OFFSET('Smelter Look-up'!$C$4,$W1956-4,0)&\"\")","v":""},"",{"$f":"IF(B1956=\"\",\"\",IF(ISERROR(MATCH($J1956,SorP!$B$1:$B$6230,0)),\"\",INDIRECT(\"'SorP'!$A$\"&MATCH($J1956,SorP!$B$1:$B$6230,0))))","v":""},null,{"$f":"IF(C1956=\"\",NA(),MATCH($B1956&$C1956,'Smelter Look-up'!$J:$J,0))","v":{"$error":"#N/A"}},null,0,null,null,null,""]
[{"$nulls":18},{"$f":"IF(ISERROR($W1957),\"\",OFFSET('Smelter Look-up'!$C$4,$W1957-4,0)&\"\")","v":""},"",{"$f":"IF(B1957=\"\",\"\",IF(ISERROR(MATCH($J1957,SorP!$B$1:$B$6230,0)),\"\",INDIRECT(\"'SorP'!$A$\"&MATCH($J1957,SorP!$B$1:$B$6230,0))))","v":""},null,{"$f":"IF(C1957=\"\",NA(),MATCH($B1957&$C1957,'Smelter Look-up'!$J:$J,0))","v":{"$error":"#N/A"}},null,0,null,null,null,""]
[{"$nulls":18},{"$f":"IF(ISERROR($W1958),\"\",OFFSET('Smelter Look-up'!$C$4,$W1958-4,0)&\"\")","v":""},"",{"$f":"IF(B1958=\"\",\"\",IF(ISERROR(MATCH($J1958,SorP!$B$1:$B$6230,0)),\"\",INDIRECT(\"'SorP'!$A$\"&MATCH($J1958,SorP!$B$1:$B$6230,0))))","v":""},null,{"$f":"IF(C1958=\"\",NA(),MATCH($B1958&$C1958,'Smelter Look-up'!$J:$J,0))","v":{"$error":"#N/A"}},null,0,null,null,null,""]
[{"$nulls":18},{"$f":"IF(ISERROR($W1959),\"\",OFFSET('Smelter Look-up'!$C$4,$W1959-4,0)&\"\")","v":""},"",{"$f":"IF(B1959=\"\",\"\",IF(ISERROR(MATCH($J1959,SorP!$B$1:$B$6230,0)),\"\",INDIRECT(\"'SorP'!$A$\"&MATCH($J1959,SorP!$B$1:$B$6230,0))))","v":""},null,{"$f":"IF(C1959=\"\",NA(),MATCH($B1959&$C1959,'Smelter Look-up'!$J:$J,0))","v":{"$error":"#N/A"}},null,0,null,null,null,""]
[{"$nulls":18},{"$f":"IF(ISERROR($W1960),\"\",OFFSET('Smelter Look-up'!$C$4,$W1960-4,0)&\"\")","v":""},"",{"$f":"IF(B1960=\"\",\"\",IF(ISERROR(MATCH($J1960,SorP!$B$1:$B$6230,0)),\"\",INDIRECT(\"'SorP'!$A$\"&MATCH($J1960,SorP!$B$1:$B$6230,0))))","v":""},null,{"$f":"IF(C1960=\"\",NA(),MATCH($B1960&$C1960,'Smelter Look-up'!$J:$J,0))","v":{"$error":"#N/A"}},null,0,null,null,null,""]
[{"$nulls":18},{"$f":"IF(ISERROR($W1961),\"\",OFFSET('Smelter Look-up'!$C$4,$W1961-4,0)&\"\")","v":""},"",{"$f":"IF(B1961=\"\",\"\",IF(ISERROR(MATCH($J1961,SorP!$B$1:$B$6230,0)),\"\",INDIRECT(\"'SorP'!$A$\"&MATCH($J1961,SorP!$B$1:$B$6230,0))))","v":""},null,{"$f":"IF(C1961=\"\",NA(),MATCH($B1961&$C1961,'Smelter Look-up'!$J:$J,0))","v":{"$error":"#N/A"}},null,0,null,null,null,""]
[{"$nulls":18},{"$f":"IF(ISERROR($W1962),\"\",OFFSET('Smelter Look-up'!$C$4,$W1962-4,0)&\"\")","v":""},"",{"$f":"IF(B1962=\"\",\"\",IF(ISERROR(MATCH($J1962,SorP!$B$1:$B$6230,0)),\"\",INDIRECT(\"'SorP'!$A$\"&MATCH($J1962,SorP!$B$1:$B$6230,0))))","v":""},null,{"$f":"IF(C1962=\"\",NA(),MATCH($B1962&$C1962,'Smelter Look-up'!$J:$J,0))","v":{"$error":"#N/A"}},null,0,null,null,null,""]
[{"$nulls":18},{"$f":"IF(ISERROR($W1963),\"\",OFFSET('Smelter Look-up'!$C$4,$W1963-4,0)&\"\")","v":""},"",{"$f":"IF(B1963=\"\",\"\",IF(ISERROR(MATCH($J1963,SorP!$B$1:$B$6230,0)),\"\",INDIRECT(\"'SorP'!$A$\"&MATCH($J1963,SorP!$B$1:$B$6230,0))))","v":""},null,{"$f":"IF(C1963=\"\",NA(),MATCH($B1963&$C1963,'Smelter Look-up'!$J:$J,0))","v":{"$error":"#N/A"}},null,0,null,null,null,""]
[{"$nulls":18},{"$f":"IF(ISERROR($W1964),\"\",OFFSET('Smelter Look-up'!$C$4,$W1964-4,0)&\"\")","v":""},"",{"$f":"IF(B1964=\"\",\"\",IF(ISERROR(MATCH($J1964,SorP!$B$1:$B$6230,0)),\"\",INDIRECT(\"'SorP'!$A$\"&MATCH($J1964,SorP!$B$1:$B$6230,0))))","v":""},null,{"$f":"IF(C1964=\"\",NA(),MATCH($B1964&$C1964,'Smelter Look-up'!$J:$J,0))","v":{"$error":"#N/A"}},null,0,null,null,null,""]
[{"$nulls":18},{"$f":"IF(ISERROR($W1965),\"\",OFFSET('Smelter Look-up'!$C$4,$W1965-4,0)&\"\")","v":""},"",{"$f":"IF(B1965=\"\",\"\",IF(ISERROR(MATCH($J1965,SorP!$B$1:$B$6230,0)),\"\",INDIRECT(\"'SorP'!$A$\"&MATCH($J1965,SorP!$B$1:$B$6230,0))))","v":""},null,{"$f":"IF(C1965=\"\",NA(),MATCH($B1965&$C1965,'Smelter Look-up'!$J:$J,0))","v":{"$error":"#N/A"}},null,0,null,null,null,""]
[{"$nulls":18},{"$f":"IF(ISERROR($W1966),\"\",OFFSET('Smelter Look-up'!$C$4,$W1966-4,0)&\"\")","v":""},"",{"$f":"IF(B1966=\"\",\"\",IF(ISERROR(MATCH($J1966,SorP!$B$1:$B$6230,0)),\"\",INDIRECT(\"'SorP'!$A$\"&MATCH($J1966,SorP!$B$1:$B$6230,0))))","v":""},null,{"$f":"IF(C1966=\"\",NA(),MATCH($B1966&$C1966,'Smelter Look-up'!$J:$J,0))","v":{"$error":"#N/A"}},null,0,null,null,null,""]
[{"$nulls":18},{"$f":"IF(ISERROR($W1967),\"\",OFFSET('Smelter Look-up'!$C$4,$W1967-4,0)&\"\")","v":""},"",{"$f":"IF(B1967=\"\",\"\",IF(ISERROR(MATCH($J1967,SorP!$B$1:$B$6230,0)),\"\",INDIRECT(\"'SorP'!$A$\"&MATCH($J1967,SorP!$B$1:$B$6230,0))))","v":""},null,{"$f":"IF(C1967=\"\",NA(),MATCH($B1967&$C1967,'Smelter Look-up'!$J:$J,0))","v":{"$error":"#N/A"}},null,0,null,null,null,""]
[{"$nulls":18},{"$f":"IF(ISERROR($W1968),\"\",OFFSET('Smelter Look-up'!$C$4,$W1968-4,0)&\"\")","v":""},"",{"$f":"IF(B1968=\"\",\"\",IF(ISERROR(MATCH($J1968,SorP!$B$1:$B$6230,0)),\"\",INDIRECT(\"'SorP'!$A$\"&MATCH($J1968,SorP!$B$1:$B$6230,0))))","v":""},null,{"$f":"IF(C1968=\"\",NA(),MATCH($B1968&$C1968,'Smelter Look-up'!$J:$J,0))","v":{"$error":"#N/A"}},null,0,null,null,null,""]
[{"$nulls":18},{"$f":"IF(ISERROR($W1969),\"\",OFFSET('Smelter Look-up'!$C$4,$W1969-4,0)&\"\")","v":""},"",{"$f":"IF(B1969=\"\",\"\",IF(ISERROR(MATCH($J1969,SorP!$B$1:$B$6230,0)),\"\",INDIRECT(\"'SorP'!$A$\"&MATCH($J1969,SorP!$B$1:$B$6230,0))))","v":""},null,{"$f":"IF(C1969=\"\",NA(),MATCH($B1969&$C1969,'Smelter Look-up'!$J:$J,0))","v":{"$error":"#N/A"}},null,0,null,null,null,""]
[{"$nulls":18},{"$f":"IF(ISERROR($W1970),\"\",OFFSET('Smelter Look-up'!$C$4,$W1970-4,0)&\"\")","v":""},"",{"$f":"IF(B1970=\"\",\"\",IF(ISERROR(MATCH($J1970,SorP!$B$1:$B$6230,0)),\"\",INDIRECT(\"'SorP'!$A$\"&MATCH($J1970,SorP!$B$1:$B$6230,0))))","v":""},null,{"$f":"IF(C1970=\"\",NA(),MATCH($B1970&$C1970,'Smelter Look-up'!$J:$J,0))","v":{"$error":"#N/A"}},null,0,null,null,null,""]
[{"$nulls":18},{"$f":"IF(ISERROR($W1971),\"\",OFFSET('Smelter Look-up'!$C$4,$W1971-4,0)&\"\")","v":""},"",{"$f":"IF(B1971=\"\",\"\",IF(ISERROR(MATCH($J1971,SorP!$B$1:$B$6230,0)),\"\",INDIRECT(\"'SorP'!$A$\"&MATCH($J1971,SorP!$B$1:$B$6230,0))))","v":""},null,{"$f":"IF(C1971=\"\",NA(),MATCH($B1971&$C1971,'Smelter Look-up'!$J:$J,0))","v":{"$error":"#N/A"}},null,0,null,null,null,""]
[{"$nulls":18},{"$f":"IF(ISERROR($W1972),\"\",OFFSET('Smelter Look-up'!$C$4,$W1972-4,0)&\"\")","v":""},"",{"$f":"IF(B1972=\"\",\"\",IF(ISERROR(MATCH($J1972,SorP!$B$1:$B$6230,0)),\"\",INDIRECT(\"'SorP'!$A$\"&MATCH($J1972,SorP!$B$1:$B$6230,0))))","v":""},null,{"$f":"IF(C1972=\"\",NA(),MATCH($B1972&$C1972,'Smelter Look-up'!$J:$J,0))","v":{"$error":"#N/A"}},null,0,null,null,null,""]
[{"$nulls":18},{"$f":"IF(ISERROR($W1973),\"\",OFFSET('Smelter Look-up'!$C$4,$W1973-4,0)&\"\")","v":""},"",{"$f":"IF(B1973=\"\",\"\",IF(ISERROR(MATCH($J1973,SorP!$B$1:$B$6230,0)),\"\",INDIRECT(\"'SorP'!$A$\"&MATCH($J1973,SorP!$B$1:$B$6230,0))))","v":""},null,{"$f":"IF(C1973=\"\",NA(),MATCH($B1973&$C1973,'Smelter Look-up'!$J:$J,0))","v":{"$error":"#N/A"}},null,0,null,null,null,""]
[{"$nulls":18},{"$f":"IF(ISERROR($W1974),\"\",OFFSET('Smelter Look-up'!$C$4,$W1974-4,0)&\"\")","v":""},"",{"$f":"IF(B1974=\"\",\"\",IF(ISERROR(MATCH($J1974,SorP!$B$1:$B$6230,0)),\"\",INDIRECT(\"'SorP'!$A$\"&MATCH($J1974,SorP!$B$1:$B$6230,0))))","v":""},null,{"$f":"IF(C1974=\"\",NA(),MATCH($B1974&$C1974,'Smelter Look-up'!$J:$J,0))","v":{"$error":"#N/A"}},null,0,null,null,null,""]
[{"$nulls":18},{"$f":"IF(ISERROR($W1975),\"\",OFFSET('Smelter Look-up'!$C$4,$W1975-4,0)&\"\")","v":""},"",{"$f":"IF(B1975=\"\",\"\",IF(ISERROR(MATCH($J1975,SorP!$B$1:$B$6230,0)),\"\",INDIRECT(\"'SorP'!$A$\"&MATCH($J1975,SorP!$B$1:$B$6230,0))))","v":""},null,{"$f":"IF(C1975=\"\",NA(),MATCH($B1975&$C1975,'Smelter Look-up'!$J:$J,0))","v":{"$error":"#N/A"}},null,0,null,null,null,""]
[{"$nulls":18},{"$f":"IF(ISERROR($W1976),\"\",OFFSET('Smelter Look-up'!$C$4,$W1976-4,0)&\"\")","v":""},"",{"$f":"IF(B1976=\"\",\"\",IF(ISERROR(MATCH($J1976,SorP!$B$1:$B$6230,0)),\"\",INDIRECT(\"'SorP'!$A$\"&MATCH($J1976,SorP!$B$1:$B$6230,0))))","v":""},null,{"$f":"IF(C1976=\"\",NA(),MATCH($B1976&$C1976,'Smelter Look-up'!$J:$J,0))","v":{"$error":"#N/A"}},null,0,null,null,null,""]
[{"$nulls":18},{"$f":"IF(ISERROR($W1977),\"\",OFFSET('Smelter Look-up'!$C$4,$W1977-4,0)&\"\")","v":""},"",{"$f":"IF(B1977=\"\",\"\",IF(ISERROR(MATCH($J1977,SorP!$B$1:$B$6230,0)),\"\",INDIRECT(\"'SorP'!$A$\"&MATCH($J1977,SorP!$B$1:$B$6230,0))))","v":""},null,{"$f":"IF(C1977=\"\",NA(),MATCH($B1977&$C1977,'Smelter Look-up'!$J:$J,0))","v":{"$error":"#N/A"}},null,0,null,null,null,""]
[{"$nulls":18},{"$f":"IF(ISERROR($W1978),\"\",OFFSET('Smelter Look-up'!$C$4,$W1978-4,0)&\"\")","v":""},"",{"$f":"IF(B1978=\"\",\"\",IF(ISERROR(MATCH($J1978,SorP!$B$1:$B$6230,0)),\"\",INDIRECT(\"'SorP'!$A$\"&MATCH($J1978,SorP!$B$1:$B$6230,0))))","v":""},null,{"$f":"IF(C1978=\"\",NA(),MATCH($B1978&$C1978,'Smelter Look-up'!$J:$J,0))","v":{"$error":"#N/A"}},null,0,null,null,null,""]
[{"$nulls":18},{"$f":"IF(ISERROR($W1979),\"\",OFFSET('Smelter Look-up'!$C$4,$W1979-4,0)&\"\")","v":""},"",{"$f":"IF(B1979=\"\",\"\",IF(ISERROR(MATCH($J1979,SorP!$B$1:$B$6230,0)),\"\",INDIRECT(\"'SorP'!$A$\"&MATCH($J1979,SorP!$B$1:$B$6230,0))))","v":""},null,{"$f":"IF(C1979=\"\",NA(),MATCH($B1979&$C1979,'Smelter Look-up'!$J:$J,0))","v":{"$error":"#N/A"}},null,0,null,null,null,""]
[{"$nulls":18},{"$f":"IF(ISERROR($W1980),\"\",OFFSET('Smelter Look-up'!$C$4,$W1980-4,0)&\"\")","v":""},"",{"$f":"IF(B1980=\"\",\"\",IF(ISERROR(MATCH($J1980,SorP!$B$1:$B$6230,0)),\"\",INDIRECT(\"'SorP'!$A$\"&MATCH($J1980,SorP!$B$1:$B$6230,0))))","v":""},null,{"$f":"IF(C1980=\"\",NA(),MATCH($B1980&$C1980,'Smelter Look-up'!$J:$J,0))","v":{"$error":"#N/A"}},null,0,null,null,null,""]
[{"$nulls":18},{"$f":"IF(ISERROR($W1981),\"\",OFFSET('Smelter Look-up'!$C$4,$W1981-4,0)&\"\")","v":""},"",{"$f":"IF(B1981=\"\",\"\",IF(ISERROR(MATCH($J1981,SorP!$B$1:$B$6230,0)),\"\",INDIRECT(\"'SorP'!$A$\"&MATCH($J1981,SorP!$B$1:$B$6230,0))))","v":""},null,{"$f":"IF(C1981=\"\",NA(),MATCH($B1981&$C1981,'Smelter Look-up'!$J:$J,0))","v":{"$error":"#N/A"}},null,0,null,null,null,""]
[{"$nulls":18},{"$f":"IF(ISERROR($W1982),\"\",OFFSET('Smelter Look-up'!$C$4,$W1982-4,0)&\"\")","v":""},"",{"$f":"IF(B1982=\"\",\"\",IF(ISERROR(MATCH($J1982,SorP!$B$1:$B$6230,0)),\"\",INDIRECT(\"'SorP'!$A$\"&MATCH($J1982,SorP!$B$1:$B$6230,0))))","v":""},null,{"$f":"IF(C1982=\"\",NA(),MATCH($B1982&$C1982,'Smelter Look-up'!$J:$J,0))","v":{"$error":"#N/A"}},null,0,null,null,null,""]
[{"$nulls":18},{"$f":"IF(ISERROR($W1983),\"\",OFFSET('Smelter Look-up'!$C$4,$W1983-4,0)&\"\")","v":""},"",{"$f":"IF(B1983=\"\",\"\",IF(ISERROR(MATCH($J1983,SorP!$B$1:$B$6230,0)),\"\",INDIRECT(\"'SorP'!$A$\"&MATCH($J1983,SorP!$B$1:$B$6230,0))))","v":""},null,{"$f":"IF(C1983=\"\",NA(),MATCH($B1983&$C1983,'Smelter Look-up'!$J:$J,0))","v":{"$error":"#N/A"}},null,0,null,null,null,""]
[{"$nulls":18},{"$f":"IF(ISERROR($W1984),\"\",OFFSET('Smelter Look-up'!$C$4,$W1984-4,0)&\"\")","v":""},"",{"$f":"IF(B1984=\"\",\"\",IF(ISERROR(MATCH($J1984,SorP!$B$1:$B$6230,0)),\"\",INDIRECT(\"'SorP'!$A$\"&MATCH($J1984,SorP!$B$1:$B$6230,0))))","v":""},null,{"$f":"IF(C1984=\"\",NA(),MATCH($B1984&$C1984,'Smelter Look-up'!$J:$J,0))","v":{"$error":"#N/A"}},null,0,null,null,null,""]
[{"$nulls":18},{"$f":"IF(ISERROR($W1985),\"\",OFFSET('Smelter Look-up'!$C$4,$W1985-4,0)&\"\")","v":""},"",{"$f":"IF(B1985=\"\",\"\",IF(ISERROR(MATCH($J1985,SorP!$B$1:$B$6230,0)),\"\",INDIRECT(\"'SorP'!$A$\"&MATCH($J1985,SorP!$B$1:$B$6230,0))))","v":""},null,{"$f":"IF(C1985=\"\",NA(),MATCH($B1985&$C1985,'Smelter Look-up'!$J:$J,0))","v":{"$error":"#N/A"}},null,0,null,null,null,""]
[{"$nulls":18},{"$f":"IF(ISERROR($W1986),\"\",OFFSET('Smelter Look-up'!$C$4,$W1986-4,0)&\"\")","v":""},"",{"$f":"IF(B1986=\"\",\"\",IF(ISERROR(MATCH($J1986,SorP!$B$1:$B$6230,0)),\"\",INDIRECT(\"'SorP'!$A$\"&MATCH($J1986,SorP!$B$1:$B$6230,0))))","v":""},null,{"$f":"IF(C1986=\"\",NA(),MATCH($B1986&$C1986,'Smelter Look-up'!$J:$J,0))","v":{"$error":"#N/A"}},null,0,null,null,null,""]
[{"$nulls":18},{"$f":"IF(ISERROR($W1987),\"\",OFFSET('Smelter Look-up'!$C$4,$W1987-4,0)&\"\")","v":""},"",{"$f":"IF(B1987=\"\",\"\",IF(ISERROR(MATCH($J1987,SorP!$B$1:$B$6230,0)),\"\",INDIRECT(\"'SorP'!$A$\"&MATCH($J1987,SorP!$B$1:$B$6230,0))))","v":""},null,{"$f":"IF(C1987=\"\",NA(),MATCH($B1987&$C1987,'Smelter Look-up'!$J:$J,0))","v":{"$error":"#N/A"}},null,0,null,null,null,""]
[{"$nulls":18},{"$f":"IF(ISERROR($W1988),\"\",OFFSET('Smelter Look-up'!$C$4,$W1988-4,0)&\"\")","v":""},"",{"$f":"IF(B1988=\"\",\"\",IF(ISERROR(MATCH($J1988,SorP!$B$1:$B$6230,0)),\"\",INDIRECT(\"'SorP'!$A$\"&MATCH($J1988,SorP!$B$1:$B$6230,0))))","v":""},null,{"$f":"IF(C1988=\"\",NA(),MATCH($B1988&$C1988,'Smelter Look-up'!$J:$J,0))","v":{"$error":"#N/A"}},null,0,null,null,null,""]
[{"$nulls":18},{"$f":"IF(ISERROR($W1989),\"\",OFFSET('Smelter Look-up'!$C$4,$W1989-4,0)&\"\")","v":""},{"$f":"IF(B1989=\"\",\"\",IF(ISERROR(MATCH($E1989,CL,0)),\"Unknown\",INDIRECT(\"'C'!$A$\"&MATCH($E1989,CL,0)+1)))","v":""},{"$f":"IF(B1989=\"\",\"\",IF(ISERROR(MATCH($J1989,SorP!$B$1:$B$6230,0)),\"\",INDIRECT(\"'SorP'!$A$\"&MATCH($J1989,SorP!$B$1:$B$6230,0))))","v":""},null,{"$f":"IF(C1989=\"\",NA(),MATCH($B1989&$C1989,'Smelter Look-up'!$J:$J,0))","v":{"$error":"#N/A"}},null,{"$f":"IF(AND(C1989=\"Smelter not listed\",OR(LEN(D1989)=0,LEN(E1989)=0)),1,0)","v":0},null,null,null,{"$f":"B1989&C1989","v":""}]
[{"$nulls":18},{"$f":"IF(ISERROR($W1990),\"\",OFFSET('Smelter Look-up'!$C$4,$W1990-4,0)&\"\")","v":""},"",{"$f":"IF(B1990=\"\",\"\",IF(ISERROR(MATCH($J1990,SorP!$B$1:$B$6230,0)),\"\",INDIRECT(\"'SorP'!$A$\"&MATCH($J1990,SorP!$B$1:$B$6230,0))))","v":""},null,{"$f":"IF(C1990=\"\",NA(),MATCH($B1990&$C1990,'Smelter Look-up'!$J:$J,0))","v":{"$error":"#N/A"}},null,0,null,null,null,""]
[{"$nulls":18},{"$f":"IF(ISERROR($W1991),\"\",OFFSET('Smelter Look-up'!$C$4,$W1991-4,0)&\"\")","v":""},"",{"$f":"IF(B1991=\"\",\"\",IF(ISERROR(MATCH($J1991,SorP!$B$1:$B$6230,0)),\"\",INDIRECT(\"'SorP'!$A$\"&MATCH($J1991,SorP!$B$1:$B$6230,0))))","v":""},null,{"$f":"IF(C1991=\"\",NA(),MATCH($B1991&$C1991,'Smelter Look-up'!$J:$J,0))","v":{"$error":"#N/A"}},null,0,null,null,null,""]
[{"$nulls":18},{"$f":"IF(ISERROR($W1992),\"\",OFFSET('Smelter Look-up'!$C$4,$W1992-4,0)&\"\")","v":""},"",{"$f":"IF(B1992=\"\",\"\",IF(ISERROR(MATCH($J1992,SorP!$B$1:$B$6230,0)),\"\",INDIRECT(\"'SorP'!$A$\"&MATCH($J1992,SorP!$B$1:$B$6230,0))))","v":""},null,{"$f":"IF(C1992=\"\",NA(),MATCH($B1992&$C1992,'Smelter Look-up'!$J:$J,0))","v":{"$error":"#N/A"}},null,0,null,null,null,""]
[{"$nulls":18},{"$f":"IF(ISERROR($W1993),\"\",OFFSET('Smelter Look-up'!$C$4,$W1993-4,0)&\"\")","v":""},"",{"$f":"IF(B1993=\"\",\"\",IF(ISERROR(MATCH($J1993,SorP!$B$1:$B$6230,0)),\"\",INDIRECT(\"'SorP'!$A$\"&MATCH($J1993,SorP!$B$1:$B$6230,0))))","v":""},null,{"$f":"IF(C1993=\"\",NA(),MATCH($B1993&$C1993,'Smelter Look-up'!$J:$J,0))","v":{"$error":"#N/A"}},null,0,null,null,null,""]
[{"$nulls":18},{"$f":"IF(ISERROR($W1994),\"\",OFFSET('Smelter Look-up'!$C$4,$W1994-4,0)&\"\")","v":""},"",{"$f":"IF(B1994=\"\",\"\",IF(ISERROR(MATCH($J1994,SorP!$B$1:$B$6230,0)),\"\",INDIRECT(\"'SorP'!$A$\"&MATCH($J1994,SorP!$B$1:$B$6230,0))))","v":""},null,{"$f":"IF(C1994=\"\",NA(),MATCH($B1994&$C1994,'Smelter Look-up'!$J:$J,0))","v":{"$error":"#N/A"}},null,0,null,null,null,""]
[{"$nulls":18},{"$f":"IF(ISERROR($W1995),\"\",OFFSET('Smelter Look-up'!$C$4,$W1995-4,0)&\"\")","v":""},"",{"$f":"IF(B1995=\"\",\"\",IF(ISERROR(MATCH($J1995,SorP!$B$1:$B$6230,0)),\"\",INDIRECT(\"'SorP'!$A$\"&MATCH($J1995,SorP!$B$1:$B$6230,0))))","v":""},null,{"$f":"IF(C1995=\"\",NA(),MATCH($B1995&$C1995,'Smelter Look-up'!$J:$J,0))","v":{"$error":"#N/A"}},null,0,null,null,null,""]
[{"$nulls":18},{"$f":"IF(ISERROR($W1996),\"\",OFFSET('Smelter Look-up'!$C$4,$W1996-4,0)&\"\")","v":""},"",{"$f":"IF(B1996=\"\",\"\",IF(ISERROR(MATCH($J1996,SorP!$B$1:$B$6230,0)),\"\",INDIRECT(\"'SorP'!$A$\"&MATCH($J1996,SorP!$B$1:$B$6230,0))))","v":""},null,{"$f":"IF(C1996=\"\",NA(),MATCH($B1996&$C1996,'Smelter Look-up'!$J:$J,0))","v":{"$error":"#N/A"}},null,0,null,null,null,""]
[{"$nulls":18},{"$f":"IF(ISERROR($W1997),\"\",OFFSET('Smelter Look-up'!$C$4,$W1997-4,0)&\"\")","v":""},"",{"$f":"IF(B1997=\"\",\"\",IF(ISERROR(MATCH($J1997,SorP!$B$1:$B$6230,0)),\"\",INDIRECT(\"'SorP'!$A$\"&MATCH($J1997,SorP!$B$1:$B$6230,0))))","v":""},null,{"$f":"IF(C1997=\"\",NA(),MATCH($B1997&$C1997,'Smelter Look-up'!$J:$J,0))","v":{"$error":"#N/A"}},null,0,null,null,null,""]
[{"$nulls":18},{"$f":"IF(ISERROR($W1998),\"\",OFFSET('Smelter Look-up'!$C$4,$W1998-4,0)&\"\")","v":""},"",{"$f":"IF(B1998=\"\",\"\",IF(ISERROR(MATCH($J1998,SorP!$B$1:$B$6230,0)),\"\",INDIRECT(\"'SorP'!$A$\"&MATCH($J1998,SorP!$B$1:$B$6230,0))))","v":""},null,{"$f":"IF(C1998=\"\",NA(),MATCH($B1998&$C1998,'Smelter Look-up'!$J:$J,0))","v":{"$error":"#N/A"}},null,0,null,null,null,""]
[{"$nulls":18},{"$f":"IF(ISERROR($W1999),\"\",OFFSET('Smelter Look-up'!$C$4,$W1999-4,0)&\"\")","v":""},"",{"$f":"IF(B1999=\"\",\"\",IF(ISERROR(MATCH($J1999,SorP!$B$1:$B$6230,0)),\"\",INDIRECT(\"'SorP'!$A$\"&MATCH($J1999,SorP!$B$1:$B$6230,0))))","v":""},null,{"$f":"IF(C1999=\"\",NA(),MATCH($B1999&$C1999,'Smelter Look-up'!$J:$J,0))","v":{"$error":"#N/A"}},null,0,null,null,null,""]
[{"$nulls":18},{"$f":"IF(ISERROR($W2000),\"\",OFFSET('Smelter Look-up'!$C$4,$W2000-4,0)&\"\")","v":""},"",{"$f":"IF(B2000=\"\",\"\",IF(ISERROR(MATCH($J2000,SorP!$B$1:$B$6230,0)),\"\",INDIRECT(\"'SorP'!$A$\"&MATCH($J2000,SorP!$B$1:$B$6230,0))))","v":""},null,{"$f":"IF(C2000=\"\",NA(),MATCH($B2000&$C2000,'Smelter Look-up'!$J:$J,0))","v":{"$error":"#N/A"}},null,0,null,null,null,""]
[{"$nulls":18},{"$f":"IF(ISERROR($W2001),\"\",OFFSET('Smelter Look-up'!$C$4,$W2001-4,0)&\"\")","v":""},"",{"$f":"IF(B2001=\"\",\"\",IF(ISERROR(MATCH($J2001,SorP!$B$1:$B$6230,0)),\"\",INDIRECT(\"'SorP'!$A$\"&MATCH($J2001,SorP!$B$1:$B$6230,0))))","v":""},null,{"$f":"IF(C2001=\"\",NA(),MATCH($B2001&$C2001,'Smelter Look-up'!$J:$J,0))","v":{"$error":"#N/A"}},null,0,null,null,null,""]
[{"$nulls":18},{"$f":"IF(ISERROR($W2002),\"\",OFFSET('Smelter Look-up'!$C$4,$W2002-4,0)&\"\")","v":""},"",{"$f":"IF(B2002=\"\",\"\",IF(ISERROR(MATCH($J2002,SorP!$B$1:$B$6230,0)),\"\",INDIRECT(\"'SorP'!$A$\"&MATCH($J2002,SorP!$B$1:$B$6230,0))))","v":""},null,{"$f":"IF(C2002=\"\",NA(),MATCH($B2002&$C2002,'Smelter Look-up'!$J:$J,0))","v":{"$error":"#N/A"}},null,0,null,null,null,""]
[{"$nulls":18},{"$f":"IF(ISERROR($W2003),\"\",OFFSET('Smelter Look-up'!$C$4,$W2003-4,0)&\"\")","v":""},"",{"$f":"IF(B2003=\"\",\"\",IF(ISERROR(MATCH($J2003,SorP!$B$1:$B$6230,0)),\"\",INDIRECT(\"'SorP'!$A$\"&MATCH($J2003,SorP!$B$1:$B$6230,0))))","v":""},null,{"$f":"IF(C2003=\"\",NA(),MATCH($B2003&$C2003,'Smelter Look-up'!$J:$J,0))","v":{"$error":"#N/A"}},null,0,null,null,null,""]
[{"$nulls":18},{"$f":"IF(ISERROR($W2004),\"\",OFFSET('Smelter Look-up'!$C$4,$W2004-4,0)&\"\")","v":""},"",{"$f":"IF(B2004=\"\",\"\",IF(ISERROR(MATCH($J2004,SorP!$B$1:$B$6230,0)),\"\",INDIRECT(\"'SorP'!$A$\"&MATCH($J2004,SorP!$B$1:$B$6230,0))))","v":""},null,{"$f":"IF(C2004=\"\",NA(),MATCH($B2004&$C2004,'Smelter Look-up'!$J:$J,0))","v":{"$error":"#N/A"}},null,0,null,null,null,""]
[{"$nulls":18},{"$f":"IF(ISERROR($W2005),\"\",OFFSET('Smelter Look-up'!$C$4,$W2005-4,0)&\"\")","v":""},"",{"$f":"IF(B2005=\"\",\"\",IF(ISERROR(MATCH($J2005,SorP!$B$1:$B$6230,0)),\"\",INDIRECT(\"'SorP'!$A$\"&MATCH($J2005,SorP!$B$1:$B$6230,0))))","v":""},null,{"$f":"IF(C2005=\"\",NA(),MATCH($B2005&$C2005,'Smelter Look-up'!$J:$J,0))","v":{"$error":"#N/A"}},null,0,null,null,null,""]
[{"$nulls":18},{"$f":"IF(ISERROR($W2006),\"\",OFFSET('Smelter Look-up'!$C$4,$W2006-4,0)&\"\")","v":""},"",{"$f":"IF(B2006=\"\",\"\",IF(ISERROR(MATCH($J2006,SorP!$B$1:$B$6230,0)),\"\",INDIRECT(\"'SorP'!$A$\"&MATCH($J2006,SorP!$B$1:$B$6230,0))))","v":""},null,{"$f":"IF(C2006=\"\",NA(),MATCH($B2006&$C2006,'Smelter Look-up'!$J:$J,0))","v":{"$error":"#N/A"}},null,0,null,null,null,""]
[{"$nulls":18},{"$f":"IF(ISERROR($W2007),\"\",OFFSET('Smelter Look-up'!$C$4,$W2007-4,0)&\"\")","v":""},"",{"$f":"IF(B2007=\"\",\"\",IF(ISERROR(MATCH($J2007,SorP!$B$1:$B$6230,0)),\"\",INDIRECT(\"'SorP'!$A$\"&MATCH($J2007,SorP!$B$1:$B$6230,0))))","v":""},null,{"$f":"IF(C2007=\"\",NA(),MATCH($B2007&$C2007,'Smelter Look-up'!$J:$J,0))","v":{"$error":"#N/A"}},null,0,null,null,null,""]
[{"$nulls":18},{"$f":"IF(ISERROR($W2008),\"\",OFFSET('Smelter Look-up'!$C$4,$W2008-4,0)&\"\")","v":""},"",{"$f":"IF(B2008=\"\",\"\",IF(ISERROR(MATCH($J2008,SorP!$B$1:$B$6230,0)),\"\",INDIRECT(\"'SorP'!$A$\"&MATCH($J2008,SorP!$B$1:$B$6230,0))))","v":""},null,{"$f":"IF(C2008=\"\",NA(),MATCH($B2008&$C2008,'Smelter Look-up'!$J:$J,0))","v":{"$error":"#N/A"}},null,0,null,null,null,""]
[{"$nulls":18},{"$f":"IF(ISERROR($W2009),\"\",OFFSET('Smelter Look-up'!$C$4,$W2009-4,0)&\"\")","v":""},"",{"$f":"IF(B2009=\"\",\"\",IF(ISERROR(MATCH($J2009,SorP!$B$1:$B$6230,0)),\"\",INDIRECT(\"'SorP'!$A$\"&MATCH($J2009,SorP!$B$1:$B$6230,0))))","v":""},null,{"$f":"IF(C2009=\"\",NA(),MATCH($B2009&$C2009,'Smelter Look-up'!$J:$J,0))","v":{"$error":"#N/A"}},null,0,null,null,null,""]
[{"$nulls":18},{"$f":"IF(ISERROR($W2010),\"\",OFFSET('Smelter Look-up'!$C$4,$W2010-4,0)&\"\")","v":""},"",{"$f":"IF(B2010=\"\",\"\",IF(ISERROR(MATCH($J2010,SorP!$B$1:$B$6230,0)),\"\",INDIRECT(\"'SorP'!$A$\"&MATCH($J2010,SorP!$B$1:$B$6230,0))))","v":""},null,{"$f":"IF(C2010=\"\",NA(),MATCH($B2010&$C2010,'Smelter Look-up'!$J:$J,0))","v":{"$error":"#N/A"}},null,0,null,null,null,""]
[{"$nulls":18},{"$f":"IF(ISERROR($W2011),\"\",OFFSET('Smelter Look-up'!$C$4,$W2011-4,0)&\"\")","v":""},"",{"$f":"IF(B2011=\"\",\"\",IF(ISERROR(MATCH($J2011,SorP!$B$1:$B$6230,0)),\"\",INDIRECT(\"'SorP'!$A$\"&MATCH($J2011,SorP!$B$1:$B$6230,0))))","v":""},null,{"$f":"IF(C2011=\"\",NA(),MATCH($B2011&$C2011,'Smelter Look-up'!$J:$J,0))","v":{"$error":"#N/A"}},null,0,null,null,null,""]
[{"$nulls":18},{"$f":"IF(ISERROR($W2012),\"\",OFFSET('Smelter Look-up'!$C$4,$W2012-4,0)&\"\")","v":""},"",{"$f":"IF(B2012=\"\",\"\",IF(ISERROR(MATCH($J2012,SorP!$B$1:$B$6230,0)),\"\",INDIRECT(\"'SorP'!$A$\"&MATCH($J2012,SorP!$B$1:$B$6230,0))))","v":""},null,{"$f":"IF(C2012=\"\",NA(),MATCH($B2012&$C2012,'Smelter Look-up'!$J:$J,0))","v":{"$error":"#N/A"}},null,0,null,null,null,""]
[{"$nulls":18},{"$f":"IF(ISERROR($W2013),\"\",OFFSET('Smelter Look-up'!$C$4,$W2013-4,0)&\"\")","v":""},"",{"$f":"IF(B2013=\"\",\"\",IF(ISERROR(MATCH($J2013,SorP!$B$1:$B$6230,0)),\"\",INDIRECT(\"'SorP'!$A$\"&MATCH($J2013,SorP!$B$1:$B$6230,0))))","v":""},null,{"$f":"IF(C2013=\"\",NA(),MATCH($B2013&$C2013,'Smelter Look-up'!$J:$J,0))","v":{"$error":"#N/A"}},null,0,null,null,null,""]
[{"$nulls":18},{"$f":"IF(ISERROR($W2014),\"\",OFFSET('Smelter Look-up'!$C$4,$W2014-4,0)&\"\")","v":""},"",{"$f":"IF(B2014=\"\",\"\",IF(ISERROR(MATCH($J2014,SorP!$B$1:$B$6230,0)),\"\",INDIRECT(\"'SorP'!$A$\"&MATCH($J2014,SorP!$B$1:$B$6230,0))))","v":""},null,{"$f":"IF(C2014=\"\",NA(),MATCH($B2014&$C2014,'Smelter Look-up'!$J:$J,0))","v":{"$error":"#N/A"}},null,0,null,null,null,""]
[{"$nulls":18},{"$f":"IF(ISERROR($W2015),\"\",OFFSET('Smelter Look-up'!$C$4,$W2015-4,0)&\"\")","v":""},"",{"$f":"IF(B2015=\"\",\"\",IF(ISERROR(MATCH($J2015,SorP!$B$1:$B$6230,0)),\"\",INDIRECT(\"'SorP'!$A$\"&MATCH($J2015,SorP!$B$1:$B$6230,0))))","v":""},null,{"$f":"IF(C2015=\"\",NA(),MATCH($B2015&$C2015,'Smelter Look-up'!$J:$J,0))","v":{"$error":"#N/A"}},null,0,null,null,null,""]
[{"$nulls":18},{"$f":"IF(ISERROR($W2016),\"\",OFFSET('Smelter Look-up'!$C$4,$W2016-4,0)&\"\")","v":""},"",{"$f":"IF(B2016=\"\",\"\",IF(ISERROR(MATCH($J2016,SorP!$B$1:$B$6230,0)),\"\",INDIRECT(\"'SorP'!$A$\"&MATCH($J2016,SorP!$B$1:$B$6230,0))))","v":""},null,{"$f":"IF(C2016=\"\",NA(),MATCH($B2016&$C2016,'Smelter Look-up'!$J:$J,0))","v":{"$error":"#N/A"}},null,0,null,null,null,""]
[{"$nulls":18},{"$f":"IF(ISERROR($W2017),\"\",OFFSET('Smelter Look-up'!$C$4,$W2017-4,0)&\"\")","v":""},"",{"$f":"IF(B2017=\"\",\"\",IF(ISERROR(MATCH($J2017,SorP!$B$1:$B$6230,0)),\"\",INDIRECT(\"'SorP'!$A$\"&MATCH($J2017,SorP!$B$1:$B$6230,0))))","v":""},null,{"$f":"IF(C2017=\"\",NA(),MATCH($B2017&$C2017,'Smelter Look-up'!$J:$J,0))","v":{"$error":"#N/A"}},null,0,null,null,null,""]
[{"$nulls":18},{"$f":"IF(ISERROR($W2018),\"\",OFFSET('Smelter Look-up'!$C$4,$W2018-4,0)&\"\")","v":""},"",{"$f":"IF(B2018=\"\",\"\",IF(ISERROR(MATCH($J2018,SorP!$B$1:$B$6230,0)),\"\",INDIRECT(\"'SorP'!$A$\"&MATCH($J2018,SorP!$B$1:$B$6230,0))))","v":""},null,{"$f":"IF(C2018=\"\",NA(),MATCH($B2018&$C2018,'Smelter Look-up'!$J:$J,0))","v":{"$error":"#N/A"}},null,0,null,null,null,""]
[{"$nulls":18},{"$f":"IF(ISERROR($W2019),\"\",OFFSET('Smelter Look-up'!$C$4,$W2019-4,0)&\"\")","v":""},"",{"$f":"IF(B2019=\"\",\"\",IF(ISERROR(MATCH($J2019,SorP!$B$1:$B$6230,0)),\"\",INDIRECT(\"'SorP'!$A$\"&MATCH($J2019,SorP!$B$1:$B$6230,0))))","v":""},null,{"$f":"IF(C2019=\"\",NA(),MATCH($B2019&$C2019,'Smelter Look-up'!$J:$J,0))","v":{"$error":"#N/A"}},null,0,null,null,null,""]
[{"$nulls":18},{"$f":"IF(ISERROR($W2020),\"\",OFFSET('Smelter Look-up'!$C$4,$W2020-4,0)&\"\")","v":""},"",{"$f":"IF(B2020=\"\",\"\",IF(ISERROR(MATCH($J2020,SorP!$B$1:$B$6230,0)),\"\",INDIRECT(\"'SorP'!$A$\"&MATCH($J2020,SorP!$B$1:$B$6230,0))))","v":""},null,{"$f":"IF(C2020=\"\",NA(),MATCH($B2020&$C2020,'Smelter Look-up'!$J:$J,0))","v":{"$error":"#N/A"}},null,0,null,null,null,""]
[{"$nulls":18},{"$f":"IF(ISERROR($W2021),\"\",OFFSET('Smelter Look-up'!$C$4,$W2021-4,0)&\"\")","v":""},"",{"$f":"IF(B2021=\"\",\"\",IF(ISERROR(MATCH($J2021,SorP!$B$1:$B$6230,0)),\"\",INDIRECT(\"'SorP'!$A$\"&MATCH($J2021,SorP!$B$1:$B$6230,0))))","v":""},null,{"$f":"IF(C2021=\"\",NA(),MATCH($B2021&$C2021,'Smelter Look-up'!$J:$J,0))","v":{"$error":"#N/A"}},null,0,null,null,null,""]
[{"$nulls":18},{"$f":"IF(ISERROR($W2022),\"\",OFFSET('Smelter Look-up'!$C$4,$W2022-4,0)&\"\")","v":""},"",{"$f":"IF(B2022=\"\",\"\",IF(ISERROR(MATCH($J2022,SorP!$B$1:$B$6230,0)),\"\",INDIRECT(\"'SorP'!$A$\"&MATCH($J2022,SorP!$B$1:$B$6230,0))))","v":""},null,{"$f":"IF(C2022=\"\",NA(),MATCH($B2022&$C2022,'Smelter Look-up'!$J:$J,0))","v":{"$error":"#N/A"}},null,0,null,null,null,""]
[{"$nulls":18},{"$f":"IF(ISERROR($W2023),\"\",OFFSET('Smelter Look-up'!$C$4,$W2023-4,0)&\"\")","v":""},"",{"$f":"IF(B2023=\"\",\"\",IF(ISERROR(MATCH($J2023,SorP!$B$1:$B$6230,0)),\"\",INDIRECT(\"'SorP'!$A$\"&MATCH($J2023,SorP!$B$1:$B$6230,0))))","v":""},null,{"$f":"IF(C2023=\"\",NA(),MATCH($B2023&$C2023,'Smelter Look-up'!$J:$J,0))","v":{"$error":"#N/A"}},null,0,null,null,null,""]
[{"$nulls":18},{"$f":"IF(ISERROR($W2024),\"\",OFFSET('Smelter Look-up'!$C$4,$W2024-4,0)&\"\")","v":""},"",{"$f":"IF(B2024=\"\",\"\",IF(ISERROR(MATCH($J2024,SorP!$B$1:$B$6230,0)),\"\",INDIRECT(\"'SorP'!$A$\"&MATCH($J2024,SorP!$B$1:$B$6230,0))))","v":""},null,{"$f":"IF(C2024=\"\",NA(),MATCH($B2024&$C2024,'Smelter Look-up'!$J:$J,0))","v":{"$error":"#N/A"}},null,0,null,null,null,""]
[{"$nulls":18},{"$f":"IF(ISERROR($W2025),\"\",OFFSET('Smelter Look-up'!$C$4,$W2025-4,0)&\"\")","v":""},"",{"$f":"IF(B2025=\"\",\"\",IF(ISERROR(MATCH($J2025,SorP!$B$1:$B$6230,0)),\"\",INDIRECT(\"'SorP'!$A$\"&MATCH($J2025,SorP!$B$1:$B$6230,0))))","v":""},null,{"$f":"IF(C2025=\"\",NA(),MATCH($B2025&$C2025,'Smelter Look-up'!$J:$J,0))","v":{"$error":"#N/A"}},null,0,null,null,null,""]
[{"$nulls":18},{"$f":"IF(ISERROR($W2026),\"\",OFFSET('Smelter Look-up'!$C$4,$W2026-4,0)&\"\")","v":""},"",{"$f":"IF(B2026=\"\",\"\",IF(ISERROR(MATCH($J2026,SorP!$B$1:$B$6230,0)),\"\",INDIRECT(\"'SorP'!$A$\"&MATCH($J2026,SorP!$B$1:$B$6230,0))))","v":""},null,{"$f":"IF(C2026=\"\",NA(),MATCH($B2026&$C2026,'Smelter Look-up'!$J:$J,0))","v":{"$error":"#N/A"}},null,0,null,null,null,""]
[{"$nulls":18},{"$f":"IF(ISERROR($W2027),\"\",OFFSET('Smelter Look-up'!$C$4,$W2027-4,0)&\"\")","v":""},"",{"$f":"IF(B2027=\"\",\"\",IF(ISERROR(MATCH($J2027,SorP!$B$1:$B$6230,0)),\"\",INDIRECT(\"'SorP'!$A$\"&MATCH($J2027,SorP!$B$1:$B$6230,0))))","v":""},null,{"$f":"IF(C2027=\"\",NA(),MATCH($B2027&$C2027,'Smelter Look-up'!$J:$J,0))","v":{"$error":"#N/A"}},null,0,null,null,null,""]
[{"$nulls":18},{"$f":"IF(ISERROR($W2028),\"\",OFFSET('Smelter Look-up'!$C$4,$W2028-4,0)&\"\")","v":""},"",{"$f":"IF(B2028=\"\",\"\",IF(ISERROR(MATCH($J2028,SorP!$B$1:$B$6230,0)),\"\",INDIRECT(\"'SorP'!$A$\"&MATCH($J2028,SorP!$B$1:$B$6230,0))))","v":""},null,{"$f":"IF(C2028=\"\",NA(),MATCH($B2028&$C2028,'Smelter Look-up'!$J:$J,0))","v":{"$error":"#N/A"}},null,0,null,null,null,""]
[{"$nulls":18},{"$f":"IF(ISERROR($W2029),\"\",OFFSET('Smelter Look-up'!$C$4,$W2029-4,0)&\"\")","v":""},"",{"$f":"IF(B2029=\"\",\"\",IF(ISERROR(MATCH($J2029,SorP!$B$1:$B$6230,0)),\"\",INDIRECT(\"'SorP'!$A$\"&MATCH($J2029,SorP!$B$1:$B$6230,0))))","v":""},null,{"$f":"IF(C2029=\"\",NA(),MATCH($B2029&$C2029,'Smelter Look-up'!$J:$J,0))","v":{"$error":"#N/A"}},null,0,null,null,null,""]
[{"$nulls":18},{"$f":"IF(ISERROR($W2030),\"\",OFFSET('Smelter Look-up'!$C$4,$W2030-4,0)&\"\")","v":""},"",{"$f":"IF(B2030=\"\",\"\",IF(ISERROR(MATCH($J2030,SorP!$B$1:$B$6230,0)),\"\",INDIRECT(\"'SorP'!$A$\"&MATCH($J2030,SorP!$B$1:$B$6230,0))))","v":""},null,{"$f":"IF(C2030=\"\",NA(),MATCH($B2030&$C2030,'Smelter Look-up'!$J:$J,0))","v":{"$error":"#N/A"}},null,0,null,null,null,""]
[{"$nulls":18},{"$f":"IF(ISERROR($W2031),\"\",OFFSET('Smelter Look-up'!$C$4,$W2031-4,0)&\"\")","v":""},"",{"$f":"IF(B2031=\"\",\"\",IF(ISERROR(MATCH($J2031,SorP!$B$1:$B$6230,0)),\"\",INDIRECT(\"'SorP'!$A$\"&MATCH($J2031,SorP!$B$1:$B$6230,0))))","v":""},null,{"$f":"IF(C2031=\"\",NA(),MATCH($B2031&$C2031,'Smelter Look-up'!$J:$J,0))","v":{"$error":"#N/A"}},null,0,null,null,null,""]
[{"$nulls":18},{"$f":"IF(ISERROR($W2032),\"\",OFFSET('Smelter Look-up'!$C$4,$W2032-4,0)&\"\")","v":""},"",{"$f":"IF(B2032=\"\",\"\",IF(ISERROR(MATCH($J2032,SorP!$B$1:$B$6230,0)),\"\",INDIRECT(\"'SorP'!$A$\"&MATCH($J2032,SorP!$B$1:$B$6230,0))))","v":""},null,{"$f":"IF(C2032=\"\",NA(),MATCH($B2032&$C2032,'Smelter Look-up'!$J:$J,0))","v":{"$error":"#N/A"}},null,0,null,null,null,""]
[{"$nulls":18},{"$f":"IF(ISERROR($W2033),\"\",OFFSET('Smelter Look-up'!$C$4,$W2033-4,0)&\"\")","v":""},"",{"$f":"IF(B2033=\"\",\"\",IF(ISERROR(MATCH($J2033,SorP!$B$1:$B$6230,0)),\"\",INDIRECT(\"'SorP'!$A$\"&MATCH($J2033,SorP!$B$1:$B$6230,0))))","v":""},null,{"$f":"IF(C2033=\"\",NA(),MATCH($B2033&$C2033,'Smelter Look-up'!$J:$J,0))","v":{"$error":"#N/A"}},null,0,null,null,null,""]
[{"$nulls":18},{"$f":"IF(ISERROR($W2034),\"\",OFFSET('Smelter Look-up'!$C$4,$W2034-4,0)&\"\")","v":""},"",{"$f":"IF(B2034=\"\",\"\",IF(ISERROR(MATCH($J2034,SorP!$B$1:$B$6230,0)),\"\",INDIRECT(\"'SorP'!$A$\"&MATCH($J2034,SorP!$B$1:$B$6230,0))))","v":""},null,{"$f":"IF(C2034=\"\",NA(),MATCH($B2034&$C2034,'Smelter Look-up'!$J:$J,0))","v":{"$error":"#N/A"}},null,0,null,null,null,""]
[{"$nulls":18},{"$f":"IF(ISERROR($W2035),\"\",OFFSET('Smelter Look-up'!$C$4,$W2035-4,0)&\"\")","v":""},"",{"$f":"IF(B2035=\"\",\"\",IF(ISERROR(MATCH($J2035,SorP!$B$1:$B$6230,0)),\"\",INDIRECT(\"'SorP'!$A$\"&MATCH($J2035,SorP!$B$1:$B$6230,0))))","v":""},null,{"$f":"IF(C2035=\"\",NA(),MATCH($B2035&$C2035,'Smelter Look-up'!$J:$J,0))","v":{"$error":"#N/A"}},null,0,null,null,null,""]
[{"$nulls":18},{"$f":"IF(ISERROR($W2036),\"\",OFFSET('Smelter Look-up'!$C$4,$W2036-4,0)&\"\")","v":""},"",{"$f":"IF(B2036=\"\",\"\",IF(ISERROR(MATCH($J2036,SorP!$B$1:$B$6230,0)),\"\",INDIRECT(\"'SorP'!$A$\"&MATCH($J2036,SorP!$B$1:$B$6230,0))))","v":""},null,{"$f":"IF(C2036=\"\",NA(),MATCH($B2036&$C2036,'Smelter Look-up'!$J:$J,0))","v":{"$error":"#N/A"}},null,0,null,null,null,""]
[{"$nulls":18},{"$f":"IF(ISERROR($W2037),\"\",OFFSET('Smelter Look-up'!$C$4,$W2037-4,0)&\"\")","v":""},"",{"$f":"IF(B2037=\"\",\"\",IF(ISERROR(MATCH($J2037,SorP!$B$1:$B$6230,0)),\"\",INDIRECT(\"'SorP'!$A$\"&MATCH($J2037,SorP!$B$1:$B$6230,0))))","v":""},null,{"$f":"IF(C2037=\"\",NA(),MATCH($B2037&$C2037,'Smelter Look-up'!$J:$J,0))","v":{"$error":"#N/A"}},null,0,null,null,null,""]
[{"$nulls":18},{"$f":"IF(ISERROR($W2038),\"\",OFFSET('Smelter Look-up'!$C$4,$W2038-4,0)&\"\")","v":""},"",{"$f":"IF(B2038=\"\",\"\",IF(ISERROR(MATCH($J2038,SorP!$B$1:$B$6230,0)),\"\",INDIRECT(\"'SorP'!$A$\"&MATCH($J2038,SorP!$B$1:$B$6230,0))))","v":""},null,{"$f":"IF(C2038=\"\",NA(),MATCH($B2038&$C2038,'Smelter Look-up'!$J:$J,0))","v":{"$error":"#N/A"}},null,0,null,null,null,""]
[{"$nulls":18},{"$f":"IF(ISERROR($W2039),\"\",OFFSET('Smelter Look-up'!$C$4,$W2039-4,0)&\"\")","v":""},"",{"$f":"IF(B2039=\"\",\"\",IF(ISERROR(MATCH($J2039,SorP!$B$1:$B$6230,0)),\"\",INDIRECT(\"'SorP'!$A$\"&MATCH($J2039,SorP!$B$1:$B$6230,0))))","v":""},null,{"$f":"IF(C2039=\"\",NA(),MATCH($B2039&$C2039,'Smelter Look-up'!$J:$J,0))","v":{"$error":"#N/A"}},null,0,null,null,null,""]
[{"$nulls":18},{"$f":"IF(ISERROR($W2040),\"\",OFFSET('Smelter Look-up'!$C$4,$W2040-4,0)&\"\")","v":""},"",{"$f":"IF(B2040=\"\",\"\",IF(ISERROR(MATCH($J2040,SorP!$B$1:$B$6230,0)),\"\",INDIRECT(\"'SorP'!$A$\"&MATCH($J2040,SorP!$B$1:$B$6230,0))))","v":""},null,{"$f":"IF(C2040=\"\",NA(),MATCH($B2040&$C2040,'Smelter Look-up'!$J:$J,0))","v":{"$error":"#N/A"}},null,0,null,null,null,""]
[{"$nulls":18},{"$f":"IF(ISERROR($W2041),\"\",OFFSET('Smelter Look-up'!$C$4,$W2041-4,0)&\"\")","v":""},"",{"$f":"IF(B2041=\"\",\"\",IF(ISERROR(MATCH($J2041,SorP!$B$1:$B$6230,0)),\"\",INDIRECT(\"'SorP'!$A$\"&MATCH($J2041,SorP!$B$1:$B$6230,0))))","v":""},null,{"$f":"IF(C2041=\"\",NA(),MATCH($B2041&$C2041,'Smelter Look-up'!$J:$J,0))","v":{"$error":"#N/A"}},null,0,null,null,null,""]
[{"$nulls":18},{"$f":"IF(ISERROR($W2042),\"\",OFFSET('Smelter Look-up'!$C$4,$W2042-4,0)&\"\")","v":""},"",{"$f":"IF(B2042=\"\",\"\",IF(ISERROR(MATCH($J2042,SorP!$B$1:$B$6230,0)),\"\",INDIRECT(\"'SorP'!$A$\"&MATCH($J2042,SorP!$B$1:$B$6230,0))))","v":""},null,{"$f":"IF(C2042=\"\",NA(),MATCH($B2042&$C2042,'Smelter Look-up'!$J:$J,0))","v":{"$error":"#N/A"}},null,0,null,null,null,""]
[{"$nulls":18},{"$f":"IF(ISERROR($W2043),\"\",OFFSET('Smelter Look-up'!$C$4,$W2043-4,0)&\"\")","v":""},"",{"$f":"IF(B2043=\"\",\"\",IF(ISERROR(MATCH($J2043,SorP!$B$1:$B$6230,0)),\"\",INDIRECT(\"'SorP'!$A$\"&MATCH($J2043,SorP!$B$1:$B$6230,0))))","v":""},null,{"$f":"IF(C2043=\"\",NA(),MATCH($B2043&$C2043,'Smelter Look-up'!$J:$J,0))","v":{"$error":"#N/A"}},null,0,null,null,null,""]
[{"$nulls":18},{"$f":"IF(ISERROR($W2044),\"\",OFFSET('Smelter Look-up'!$C$4,$W2044-4,0)&\"\")","v":""},"",{"$f":"IF(B2044=\"\",\"\",IF(ISERROR(MATCH($J2044,SorP!$B$1:$B$6230,0)),\"\",INDIRECT(\"'SorP'!$A$\"&MATCH($J2044,SorP!$B$1:$B$6230,0))))","v":""},null,{"$f":"IF(C2044=\"\",NA(),MATCH($B2044&$C2044,'Smelter Look-up'!$J:$J,0))","v":{"$error":"#N/A"}},null,0,null,null,null,""]
[{"$nulls":18},{"$f":"IF(ISERROR($W2045),\"\",OFFSET('Smelter Look-up'!$C$4,$W2045-4,0)&\"\")","v":""},"",{"$f":"IF(B2045=\"\",\"\",IF(ISERROR(MATCH($J2045,SorP!$B$1:$B$6230,0)),\"\",INDIRECT(\"'SorP'!$A$\"&MATCH($J2045,SorP!$B$1:$B$6230,0))))","v":""},null,{"$f":"IF(C2045=\"\",NA(),MATCH($B2045&$C2045,'Smelter Look-up'!$J:$J,0))","v":{"$error":"#N/A"}},null,0,null,null,null,""]
[{"$nulls":18},{"$f":"IF(ISERROR($W2046),\"\",OFFSET('Smelter Look-up'!$C$4,$W2046-4,0)&\"\")","v":""},"",{"$f":"IF(B2046=\"\",\"\",IF(ISERROR(MATCH($J2046,SorP!$B$1:$B$6230,0)),\"\",INDIRECT(\"'SorP'!$A$\"&MATCH($J2046,SorP!$B$1:$B$6230,0))))","v":""},null,{"$f":"IF(C2046=\"\",NA(),MATCH($B2046&$C2046,'Smelter Look-up'!$J:$J,0))","v":{"$error":"#N/A"}},null,0,null,null,null,""]
[{"$nulls":18},{"$f":"IF(ISERROR($W2047),\"\",OFFSET('Smelter Look-up'!$C$4,$W2047-4,0)&\"\")","v":""},"",{"$f":"IF(B2047=\"\",\"\",IF(ISERROR(MATCH($J2047,SorP!$B$1:$B$6230,0)),\"\",INDIRECT(\"'SorP'!$A$\"&MATCH($J2047,SorP!$B$1:$B$6230,0))))","v":""},null,{"$f":"IF(C2047=\"\",NA(),MATCH($B2047&$C2047,'Smelter Look-up'!$J:$J,0))","v":{"$error":"#N/A"}},null,0,null,null,null,""]
[{"$nulls":18},{"$f":"IF(ISERROR($W2048),\"\",OFFSET('Smelter Look-up'!$C$4,$W2048-4,0)&\"\")","v":""},"",{"$f":"IF(B2048=\"\",\"\",IF(ISERROR(MATCH($J2048,SorP!$B$1:$B$6230,0)),\"\",INDIRECT(\"'SorP'!$A$\"&MATCH($J2048,SorP!$B$1:$B$6230,0))))","v":""},null,{"$f":"IF(C2048=\"\",NA(),MATCH($B2048&$C2048,'Smelter Look-up'!$J:$J,0))","v":{"$error":"#N/A"}},null,0,null,null,null,""]
[{"$nulls":18},{"$f":"IF(ISERROR($W2049),\"\",OFFSET('Smelter Look-up'!$C$4,$W2049-4,0)&\"\")","v":""},"",{"$f":"IF(B2049=\"\",\"\",IF(ISERROR(MATCH($J2049,SorP!$B$1:$B$6230,0)),\"\",INDIRECT(\"'SorP'!$A$\"&MATCH($J2049,SorP!$B$1:$B$6230,0))))","v":""},null,{"$f":"IF(C2049=\"\",NA(),MATCH($B2049&$C2049,'Smelter Look-up'!$J:$J,0))","v":{"$error":"#N/A"}},null,0,null,null,null,""]
[{"$nulls":18},{"$f":"IF(ISERROR($W2050),\"\",OFFSET('Smelter Look-up'!$C$4,$W2050-4,0)&\"\")","v":""},"",{"$f":"IF(B2050=\"\",\"\",IF(ISERROR(MATCH($J2050,SorP!$B$1:$B$6230,0)),\"\",INDIRECT(\"'SorP'!$A$\"&MATCH($J2050,SorP!$B$1:$B$6230,0))))","v":""},null,{"$f":"IF(C2050=\"\",NA(),MATCH($B2050&$C2050,'Smelter Look-up'!$J:$J,0))","v":{"$error":"#N/A"}},null,0,null,null,null,""]
[{"$nulls":18},{"$f":"IF(ISERROR($W2051),\"\",OFFSET('Smelter Look-up'!$C$4,$W2051-4,0)&\"\")","v":""},"",{"$f":"IF(B2051=\"\",\"\",IF(ISERROR(MATCH($J2051,SorP!$B$1:$B$6230,0)),\"\",INDIRECT(\"'SorP'!$A$\"&MATCH($J2051,SorP!$B$1:$B$6230,0))))","v":""},null,{"$f":"IF(C2051=\"\",NA(),MATCH($B2051&$C2051,'Smelter Look-up'!$J:$J,0))","v":{"$error":"#N/A"}},null,0,null,null,null,""]
[{"$nulls":18},{"$f":"IF(ISERROR($W2052),\"\",OFFSET('Smelter Look-up'!$C$4,$W2052-4,0)&\"\")","v":""},"",{"$f":"IF(B2052=\"\",\"\",IF(ISERROR(MATCH($J2052,SorP!$B$1:$B$6230,0)),\"\",INDIRECT(\"'SorP'!$A$\"&MATCH($J2052,SorP!$B$1:$B$6230,0))))","v":""},null,{"$f":"IF(C2052=\"\",NA(),MATCH($B2052&$C2052,'Smelter Look-up'!$J:$J,0))","v":{"$error":"#N/A"}},null,0,null,null,null,""]
[{"$nulls":18},{"$f":"IF(ISERROR($W2053),\"\",OFFSET('Smelter Look-up'!$C$4,$W2053-4,0)&\"\")","v":""},{"$f":"IF(B2053=\"\",\"\",IF(ISERROR(MATCH($E2053,CL,0)),\"Unknown\",INDIRECT(\"'C'!$A$\"&MATCH($E2053,CL,0)+1)))","v":""},{"$f":"IF(B2053=\"\",\"\",IF(ISERROR(MATCH($J2053,SorP!$B$1:$B$6230,0)),\"\",INDIRECT(\"'SorP'!$A$\"&MATCH($J2053,SorP!$B$1:$B$6230,0))))","v":""},null,{"$f":"IF(C2053=\"\",NA(),MATCH($B2053&$C2053,'Smelter Look-up'!$J:$J,0))","v":{"$error":"#N/A"}},null,{"$f":"IF(AND(C2053=\"Smelter not listed\",OR(LEN(D2053)=0,LEN(E2053)=0)),1,0)","v":0},null,null,null,{"$f":"B2053&C2053","v":""}]
[{"$nulls":18},{"$f":"IF(ISERROR($W2054),\"\",OFFSET('Smelter Look-up'!$C$4,$W2054-4,0)&\"\")","v":""},"",{"$f":"IF(B2054=\"\",\"\",IF(ISERROR(MATCH($J2054,SorP!$B$1:$B$6230,0)),\"\",INDIRECT(\"'SorP'!$A$\"&MATCH($J2054,SorP!$B$1:$B$6230,0))))","v":""},null,{"$f":"IF(C2054=\"\",NA(),MATCH($B2054&$C2054,'Smelter Look-up'!$J:$J,0))","v":{"$error":"#N/A"}},null,0,null,null,null,""]
[{"$nulls":18},{"$f":"IF(ISERROR($W2055),\"\",OFFSET('Smelter Look-up'!$C$4,$W2055-4,0)&\"\")","v":""},"",{"$f":"IF(B2055=\"\",\"\",IF(ISERROR(MATCH($J2055,SorP!$B$1:$B$6230,0)),\"\",INDIRECT(\"'SorP'!$A$\"&MATCH($J2055,SorP!$B$1:$B$6230,0))))","v":""},null,{"$f":"IF(C2055=\"\",NA(),MATCH($B2055&$C2055,'Smelter Look-up'!$J:$J,0))","v":{"$error":"#N/A"}},null,0,null,null,null,""]
[{"$nulls":18},{"$f":"IF(ISERROR($W2056),\"\",OFFSET('Smelter Look-up'!$C$4,$W2056-4,0)&\"\")","v":""},"",{"$f":"IF(B2056=\"\",\"\",IF(ISERROR(MATCH($J2056,SorP!$B$1:$B$6230,0)),\"\",INDIRECT(\"'SorP'!$A$\"&MATCH($J2056,SorP!$B$1:$B$6230,0))))","v":""},null,{"$f":"IF(C2056=\"\",NA(),MATCH($B2056&$C2056,'Smelter Look-up'!$J:$J,0))","v":{"$error":"#N/A"}},null,0,null,null,null,""]
[{"$nulls":18},{"$f":"IF(ISERROR($W2057),\"\",OFFSET('Smelter Look-up'!$C$4,$W2057-4,0)&\"\")","v":""},"",{"$f":"IF(B2057=\"\",\"\",IF(ISERROR(MATCH($J2057,SorP!$B$1:$B$6230,0)),\"\",INDIRECT(\"'SorP'!$A$\"&MATCH($J2057,SorP!$B$1:$B$6230,0))))","v":""},null,{"$f":"IF(C2057=\"\",NA(),MATCH($B2057&$C2057,'Smelter Look-up'!$J:$J,0))","v":{"$error":"#N/A"}},null,0,null,null,null,""]
[{"$nulls":18},{"$f":"IF(ISERROR($W2058),\"\",OFFSET('Smelter Look-up'!$C$4,$W2058-4,0)&\"\")","v":""},"",{"$f":"IF(B2058=\"\",\"\",IF(ISERROR(MATCH($J2058,SorP!$B$1:$B$6230,0)),\"\",INDIRECT(\"'SorP'!$A$\"&MATCH($J2058,SorP!$B$1:$B$6230,0))))","v":""},null,{"$f":"IF(C2058=\"\",NA(),MATCH($B2058&$C2058,'Smelter Look-up'!$J:$J,0))","v":{"$error":"#N/A"}},null,0,null,null,null,""]
[{"$nulls":18},{"$f":"IF(ISERROR($W2059),\"\",OFFSET('Smelter Look-up'!$C$4,$W2059-4,0)&\"\")","v":""},"",{"$f":"IF(B2059=\"\",\"\",IF(ISERROR(MATCH($J2059,SorP!$B$1:$B$6230,0)),\"\",INDIRECT(\"'SorP'!$A$\"&MATCH($J2059,SorP!$B$1:$B$6230,0))))","v":""},null,{"$f":"IF(C2059=\"\",NA(),MATCH($B2059&$C2059,'Smelter Look-up'!$J:$J,0))","v":{"$error":"#N/A"}},null,0,null,null,null,""]
[{"$nulls":18},{"$f":"IF(ISERROR($W2060),\"\",OFFSET('Smelter Look-up'!$C$4,$W2060-4,0)&\"\")","v":""},"",{"$f":"IF(B2060=\"\",\"\",IF(ISERROR(MATCH($J2060,SorP!$B$1:$B$6230,0)),\"\",INDIRECT(\"'SorP'!$A$\"&MATCH($J2060,SorP!$B$1:$B$6230,0))))","v":""},null,{"$f":"IF(C2060=\"\",NA(),MATCH($B2060&$C2060,'Smelter Look-up'!$J:$J,0))","v":{"$error":"#N/A"}},null,0,null,null,null,""]
[{"$nulls":18},{"$f":"IF(ISERROR($W2061),\"\",OFFSET('Smelter Look-up'!$C$4,$W2061-4,0)&\"\")","v":""},"",{"$f":"IF(B2061=\"\",\"\",IF(ISERROR(MATCH($J2061,SorP!$B$1:$B$6230,0)),\"\",INDIRECT(\"'SorP'!$A$\"&MATCH($J2061,SorP!$B$1:$B$6230,0))))","v":""},null,{"$f":"IF(C2061=\"\",NA(),MATCH($B2061&$C2061,'Smelter Look-up'!$J:$J,0))","v":{"$error":"#N/A"}},null,0,null,null,null,""]
[{"$nulls":18},{"$f":"IF(ISERROR($W2062),\"\",OFFSET('Smelter Look-up'!$C$4,$W2062-4,0)&\"\")","v":""},"",{"$f":"IF(B2062=\"\",\"\",IF(ISERROR(MATCH($J2062,SorP!$B$1:$B$6230,0)),\"\",INDIRECT(\"'SorP'!$A$\"&MATCH($J2062,SorP!$B$1:$B$6230,0))))","v":""},null,{"$f":"IF(C2062=\"\",NA(),MATCH($B2062&$C2062,'Smelter Look-up'!$J:$J,0))","v":{"$error":"#N/A"}},null,0,null,null,null,""]
[{"$nulls":18},{"$f":"IF(ISERROR($W2063),\"\",OFFSET('Smelter Look-up'!$C$4,$W2063-4,0)&\"\")","v":""},"",{"$f":"IF(B2063=\"\",\"\",IF(ISERROR(MATCH($J2063,SorP!$B$1:$B$6230,0)),\"\",INDIRECT(\"'SorP'!$A$\"&MATCH($J2063,SorP!$B$1:$B$6230,0))))","v":""},null,{"$f":"IF(C2063=\"\",NA(),MATCH($B2063&$C2063,'Smelter Look-up'!$J:$J,0))","v":{"$error":"#N/A"}},null,0,null,null,null,""]
[{"$nulls":18},{"$f":"IF(ISERROR($W2064),\"\",OFFSET('Smelter Look-up'!$C$4,$W2064-4,0)&\"\")","v":""},"",{"$f":"IF(B2064=\"\",\"\",IF(ISERROR(MATCH($J2064,SorP!$B$1:$B$6230,0)),\"\",INDIRECT(\"'SorP'!$A$\"&MATCH($J2064,SorP!$B$1:$B$6230,0))))","v":""},null,{"$f":"IF(C2064=\"\",NA(),MATCH($B2064&$C2064,'Smelter Look-up'!$J:$J,0))","v":{"$error":"#N/A"}},null,0,null,null,null,""]
[{"$nulls":18},{"$f":"IF(ISERROR($W2065),\"\",OFFSET('Smelter Look-up'!$C$4,$W2065-4,0)&\"\")","v":""},"",{"$f":"IF(B2065=\"\",\"\",IF(ISERROR(MATCH($J2065,SorP!$B$1:$B$6230,0)),\"\",INDIRECT(\"'SorP'!$A$\"&MATCH($J2065,SorP!$B$1:$B$6230,0))))","v":""},null,{"$f":"IF(C2065=\"\",NA(),MATCH($B2065&$C2065,'Smelter Look-up'!$J:$J,0))","v":{"$error":"#N/A"}},null,0,null,null,null,""]
[{"$nulls":18},{"$f":"IF(ISERROR($W2066),\"\",OFFSET('Smelter Look-up'!$C$4,$W2066-4,0)&\"\")","v":""},"",{"$f":"IF(B2066=\"\",\"\",IF(ISERROR(MATCH($J2066,SorP!$B$1:$B$6230,0)),\"\",INDIRECT(\"'SorP'!$A$\"&MATCH($J2066,SorP!$B$1:$B$6230,0))))","v":""},null,{"$f":"IF(C2066=\"\",NA(),MATCH($B2066&$C2066,'Smelter Look-up'!$J:$J,0))","v":{"$error":"#N/A"}},null,0,null,null,null,""]
[{"$nulls":18},{"$f":"IF(ISERROR($W2067),\"\",OFFSET('Smelter Look-up'!$C$4,$W2067-4,0)&\"\")","v":""},"",{"$f":"IF(B2067=\"\",\"\",IF(ISERROR(MATCH($J2067,SorP!$B$1:$B$6230,0)),\"\",INDIRECT(\"'SorP'!$A$\"&MATCH($J2067,SorP!$B$1:$B$6230,0))))","v":""},null,{"$f":"IF(C2067=\"\",NA(),MATCH($B2067&$C2067,'Smelter Look-up'!$J:$J,0))","v":{"$error":"#N/A"}},null,0,null,null,null,""]
[{"$nulls":18},{"$f":"IF(ISERROR($W2068),\"\",OFFSET('Smelter Look-up'!$C$4,$W2068-4,0)&\"\")","v":""},"",{"$f":"IF(B2068=\"\",\"\",IF(ISERROR(MATCH($J2068,SorP!$B$1:$B$6230,0)),\"\",INDIRECT(\"'SorP'!$A$\"&MATCH($J2068,SorP!$B$1:$B$6230,0))))","v":""},null,{"$f":"IF(C2068=\"\",NA(),MATCH($B2068&$C2068,'Smelter Look-up'!$J:$J,0))","v":{"$error":"#N/A"}},null,0,null,null,null,""]
[{"$nulls":18},{"$f":"IF(ISERROR($W2069),\"\",OFFSET('Smelter Look-up'!$C$4,$W2069-4,0)&\"\")","v":""},"",{"$f":"IF(B2069=\"\",\"\",IF(ISERROR(MATCH($J2069,SorP!$B$1:$B$6230,0)),\"\",INDIRECT(\"'SorP'!$A$\"&MATCH($J2069,SorP!$B$1:$B$6230,0))))","v":""},null,{"$f":"IF(C2069=\"\",NA(),MATCH($B2069&$C2069,'Smelter Look-up'!$J:$J,0))","v":{"$error":"#N/A"}},null,0,null,null,null,""]
[{"$nulls":18},{"$f":"IF(ISERROR($W2070),\"\",OFFSET('Smelter Look-up'!$C$4,$W2070-4,0)&\"\")","v":""},"",{"$f":"IF(B2070=\"\",\"\",IF(ISERROR(MATCH($J2070,SorP!$B$1:$B$6230,0)),\"\",INDIRECT(\"'SorP'!$A$\"&MATCH($J2070,SorP!$B$1:$B$6230,0))))","v":""},null,{"$f":"IF(C2070=\"\",NA(),MATCH($B2070&$C2070,'Smelter Look-up'!$J:$J,0))","v":{"$error":"#N/A"}},null,0,null,null,null,""]
[{"$nulls":18},{"$f":"IF(ISERROR($W2071),\"\",OFFSET('Smelter Look-up'!$C$4,$W2071-4,0)&\"\")","v":""},"",{"$f":"IF(B2071=\"\",\"\",IF(ISERROR(MATCH($J2071,SorP!$B$1:$B$6230,0)),\"\",INDIRECT(\"'SorP'!$A$\"&MATCH($J2071,SorP!$B$1:$B$6230,0))))","v":""},null,{"$f":"IF(C2071=\"\",NA(),MATCH($B2071&$C2071,'Smelter Look-up'!$J:$J,0))","v":{"$error":"#N/A"}},null,0,null,null,null,""]
[{"$nulls":18},{"$f":"IF(ISERROR($W2072),\"\",OFFSET('Smelter Look-up'!$C$4,$W2072-4,0)&\"\")","v":""},"",{"$f":"IF(B2072=\"\",\"\",IF(ISERROR(MATCH($J2072,SorP!$B$1:$B$6230,0)),\"\",INDIRECT(\"'SorP'!$A$\"&MATCH($J2072,SorP!$B$1:$B$6230,0))))","v":""},null,{"$f":"IF(C2072=\"\",NA(),MATCH($B2072&$C2072,'Smelter Look-up'!$J:$J,0))","v":{"$error":"#N/A"}},null,0,null,null,null,""]
[{"$nulls":18},{"$f":"IF(ISERROR($W2073),\"\",OFFSET('Smelter Look-up'!$C$4,$W2073-4,0)&\"\")","v":""},"",{"$f":"IF(B2073=\"\",\"\",IF(ISERROR(MATCH($J2073,SorP!$B$1:$B$6230,0)),\"\",INDIRECT(\"'SorP'!$A$\"&MATCH($J2073,SorP!$B$1:$B$6230,0))))","v":""},null,{"$f":"IF(C2073=\"\",NA(),MATCH($B2073&$C2073,'Smelter Look-up'!$J:$J,0))","v":{"$error":"#N/A"}},null,0,null,null,null,""]
[{"$nulls":18},{"$f":"IF(ISERROR($W2074),\"\",OFFSET('Smelter Look-up'!$C$4,$W2074-4,0)&\"\")","v":""},"",{"$f":"IF(B2074=\"\",\"\",IF(ISERROR(MATCH($J2074,SorP!$B$1:$B$6230,0)),\"\",INDIRECT(\"'SorP'!$A$\"&MATCH($J2074,SorP!$B$1:$B$6230,0))))","v":""},null,{"$f":"IF(C2074=\"\",NA(),MATCH($B2074&$C2074,'Smelter Look-up'!$J:$J,0))","v":{"$error":"#N/A"}},null,0,null,null,null,""]
[{"$nulls":18},{"$f":"IF(ISERROR($W2075),\"\",OFFSET('Smelter Look-up'!$C$4,$W2075-4,0)&\"\")","v":""},"",{"$f":"IF(B2075=\"\",\"\",IF(ISERROR(MATCH($J2075,SorP!$B$1:$B$6230,0)),\"\",INDIRECT(\"'SorP'!$A$\"&MATCH($J2075,SorP!$B$1:$B$6230,0))))","v":""},null,{"$f":"IF(C2075=\"\",NA(),MATCH($B2075&$C2075,'Smelter Look-up'!$J:$J,0))","v":{"$error":"#N/A"}},null,0,null,null,null,""]
[{"$nulls":18},{"$f":"IF(ISERROR($W2076),\"\",OFFSET('Smelter Look-up'!$C$4,$W2076-4,0)&\"\")","v":""},"",{"$f":"IF(B2076=\"\",\"\",IF(ISERROR(MATCH($J2076,SorP!$B$1:$B$6230,0)),\"\",INDIRECT(\"'SorP'!$A$\"&MATCH($J2076,SorP!$B$1:$B$6230,0))))","v":""},null,{"$f":"IF(C2076=\"\",NA(),MATCH($B2076&$C2076,'Smelter Look-up'!$J:$J,0))","v":{"$error":"#N/A"}},null,0,null,null,null,""]
[{"$nulls":18},{"$f":"IF(ISERROR($W2077),\"\",OFFSET('Smelter Look-up'!$C$4,$W2077-4,0)&\"\")","v":""},"",{"$f":"IF(B2077=\"\",\"\",IF(ISERROR(MATCH($J2077,SorP!$B$1:$B$6230,0)),\"\",INDIRECT(\"'SorP'!$A$\"&MATCH($J2077,SorP!$B$1:$B$6230,0))))","v":""},null,{"$f":"IF(C2077=\"\",NA(),MATCH($B2077&$C2077,'Smelter Look-up'!$J:$J,0))","v":{"$error":"#N/A"}},null,0,null,null,null,""]
[{"$nulls":18},{"$f":"IF(ISERROR($W2078),\"\",OFFSET('Smelter Look-up'!$C$4,$W2078-4,0)&\"\")","v":""},"",{"$f":"IF(B2078=\"\",\"\",IF(ISERROR(MATCH($J2078,SorP!$B$1:$B$6230,0)),\"\",INDIRECT(\"'SorP'!$A$\"&MATCH($J2078,SorP!$B$1:$B$6230,0))))","v":""},null,{"$f":"IF(C2078=\"\",NA(),MATCH($B2078&$C2078,'Smelter Look-up'!$J:$J,0))","v":{"$error":"#N/A"}},null,0,null,null,null,""]
[{"$nulls":18},{"$f":"IF(ISERROR($W2079),\"\",OFFSET('Smelter Look-up'!$C$4,$W2079-4,0)&\"\")","v":""},"",{"$f":"IF(B2079=\"\",\"\",IF(ISERROR(MATCH($J2079,SorP!$B$1:$B$6230,0)),\"\",INDIRECT(\"'SorP'!$A$\"&MATCH($J2079,SorP!$B$1:$B$6230,0))))","v":""},null,{"$f":"IF(C2079=\"\",NA(),MATCH($B2079&$C2079,'Smelter Look-up'!$J:$J,0))","v":{"$error":"#N/A"}},null,0,null,null,null,""]
[{"$nulls":18},{"$f":"IF(ISERROR($W2080),\"\",OFFSET('Smelter Look-up'!$C$4,$W2080-4,0)&\"\")","v":""},"",{"$f":"IF(B2080=\"\",\"\",IF(ISERROR(MATCH($J2080,SorP!$B$1:$B$6230,0)),\"\",INDIRECT(\"'SorP'!$A$\"&MATCH($J2080,SorP!$B$1:$B$6230,0))))","v":""},null,{"$f":"IF(C2080=\"\",NA(),MATCH($B2080&$C2080,'Smelter Look-up'!$J:$J,0))","v":{"$error":"#N/A"}},null,0,null,null,null,""]
[{"$nulls":18},{"$f":"IF(ISERROR($W2081),\"\",OFFSET('Smelter Look-up'!$C$4,$W2081-4,0)&\"\")","v":""},"",{"$f":"IF(B2081=\"\",\"\",IF(ISERROR(MATCH($J2081,SorP!$B$1:$B$6230,0)),\"\",INDIRECT(\"'SorP'!$A$\"&MATCH($J2081,SorP!$B$1:$B$6230,0))))","v":""},null,{"$f":"IF(C2081=\"\",NA(),MATCH($B2081&$C2081,'Smelter Look-up'!$J:$J,0))","v":{"$error":"#N/A"}},null,0,null,null,null,""]
[{"$nulls":18},{"$f":"IF(ISERROR($W2082),\"\",OFFSET('Smelter Look-up'!$C$4,$W2082-4,0)&\"\")","v":""},"",{"$f":"IF(B2082=\"\",\"\",IF(ISERROR(MATCH($J2082,SorP!$B$1:$B$6230,0)),\"\",INDIRECT(\"'SorP'!$A$\"&MATCH($J2082,SorP!$B$1:$B$6230,0))))","v":""},null,{"$f":"IF(C2082=\"\",NA(),MATCH($B2082&$C2082,'Smelter Look-up'!$J:$J,0))","v":{"$error":"#N/A"}},null,0,null,null,null,""]
[{"$nulls":18},{"$f":"IF(ISERROR($W2083),\"\",OFFSET('Smelter Look-up'!$C$4,$W2083-4,0)&\"\")","v":""},"",{"$f":"IF(B2083=\"\",\"\",IF(ISERROR(MATCH($J2083,SorP!$B$1:$B$6230,0)),\"\",INDIRECT(\"'SorP'!$A$\"&MATCH($J2083,SorP!$B$1:$B$6230,0))))","v":""},null,{"$f":"IF(C2083=\"\",NA(),MATCH($B2083&$C2083,'Smelter Look-up'!$J:$J,0))","v":{"$error":"#N/A"}},null,0,null,null,null,""]
[{"$nulls":18},{"$f":"IF(ISERROR($W2084),\"\",OFFSET('Smelter Look-up'!$C$4,$W2084-4,0)&\"\")","v":""},"",{"$f":"IF(B2084=\"\",\"\",IF(ISERROR(MATCH($J2084,SorP!$B$1:$B$6230,0)),\"\",INDIRECT(\"'SorP'!$A$\"&MATCH($J2084,SorP!$B$1:$B$6230,0))))","v":""},null,{"$f":"IF(C2084=\"\",NA(),MATCH($B2084&$C2084,'Smelter Look-up'!$J:$J,0))","v":{"$error":"#N/A"}},null,0,null,null,null,""]
[{"$nulls":18},{"$f":"IF(ISERROR($W2085),\"\",OFFSET('Smelter Look-up'!$C$4,$W2085-4,0)&\"\")","v":""},"",{"$f":"IF(B2085=\"\",\"\",IF(ISERROR(MATCH($J2085,SorP!$B$1:$B$6230,0)),\"\",INDIRECT(\"'SorP'!$A$\"&MATCH($J2085,SorP!$B$1:$B$6230,0))))","v":""},null,{"$f":"IF(C2085=\"\",NA(),MATCH($B2085&$C2085,'Smelter Look-up'!$J:$J,0))","v":{"$error":"#N/A"}},null,0,null,null,null,""]
[{"$nulls":18},{"$f":"IF(ISERROR($W2086),\"\",OFFSET('Smelter Look-up'!$C$4,$W2086-4,0)&\"\")","v":""},"",{"$f":"IF(B2086=\"\",\"\",IF(ISERROR(MATCH($J2086,SorP!$B$1:$B$6230,0)),\"\",INDIRECT(\"'SorP'!$A$\"&MATCH($J2086,SorP!$B$1:$B$6230,0))))","v":""},null,{"$f":"IF(C2086=\"\",NA(),MATCH($B2086&$C2086,'Smelter Look-up'!$J:$J,0))","v":{"$error":"#N/A"}},null,0,null,null,null,""]
[{"$nulls":18},{"$f":"IF(ISERROR($W2087),\"\",OFFSET('Smelter Look-up'!$C$4,$W2087-4,0)&\"\")","v":""},"",{"$f":"IF(B2087=\"\",\"\",IF(ISERROR(MATCH($J2087,SorP!$B$1:$B$6230,0)),\"\",INDIRECT(\"'SorP'!$A$\"&MATCH($J2087,SorP!$B$1:$B$6230,0))))","v":""},null,{"$f":"IF(C2087=\"\",NA(),MATCH($B2087&$C2087,'Smelter Look-up'!$J:$J,0))","v":{"$error":"#N/A"}},null,0,null,null,null,""]
[{"$nulls":18},{"$f":"IF(ISERROR($W2088),\"\",OFFSET('Smelter Look-up'!$C$4,$W2088-4,0)&\"\")","v":""},"",{"$f":"IF(B2088=\"\",\"\",IF(ISERROR(MATCH($J2088,SorP!$B$1:$B$6230,0)),\"\",INDIRECT(\"'SorP'!$A$\"&MATCH($J2088,SorP!$B$1:$B$6230,0))))","v":""},null,{"$f":"IF(C2088=\"\",NA(),MATCH($B2088&$C2088,'Smelter Look-up'!$J:$J,0))","v":{"$error":"#N/A"}},null,0,null,null,null,""]
[{"$nulls":18},{"$f":"IF(ISERROR($W2089),\"\",OFFSET('Smelter Look-up'!$C$4,$W2089-4,0)&\"\")","v":""},"",{"$f":"IF(B2089=\"\",\"\",IF(ISERROR(MATCH($J2089,SorP!$B$1:$B$6230,0)),\"\",INDIRECT(\"'SorP'!$A$\"&MATCH($J2089,SorP!$B$1:$B$6230,0))))","v":""},null,{"$f":"IF(C2089=\"\",NA(),MATCH($B2089&$C2089,'Smelter Look-up'!$J:$J,0))","v":{"$error":"#N/A"}},null,0,null,null,null,""]
[{"$nulls":18},{"$f":"IF(ISERROR($W2090),\"\",OFFSET('Smelter Look-up'!$C$4,$W2090-4,0)&\"\")","v":""},"",{"$f":"IF(B2090=\"\",\"\",IF(ISERROR(MATCH($J2090,SorP!$B$1:$B$6230,0)),\"\",INDIRECT(\"'SorP'!$A$\"&MATCH($J2090,SorP!$B$1:$B$6230,0))))","v":""},null,{"$f":"IF(C2090=\"\",NA(),MATCH($B2090&$C2090,'Smelter Look-up'!$J:$J,0))","v":{"$error":"#N/A"}},null,0,null,null,null,""]
[{"$nulls":18},{"$f":"IF(ISERROR($W2091),\"\",OFFSET('Smelter Look-up'!$C$4,$W2091-4,0)&\"\")","v":""},"",{"$f":"IF(B2091=\"\",\"\",IF(ISERROR(MATCH($J2091,SorP!$B$1:$B$6230,0)),\"\",INDIRECT(\"'SorP'!$A$\"&MATCH($J2091,SorP!$B$1:$B$6230,0))))","v":""},null,{"$f":"IF(C2091=\"\",NA(),MATCH($B2091&$C2091,'Smelter Look-up'!$J:$J,0))","v":{"$error":"#N/A"}},null,0,null,null,null,""]
[{"$nulls":18},{"$f":"IF(ISERROR($W2092),\"\",OFFSET('Smelter Look-up'!$C$4,$W2092-4,0)&\"\")","v":""},"",{"$f":"IF(B2092=\"\",\"\",IF(ISERROR(MATCH($J2092,SorP!$B$1:$B$6230,0)),\"\",INDIRECT(\"'SorP'!$A$\"&MATCH($J2092,SorP!$B$1:$B$6230,0))))","v":""},null,{"$f":"IF(C2092=\"\",NA(),MATCH($B2092&$C2092,'Smelter Look-up'!$J:$J,0))","v":{"$error":"#N/A"}},null,0,null,null,null,""]
[{"$nulls":18},{"$f":"IF(ISERROR($W2093),\"\",OFFSET('Smelter Look-up'!$C$4,$W2093-4,0)&\"\")","v":""},"",{"$f":"IF(B2093=\"\",\"\",IF(ISERROR(MATCH($J2093,SorP!$B$1:$B$6230,0)),\"\",INDIRECT(\"'SorP'!$A$\"&MATCH($J2093,SorP!$B$1:$B$6230,0))))","v":""},null,{"$f":"IF(C2093=\"\",NA(),MATCH($B2093&$C2093,'Smelter Look-up'!$J:$J,0))","v":{"$error":"#N/A"}},null,0,null,null,null,""]
[{"$nulls":18},{"$f":"IF(ISERROR($W2094),\"\",OFFSET('Smelter Look-up'!$C$4,$W2094-4,0)&\"\")","v":""},"",{"$f":"IF(B2094=\"\",\"\",IF(ISERROR(MATCH($J2094,SorP!$B$1:$B$6230,0)),\"\",INDIRECT(\"'SorP'!$A$\"&MATCH($J2094,SorP!$B$1:$B$6230,0))))","v":""},null,{"$f":"IF(C2094=\"\",NA(),MATCH($B2094&$C2094,'Smelter Look-up'!$J:$J,0))","v":{"$error":"#N/A"}},null,0,null,null,null,""]
[{"$nulls":18},{"$f":"IF(ISERROR($W2095),\"\",OFFSET('Smelter Look-up'!$C$4,$W2095-4,0)&\"\")","v":""},"",{"$f":"IF(B2095=\"\",\"\",IF(ISERROR(MATCH($J2095,SorP!$B$1:$B$6230,0)),\"\",INDIRECT(\"'SorP'!$A$\"&MATCH($J2095,SorP!$B$1:$B$6230,0))))","v":""},null,{"$f":"IF(C2095=\"\",NA(),MATCH($B2095&$C2095,'Smelter Look-up'!$J:$J,0))","v":{"$error":"#N/A"}},null,0,null,null,null,""]
[{"$nulls":18},{"$f":"IF(ISERROR($W2096),\"\",OFFSET('Smelter Look-up'!$C$4,$W2096-4,0)&\"\")","v":""},"",{"$f":"IF(B2096=\"\",\"\",IF(ISERROR(MATCH($J2096,SorP!$B$1:$B$6230,0)),\"\",INDIRECT(\"'SorP'!$A$\"&MATCH($J2096,SorP!$B$1:$B$6230,0))))","v":""},null,{"$f":"IF(C2096=\"\",NA(),MATCH($B2096&$C2096,'Smelter Look-up'!$J:$J,0))","v":{"$error":"#N/A"}},null,0,null,null,null,""]
[{"$nulls":18},{"$f":"IF(ISERROR($W2097),\"\",OFFSET('Smelter Look-up'!$C$4,$W2097-4,0)&\"\")","v":""},"",{"$f":"IF(B2097=\"\",\"\",IF(ISERROR(MATCH($J2097,SorP!$B$1:$B$6230,0)),\"\",INDIRECT(\"'SorP'!$A$\"&MATCH($J2097,SorP!$B$1:$B$6230,0))))","v":""},null,{"$f":"IF(C2097=\"\",NA(),MATCH($B2097&$C2097,'Smelter Look-up'!$J:$J,0))","v":{"$error":"#N/A"}},null,0,null,null,null,""]
[{"$nulls":18},{"$f":"IF(ISERROR($W2098),\"\",OFFSET('Smelter Look-up'!$C$4,$W2098-4,0)&\"\")","v":""},"",{"$f":"IF(B2098=\"\",\"\",IF(ISERROR(MATCH($J2098,SorP!$B$1:$B$6230,0)),\"\",INDIRECT(\"'SorP'!$A$\"&MATCH($J2098,SorP!$B$1:$B$6230,0))))","v":""},null,{"$f":"IF(C2098=\"\",NA(),MATCH($B2098&$C2098,'Smelter Look-up'!$J:$J,0))","v":{"$error":"#N/A"}},null,0,null,null,null,""]
[{"$nulls":18},{"$f":"IF(ISERROR($W2099),\"\",OFFSET('Smelter Look-up'!$C$4,$W2099-4,0)&\"\")","v":""},"",{"$f":"IF(B2099=\"\",\"\",IF(ISERROR(MATCH($J2099,SorP!$B$1:$B$6230,0)),\"\",INDIRECT(\"'SorP'!$A$\"&MATCH($J2099,SorP!$B$1:$B$6230,0))))","v":""},null,{"$f":"IF(C2099=\"\",NA(),MATCH($B2099&$C2099,'Smelter Look-up'!$J:$J,0))","v":{"$error":"#N/A"}},null,0,null,null,null,""]
[{"$nulls":18},{"$f":"IF(ISERROR($W2100),\"\",OFFSET('Smelter Look-up'!$C$4,$W2100-4,0)&\"\")","v":""},"",{"$f":"IF(B2100=\"\",\"\",IF(ISERROR(MATCH($J2100,SorP!$B$1:$B$6230,0)),\"\",INDIRECT(\"'SorP'!$A$\"&MATCH($J2100,SorP!$B$1:$B$6230,0))))","v":""},null,{"$f":"IF(C2100=\"\",NA(),MATCH($B2100&$C2100,'Smelter Look-up'!$J:$J,0))","v":{"$error":"#N/A"}},null,0,null,null,null,""]
[{"$nulls":18},{"$f":"IF(ISERROR($W2101),\"\",OFFSET('Smelter Look-up'!$C$4,$W2101-4,0)&\"\")","v":""},"",{"$f":"IF(B2101=\"\",\"\",IF(ISERROR(MATCH($J2101,SorP!$B$1:$B$6230,0)),\"\",INDIRECT(\"'SorP'!$A$\"&MATCH($J2101,SorP!$B$1:$B$6230,0))))","v":""},null,{"$f":"IF(C2101=\"\",NA(),MATCH($B2101&$C2101,'Smelter Look-up'!$J:$J,0))","v":{"$error":"#N/A"}},null,0,null,null,null,""]
[{"$nulls":18},{"$f":"IF(ISERROR($W2102),\"\",OFFSET('Smelter Look-up'!$C$4,$W2102-4,0)&\"\")","v":""},"",{"$f":"IF(B2102=\"\",\"\",IF(ISERROR(MATCH($J2102,SorP!$B$1:$B$6230,0)),\"\",INDIRECT(\"'SorP'!$A$\"&MATCH($J2102,SorP!$B$1:$B$6230,0))))","v":""},null,{"$f":"IF(C2102=\"\",NA(),MATCH($B2102&$C2102,'Smelter Look-up'!$J:$J,0))","v":{"$error":"#N/A"}},null,0,null,null,null,""]
[{"$nulls":18},{"$f":"IF(ISERROR($W2103),\"\",OFFSET('Smelter Look-up'!$C$4,$W2103-4,0)&\"\")","v":""},"",{"$f":"IF(B2103=\"\",\"\",IF(ISERROR(MATCH($J2103,SorP!$B$1:$B$6230,0)),\"\",INDIRECT(\"'SorP'!$A$\"&MATCH($J2103,SorP!$B$1:$B$6230,0))))","v":""},null,{"$f":"IF(C2103=\"\",NA(),MATCH($B2103&$C2103,'Smelter Look-up'!$J:$J,0))","v":{"$error":"#N/A"}},null,0,null,null,null,""]
[{"$nulls":18},{"$f":"IF(ISERROR($W2104),\"\",OFFSET('Smelter Look-up'!$C$4,$W2104-4,0)&\"\")","v":""},"",{"$f":"IF(B2104=\"\",\"\",IF(ISERROR(MATCH($J2104,SorP!$B$1:$B$6230,0)),\"\",INDIRECT(\"'SorP'!$A$\"&MATCH($J2104,SorP!$B$1:$B$6230,0))))","v":""},null,{"$f":"IF(C2104=\"\",NA(),MATCH($B2104&$C2104,'Smelter Look-up'!$J:$J,0))","v":{"$error":"#N/A"}},null,0,null,null,null,""]
[{"$nulls":18},{"$f":"IF(ISERROR($W2105),\"\",OFFSET('Smelter Look-up'!$C$4,$W2105-4,0)&\"\")","v":""},"",{"$f":"IF(B2105=\"\",\"\",IF(ISERROR(MATCH($J2105,SorP!$B$1:$B$6230,0)),\"\",INDIRECT(\"'SorP'!$A$\"&MATCH($J2105,SorP!$B$1:$B$6230,0))))","v":""},null,{"$f":"IF(C2105=\"\",NA(),MATCH($B2105&$C2105,'Smelter Look-up'!$J:$J,0))","v":{"$error":"#N/A"}},null,0,null,null,null,""]
[{"$nulls":18},{"$f":"IF(ISERROR($W2106),\"\",OFFSET('Smelter Look-up'!$C$4,$W2106-4,0)&\"\")","v":""},"",{"$f":"IF(B2106=\"\",\"\",IF(ISERROR(MATCH($J2106,SorP!$B$1:$B$6230,0)),\"\",INDIRECT(\"'SorP'!$A$\"&MATCH($J2106,SorP!$B$1:$B$6230,0))))","v":""},null,{"$f":"IF(C2106=\"\",NA(),MATCH($B2106&$C2106,'Smelter Look-up'!$J:$J,0))","v":{"$error":"#N/A"}},null,0,null,null,null,""]
[{"$nulls":18},{"$f":"IF(ISERROR($W2107),\"\",OFFSET('Smelter Look-up'!$C$4,$W2107-4,0)&\"\")","v":""},"",{"$f":"IF(B2107=\"\",\"\",IF(ISERROR(MATCH($J2107,SorP!$B$1:$B$6230,0)),\"\",INDIRECT(\"'SorP'!$A$\"&MATCH($J2107,SorP!$B$1:$B$6230,0))))","v":""},null,{"$f":"IF(C2107=\"\",NA(),MATCH($B2107&$C2107,'Smelter Look-up'!$J:$J,0))","v":{"$error":"#N/A"}},null,0,null,null,null,""]
[{"$nulls":18},{"$f":"IF(ISERROR($W2108),\"\",OFFSET('Smelter Look-up'!$C$4,$W2108-4,0)&\"\")","v":""},"",{"$f":"IF(B2108=\"\",\"\",IF(ISERROR(MATCH($J2108,SorP!$B$1:$B$6230,0)),\"\",INDIRECT(\"'SorP'!$A$\"&MATCH($J2108,SorP!$B$1:$B$6230,0))))","v":""},null,{"$f":"IF(C2108=\"\",NA(),MATCH($B2108&$C2108,'Smelter Look-up'!$J:$J,0))","v":{"$error":"#N/A"}},null,0,null,null,null,""]
[{"$nulls":18},{"$f":"IF(ISERROR($W2109),\"\",OFFSET('Smelter Look-up'!$C$4,$W2109-4,0)&\"\")","v":""},"",{"$f":"IF(B2109=\"\",\"\",IF(ISERROR(MATCH($J2109,SorP!$B$1:$B$6230,0)),\"\",INDIRECT(\"'SorP'!$A$\"&MATCH($J2109,SorP!$B$1:$B$6230,0))))","v":""},null,{"$f":"IF(C2109=\"\",NA(),MATCH($B2109&$C2109,'Smelter Look-up'!$J:$J,0))","v":{"$error":"#N/A"}},null,0,null,null,null,""]
[{"$nulls":18},{"$f":"IF(ISERROR($W2110),\"\",OFFSET('Smelter Look-up'!$C$4,$W2110-4,0)&\"\")","v":""},"",{"$f":"IF(B2110=\"\",\"\",IF(ISERROR(MATCH($J2110,SorP!$B$1:$B$6230,0)),\"\",INDIRECT(\"'SorP'!$A$\"&MATCH($J2110,SorP!$B$1:$B$6230,0))))","v":""},null,{"$f":"IF(C2110=\"\",NA(),MATCH($B2110&$C2110,'Smelter Look-up'!$J:$J,0))","v":{"$error":"#N/A"}},null,0,null,null,null,""]
[{"$nulls":18},{"$f":"IF(ISERROR($W2111),\"\",OFFSET('Smelter Look-up'!$C$4,$W2111-4,0)&\"\")","v":""},"",{"$f":"IF(B2111=\"\",\"\",IF(ISERROR(MATCH($J2111,SorP!$B$1:$B$6230,0)),\"\",INDIRECT(\"'SorP'!$A$\"&MATCH($J2111,SorP!$B$1:$B$6230,0))))","v":""},null,{"$f":"IF(C2111=\"\",NA(),MATCH($B2111&$C2111,'Smelter Look-up'!$J:$J,0))","v":{"$error":"#N/A"}},null,0,null,null,null,""]
[{"$nulls":18},{"$f":"IF(ISERROR($W2112),\"\",OFFSET('Smelter Look-up'!$C$4,$W2112-4,0)&\"\")","v":""},"",{"$f":"IF(B2112=\"\",\"\",IF(ISERROR(MATCH($J2112,SorP!$B$1:$B$6230,0)),\"\",INDIRECT(\"'SorP'!$A$\"&MATCH($J2112,SorP!$B$1:$B$6230,0))))","v":""},null,{"$f":"IF(C2112=\"\",NA(),MATCH($B2112&$C2112,'Smelter Look-up'!$J:$J,0))","v":{"$error":"#N/A"}},null,0,null,null,null,""]
[{"$nulls":18},{"$f":"IF(ISERROR($W2113),\"\",OFFSET('Smelter Look-up'!$C$4,$W2113-4,0)&\"\")","v":""},"",{"$f":"IF(B2113=\"\",\"\",IF(ISERROR(MATCH($J2113,SorP!$B$1:$B$6230,0)),\"\",INDIRECT(\"'SorP'!$A$\"&MATCH($J2113,SorP!$B$1:$B$6230,0))))","v":""},null,{"$f":"IF(C2113=\"\",NA(),MATCH($B2113&$C2113,'Smelter Look-up'!$J:$J,0))","v":{"$error":"#N/A"}},null,0,null,null,null,""]
[{"$nulls":18},{"$f":"IF(ISERROR($W2114),\"\",OFFSET('Smelter Look-up'!$C$4,$W2114-4,0)&\"\")","v":""},"",{"$f":"IF(B2114=\"\",\"\",IF(ISERROR(MATCH($J2114,SorP!$B$1:$B$6230,0)),\"\",INDIRECT(\"'SorP'!$A$\"&MATCH($J2114,SorP!$B$1:$B$6230,0))))","v":""},null,{"$f":"IF(C2114=\"\",NA(),MATCH($B2114&$C2114,'Smelter Look-up'!$J:$J,0))","v":{"$error":"#N/A"}},null,0,null,null,null,""]
[{"$nulls":18},{"$f":"IF(ISERROR($W2115),\"\",OFFSET('Smelter Look-up'!$C$4,$W2115-4,0)&\"\")","v":""},"",{"$f":"IF(B2115=\"\",\"\",IF(ISERROR(MATCH($J2115,SorP!$B$1:$B$6230,0)),\"\",INDIRECT(\"'SorP'!$A$\"&MATCH($J2115,SorP!$B$1:$B$6230,0))))","v":""},null,{"$f":"IF(C2115=\"\",NA(),MATCH($B2115&$C2115,'Smelter Look-up'!$J:$J,0))","v":{"$error":"#N/A"}},null,0,null,null,null,""]
[{"$nulls":18},{"$f":"IF(ISERROR($W2116),\"\",OFFSET('Smelter Look-up'!$C$4,$W2116-4,0)&\"\")","v":""},"",{"$f":"IF(B2116=\"\",\"\",IF(ISERROR(MATCH($J2116,SorP!$B$1:$B$6230,0)),\"\",INDIRECT(\"'SorP'!$A$\"&MATCH($J2116,SorP!$B$1:$B$6230,0))))","v":""},null,{"$f":"IF(C2116=\"\",NA(),MATCH($B2116&$C2116,'Smelter Look-up'!$J:$J,0))","v":{"$error":"#N/A"}},null,0,null,null,null,""]
[{"$nulls":18},{"$f":"IF(ISERROR($W2117),\"\",OFFSET('Smelter Look-up'!$C$4,$W2117-4,0)&\"\")","v":""},{"$f":"IF(B2117=\"\",\"\",IF(ISERROR(MATCH($E2117,CL,0)),\"Unknown\",INDIRECT(\"'C'!$A$\"&MATCH($E2117,CL,0)+1)))","v":""},{"$f":"IF(B2117=\"\",\"\",IF(ISERROR(MATCH($J2117,SorP!$B$1:$B$6230,0)),\"\",INDIRECT(\"'SorP'!$A$\"&MATCH($J2117,SorP!$B$1:$B$6230,0))))","v":""},null,{"$f":"IF(C2117=\"\",NA(),MATCH($B2117&$C2117,'Smelter Look-up'!$J:$J,0))","v":{"$error":"#N/A"}},null,{"$f":"IF(AND(C2117=\"Smelter not listed\",OR(LEN(D2117)=0,LEN(E2117)=0)),1,0)","v":0},null,null,null,{"$f":"B2117&C2117","v":""}]
[{"$nulls":18},{"$f":"IF(ISERROR($W2118),\"\",OFFSET('Smelter Look-up'!$C$4,$W2118-4,0)&\"\")","v":""},"",{"$f":"IF(B2118=\"\",\"\",IF(ISERROR(MATCH($J2118,SorP!$B$1:$B$6230,0)),\"\",INDIRECT(\"'SorP'!$A$\"&MATCH($J2118,SorP!$B$1:$B$6230,0))))","v":""},null,{"$f":"IF(C2118=\"\",NA(),MATCH($B2118&$C2118,'Smelter Look-up'!$J:$J,0))","v":{"$error":"#N/A"}},null,0,null,null,null,""]
[{"$nulls":18},{"$f":"IF(ISERROR($W2119),\"\",OFFSET('Smelter Look-up'!$C$4,$W2119-4,0)&\"\")","v":""},"",{"$f":"IF(B2119=\"\",\"\",IF(ISERROR(MATCH($J2119,SorP!$B$1:$B$6230,0)),\"\",INDIRECT(\"'SorP'!$A$\"&MATCH($J2119,SorP!$B$1:$B$6230,0))))","v":""},null,{"$f":"IF(C2119=\"\",NA(),MATCH($B2119&$C2119,'Smelter Look-up'!$J:$J,0))","v":{"$error":"#N/A"}},null,0,null,null,null,""]
[{"$nulls":18},{"$f":"IF(ISERROR($W2120),\"\",OFFSET('Smelter Look-up'!$C$4,$W2120-4,0)&\"\")","v":""},"",{"$f":"IF(B2120=\"\",\"\",IF(ISERROR(MATCH($J2120,SorP!$B$1:$B$6230,0)),\"\",INDIRECT(\"'SorP'!$A$\"&MATCH($J2120,SorP!$B$1:$B$6230,0))))","v":""},null,{"$f":"IF(C2120=\"\",NA(),MATCH($B2120&$C2120,'Smelter Look-up'!$J:$J,0))","v":{"$error":"#N/A"}},null,0,null,null,null,""]
[{"$nulls":18},{"$f":"IF(ISERROR($W2121),\"\",OFFSET('Smelter Look-up'!$C$4,$W2121-4,0)&\"\")","v":""},"",{"$f":"IF(B2121=\"\",\"\",IF(ISERROR(MATCH($J2121,SorP!$B$1:$B$6230,0)),\"\",INDIRECT(\"'SorP'!$A$\"&MATCH($J2121,SorP!$B$1:$B$6230,0))))","v":""},null,{"$f":"IF(C2121=\"\",NA(),MATCH($B2121&$C2121,'Smelter Look-up'!$J:$J,0))","v":{"$error":"#N/A"}},null,0,null,null,null,""]
[{"$nulls":18},{"$f":"IF(ISERROR($W2122),\"\",OFFSET('Smelter Look-up'!$C$4,$W2122-4,0)&\"\")","v":""},"",{"$f":"IF(B2122=\"\",\"\",IF(ISERROR(MATCH($J2122,SorP!$B$1:$B$6230,0)),\"\",INDIRECT(\"'SorP'!$A$\"&MATCH($J2122,SorP!$B$1:$B$6230,0))))","v":""},null,{"$f":"IF(C2122=\"\",NA(),MATCH($B2122&$C2122,'Smelter Look-up'!$J:$J,0))","v":{"$error":"#N/A"}},null,0,null,null,null,""]
[{"$nulls":18},{"$f":"IF(ISERROR($W2123),\"\",OFFSET('Smelter Look-up'!$C$4,$W2123-4,0)&\"\")","v":""},"",{"$f":"IF(B2123=\"\",\"\",IF(ISERROR(MATCH($J2123,SorP!$B$1:$B$6230,0)),\"\",INDIRECT(\"'SorP'!$A$\"&MATCH($J2123,SorP!$B$1:$B$6230,0))))","v":""},null,{"$f":"IF(C2123=\"\",NA(),MATCH($B2123&$C2123,'Smelter Look-up'!$J:$J,0))","v":{"$error":"#N/A"}},null,0,null,null,null,""]
[{"$nulls":18},{"$f":"IF(ISERROR($W2124),\"\",OFFSET('Smelter Look-up'!$C$4,$W2124-4,0)&\"\")","v":""},"",{"$f":"IF(B2124=\"\",\"\",IF(ISERROR(MATCH($J2124,SorP!$B$1:$B$6230,0)),\"\",INDIRECT(\"'SorP'!$A$\"&MATCH($J2124,SorP!$B$1:$B$6230,0))))","v":""},null,{"$f":"IF(C2124=\"\",NA(),MATCH($B2124&$C2124,'Smelter Look-up'!$J:$J,0))","v":{"$error":"#N/A"}},null,0,null,null,null,""]
[{"$nulls":18},{"$f":"IF(ISERROR($W2125),\"\",OFFSET('Smelter Look-up'!$C$4,$W2125-4,0)&\"\")","v":""},"",{"$f":"IF(B2125=\"\",\"\",IF(ISERROR(MATCH($J2125,SorP!$B$1:$B$6230,0)),\"\",INDIRECT(\"'SorP'!$A$\"&MATCH($J2125,SorP!$B$1:$B$6230,0))))","v":""},null,{"$f":"IF(C2125=\"\",NA(),MATCH($B2125&$C2125,'Smelter Look-up'!$J:$J,0))","v":{"$error":"#N/A"}},null,0,null,null,null,""]
[{"$nulls":18},{"$f":"IF(ISERROR($W2126),\"\",OFFSET('Smelter Look-up'!$C$4,$W2126-4,0)&\"\")","v":""},"",{"$f":"IF(B2126=\"\",\"\",IF(ISERROR(MATCH($J2126,SorP!$B$1:$B$6230,0)),\"\",INDIRECT(\"'SorP'!$A$\"&MATCH($J2126,SorP!$B$1:$B$6230,0))))","v":""},null,{"$f":"IF(C2126=\"\",NA(),MATCH($B2126&$C2126,'Smelter Look-up'!$J:$J,0))","v":{"$error":"#N/A"}},null,0,null,null,null,""]
[{"$nulls":18},{"$f":"IF(ISERROR($W2127),\"\",OFFSET('Smelter Look-up'!$C$4,$W2127-4,0)&\"\")","v":""},"",{"$f":"IF(B2127=\"\",\"\",IF(ISERROR(MATCH($J2127,SorP!$B$1:$B$6230,0)),\"\",INDIRECT(\"'SorP'!$A$\"&MATCH($J2127,SorP!$B$1:$B$6230,0))))","v":""},null,{"$f":"IF(C2127=\"\",NA(),MATCH($B2127&$C2127,'Smelter Look-up'!$J:$J,0))","v":{"$error":"#N/A"}},null,0,null,null,null,""]
[{"$nulls":18},{"$f":"IF(ISERROR($W2128),\"\",OFFSET('Smelter Look-up'!$C$4,$W2128-4,0)&\"\")","v":""},"",{"$f":"IF(B2128=\"\",\"\",IF(ISERROR(MATCH($J2128,SorP!$B$1:$B$6230,0)),\"\",INDIRECT(\"'SorP'!$A$\"&MATCH($J2128,SorP!$B$1:$B$6230,0))))","v":""},null,{"$f":"IF(C2128=\"\",NA(),MATCH($B2128&$C2128,'Smelter Look-up'!$J:$J,0))","v":{"$error":"#N/A"}},null,0,null,null,null,""]
[{"$nulls":18},{"$f":"IF(ISERROR($W2129),\"\",OFFSET('Smelter Look-up'!$C$4,$W2129-4,0)&\"\")","v":""},"",{"$f":"IF(B2129=\"\",\"\",IF(ISERROR(MATCH($J2129,SorP!$B$1:$B$6230,0)),\"\",INDIRECT(\"'SorP'!$A$\"&MATCH($J2129,SorP!$B$1:$B$6230,0))))","v":""},null,{"$f":"IF(C2129=\"\",NA(),MATCH($B2129&$C2129,'Smelter Look-up'!$J:$J,0))","v":{"$error":"#N/A"}},null,0,null,null,null,""]
[{"$nulls":18},{"$f":"IF(ISERROR($W2130),\"\",OFFSET('Smelter Look-up'!$C$4,$W2130-4,0)&\"\")","v":""},"",{"$f":"IF(B2130=\"\",\"\",IF(ISERROR(MATCH($J2130,SorP!$B$1:$B$6230,0)),\"\",INDIRECT(\"'SorP'!$A$\"&MATCH($J2130,SorP!$B$1:$B$6230,0))))","v":""},null,{"$f":"IF(C2130=\"\",NA(),MATCH($B2130&$C2130,'Smelter Look-up'!$J:$J,0))","v":{"$error":"#N/A"}},null,0,null,null,null,""]
[{"$nulls":18},{"$f":"IF(ISERROR($W2131),\"\",OFFSET('Smelter Look-up'!$C$4,$W2131-4,0)&\"\")","v":""},"",{"$f":"IF(B2131=\"\",\"\",IF(ISERROR(MATCH($J2131,SorP!$B$1:$B$6230,0)),\"\",INDIRECT(\"'SorP'!$A$\"&MATCH($J2131,SorP!$B$1:$B$6230,0))))","v":""},null,{"$f":"IF(C2131=\"\",NA(),MATCH($B2131&$C2131,'Smelter Look-up'!$J:$J,0))","v":{"$error":"#N/A"}},null,0,null,null,null,""]
[{"$nulls":18},{"$f":"IF(ISERROR($W2132),\"\",OFFSET('Smelter Look-up'!$C$4,$W2132-4,0)&\"\")","v":""},"",{"$f":"IF(B2132=\"\",\"\",IF(ISERROR(MATCH($J2132,SorP!$B$1:$B$6230,0)),\"\",INDIRECT(\"'SorP'!$A$\"&MATCH($J2132,SorP!$B$1:$B$6230,0))))","v":""},null,{"$f":"IF(C2132=\"\",NA(),MATCH($B2132&$C2132,'Smelter Look-up'!$J:$J,0))","v":{"$error":"#N/A"}},null,0,null,null,null,""]
[{"$nulls":18},{"$f":"IF(ISERROR($W2133),\"\",OFFSET('Smelter Look-up'!$C$4,$W2133-4,0)&\"\")","v":""},"",{"$f":"IF(B2133=\"\",\"\",IF(ISERROR(MATCH($J2133,SorP!$B$1:$B$6230,0)),\"\",INDIRECT(\"'SorP'!$A$\"&MATCH($J2133,SorP!$B$1:$B$6230,0))))","v":""},null,{"$f":"IF(C2133=\"\",NA(),MATCH($B2133&$C2133,'Smelter Look-up'!$J:$J,0))","v":{"$error":"#N/A"}},null,0,null,null,null,""]
[{"$nulls":18},{"$f":"IF(ISERROR($W2134),\"\",OFFSET('Smelter Look-up'!$C$4,$W2134-4,0)&\"\")","v":""},"",{"$f":"IF(B2134=\"\",\"\",IF(ISERROR(MATCH($J2134,SorP!$B$1:$B$6230,0)),\"\",INDIRECT(\"'SorP'!$A$\"&MATCH($J2134,SorP!$B$1:$B$6230,0))))","v":""},null,{"$f":"IF(C2134=\"\",NA(),MATCH($B2134&$C2134,'Smelter Look-up'!$J:$J,0))","v":{"$error":"#N/A"}},null,0,null,null,null,""]
[{"$nulls":18},{"$f":"IF(ISERROR($W2135),\"\",OFFSET('Smelter Look-up'!$C$4,$W2135-4,0)&\"\")","v":""},"",{"$f":"IF(B2135=\"\",\"\",IF(ISERROR(MATCH($J2135,SorP!$B$1:$B$6230,0)),\"\",INDIRECT(\"'SorP'!$A$\"&MATCH($J2135,SorP!$B$1:$B$6230,0))))","v":""},null,{"$f":"IF(C2135=\"\",NA(),MATCH($B2135&$C2135,'Smelter Look-up'!$J:$J,0))","v":{"$error":"#N/A"}},null,0,null,null,null,""]
[{"$nulls":18},{"$f":"IF(ISERROR($W2136),\"\",OFFSET('Smelter Look-up'!$C$4,$W2136-4,0)&\"\")","v":""},"",{"$f":"IF(B2136=\"\",\"\",IF(ISERROR(MATCH($J2136,SorP!$B$1:$B$6230,0)),\"\",INDIRECT(\"'SorP'!$A$\"&MATCH($J2136,SorP!$B$1:$B$6230,0))))","v":""},null,{"$f":"IF(C2136=\"\",NA(),MATCH($B2136&$C2136,'Smelter Look-up'!$J:$J,0))","v":{"$error":"#N/A"}},null,0,null,null,null,""]
[{"$nulls":18},{"$f":"IF(ISERROR($W2137),\"\",OFFSET('Smelter Look-up'!$C$4,$W2137-4,0)&\"\")","v":""},"",{"$f":"IF(B2137=\"\",\"\",IF(ISERROR(MATCH($J2137,SorP!$B$1:$B$6230,0)),\"\",INDIRECT(\"'SorP'!$A$\"&MATCH($J2137,SorP!$B$1:$B$6230,0))))","v":""},null,{"$f":"IF(C2137=\"\",NA(),MATCH($B2137&$C2137,'Smelter Look-up'!$J:$J,0))","v":{"$error":"#N/A"}},null,0,null,null,null,""]
[{"$nulls":18},{"$f":"IF(ISERROR($W2138),\"\",OFFSET('Smelter Look-up'!$C$4,$W2138-4,0)&\"\")","v":""},"",{"$f":"IF(B2138=\"\",\"\",IF(ISERROR(MATCH($J2138,SorP!$B$1:$B$6230,0)),\"\",INDIRECT(\"'SorP'!$A$\"&MATCH($J2138,SorP!$B$1:$B$6230,0))))","v":""},null,{"$f":"IF(C2138=\"\",NA(),MATCH($B2138&$C2138,'Smelter Look-up'!$J:$J,0))","v":{"$error":"#N/A"}},null,0,null,null,null,""]
[{"$nulls":18},{"$f":"IF(ISERROR($W2139),\"\",OFFSET('Smelter Look-up'!$C$4,$W2139-4,0)&\"\")","v":""},"",{"$f":"IF(B2139=\"\",\"\",IF(ISERROR(MATCH($J2139,SorP!$B$1:$B$6230,0)),\"\",INDIRECT(\"'SorP'!$A$\"&MATCH($J2139,SorP!$B$1:$B$6230,0))))","v":""},null,{"$f":"IF(C2139=\"\",NA(),MATCH($B2139&$C2139,'Smelter Look-up'!$J:$J,0))","v":{"$error":"#N/A"}},null,0,null,null,null,""]
[{"$nulls":18},{"$f":"IF(ISERROR($W2140),\"\",OFFSET('Smelter Look-up'!$C$4,$W2140-4,0)&\"\")","v":""},"",{"$f":"IF(B2140=\"\",\"\",IF(ISERROR(MATCH($J2140,SorP!$B$1:$B$6230,0)),\"\",INDIRECT(\"'SorP'!$A$\"&MATCH($J2140,SorP!$B$1:$B$6230,0))))","v":""},null,{"$f":"IF(C2140=\"\",NA(),MATCH($B2140&$C2140,'Smelter Look-up'!$J:$J,0))","v":{"$error":"#N/A"}},null,0,null,null,null,""]
[{"$nulls":18},{"$f":"IF(ISERROR($W2141),\"\",OFFSET('Smelter Look-up'!$C$4,$W2141-4,0)&\"\")","v":""},"",{"$f":"IF(B2141=\"\",\"\",IF(ISERROR(MATCH($J2141,SorP!$B$1:$B$6230,0)),\"\",INDIRECT(\"'SorP'!$A$\"&MATCH($J2141,SorP!$B$1:$B$6230,0))))","v":""},null,{"$f":"IF(C2141=\"\",NA(),MATCH($B2141&$C2141,'Smelter Look-up'!$J:$J,0))","v":{"$error":"#N/A"}},null,0,null,null,null,""]
[{"$nulls":18},{"$f":"IF(ISERROR($W2142),\"\",OFFSET('Smelter Look-up'!$C$4,$W2142-4,0)&\"\")","v":""},"",{"$f":"IF(B2142=\"\",\"\",IF(ISERROR(MATCH($J2142,SorP!$B$1:$B$6230,0)),\"\",INDIRECT(\"'SorP'!$A$\"&MATCH($J2142,SorP!$B$1:$B$6230,0))))","v":""},null,{"$f":"IF(C2142=\"\",NA(),MATCH($B2142&$C2142,'Smelter Look-up'!$J:$J,0))","v":{"$error":"#N/A"}},null,0,null,null,null,""]
[{"$nulls":18},{"$f":"IF(ISERROR($W2143),\"\",OFFSET('Smelter Look-up'!$C$4,$W2143-4,0)&\"\")","v":""},"",{"$f":"IF(B2143=\"\",\"\",IF(ISERROR(MATCH($J2143,SorP!$B$1:$B$6230,0)),\"\",INDIRECT(\"'SorP'!$A$\"&MATCH($J2143,SorP!$B$1:$B$6230,0))))","v":""},null,{"$f":"IF(C2143=\"\",NA(),MATCH($B2143&$C2143,'Smelter Look-up'!$J:$J,0))","v":{"$error":"#N/A"}},null,0,null,null,null,""]
[{"$nulls":18},{"$f":"IF(ISERROR($W2144),\"\",OFFSET('Smelter Look-up'!$C$4,$W2144-4,0)&\"\")","v":""},"",{"$f":"IF(B2144=\"\",\"\",IF(ISERROR(MATCH($J2144,SorP!$B$1:$B$6230,0)),\"\",INDIRECT(\"'SorP'!$A$\"&MATCH($J2144,SorP!$B$1:$B$6230,0))))","v":""},null,{"$f":"IF(C2144=\"\",NA(),MATCH($B2144&$C2144,'Smelter Look-up'!$J:$J,0))","v":{"$error":"#N/A"}},null,0,null,null,null,""]
[{"$nulls":18},{"$f":"IF(ISERROR($W2145),\"\",OFFSET('Smelter Look-up'!$C$4,$W2145-4,0)&\"\")","v":""},"",{"$f":"IF(B2145=\"\",\"\",IF(ISERROR(MATCH($J2145,SorP!$B$1:$B$6230,0)),\"\",INDIRECT(\"'SorP'!$A$\"&MATCH($J2145,SorP!$B$1:$B$6230,0))))","v":""},null,{"$f":"IF(C2145=\"\",NA(),MATCH($B2145&$C2145,'Smelter Look-up'!$J:$J,0))","v":{"$error":"#N/A"}},null,0,null,null,null,""]
[{"$nulls":18},{"$f":"IF(ISERROR($W2146),\"\",OFFSET('Smelter Look-up'!$C$4,$W2146-4,0)&\"\")","v":""},"",{"$f":"IF(B2146=\"\",\"\",IF(ISERROR(MATCH($J2146,SorP!$B$1:$B$6230,0)),\"\",INDIRECT(\"'SorP'!$A$\"&MATCH($J2146,SorP!$B$1:$B$6230,0))))","v":""},null,{"$f":"IF(C2146=\"\",NA(),MATCH($B2146&$C2146,'Smelter Look-up'!$J:$J,0))","v":{"$error":"#N/A"}},null,0,null,null,null,""]
[{"$nulls":18},{"$f":"IF(ISERROR($W2147),\"\",OFFSET('Smelter Look-up'!$C$4,$W2147-4,0)&\"\")","v":""},"",{"$f":"IF(B2147=\"\",\"\",IF(ISERROR(MATCH($J2147,SorP!$B$1:$B$6230,0)),\"\",INDIRECT(\"'SorP'!$A$\"&MATCH($J2147,SorP!$B$1:$B$6230,0))))","v":""},null,{"$f":"IF(C2147=\"\",NA(),MATCH($B2147&$C2147,'Smelter Look-up'!$J:$J,0))","v":{"$error":"#N/A"}},null,0,null,null,null,""]
[{"$nulls":18},{"$f":"IF(ISERROR($W2148),\"\",OFFSET('Smelter Look-up'!$C$4,$W2148-4,0)&\"\")","v":""},"",{"$f":"IF(B2148=\"\",\"\",IF(ISERROR(MATCH($J2148,SorP!$B$1:$B$6230,0)),\"\",INDIRECT(\"'SorP'!$A$\"&MATCH($J2148,SorP!$B$1:$B$6230,0))))","v":""},null,{"$f":"IF(C2148=\"\",NA(),MATCH($B2148&$C2148,'Smelter Look-up'!$J:$J,0))","v":{"$error":"#N/A"}},null,0,null,null,null,""]
[{"$nulls":18},{"$f":"IF(ISERROR($W2149),\"\",OFFSET('Smelter Look-up'!$C$4,$W2149-4,0)&\"\")","v":""},"",{"$f":"IF(B2149=\"\",\"\",IF(ISERROR(MATCH($J2149,SorP!$B$1:$B$6230,0)),\"\",INDIRECT(\"'SorP'!$A$\"&MATCH($J2149,SorP!$B$1:$B$6230,0))))","v":""},null,{"$f":"IF(C2149=\"\",NA(),MATCH($B2149&$C2149,'Smelter Look-up'!$J:$J,0))","v":{"$error":"#N/A"}},null,0,null,null,null,""]
[{"$nulls":18},{"$f":"IF(ISERROR($W2150),\"\",OFFSET('Smelter Look-up'!$C$4,$W2150-4,0)&\"\")","v":""},"",{"$f":"IF(B2150=\"\",\"\",IF(ISERROR(MATCH($J2150,SorP!$B$1:$B$6230,0)),\"\",INDIRECT(\"'SorP'!$A$\"&MATCH($J2150,SorP!$B$1:$B$6230,0))))","v":""},null,{"$f":"IF(C2150=\"\",NA(),MATCH($B2150&$C2150,'Smelter Look-up'!$J:$J,0))","v":{"$error":"#N/A"}},null,0,null,null,null,""]
[{"$nulls":18},{"$f":"IF(ISERROR($W2151),\"\",OFFSET('Smelter Look-up'!$C$4,$W2151-4,0)&\"\")","v":""},"",{"$f":"IF(B2151=\"\",\"\",IF(ISERROR(MATCH($J2151,SorP!$B$1:$B$6230,0)),\"\",INDIRECT(\"'SorP'!$A$\"&MATCH($J2151,SorP!$B$1:$B$6230,0))))","v":""},null,{"$f":"IF(C2151=\"\",NA(),MATCH($B2151&$C2151,'Smelter Look-up'!$J:$J,0))","v":{"$error":"#N/A"}},null,0,null,null,null,""]
[{"$nulls":18},{"$f":"IF(ISERROR($W2152),\"\",OFFSET('Smelter Look-up'!$C$4,$W2152-4,0)&\"\")","v":""},"",{"$f":"IF(B2152=\"\",\"\",IF(ISERROR(MATCH($J2152,SorP!$B$1:$B$6230,0)),\"\",INDIRECT(\"'SorP'!$A$\"&MATCH($J2152,SorP!$B$1:$B$6230,0))))","v":""},null,{"$f":"IF(C2152=\"\",NA(),MATCH($B2152&$C2152,'Smelter Look-up'!$J:$J,0))","v":{"$error":"#N/A"}},null,0,null,null,null,""]
[{"$nulls":18},{"$f":"IF(ISERROR($W2153),\"\",OFFSET('Smelter Look-up'!$C$4,$W2153-4,0)&\"\")","v":""},"",{"$f":"IF(B2153=\"\",\"\",IF(ISERROR(MATCH($J2153,SorP!$B$1:$B$6230,0)),\"\",INDIRECT(\"'SorP'!$A$\"&MATCH($J2153,SorP!$B$1:$B$6230,0))))","v":""},null,{"$f":"IF(C2153=\"\",NA(),MATCH($B2153&$C2153,'Smelter Look-up'!$J:$J,0))","v":{"$error":"#N/A"}},null,0,null,null,null,""]
[{"$nulls":18},{"$f":"IF(ISERROR($W2154),\"\",OFFSET('Smelter Look-up'!$C$4,$W2154-4,0)&\"\")","v":""},"",{"$f":"IF(B2154=\"\",\"\",IF(ISERROR(MATCH($J2154,SorP!$B$1:$B$6230,0)),\"\",INDIRECT(\"'SorP'!$A$\"&MATCH($J2154,SorP!$B$1:$B$6230,0))))","v":""},null,{"$f":"IF(C2154=\"\",NA(),MATCH($B2154&$C2154,'Smelter Look-up'!$J:$J,0))","v":{"$error":"#N/A"}},null,0,null,null,null,""]
[{"$nulls":18},{"$f":"IF(ISERROR($W2155),\"\",OFFSET('Smelter Look-up'!$C$4,$W2155-4,0)&\"\")","v":""},"",{"$f":"IF(B2155=\"\",\"\",IF(ISERROR(MATCH($J2155,SorP!$B$1:$B$6230,0)),\"\",INDIRECT(\"'SorP'!$A$\"&MATCH($J2155,SorP!$B$1:$B$6230,0))))","v":""},null,{"$f":"IF(C2155=\"\",NA(),MATCH($B2155&$C2155,'Smelter Look-up'!$J:$J,0))","v":{"$error":"#N/A"}},null,0,null,null,null,""]
[{"$nulls":18},{"$f":"IF(ISERROR($W2156),\"\",OFFSET('Smelter Look-up'!$C$4,$W2156-4,0)&\"\")","v":""},"",{"$f":"IF(B2156=\"\",\"\",IF(ISERROR(MATCH($J2156,SorP!$B$1:$B$6230,0)),\"\",INDIRECT(\"'SorP'!$A$\"&MATCH($J2156,SorP!$B$1:$B$6230,0))))","v":""},null,{"$f":"IF(C2156=\"\",NA(),MATCH($B2156&$C2156,'Smelter Look-up'!$J:$J,0))","v":{"$error":"#N/A"}},null,0,null,null,null,""]
[{"$nulls":18},{"$f":"IF(ISERROR($W2157),\"\",OFFSET('Smelter Look-up'!$C$4,$W2157-4,0)&\"\")","v":""},"",{"$f":"IF(B2157=\"\",\"\",IF(ISERROR(MATCH($J2157,SorP!$B$1:$B$6230,0)),\"\",INDIRECT(\"'SorP'!$A$\"&MATCH($J2157,SorP!$B$1:$B$6230,0))))","v":""},null,{"$f":"IF(C2157=\"\",NA(),MATCH($B2157&$C2157,'Smelter Look-up'!$J:$J,0))","v":{"$error":"#N/A"}},null,0,null,null,null,""]
[{"$nulls":18},{"$f":"IF(ISERROR($W2158),\"\",OFFSET('Smelter Look-up'!$C$4,$W2158-4,0)&\"\")","v":""},"",{"$f":"IF(B2158=\"\",\"\",IF(ISERROR(MATCH($J2158,SorP!$B$1:$B$6230,0)),\"\",INDIRECT(\"'SorP'!$A$\"&MATCH($J2158,SorP!$B$1:$B$6230,0))))","v":""},null,{"$f":"IF(C2158=\"\",NA(),MATCH($B2158&$C2158,'Smelter Look-up'!$J:$J,0))","v":{"$error":"#N/A"}},null,0,null,null,null,""]
[{"$nulls":18},{"$f":"IF(ISERROR($W2159),\"\",OFFSET('Smelter Look-up'!$C$4,$W2159-4,0)&\"\")","v":""},"",{"$f":"IF(B2159=\"\",\"\",IF(ISERROR(MATCH($J2159,SorP!$B$1:$B$6230,0)),\"\",INDIRECT(\"'SorP'!$A$\"&MATCH($J2159,SorP!$B$1:$B$6230,0))))","v":""},null,{"$f":"IF(C2159=\"\",NA(),MATCH($B2159&$C2159,'Smelter Look-up'!$J:$J,0))","v":{"$error":"#N/A"}},null,0,null,null,null,""]
[{"$nulls":18},{"$f":"IF(ISERROR($W2160),\"\",OFFSET('Smelter Look-up'!$C$4,$W2160-4,0)&\"\")","v":""},"",{"$f":"IF(B2160=\"\",\"\",IF(ISERROR(MATCH($J2160,SorP!$B$1:$B$6230,0)),\"\",INDIRECT(\"'SorP'!$A$\"&MATCH($J2160,SorP!$B$1:$B$6230,0))))","v":""},null,{"$f":"IF(C2160=\"\",NA(),MATCH($B2160&$C2160,'Smelter Look-up'!$J:$J,0))","v":{"$error":"#N/A"}},null,0,null,null,null,""]
[{"$nulls":18},{"$f":"IF(ISERROR($W2161),\"\",OFFSET('Smelter Look-up'!$C$4,$W2161-4,0)&\"\")","v":""},"",{"$f":"IF(B2161=\"\",\"\",IF(ISERROR(MATCH($J2161,SorP!$B$1:$B$6230,0)),\"\",INDIRECT(\"'SorP'!$A$\"&MATCH($J2161,SorP!$B$1:$B$6230,0))))","v":""},null,{"$f":"IF(C2161=\"\",NA(),MATCH($B2161&$C2161,'Smelter Look-up'!$J:$J,0))","v":{"$error":"#N/A"}},null,0,null,null,null,""]
[{"$nulls":18},{"$f":"IF(ISERROR($W2162),\"\",OFFSET('Smelter Look-up'!$C$4,$W2162-4,0)&\"\")","v":""},"",{"$f":"IF(B2162=\"\",\"\",IF(ISERROR(MATCH($J2162,SorP!$B$1:$B$6230,0)),\"\",INDIRECT(\"'SorP'!$A$\"&MATCH($J2162,SorP!$B$1:$B$6230,0))))","v":""},null,{"$f":"IF(C2162=\"\",NA(),MATCH($B2162&$C2162,'Smelter Look-up'!$J:$J,0))","v":{"$error":"#N/A"}},null,0,null,null,null,""]
[{"$nulls":18},{"$f":"IF(ISERROR($W2163),\"\",OFFSET('Smelter Look-up'!$C$4,$W2163-4,0)&\"\")","v":""},"",{"$f":"IF(B2163=\"\",\"\",IF(ISERROR(MATCH($J2163,SorP!$B$1:$B$6230,0)),\"\",INDIRECT(\"'SorP'!$A$\"&MATCH($J2163,SorP!$B$1:$B$6230,0))))","v":""},null,{"$f":"IF(C2163=\"\",NA(),MATCH($B2163&$C2163,'Smelter Look-up'!$J:$J,0))","v":{"$error":"#N/A"}},null,0,null,null,null,""]
[{"$nulls":18},{"$f":"IF(ISERROR($W2164),\"\",OFFSET('Smelter Look-up'!$C$4,$W2164-4,0)&\"\")","v":""},"",{"$f":"IF(B2164=\"\",\"\",IF(ISERROR(MATCH($J2164,SorP!$B$1:$B$6230,0)),\"\",INDIRECT(\"'SorP'!$A$\"&MATCH($J2164,SorP!$B$1:$B$6230,0))))","v":""},null,{"$f":"IF(C2164=\"\",NA(),MATCH($B2164&$C2164,'Smelter Look-up'!$J:$J,0))","v":{"$error":"#N/A"}},null,0,null,null,null,""]
[{"$nulls":18},{"$f":"IF(ISERROR($W2165),\"\",OFFSET('Smelter Look-up'!$C$4,$W2165-4,0)&\"\")","v":""},"",{"$f":"IF(B2165=\"\",\"\",IF(ISERROR(MATCH($J2165,SorP!$B$1:$B$6230,0)),\"\",INDIRECT(\"'SorP'!$A$\"&MATCH($J2165,SorP!$B$1:$B$6230,0))))","v":""},null,{"$f":"IF(C2165=\"\",NA(),MATCH($B2165&$C2165,'Smelter Look-up'!$J:$J,0))","v":{"$error":"#N/A"}},null,0,null,null,null,""]
[{"$nulls":18},{"$f":"IF(ISERROR($W2166),\"\",OFFSET('Smelter Look-up'!$C$4,$W2166-4,0)&\"\")","v":""},"",{"$f":"IF(B2166=\"\",\"\",IF(ISERROR(MATCH($J2166,SorP!$B$1:$B$6230,0)),\"\",INDIRECT(\"'SorP'!$A$\"&MATCH($J2166,SorP!$B$1:$B$6230,0))))","v":""},null,{"$f":"IF(C2166=\"\",NA(),MATCH($B2166&$C2166,'Smelter Look-up'!$J:$J,0))","v":{"$error":"#N/A"}},null,0,null,null,null,""]
[{"$nulls":18},{"$f":"IF(ISERROR($W2167),\"\",OFFSET('Smelter Look-up'!$C$4,$W2167-4,0)&\"\")","v":""},"",{"$f":"IF(B2167=\"\",\"\",IF(ISERROR(MATCH($J2167,SorP!$B$1:$B$6230,0)),\"\",INDIRECT(\"'SorP'!$A$\"&MATCH($J2167,SorP!$B$1:$B$6230,0))))","v":""},null,{"$f":"IF(C2167=\"\",NA(),MATCH($B2167&$C2167,'Smelter Look-up'!$J:$J,0))","v":{"$error":"#N/A"}},null,0,null,null,null,""]
[{"$nulls":18},{"$f":"IF(ISERROR($W2168),\"\",OFFSET('Smelter Look-up'!$C$4,$W2168-4,0)&\"\")","v":""},"",{"$f":"IF(B2168=\"\",\"\",IF(ISERROR(MATCH($J2168,SorP!$B$1:$B$6230,0)),\"\",INDIRECT(\"'SorP'!$A$\"&MATCH($J2168,SorP!$B$1:$B$6230,0))))","v":""},null,{"$f":"IF(C2168=\"\",NA(),MATCH($B2168&$C2168,'Smelter Look-up'!$J:$J,0))","v":{"$error":"#N/A"}},null,0,null,null,null,""]
[{"$nulls":18},{"$f":"IF(ISERROR($W2169),\"\",OFFSET('Smelter Look-up'!$C$4,$W2169-4,0)&\"\")","v":""},"",{"$f":"IF(B2169=\"\",\"\",IF(ISERROR(MATCH($J2169,SorP!$B$1:$B$6230,0)),\"\",INDIRECT(\"'SorP'!$A$\"&MATCH($J2169,SorP!$B$1:$B$6230,0))))","v":""},null,{"$f":"IF(C2169=\"\",NA(),MATCH($B2169&$C2169,'Smelter Look-up'!$J:$J,0))","v":{"$error":"#N/A"}},null,0,null,null,null,""]
[{"$nulls":18},{"$f":"IF(ISERROR($W2170),\"\",OFFSET('Smelter Look-up'!$C$4,$W2170-4,0)&\"\")","v":""},"",{"$f":"IF(B2170=\"\",\"\",IF(ISERROR(MATCH($J2170,SorP!$B$1:$B$6230,0)),\"\",INDIRECT(\"'SorP'!$A$\"&MATCH($J2170,SorP!$B$1:$B$6230,0))))","v":""},null,{"$f":"IF(C2170=\"\",NA(),MATCH($B2170&$C2170,'Smelter Look-up'!$J:$J,0))","v":{"$error":"#N/A"}},null,0,null,null,null,""]
[{"$nulls":18},{"$f":"IF(ISERROR($W2171),\"\",OFFSET('Smelter Look-up'!$C$4,$W2171-4,0)&\"\")","v":""},"",{"$f":"IF(B2171=\"\",\"\",IF(ISERROR(MATCH($J2171,SorP!$B$1:$B$6230,0)),\"\",INDIRECT(\"'SorP'!$A$\"&MATCH($J2171,SorP!$B$1:$B$6230,0))))","v":""},null,{"$f":"IF(C2171=\"\",NA(),MATCH($B2171&$C2171,'Smelter Look-up'!$J:$J,0))","v":{"$error":"#N/A"}},null,0,null,null,null,""]
[{"$nulls":18},{"$f":"IF(ISERROR($W2172),\"\",OFFSET('Smelter Look-up'!$C$4,$W2172-4,0)&\"\")","v":""},"",{"$f":"IF(B2172=\"\",\"\",IF(ISERROR(MATCH($J2172,SorP!$B$1:$B$6230,0)),\"\",INDIRECT(\"'SorP'!$A$\"&MATCH($J2172,SorP!$B$1:$B$6230,0))))","v":""},null,{"$f":"IF(C2172=\"\",NA(),MATCH($B2172&$C2172,'Smelter Look-up'!$J:$J,0))","v":{"$error":"#N/A"}},null,0,null,null,null,""]
[{"$nulls":18},{"$f":"IF(ISERROR($W2173),\"\",OFFSET('Smelter Look-up'!$C$4,$W2173-4,0)&\"\")","v":""},"",{"$f":"IF(B2173=\"\",\"\",IF(ISERROR(MATCH($J2173,SorP!$B$1:$B$6230,0)),\"\",INDIRECT(\"'SorP'!$A$\"&MATCH($J2173,SorP!$B$1:$B$6230,0))))","v":""},null,{"$f":"IF(C2173=\"\",NA(),MATCH($B2173&$C2173,'Smelter Look-up'!$J:$J,0))","v":{"$error":"#N/A"}},null,0,null,null,null,""]
[{"$nulls":18},{"$f":"IF(ISERROR($W2174),\"\",OFFSET('Smelter Look-up'!$C$4,$W2174-4,0)&\"\")","v":""},"",{"$f":"IF(B2174=\"\",\"\",IF(ISERROR(MATCH($J2174,SorP!$B$1:$B$6230,0)),\"\",INDIRECT(\"'SorP'!$A$\"&MATCH($J2174,SorP!$B$1:$B$6230,0))))","v":""},null,{"$f":"IF(C2174=\"\",NA(),MATCH($B2174&$C2174,'Smelter Look-up'!$J:$J,0))","v":{"$error":"#N/A"}},null,0,null,null,null,""]
[{"$nulls":18},{"$f":"IF(ISERROR($W2175),\"\",OFFSET('Smelter Look-up'!$C$4,$W2175-4,0)&\"\")","v":""},"",{"$f":"IF(B2175=\"\",\"\",IF(ISERROR(MATCH($J2175,SorP!$B$1:$B$6230,0)),\"\",INDIRECT(\"'SorP'!$A$\"&MATCH($J2175,SorP!$B$1:$B$6230,0))))","v":""},null,{"$f":"IF(C2175=\"\",NA(),MATCH($B2175&$C2175,'Smelter Look-up'!$J:$J,0))","v":{"$error":"#N/A"}},null,0,null,null,null,""]
[{"$nulls":18},{"$f":"IF(ISERROR($W2176),\"\",OFFSET('Smelter Look-up'!$C$4,$W2176-4,0)&\"\")","v":""},"",{"$f":"IF(B2176=\"\",\"\",IF(ISERROR(MATCH($J2176,SorP!$B$1:$B$6230,0)),\"\",INDIRECT(\"'SorP'!$A$\"&MATCH($J2176,SorP!$B$1:$B$6230,0))))","v":""},null,{"$f":"IF(C2176=\"\",NA(),MATCH($B2176&$C2176,'Smelter Look-up'!$J:$J,0))","v":{"$error":"#N/A"}},null,0,null,null,null,""]
[{"$nulls":18},{"$f":"IF(ISERROR($W2177),\"\",OFFSET('Smelter Look-up'!$C$4,$W2177-4,0)&\"\")","v":""},"",{"$f":"IF(B2177=\"\",\"\",IF(ISERROR(MATCH($J2177,SorP!$B$1:$B$6230,0)),\"\",INDIRECT(\"'SorP'!$A$\"&MATCH($J2177,SorP!$B$1:$B$6230,0))))","v":""},null,{"$f":"IF(C2177=\"\",NA(),MATCH($B2177&$C2177,'Smelter Look-up'!$J:$J,0))","v":{"$error":"#N/A"}},null,0,null,null,null,""]
[{"$nulls":18},{"$f":"IF(ISERROR($W2178),\"\",OFFSET('Smelter Look-up'!$C$4,$W2178-4,0)&\"\")","v":""},"",{"$f":"IF(B2178=\"\",\"\",IF(ISERROR(MATCH($J2178,SorP!$B$1:$B$6230,0)),\"\",INDIRECT(\"'SorP'!$A$\"&MATCH($J2178,SorP!$B$1:$B$6230,0))))","v":""},null,{"$f":"IF(C2178=\"\",NA(),MATCH($B2178&$C2178,'Smelter Look-up'!$J:$J,0))","v":{"$error":"#N/A"}},null,0,null,null,null,""]
[{"$nulls":18},{"$f":"IF(ISERROR($W2179),\"\",OFFSET('Smelter Look-up'!$C$4,$W2179-4,0)&\"\")","v":""},"",{"$f":"IF(B2179=\"\",\"\",IF(ISERROR(MATCH($J2179,SorP!$B$1:$B$6230,0)),\"\",INDIRECT(\"'SorP'!$A$\"&MATCH($J2179,SorP!$B$1:$B$6230,0))))","v":""},null,{"$f":"IF(C2179=\"\",NA(),MATCH($B2179&$C2179,'Smelter Look-up'!$J:$J,0))","v":{"$error":"#N/A"}},null,0,null,null,null,""]
[{"$nulls":18},{"$f":"IF(ISERROR($W2180),\"\",OFFSET('Smelter Look-up'!$C$4,$W2180-4,0)&\"\")","v":""},"",{"$f":"IF(B2180=\"\",\"\",IF(ISERROR(MATCH($J2180,SorP!$B$1:$B$6230,0)),\"\",INDIRECT(\"'SorP'!$A$\"&MATCH($J2180,SorP!$B$1:$B$6230,0))))","v":""},null,{"$f":"IF(C2180=\"\",NA(),MATCH($B2180&$C2180,'Smelter Look-up'!$J:$J,0))","v":{"$error":"#N/A"}},null,0,null,null,null,""]
[{"$nulls":18},{"$f":"IF(ISERROR($W2181),\"\",OFFSET('Smelter Look-up'!$C$4,$W2181-4,0)&\"\")","v":""},{"$f":"IF(B2181=\"\",\"\",IF(ISERROR(MATCH($E2181,CL,0)),\"Unknown\",INDIRECT(\"'C'!$A$\"&MATCH($E2181,CL,0)+1)))","v":""},{"$f":"IF(B2181=\"\",\"\",IF(ISERROR(MATCH($J2181,SorP!$B$1:$B$6230,0)),\"\",INDIRECT(\"'SorP'!$A$\"&MATCH($J2181,SorP!$B$1:$B$6230,0))))","v":""},null,{"$f":"IF(C2181=\"\",NA(),MATCH($B2181&$C2181,'Smelter Look-up'!$J:$J,0))","v":{"$error":"#N/A"}},null,{"$f":"IF(AND(C2181=\"Smelter not listed\",OR(LEN(D2181)=0,LEN(E2181)=0)),1,0)","v":0},null,null,null,{"$f":"B2181&C2181","v":""}]
[{"$nulls":18},{"$f":"IF(ISERROR($W2182),\"\",OFFSET('Smelter Look-up'!$C$4,$W2182-4,0)&\"\")","v":""},"",{"$f":"IF(B2182=\"\",\"\",IF(ISERROR(MATCH($J2182,SorP!$B$1:$B$6230,0)),\"\",INDIRECT(\"'SorP'!$A$\"&MATCH($J2182,SorP!$B$1:$B$6230,0))))","v":""},null,{"$f":"IF(C2182=\"\",NA(),MATCH($B2182&$C2182,'Smelter Look-up'!$J:$J,0))","v":{"$error":"#N/A"}},null,0,null,null,null,""]
[{"$nulls":18},{"$f":"IF(ISERROR($W2183),\"\",OFFSET('Smelter Look-up'!$C$4,$W2183-4,0)&\"\")","v":""},"",{"$f":"IF(B2183=\"\",\"\",IF(ISERROR(MATCH($J2183,SorP!$B$1:$B$6230,0)),\"\",INDIRECT(\"'SorP'!$A$\"&MATCH($J2183,SorP!$B$1:$B$6230,0))))","v":""},null,{"$f":"IF(C2183=\"\",NA(),MATCH($B2183&$C2183,'Smelter Look-up'!$J:$J,0))","v":{"$error":"#N/A"}},null,0,null,null,null,""]
[{"$nulls":18},{"$f":"IF(ISERROR($W2184),\"\",OFFSET('Smelter Look-up'!$C$4,$W2184-4,0)&\"\")","v":""},"",{"$f":"IF(B2184=\"\",\"\",IF(ISERROR(MATCH($J2184,SorP!$B$1:$B$6230,0)),\"\",INDIRECT(\"'SorP'!$A$\"&MATCH($J2184,SorP!$B$1:$B$6230,0))))","v":""},null,{"$f":"IF(C2184=\"\",NA(),MATCH($B2184&$C2184,'Smelter Look-up'!$J:$J,0))","v":{"$error":"#N/A"}},null,0,null,null,null,""]
[{"$nulls":18},{"$f":"IF(ISERROR($W2185),\"\",OFFSET('Smelter Look-up'!$C$4,$W2185-4,0)&\"\")","v":""},"",{"$f":"IF(B2185=\"\",\"\",IF(ISERROR(MATCH($J2185,SorP!$B$1:$B$6230,0)),\"\",INDIRECT(\"'SorP'!$A$\"&MATCH($J2185,SorP!$B$1:$B$6230,0))))","v":""},null,{"$f":"IF(C2185=\"\",NA(),MATCH($B2185&$C2185,'Smelter Look-up'!$J:$J,0))","v":{"$error":"#N/A"}},null,0,null,null,null,""]
[{"$nulls":18},{"$f":"IF(ISERROR($W2186),\"\",OFFSET('Smelter Look-up'!$C$4,$W2186-4,0)&\"\")","v":""},"",{"$f":"IF(B2186=\"\",\"\",IF(ISERROR(MATCH($J2186,SorP!$B$1:$B$6230,0)),\"\",INDIRECT(\"'SorP'!$A$\"&MATCH($J2186,SorP!$B$1:$B$6230,0))))","v":""},null,{"$f":"IF(C2186=\"\",NA(),MATCH($B2186&$C2186,'Smelter Look-up'!$J:$J,0))","v":{"$error":"#N/A"}},null,0,null,null,null,""]
[{"$nulls":18},{"$f":"IF(ISERROR($W2187),\"\",OFFSET('Smelter Look-up'!$C$4,$W2187-4,0)&\"\")","v":""},"",{"$f":"IF(B2187=\"\",\"\",IF(ISERROR(MATCH($J2187,SorP!$B$1:$B$6230,0)),\"\",INDIRECT(\"'SorP'!$A$\"&MATCH($J2187,SorP!$B$1:$B$6230,0))))","v":""},null,{"$f":"IF(C2187=\"\",NA(),MATCH($B2187&$C2187,'Smelter Look-up'!$J:$J,0))","v":{"$error":"#N/A"}},null,0,null,null,null,""]
[{"$nulls":18},{"$f":"IF(ISERROR($W2188),\"\",OFFSET('Smelter Look-up'!$C$4,$W2188-4,0)&\"\")","v":""},"",{"$f":"IF(B2188=\"\",\"\",IF(ISERROR(MATCH($J2188,SorP!$B$1:$B$6230,0)),\"\",INDIRECT(\"'SorP'!$A$\"&MATCH($J2188,SorP!$B$1:$B$6230,0))))","v":""},null,{"$f":"IF(C2188=\"\",NA(),MATCH($B2188&$C2188,'Smelter Look-up'!$J:$J,0))","v":{"$error":"#N/A"}},null,0,null,null,null,""]
[{"$nulls":18},{"$f":"IF(ISERROR($W2189),\"\",OFFSET('Smelter Look-up'!$C$4,$W2189-4,0)&\"\")","v":""},"",{"$f":"IF(B2189=\"\",\"\",IF(ISERROR(MATCH($J2189,SorP!$B$1:$B$6230,0)),\"\",INDIRECT(\"'SorP'!$A$\"&MATCH($J2189,SorP!$B$1:$B$6230,0))))","v":""},null,{"$f":"IF(C2189=\"\",NA(),MATCH($B2189&$C2189,'Smelter Look-up'!$J:$J,0))","v":{"$error":"#N/A"}},null,0,null,null,null,""]
[{"$nulls":18},{"$f":"IF(ISERROR($W2190),\"\",OFFSET('Smelter Look-up'!$C$4,$W2190-4,0)&\"\")","v":""},"",{"$f":"IF(B2190=\"\",\"\",IF(ISERROR(MATCH($J2190,SorP!$B$1:$B$6230,0)),\"\",INDIRECT(\"'SorP'!$A$\"&MATCH($J2190,SorP!$B$1:$B$6230,0))))","v":""},null,{"$f":"IF(C2190=\"\",NA(),MATCH($B2190&$C2190,'Smelter Look-up'!$J:$J,0))","v":{"$error":"#N/A"}},null,0,null,null,null,""]
[{"$nulls":18},{"$f":"IF(ISERROR($W2191),\"\",OFFSET('Smelter Look-up'!$C$4,$W2191-4,0)&\"\")","v":""},"",{"$f":"IF(B2191=\"\",\"\",IF(ISERROR(MATCH($J2191,SorP!$B$1:$B$6230,0)),\"\",INDIRECT(\"'SorP'!$A$\"&MATCH($J2191,SorP!$B$1:$B$6230,0))))","v":""},null,{"$f":"IF(C2191=\"\",NA(),MATCH($B2191&$C2191,'Smelter Look-up'!$J:$J,0))","v":{"$error":"#N/A"}},null,0,null,null,null,""]
[{"$nulls":18},{"$f":"IF(ISERROR($W2192),\"\",OFFSET('Smelter Look-up'!$C$4,$W2192-4,0)&\"\")","v":""},"",{"$f":"IF(B2192=\"\",\"\",IF(ISERROR(MATCH($J2192,SorP!$B$1:$B$6230,0)),\"\",INDIRECT(\"'SorP'!$A$\"&MATCH($J2192,SorP!$B$1:$B$6230,0))))","v":""},null,{"$f":"IF(C2192=\"\",NA(),MATCH($B2192&$C2192,'Smelter Look-up'!$J:$J,0))","v":{"$error":"#N/A"}},null,0,null,null,null,""]
[{"$nulls":18},{"$f":"IF(ISERROR($W2193),\"\",OFFSET('Smelter Look-up'!$C$4,$W2193-4,0)&\"\")","v":""},"",{"$f":"IF(B2193=\"\",\"\",IF(ISERROR(MATCH($J2193,SorP!$B$1:$B$6230,0)),\"\",INDIRECT(\"'SorP'!$A$\"&MATCH($J2193,SorP!$B$1:$B$6230,0))))","v":""},null,{"$f":"IF(C2193=\"\",NA(),MATCH($B2193&$C2193,'Smelter Look-up'!$J:$J,0))","v":{"$error":"#N/A"}},null,0,null,null,null,""]
[{"$nulls":18},{"$f":"IF(ISERROR($W2194),\"\",OFFSET('Smelter Look-up'!$C$4,$W2194-4,0)&\"\")","v":""},"",{"$f":"IF(B2194=\"\",\"\",IF(ISERROR(MATCH($J2194,SorP!$B$1:$B$6230,0)),\"\",INDIRECT(\"'SorP'!$A$\"&MATCH($J2194,SorP!$B$1:$B$6230,0))))","v":""},null,{"$f":"IF(C2194=\"\",NA(),MATCH($B2194&$C2194,'Smelter Look-up'!$J:$J,0))","v":{"$error":"#N/A"}},null,0,null,null,null,""]
[{"$nulls":18},{"$f":"IF(ISERROR($W2195),\"\",OFFSET('Smelter Look-up'!$C$4,$W2195-4,0)&\"\")","v":""},"",{"$f":"IF(B2195=\"\",\"\",IF(ISERROR(MATCH($J2195,SorP!$B$1:$B$6230,0)),\"\",INDIRECT(\"'SorP'!$A$\"&MATCH($J2195,SorP!$B$1:$B$6230,0))))","v":""},null,{"$f":"IF(C2195=\"\",NA(),MATCH($B2195&$C2195,'Smelter Look-up'!$J:$J,0))","v":{"$error":"#N/A"}},null,0,null,null,null,""]
[{"$nulls":18},{"$f":"IF(ISERROR($W2196),\"\",OFFSET('Smelter Look-up'!$C$4,$W2196-4,0)&\"\")","v":""},"",{"$f":"IF(B2196=\"\",\"\",IF(ISERROR(MATCH($J2196,SorP!$B$1:$B$6230,0)),\"\",INDIRECT(\"'SorP'!$A$\"&MATCH($J2196,SorP!$B$1:$B$6230,0))))","v":""},null,{"$f":"IF(C2196=\"\",NA(),MATCH($B2196&$C2196,'Smelter Look-up'!$J:$J,0))","v":{"$error":"#N/A"}},null,0,null,null,null,""]
[{"$nulls":18},{"$f":"IF(ISERROR($W2197),\"\",OFFSET('Smelter Look-up'!$C$4,$W2197-4,0)&\"\")","v":""},"",{"$f":"IF(B2197=\"\",\"\",IF(ISERROR(MATCH($J2197,SorP!$B$1:$B$6230,0)),\"\",INDIRECT(\"'SorP'!$A$\"&MATCH($J2197,SorP!$B$1:$B$6230,0))))","v":""},null,{"$f":"IF(C2197=\"\",NA(),MATCH($B2197&$C2197,'Smelter Look-up'!$J:$J,0))","v":{"$error":"#N/A"}},null,0,null,null,null,""]
[{"$nulls":18},{"$f":"IF(ISERROR($W2198),\"\",OFFSET('Smelter Look-up'!$C$4,$W2198-4,0)&\"\")","v":""},"",{"$f":"IF(B2198=\"\",\"\",IF(ISERROR(MATCH($J2198,SorP!$B$1:$B$6230,0)),\"\",INDIRECT(\"'SorP'!$A$\"&MATCH($J2198,SorP!$B$1:$B$6230,0))))","v":""},null,{"$f":"IF(C2198=\"\",NA(),MATCH($B2198&$C2198,'Smelter Look-up'!$J:$J,0))","v":{"$error":"#N/A"}},null,0,null,null,null,""]
[{"$nulls":18},{"$f":"IF(ISERROR($W2199),\"\",OFFSET('Smelter Look-up'!$C$4,$W2199-4,0)&\"\")","v":""},"",{"$f":"IF(B2199=\"\",\"\",IF(ISERROR(MATCH($J2199,SorP!$B$1:$B$6230,0)),\"\",INDIRECT(\"'SorP'!$A$\"&MATCH($J2199,SorP!$B$1:$B$6230,0))))","v":""},null,{"$f":"IF(C2199=\"\",NA(),MATCH($B2199&$C2199,'Smelter Look-up'!$J:$J,0))","v":{"$error":"#N/A"}},null,0,null,null,null,""]
[{"$nulls":18},{"$f":"IF(ISERROR($W2200),\"\",OFFSET('Smelter Look-up'!$C$4,$W2200-4,0)&\"\")","v":""},"",{"$f":"IF(B2200=\"\",\"\",IF(ISERROR(MATCH($J2200,SorP!$B$1:$B$6230,0)),\"\",INDIRECT(\"'SorP'!$A$\"&MATCH($J2200,SorP!$B$1:$B$6230,0))))","v":""},null,{"$f":"IF(C2200=\"\",NA(),MATCH($B2200&$C2200,'Smelter Look-up'!$J:$J,0))","v":{"$error":"#N/A"}},null,0,null,null,null,""]
[{"$nulls":18},{"$f":"IF(ISERROR($W2201),\"\",OFFSET('Smelter Look-up'!$C$4,$W2201-4,0)&\"\")","v":""},"",{"$f":"IF(B2201=\"\",\"\",IF(ISERROR(MATCH($J2201,SorP!$B$1:$B$6230,0)),\"\",INDIRECT(\"'SorP'!$A$\"&MATCH($J2201,SorP!$B$1:$B$6230,0))))","v":""},null,{"$f":"IF(C2201=\"\",NA(),MATCH($B2201&$C2201,'Smelter Look-up'!$J:$J,0))","v":{"$error":"#N/A"}},null,0,null,null,null,""]
[{"$nulls":18},{"$f":"IF(ISERROR($W2202),\"\",OFFSET('Smelter Look-up'!$C$4,$W2202-4,0)&\"\")","v":""},"",{"$f":"IF(B2202=\"\",\"\",IF(ISERROR(MATCH($J2202,SorP!$B$1:$B$6230,0)),\"\",INDIRECT(\"'SorP'!$A$\"&MATCH($J2202,SorP!$B$1:$B$6230,0))))","v":""},null,{"$f":"IF(C2202=\"\",NA(),MATCH($B2202&$C2202,'Smelter Look-up'!$J:$J,0))","v":{"$error":"#N/A"}},null,0,null,null,null,""]
[{"$nulls":18},{"$f":"IF(ISERROR($W2203),\"\",OFFSET('Smelter Look-up'!$C$4,$W2203-4,0)&\"\")","v":""},"",{"$f":"IF(B2203=\"\",\"\",IF(ISERROR(MATCH($J2203,SorP!$B$1:$B$6230,0)),\"\",INDIRECT(\"'SorP'!$A$\"&MATCH($J2203,SorP!$B$1:$B$6230,0))))","v":""},null,{"$f":"IF(C2203=\"\",NA(),MATCH($B2203&$C2203,'Smelter Look-up'!$J:$J,0))","v":{"$error":"#N/A"}},null,0,null,null,null,""]
[{"$nulls":18},{"$f":"IF(ISERROR($W2204),\"\",OFFSET('Smelter Look-up'!$C$4,$W2204-4,0)&\"\")","v":""},"",{"$f":"IF(B2204=\"\",\"\",IF(ISERROR(MATCH($J2204,SorP!$B$1:$B$6230,0)),\"\",INDIRECT(\"'SorP'!$A$\"&MATCH($J2204,SorP!$B$1:$B$6230,0))))","v":""},null,{"$f":"IF(C2204=\"\",NA(),MATCH($B2204&$C2204,'Smelter Look-up'!$J:$J,0))","v":{"$error":"#N/A"}},null,0,null,null,null,""]
[{"$nulls":18},{"$f":"IF(ISERROR($W2205),\"\",OFFSET('Smelter Look-up'!$C$4,$W2205-4,0)&\"\")","v":""},"",{"$f":"IF(B2205=\"\",\"\",IF(ISERROR(MATCH($J2205,SorP!$B$1:$B$6230,0)),\"\",INDIRECT(\"'SorP'!$A$\"&MATCH($J2205,SorP!$B$1:$B$6230,0))))","v":""},null,{"$f":"IF(C2205=\"\",NA(),MATCH($B2205&$C2205,'Smelter Look-up'!$J:$J,0))","v":{"$error":"#N/A"}},null,0,null,null,null,""]
[{"$nulls":18},{"$f":"IF(ISERROR($W2206),\"\",OFFSET('Smelter Look-up'!$C$4,$W2206-4,0)&\"\")","v":""},"",{"$f":"IF(B2206=\"\",\"\",IF(ISERROR(MATCH($J2206,SorP!$B$1:$B$6230,0)),\"\",INDIRECT(\"'SorP'!$A$\"&MATCH($J2206,SorP!$B$1:$B$6230,0))))","v":""},null,{"$f":"IF(C2206=\"\",NA(),MATCH($B2206&$C2206,'Smelter Look-up'!$J:$J,0))","v":{"$error":"#N/A"}},null,0,null,null,null,""]
[{"$nulls":18},{"$f":"IF(ISERROR($W2207),\"\",OFFSET('Smelter Look-up'!$C$4,$W2207-4,0)&\"\")","v":""},"",{"$f":"IF(B2207=\"\",\"\",IF(ISERROR(MATCH($J2207,SorP!$B$1:$B$6230,0)),\"\",INDIRECT(\"'SorP'!$A$\"&MATCH($J2207,SorP!$B$1:$B$6230,0))))","v":""},null,{"$f":"IF(C2207=\"\",NA(),MATCH($B2207&$C2207,'Smelter Look-up'!$J:$J,0))","v":{"$error":"#N/A"}},null,0,null,null,null,""]
[{"$nulls":18},{"$f":"IF(ISERROR($W2208),\"\",OFFSET('Smelter Look-up'!$C$4,$W2208-4,0)&\"\")","v":""},"",{"$f":"IF(B2208=\"\",\"\",IF(ISERROR(MATCH($J2208,SorP!$B$1:$B$6230,0)),\"\",INDIRECT(\"'SorP'!$A$\"&MATCH($J2208,SorP!$B$1:$B$6230,0))))","v":""},null,{"$f":"IF(C2208=\"\",NA(),MATCH($B2208&$C2208,'Smelter Look-up'!$J:$J,0))","v":{"$error":"#N/A"}},null,0,null,null,null,""]
[{"$nulls":18},{"$f":"IF(ISERROR($W2209),\"\",OFFSET('Smelter Look-up'!$C$4,$W2209-4,0)&\"\")","v":""},"",{"$f":"IF(B2209=\"\",\"\",IF(ISERROR(MATCH($J2209,SorP!$B$1:$B$6230,0)),\"\",INDIRECT(\"'SorP'!$A$\"&MATCH($J2209,SorP!$B$1:$B$6230,0))))","v":""},null,{"$f":"IF(C2209=\"\",NA(),MATCH($B2209&$C2209,'Smelter Look-up'!$J:$J,0))","v":{"$error":"#N/A"}},null,0,null,null,null,""]
[{"$nulls":18},{"$f":"IF(ISERROR($W2210),\"\",OFFSET('Smelter Look-up'!$C$4,$W2210-4,0)&\"\")","v":""},"",{"$f":"IF(B2210=\"\",\"\",IF(ISERROR(MATCH($J2210,SorP!$B$1:$B$6230,0)),\"\",INDIRECT(\"'SorP'!$A$\"&MATCH($J2210,SorP!$B$1:$B$6230,0))))","v":""},null,{"$f":"IF(C2210=\"\",NA(),MATCH($B2210&$C2210,'Smelter Look-up'!$J:$J,0))","v":{"$error":"#N/A"}},null,0,null,null,null,""]
[{"$nulls":18},{"$f":"IF(ISERROR($W2211),\"\",OFFSET('Smelter Look-up'!$C$4,$W2211-4,0)&\"\")","v":""},"",{"$f":"IF(B2211=\"\",\"\",IF(ISERROR(MATCH($J2211,SorP!$B$1:$B$6230,0)),\"\",INDIRECT(\"'SorP'!$A$\"&MATCH($J2211,SorP!$B$1:$B$6230,0))))","v":""},null,{"$f":"IF(C2211=\"\",NA(),MATCH($B2211&$C2211,'Smelter Look-up'!$J:$J,0))","v":{"$error":"#N/A"}},null,0,null,null,null,""]
[{"$nulls":18},{"$f":"IF(ISERROR($W2212),\"\",OFFSET('Smelter Look-up'!$C$4,$W2212-4,0)&\"\")","v":""},"",{"$f":"IF(B2212=\"\",\"\",IF(ISERROR(MATCH($J2212,SorP!$B$1:$B$6230,0)),\"\",INDIRECT(\"'SorP'!$A$\"&MATCH($J2212,SorP!$B$1:$B$6230,0))))","v":""},null,{"$f":"IF(C2212=\"\",NA(),MATCH($B2212&$C2212,'Smelter Look-up'!$J:$J,0))","v":{"$error":"#N/A"}},null,0,null,null,null,""]
[{"$nulls":18},{"$f":"IF(ISERROR($W2213),\"\",OFFSET('Smelter Look-up'!$C$4,$W2213-4,0)&\"\")","v":""},"",{"$f":"IF(B2213=\"\",\"\",IF(ISERROR(MATCH($J2213,SorP!$B$1:$B$6230,0)),\"\",INDIRECT(\"'SorP'!$A$\"&MATCH($J2213,SorP!$B$1:$B$6230,0))))","v":""},null,{"$f":"IF(C2213=\"\",NA(),MATCH($B2213&$C2213,'Smelter Look-up'!$J:$J,0))","v":{"$error":"#N/A"}},null,0,null,null,null,""]
[{"$nulls":18},{"$f":"IF(ISERROR($W2214),\"\",OFFSET('Smelter Look-up'!$C$4,$W2214-4,0)&\"\")","v":""},"",{"$f":"IF(B2214=\"\",\"\",IF(ISERROR(MATCH($J2214,SorP!$B$1:$B$6230,0)),\"\",INDIRECT(\"'SorP'!$A$\"&MATCH($J2214,SorP!$B$1:$B$6230,0))))","v":""},null,{"$f":"IF(C2214=\"\",NA(),MATCH($B2214&$C2214,'Smelter Look-up'!$J:$J,0))","v":{"$error":"#N/A"}},null,0,null,null,null,""]
[{"$nulls":18},{"$f":"IF(ISERROR($W2215),\"\",OFFSET('Smelter Look-up'!$C$4,$W2215-4,0)&\"\")","v":""},"",{"$f":"IF(B2215=\"\",\"\",IF(ISERROR(MATCH($J2215,SorP!$B$1:$B$6230,0)),\"\",INDIRECT(\"'SorP'!$A$\"&MATCH($J2215,SorP!$B$1:$B$6230,0))))","v":""},null,{"$f":"IF(C2215=\"\",NA(),MATCH($B2215&$C2215,'Smelter Look-up'!$J:$J,0))","v":{"$error":"#N/A"}},null,0,null,null,null,""]
[{"$nulls":18},{"$f":"IF(ISERROR($W2216),\"\",OFFSET('Smelter Look-up'!$C$4,$W2216-4,0)&\"\")","v":""},"",{"$f":"IF(B2216=\"\",\"\",IF(ISERROR(MATCH($J2216,SorP!$B$1:$B$6230,0)),\"\",INDIRECT(\"'SorP'!$A$\"&MATCH($J2216,SorP!$B$1:$B$6230,0))))","v":""},null,{"$f":"IF(C2216=\"\",NA(),MATCH($B2216&$C2216,'Smelter Look-up'!$J:$J,0))","v":{"$error":"#N/A"}},null,0,null,null,null,""]
[{"$nulls":18},{"$f":"IF(ISERROR($W2217),\"\",OFFSET('Smelter Look-up'!$C$4,$W2217-4,0)&\"\")","v":""},"",{"$f":"IF(B2217=\"\",\"\",IF(ISERROR(MATCH($J2217,SorP!$B$1:$B$6230,0)),\"\",INDIRECT(\"'SorP'!$A$\"&MATCH($J2217,SorP!$B$1:$B$6230,0))))","v":""},null,{"$f":"IF(C2217=\"\",NA(),MATCH($B2217&$C2217,'Smelter Look-up'!$J:$J,0))","v":{"$error":"#N/A"}},null,0,null,null,null,""]
[{"$nulls":18},{"$f":"IF(ISERROR($W2218),\"\",OFFSET('Smelter Look-up'!$C$4,$W2218-4,0)&\"\")","v":""},"",{"$f":"IF(B2218=\"\",\"\",IF(ISERROR(MATCH($J2218,SorP!$B$1:$B$6230,0)),\"\",INDIRECT(\"'SorP'!$A$\"&MATCH($J2218,SorP!$B$1:$B$6230,0))))","v":""},null,{"$f":"IF(C2218=\"\",NA(),MATCH($B2218&$C2218,'Smelter Look-up'!$J:$J,0))","v":{"$error":"#N/A"}},null,0,null,null,null,""]
[{"$nulls":18},{"$f":"IF(ISERROR($W2219),\"\",OFFSET('Smelter Look-up'!$C$4,$W2219-4,0)&\"\")","v":""},"",{"$f":"IF(B2219=\"\",\"\",IF(ISERROR(MATCH($J2219,SorP!$B$1:$B$6230,0)),\"\",INDIRECT(\"'SorP'!$A$\"&MATCH($J2219,SorP!$B$1:$B$6230,0))))","v":""},null,{"$f":"IF(C2219=\"\",NA(),MATCH($B2219&$C2219,'Smelter Look-up'!$J:$J,0))","v":{"$error":"#N/A"}},null,0,null,null,null,""]
[{"$nulls":18},{"$f":"IF(ISERROR($W2220),\"\",OFFSET('Smelter Look-up'!$C$4,$W2220-4,0)&\"\")","v":""},"",{"$f":"IF(B2220=\"\",\"\",IF(ISERROR(MATCH($J2220,SorP!$B$1:$B$6230,0)),\"\",INDIRECT(\"'SorP'!$A$\"&MATCH($J2220,SorP!$B$1:$B$6230,0))))","v":""},null,{"$f":"IF(C2220=\"\",NA(),MATCH($B2220&$C2220,'Smelter Look-up'!$J:$J,0))","v":{"$error":"#N/A"}},null,0,null,null,null,""]
[{"$nulls":18},{"$f":"IF(ISERROR($W2221),\"\",OFFSET('Smelter Look-up'!$C$4,$W2221-4,0)&\"\")","v":""},"",{"$f":"IF(B2221=\"\",\"\",IF(ISERROR(MATCH($J2221,SorP!$B$1:$B$6230,0)),\"\",INDIRECT(\"'SorP'!$A$\"&MATCH($J2221,SorP!$B$1:$B$6230,0))))","v":""},null,{"$f":"IF(C2221=\"\",NA(),MATCH($B2221&$C2221,'Smelter Look-up'!$J:$J,0))","v":{"$error":"#N/A"}},null,0,null,null,null,""]
[{"$nulls":18},{"$f":"IF(ISERROR($W2222),\"\",OFFSET('Smelter Look-up'!$C$4,$W2222-4,0)&\"\")","v":""},"",{"$f":"IF(B2222=\"\",\"\",IF(ISERROR(MATCH($J2222,SorP!$B$1:$B$6230,0)),\"\",INDIRECT(\"'SorP'!$A$\"&MATCH($J2222,SorP!$B$1:$B$6230,0))))","v":""},null,{"$f":"IF(C2222=\"\",NA(),MATCH($B2222&$C2222,'Smelter Look-up'!$J:$J,0))","v":{"$error":"#N/A"}},null,0,null,null,null,""]
[{"$nulls":18},{"$f":"IF(ISERROR($W2223),\"\",OFFSET('Smelter Look-up'!$C$4,$W2223-4,0)&\"\")","v":""},"",{"$f":"IF(B2223=\"\",\"\",IF(ISERROR(MATCH($J2223,SorP!$B$1:$B$6230,0)),\"\",INDIRECT(\"'SorP'!$A$\"&MATCH($J2223,SorP!$B$1:$B$6230,0))))","v":""},null,{"$f":"IF(C2223=\"\",NA(),MATCH($B2223&$C2223,'Smelter Look-up'!$J:$J,0))","v":{"$error":"#N/A"}},null,0,null,null,null,""]
[{"$nulls":18},{"$f":"IF(ISERROR($W2224),\"\",OFFSET('Smelter Look-up'!$C$4,$W2224-4,0)&\"\")","v":""},"",{"$f":"IF(B2224=\"\",\"\",IF(ISERROR(MATCH($J2224,SorP!$B$1:$B$6230,0)),\"\",INDIRECT(\"'SorP'!$A$\"&MATCH($J2224,SorP!$B$1:$B$6230,0))))","v":""},null,{"$f":"IF(C2224=\"\",NA(),MATCH($B2224&$C2224,'Smelter Look-up'!$J:$J,0))","v":{"$error":"#N/A"}},null,0,null,null,null,""]
[{"$nulls":18},{"$f":"IF(ISERROR($W2225),\"\",OFFSET('Smelter Look-up'!$C$4,$W2225-4,0)&\"\")","v":""},"",{"$f":"IF(B2225=\"\",\"\",IF(ISERROR(MATCH($J2225,SorP!$B$1:$B$6230,0)),\"\",INDIRECT(\"'SorP'!$A$\"&MATCH($J2225,SorP!$B$1:$B$6230,0))))","v":""},null,{"$f":"IF(C2225=\"\",NA(),MATCH($B2225&$C2225,'Smelter Look-up'!$J:$J,0))","v":{"$error":"#N/A"}},null,0,null,null,null,""]
[{"$nulls":18},{"$f":"IF(ISERROR($W2226),\"\",OFFSET('Smelter Look-up'!$C$4,$W2226-4,0)&\"\")","v":""},"",{"$f":"IF(B2226=\"\",\"\",IF(ISERROR(MATCH($J2226,SorP!$B$1:$B$6230,0)),\"\",INDIRECT(\"'SorP'!$A$\"&MATCH($J2226,SorP!$B$1:$B$6230,0))))","v":""},null,{"$f":"IF(C2226=\"\",NA(),MATCH($B2226&$C2226,'Smelter Look-up'!$J:$J,0))","v":{"$error":"#N/A"}},null,0,null,null,null,""]
[{"$nulls":18},{"$f":"IF(ISERROR($W2227),\"\",OFFSET('Smelter Look-up'!$C$4,$W2227-4,0)&\"\")","v":""},"",{"$f":"IF(B2227=\"\",\"\",IF(ISERROR(MATCH($J2227,SorP!$B$1:$B$6230,0)),\"\",INDIRECT(\"'SorP'!$A$\"&MATCH($J2227,SorP!$B$1:$B$6230,0))))","v":""},null,{"$f":"IF(C2227=\"\",NA(),MATCH($B2227&$C2227,'Smelter Look-up'!$J:$J,0))","v":{"$error":"#N/A"}},null,0,null,null,null,""]
[{"$nulls":18},{"$f":"IF(ISERROR($W2228),\"\",OFFSET('Smelter Look-up'!$C$4,$W2228-4,0)&\"\")","v":""},"",{"$f":"IF(B2228=\"\",\"\",IF(ISERROR(MATCH($J2228,SorP!$B$1:$B$6230,0)),\"\",INDIRECT(\"'SorP'!$A$\"&MATCH($J2228,SorP!$B$1:$B$6230,0))))","v":""},null,{"$f":"IF(C2228=\"\",NA(),MATCH($B2228&$C2228,'Smelter Look-up'!$J:$J,0))","v":{"$error":"#N/A"}},null,0,null,null,null,""]
[{"$nulls":18},{"$f":"IF(ISERROR($W2229),\"\",OFFSET('Smelter Look-up'!$C$4,$W2229-4,0)&\"\")","v":""},"",{"$f":"IF(B2229=\"\",\"\",IF(ISERROR(MATCH($J2229,SorP!$B$1:$B$6230,0)),\"\",INDIRECT(\"'SorP'!$A$\"&MATCH($J2229,SorP!$B$1:$B$6230,0))))","v":""},null,{"$f":"IF(C2229=\"\",NA(),MATCH($B2229&$C2229,'Smelter Look-up'!$J:$J,0))","v":{"$error":"#N/A"}},null,0,null,null,null,""]
[{"$nulls":18},{"$f":"IF(ISERROR($W2230),\"\",OFFSET('Smelter Look-up'!$C$4,$W2230-4,0)&\"\")","v":""},"",{"$f":"IF(B2230=\"\",\"\",IF(ISERROR(MATCH($J2230,SorP!$B$1:$B$6230,0)),\"\",INDIRECT(\"'SorP'!$A$\"&MATCH($J2230,SorP!$B$1:$B$6230,0))))","v":""},null,{"$f":"IF(C2230=\"\",NA(),MATCH($B2230&$C2230,'Smelter Look-up'!$J:$J,0))","v":{"$error":"#N/A"}},null,0,null,null,null,""]
[{"$nulls":18},{"$f":"IF(ISERROR($W2231),\"\",OFFSET('Smelter Look-up'!$C$4,$W2231-4,0)&\"\")","v":""},"",{"$f":"IF(B2231=\"\",\"\",IF(ISERROR(MATCH($J2231,SorP!$B$1:$B$6230,0)),\"\",INDIRECT(\"'SorP'!$A$\"&MATCH($J2231,SorP!$B$1:$B$6230,0))))","v":""},null,{"$f":"IF(C2231=\"\",NA(),MATCH($B2231&$C2231,'Smelter Look-up'!$J:$J,0))","v":{"$error":"#N/A"}},null,0,null,null,null,""]
[{"$nulls":18},{"$f":"IF(ISERROR($W2232),\"\",OFFSET('Smelter Look-up'!$C$4,$W2232-4,0)&\"\")","v":""},"",{"$f":"IF(B2232=\"\",\"\",IF(ISERROR(MATCH($J2232,SorP!$B$1:$B$6230,0)),\"\",INDIRECT(\"'SorP'!$A$\"&MATCH($J2232,SorP!$B$1:$B$6230,0))))","v":""},null,{"$f":"IF(C2232=\"\",NA(),MATCH($B2232&$C2232,'Smelter Look-up'!$J:$J,0))","v":{"$error":"#N/A"}},null,0,null,null,null,""]
[{"$nulls":18},{"$f":"IF(ISERROR($W2233),\"\",OFFSET('Smelter Look-up'!$C$4,$W2233-4,0)&\"\")","v":""},"",{"$f":"IF(B2233=\"\",\"\",IF(ISERROR(MATCH($J2233,SorP!$B$1:$B$6230,0)),\"\",INDIRECT(\"'SorP'!$A$\"&MATCH($J2233,SorP!$B$1:$B$6230,0))))","v":""},null,{"$f":"IF(C2233=\"\",NA(),MATCH($B2233&$C2233,'Smelter Look-up'!$J:$J,0))","v":{"$error":"#N/A"}},null,0,null,null,null,""]
[{"$nulls":18},{"$f":"IF(ISERROR($W2234),\"\",OFFSET('Smelter Look-up'!$C$4,$W2234-4,0)&\"\")","v":""},"",{"$f":"IF(B2234=\"\",\"\",IF(ISERROR(MATCH($J2234,SorP!$B$1:$B$6230,0)),\"\",INDIRECT(\"'SorP'!$A$\"&MATCH($J2234,SorP!$B$1:$B$6230,0))))","v":""},null,{"$f":"IF(C2234=\"\",NA(),MATCH($B2234&$C2234,'Smelter Look-up'!$J:$J,0))","v":{"$error":"#N/A"}},null,0,null,null,null,""]
[{"$nulls":18},{"$f":"IF(ISERROR($W2235),\"\",OFFSET('Smelter Look-up'!$C$4,$W2235-4,0)&\"\")","v":""},"",{"$f":"IF(B2235=\"\",\"\",IF(ISERROR(MATCH($J2235,SorP!$B$1:$B$6230,0)),\"\",INDIRECT(\"'SorP'!$A$\"&MATCH($J2235,SorP!$B$1:$B$6230,0))))","v":""},null,{"$f":"IF(C2235=\"\",NA(),MATCH($B2235&$C2235,'Smelter Look-up'!$J:$J,0))","v":{"$error":"#N/A"}},null,0,null,null,null,""]
[{"$nulls":18},{"$f":"IF(ISERROR($W2236),\"\",OFFSET('Smelter Look-up'!$C$4,$W2236-4,0)&\"\")","v":""},"",{"$f":"IF(B2236=\"\",\"\",IF(ISERROR(MATCH($J2236,SorP!$B$1:$B$6230,0)),\"\",INDIRECT(\"'SorP'!$A$\"&MATCH($J2236,SorP!$B$1:$B$6230,0))))","v":""},null,{"$f":"IF(C2236=\"\",NA(),MATCH($B2236&$C2236,'Smelter Look-up'!$J:$J,0))","v":{"$error":"#N/A"}},null,0,null,null,null,""]
[{"$nulls":18},{"$f":"IF(ISERROR($W2237),\"\",OFFSET('Smelter Look-up'!$C$4,$W2237-4,0)&\"\")","v":""},"",{"$f":"IF(B2237=\"\",\"\",IF(ISERROR(MATCH($J2237,SorP!$B$1:$B$6230,0)),\"\",INDIRECT(\"'SorP'!$A$\"&MATCH($J2237,SorP!$B$1:$B$6230,0))))","v":""},null,{"$f":"IF(C2237=\"\",NA(),MATCH($B2237&$C2237,'Smelter Look-up'!$J:$J,0))","v":{"$error":"#N/A"}},null,0,null,null,null,""]
[{"$nulls":18},{"$f":"IF(ISERROR($W2238),\"\",OFFSET('Smelter Look-up'!$C$4,$W2238-4,0)&\"\")","v":""},"",{"$f":"IF(B2238=\"\",\"\",IF(ISERROR(MATCH($J2238,SorP!$B$1:$B$6230,0)),\"\",INDIRECT(\"'SorP'!$A$\"&MATCH($J2238,SorP!$B$1:$B$6230,0))))","v":""},null,{"$f":"IF(C2238=\"\",NA(),MATCH($B2238&$C2238,'Smelter Look-up'!$J:$J,0))","v":{"$error":"#N/A"}},null,0,null,null,null,""]
[{"$nulls":18},{"$f":"IF(ISERROR($W2239),\"\",OFFSET('Smelter Look-up'!$C$4,$W2239-4,0)&\"\")","v":""},"",{"$f":"IF(B2239=\"\",\"\",IF(ISERROR(MATCH($J2239,SorP!$B$1:$B$6230,0)),\"\",INDIRECT(\"'SorP'!$A$\"&MATCH($J2239,SorP!$B$1:$B$6230,0))))","v":""},null,{"$f":"IF(C2239=\"\",NA(),MATCH($B2239&$C2239,'Smelter Look-up'!$J:$J,0))","v":{"$error":"#N/A"}},null,0,null,null,null,""]
[{"$nulls":18},{"$f":"IF(ISERROR($W2240),\"\",OFFSET('Smelter Look-up'!$C$4,$W2240-4,0)&\"\")","v":""},"",{"$f":"IF(B2240=\"\",\"\",IF(ISERROR(MATCH($J2240,SorP!$B$1:$B$6230,0)),\"\",INDIRECT(\"'SorP'!$A$\"&MATCH($J2240,SorP!$B$1:$B$6230,0))))","v":""},null,{"$f":"IF(C2240=\"\",NA(),MATCH($B2240&$C2240,'Smelter Look-up'!$J:$J,0))","v":{"$error":"#N/A"}},null,0,null,null,null,""]
[{"$nulls":18},{"$f":"IF(ISERROR($W2241),\"\",OFFSET('Smelter Look-up'!$C$4,$W2241-4,0)&\"\")","v":""},"",{"$f":"IF(B2241=\"\",\"\",IF(ISERROR(MATCH($J2241,SorP!$B$1:$B$6230,0)),\"\",INDIRECT(\"'SorP'!$A$\"&MATCH($J2241,SorP!$B$1:$B$6230,0))))","v":""},null,{"$f":"IF(C2241=\"\",NA(),MATCH($B2241&$C2241,'Smelter Look-up'!$J:$J,0))","v":{"$error":"#N/A"}},null,0,null,null,null,""]
[{"$nulls":18},{"$f":"IF(ISERROR($W2242),\"\",OFFSET('Smelter Look-up'!$C$4,$W2242-4,0)&\"\")","v":""},"",{"$f":"IF(B2242=\"\",\"\",IF(ISERROR(MATCH($J2242,SorP!$B$1:$B$6230,0)),\"\",INDIRECT(\"'SorP'!$A$\"&MATCH($J2242,SorP!$B$1:$B$6230,0))))","v":""},null,{"$f":"IF(C2242=\"\",NA(),MATCH($B2242&$C2242,'Smelter Look-up'!$J:$J,0))","v":{"$error":"#N/A"}},null,0,null,null,null,""]
[{"$nulls":18},{"$f":"IF(ISERROR($W2243),\"\",OFFSET('Smelter Look-up'!$C$4,$W2243-4,0)&\"\")","v":""},"",{"$f":"IF(B2243=\"\",\"\",IF(ISERROR(MATCH($J2243,SorP!$B$1:$B$6230,0)),\"\",INDIRECT(\"'SorP'!$A$\"&MATCH($J2243,SorP!$B$1:$B$6230,0))))","v":""},null,{"$f":"IF(C2243=\"\",NA(),MATCH($B2243&$C2243,'Smelter Look-up'!$J:$J,0))","v":{"$error":"#N/A"}},null,0,null,null,null,""]
[{"$nulls":18},{"$f":"IF(ISERROR($W2244),\"\",OFFSET('Smelter Look-up'!$C$4,$W2244-4,0)&\"\")","v":""},"",{"$f":"IF(B2244=\"\",\"\",IF(ISERROR(MATCH($J2244,SorP!$B$1:$B$6230,0)),\"\",INDIRECT(\"'SorP'!$A$\"&MATCH($J2244,SorP!$B$1:$B$6230,0))))","v":""},null,{"$f":"IF(C2244=\"\",NA(),MATCH($B2244&$C2244,'Smelter Look-up'!$J:$J,0))","v":{"$error":"#N/A"}},null,0,null,null,null,""]
[{"$nulls":18},{"$f":"IF(ISERROR($W2245),\"\",OFFSET('Smelter Look-up'!$C$4,$W2245-4,0)&\"\")","v":""},{"$f":"IF(B2245=\"\",\"\",IF(ISERROR(MATCH($E2245,CL,0)),\"Unknown\",INDIRECT(\"'C'!$A$\"&MATCH($E2245,CL,0)+1)))","v":""},{"$f":"IF(B2245=\"\",\"\",IF(ISERROR(MATCH($J2245,SorP!$B$1:$B$6230,0)),\"\",INDIRECT(\"'SorP'!$A$\"&MATCH($J2245,SorP!$B$1:$B$6230,0))))","v":""},null,{"$f":"IF(C2245=\"\",NA(),MATCH($B2245&$C2245,'Smelter Look-up'!$J:$J,0))","v":{"$error":"#N/A"}},null,{"$f":"IF(AND(C2245=\"Smelter not listed\",OR(LEN(D2245)=0,LEN(E2245)=0)),1,0)","v":0},null,null,null,{"$f":"B2245&C2245","v":""}]
[{"$nulls":18},{"$f":"IF(ISERROR($W2246),\"\",OFFSET('Smelter Look-up'!$C$4,$W2246-4,0)&\"\")","v":""},"",{"$f":"IF(B2246=\"\",\"\",IF(ISERROR(MATCH($J2246,SorP!$B$1:$B$6230,0)),\"\",INDIRECT(\"'SorP'!$A$\"&MATCH($J2246,SorP!$B$1:$B$6230,0))))","v":""},null,{"$f":"IF(C2246=\"\",NA(),MATCH($B2246&$C2246,'Smelter Look-up'!$J:$J,0))","v":{"$error":"#N/A"}},null,0,null,null,null,""]
[{"$nulls":18},{"$f":"IF(ISERROR($W2247),\"\",OFFSET('Smelter Look-up'!$C$4,$W2247-4,0)&\"\")","v":""},"",{"$f":"IF(B2247=\"\",\"\",IF(ISERROR(MATCH($J2247,SorP!$B$1:$B$6230,0)),\"\",INDIRECT(\"'SorP'!$A$\"&MATCH($J2247,SorP!$B$1:$B$6230,0))))","v":""},null,{"$f":"IF(C2247=\"\",NA(),MATCH($B2247&$C2247,'Smelter Look-up'!$J:$J,0))","v":{"$error":"#N/A"}},null,0,null,null,null,""]
[{"$nulls":18},{"$f":"IF(ISERROR($W2248),\"\",OFFSET('Smelter Look-up'!$C$4,$W2248-4,0)&\"\")","v":""},"",{"$f":"IF(B2248=\"\",\"\",IF(ISERROR(MATCH($J2248,SorP!$B$1:$B$6230,0)),\"\",INDIRECT(\"'SorP'!$A$\"&MATCH($J2248,SorP!$B$1:$B$6230,0))))","v":""},null,{"$f":"IF(C2248=\"\",NA(),MATCH($B2248&$C2248,'Smelter Look-up'!$J:$J,0))","v":{"$error":"#N/A"}},null,0,null,null,null,""]
[{"$nulls":18},{"$f":"IF(ISERROR($W2249),\"\",OFFSET('Smelter Look-up'!$C$4,$W2249-4,0)&\"\")","v":""},"",{"$f":"IF(B2249=\"\",\"\",IF(ISERROR(MATCH($J2249,SorP!$B$1:$B$6230,0)),\"\",INDIRECT(\"'SorP'!$A$\"&MATCH($J2249,SorP!$B$1:$B$6230,0))))","v":""},null,{"$f":"IF(C2249=\"\",NA(),MATCH($B2249&$C2249,'Smelter Look-up'!$J:$J,0))","v":{"$error":"#N/A"}},null,0,null,null,null,""]
[{"$nulls":18},{"$f":"IF(ISERROR($W2250),\"\",OFFSET('Smelter Look-up'!$C$4,$W2250-4,0)&\"\")","v":""},"",{"$f":"IF(B2250=\"\",\"\",IF(ISERROR(MATCH($J2250,SorP!$B$1:$B$6230,0)),\"\",INDIRECT(\"'SorP'!$A$\"&MATCH($J2250,SorP!$B$1:$B$6230,0))))","v":""},null,{"$f":"IF(C2250=\"\",NA(),MATCH($B2250&$C2250,'Smelter Look-up'!$J:$J,0))","v":{"$error":"#N/A"}},null,0,null,null,null,""]
[{"$nulls":18},{"$f":"IF(ISERROR($W2251),\"\",OFFSET('Smelter Look-up'!$C$4,$W2251-4,0)&\"\")","v":""},"",{"$f":"IF(B2251=\"\",\"\",IF(ISERROR(MATCH($J2251,SorP!$B$1:$B$6230,0)),\"\",INDIRECT(\"'SorP'!$A$\"&MATCH($J2251,SorP!$B$1:$B$6230,0))))","v":""},null,{"$f":"IF(C2251=\"\",NA(),MATCH($B2251&$C2251,'Smelter Look-up'!$J:$J,0))","v":{"$error":"#N/A"}},null,0,null,null,null,""]
[{"$nulls":18},{"$f":"IF(ISERROR($W2252),\"\",OFFSET('Smelter Look-up'!$C$4,$W2252-4,0)&\"\")","v":""},"",{"$f":"IF(B2252=\"\",\"\",IF(ISERROR(MATCH($J2252,SorP!$B$1:$B$6230,0)),\"\",INDIRECT(\"'SorP'!$A$\"&MATCH($J2252,SorP!$B$1:$B$6230,0))))","v":""},null,{"$f":"IF(C2252=\"\",NA(),MATCH($B2252&$C2252,'Smelter Look-up'!$J:$J,0))","v":{"$error":"#N/A"}},null,0,null,null,null,""]
[{"$nulls":18},{"$f":"IF(ISERROR($W2253),\"\",OFFSET('Smelter Look-up'!$C$4,$W2253-4,0)&\"\")","v":""},"",{"$f":"IF(B2253=\"\",\"\",IF(ISERROR(MATCH($J2253,SorP!$B$1:$B$6230,0)),\"\",INDIRECT(\"'SorP'!$A$\"&MATCH($J2253,SorP!$B$1:$B$6230,0))))","v":""},null,{"$f":"IF(C2253=\"\",NA(),MATCH($B2253&$C2253,'Smelter Look-up'!$J:$J,0))","v":{"$error":"#N/A"}},null,0,null,null,null,""]
[{"$nulls":18},{"$f":"IF(ISERROR($W2254),\"\",OFFSET('Smelter Look-up'!$C$4,$W2254-4,0)&\"\")","v":""},"",{"$f":"IF(B2254=\"\",\"\",IF(ISERROR(MATCH($J2254,SorP!$B$1:$B$6230,0)),\"\",INDIRECT(\"'SorP'!$A$\"&MATCH($J2254,SorP!$B$1:$B$6230,0))))","v":""},null,{"$f":"IF(C2254=\"\",NA(),MATCH($B2254&$C2254,'Smelter Look-up'!$J:$J,0))","v":{"$error":"#N/A"}},null,0,null,null,null,""]
[{"$nulls":18},{"$f":"IF(ISERROR($W2255),\"\",OFFSET('Smelter Look-up'!$C$4,$W2255-4,0)&\"\")","v":""},"",{"$f":"IF(B2255=\"\",\"\",IF(ISERROR(MATCH($J2255,SorP!$B$1:$B$6230,0)),\"\",INDIRECT(\"'SorP'!$A$\"&MATCH($J2255,SorP!$B$1:$B$6230,0))))","v":""},null,{"$f":"IF(C2255=\"\",NA(),MATCH($B2255&$C2255,'Smelter Look-up'!$J:$J,0))","v":{"$error":"#N/A"}},null,0,null,null,null,""]
[{"$nulls":18},{"$f":"IF(ISERROR($W2256),\"\",OFFSET('Smelter Look-up'!$C$4,$W2256-4,0)&\"\")","v":""},"",{"$f":"IF(B2256=\"\",\"\",IF(ISERROR(MATCH($J2256,SorP!$B$1:$B$6230,0)),\"\",INDIRECT(\"'SorP'!$A$\"&MATCH($J2256,SorP!$B$1:$B$6230,0))))","v":""},null,{"$f":"IF(C2256=\"\",NA(),MATCH($B2256&$C2256,'Smelter Look-up'!$J:$J,0))","v":{"$error":"#N/A"}},null,0,null,null,null,""]
[{"$nulls":18},{"$f":"IF(ISERROR($W2257),\"\",OFFSET('Smelter Look-up'!$C$4,$W2257-4,0)&\"\")","v":""},"",{"$f":"IF(B2257=\"\",\"\",IF(ISERROR(MATCH($J2257,SorP!$B$1:$B$6230,0)),\"\",INDIRECT(\"'SorP'!$A$\"&MATCH($J2257,SorP!$B$1:$B$6230,0))))","v":""},null,{"$f":"IF(C2257=\"\",NA(),MATCH($B2257&$C2257,'Smelter Look-up'!$J:$J,0))","v":{"$error":"#N/A"}},null,0,null,null,null,""]
[{"$nulls":18},{"$f":"IF(ISERROR($W2258),\"\",OFFSET('Smelter Look-up'!$C$4,$W2258-4,0)&\"\")","v":""},"",{"$f":"IF(B2258=\"\",\"\",IF(ISERROR(MATCH($J2258,SorP!$B$1:$B$6230,0)),\"\",INDIRECT(\"'SorP'!$A$\"&MATCH($J2258,SorP!$B$1:$B$6230,0))))","v":""},null,{"$f":"IF(C2258=\"\",NA(),MATCH($B2258&$C2258,'Smelter Look-up'!$J:$J,0))","v":{"$error":"#N/A"}},null,0,null,null,null,""]
[{"$nulls":18},{"$f":"IF(ISERROR($W2259),\"\",OFFSET('Smelter Look-up'!$C$4,$W2259-4,0)&\"\")","v":""},"",{"$f":"IF(B2259=\"\",\"\",IF(ISERROR(MATCH($J2259,SorP!$B$1:$B$6230,0)),\"\",INDIRECT(\"'SorP'!$A$\"&MATCH($J2259,SorP!$B$1:$B$6230,0))))","v":""},null,{"$f":"IF(C2259=\"\",NA(),MATCH($B2259&$C2259,'Smelter Look-up'!$J:$J,0))","v":{"$error":"#N/A"}},null,0,null,null,null,""]
[{"$nulls":18},{"$f":"IF(ISERROR($W2260),\"\",OFFSET('Smelter Look-up'!$C$4,$W2260-4,0)&\"\")","v":""},"",{"$f":"IF(B2260=\"\",\"\",IF(ISERROR(MATCH($J2260,SorP!$B$1:$B$6230,0)),\"\",INDIRECT(\"'SorP'!$A$\"&MATCH($J2260,SorP!$B$1:$B$6230,0))))","v":""},null,{"$f":"IF(C2260=\"\",NA(),MATCH($B2260&$C2260,'Smelter Look-up'!$J:$J,0))","v":{"$error":"#N/A"}},null,0,null,null,null,""]
[{"$nulls":18},{"$f":"IF(ISERROR($W2261),\"\",OFFSET('Smelter Look-up'!$C$4,$W2261-4,0)&\"\")","v":""},"",{"$f":"IF(B2261=\"\",\"\",IF(ISERROR(MATCH($J2261,SorP!$B$1:$B$6230,0)),\"\",INDIRECT(\"'SorP'!$A$\"&MATCH($J2261,SorP!$B$1:$B$6230,0))))","v":""},null,{"$f":"IF(C2261=\"\",NA(),MATCH($B2261&$C2261,'Smelter Look-up'!$J:$J,0))","v":{"$error":"#N/A"}},null,0,null,null,null,""]
[{"$nulls":18},{"$f":"IF(ISERROR($W2262),\"\",OFFSET('Smelter Look-up'!$C$4,$W2262-4,0)&\"\")","v":""},"",{"$f":"IF(B2262=\"\",\"\",IF(ISERROR(MATCH($J2262,SorP!$B$1:$B$6230,0)),\"\",INDIRECT(\"'SorP'!$A$\"&MATCH($J2262,SorP!$B$1:$B$6230,0))))","v":""},null,{"$f":"IF(C2262=\"\",NA(),MATCH($B2262&$C2262,'Smelter Look-up'!$J:$J,0))","v":{"$error":"#N/A"}},null,0,null,null,null,""]
[{"$nulls":18},{"$f":"IF(ISERROR($W2263),\"\",OFFSET('Smelter Look-up'!$C$4,$W2263-4,0)&\"\")","v":""},"",{"$f":"IF(B2263=\"\",\"\",IF(ISERROR(MATCH($J2263,SorP!$B$1:$B$6230,0)),\"\",INDIRECT(\"'SorP'!$A$\"&MATCH($J2263,SorP!$B$1:$B$6230,0))))","v":""},null,{"$f":"IF(C2263=\"\",NA(),MATCH($B2263&$C2263,'Smelter Look-up'!$J:$J,0))","v":{"$error":"#N/A"}},null,0,null,null,null,""]
[{"$nulls":18},{"$f":"IF(ISERROR($W2264),\"\",OFFSET('Smelter Look-up'!$C$4,$W2264-4,0)&\"\")","v":""},"",{"$f":"IF(B2264=\"\",\"\",IF(ISERROR(MATCH($J2264,SorP!$B$1:$B$6230,0)),\"\",INDIRECT(\"'SorP'!$A$\"&MATCH($J2264,SorP!$B$1:$B$6230,0))))","v":""},null,{"$f":"IF(C2264=\"\",NA(),MATCH($B2264&$C2264,'Smelter Look-up'!$J:$J,0))","v":{"$error":"#N/A"}},null,0,null,null,null,""]
[{"$nulls":18},{"$f":"IF(ISERROR($W2265),\"\",OFFSET('Smelter Look-up'!$C$4,$W2265-4,0)&\"\")","v":""},"",{"$f":"IF(B2265=\"\",\"\",IF(ISERROR(MATCH($J2265,SorP!$B$1:$B$6230,0)),\"\",INDIRECT(\"'SorP'!$A$\"&MATCH($J2265,SorP!$B$1:$B$6230,0))))","v":""},null,{"$f":"IF(C2265=\"\",NA(),MATCH($B2265&$C2265,'Smelter Look-up'!$J:$J,0))","v":{"$error":"#N/A"}},null,0,null,null,null,""]
[{"$nulls":18},{"$f":"IF(ISERROR($W2266),\"\",OFFSET('Smelter Look-up'!$C$4,$W2266-4,0)&\"\")","v":""},"",{"$f":"IF(B2266=\"\",\"\",IF(ISERROR(MATCH($J2266,SorP!$B$1:$B$6230,0)),\"\",INDIRECT(\"'SorP'!$A$\"&MATCH($J2266,SorP!$B$1:$B$6230,0))))","v":""},null,{"$f":"IF(C2266=\"\",NA(),MATCH($B2266&$C2266,'Smelter Look-up'!$J:$J,0))","v":{"$error":"#N/A"}},null,0,null,null,null,""]
[{"$nulls":18},{"$f":"IF(ISERROR($W2267),\"\",OFFSET('Smelter Look-up'!$C$4,$W2267-4,0)&\"\")","v":""},"",{"$f":"IF(B2267=\"\",\"\",IF(ISERROR(MATCH($J2267,SorP!$B$1:$B$6230,0)),\"\",INDIRECT(\"'SorP'!$A$\"&MATCH($J2267,SorP!$B$1:$B$6230,0))))","v":""},null,{"$f":"IF(C2267=\"\",NA(),MATCH($B2267&$C2267,'Smelter Look-up'!$J:$J,0))","v":{"$error":"#N/A"}},null,0,null,null,null,""]
[{"$nulls":18},{"$f":"IF(ISERROR($W2268),\"\",OFFSET('Smelter Look-up'!$C$4,$W2268-4,0)&\"\")","v":""},"",{"$f":"IF(B2268=\"\",\"\",IF(ISERROR(MATCH($J2268,SorP!$B$1:$B$6230,0)),\"\",INDIRECT(\"'SorP'!$A$\"&MATCH($J2268,SorP!$B$1:$B$6230,0))))","v":""},null,{"$f":"IF(C2268=\"\",NA(),MATCH($B2268&$C2268,'Smelter Look-up'!$J:$J,0))","v":{"$error":"#N/A"}},null,0,null,null,null,""]
[{"$nulls":18},{"$f":"IF(ISERROR($W2269),\"\",OFFSET('Smelter Look-up'!$C$4,$W2269-4,0)&\"\")","v":""},"",{"$f":"IF(B2269=\"\",\"\",IF(ISERROR(MATCH($J2269,SorP!$B$1:$B$6230,0)),\"\",INDIRECT(\"'SorP'!$A$\"&MATCH($J2269,SorP!$B$1:$B$6230,0))))","v":""},null,{"$f":"IF(C2269=\"\",NA(),MATCH($B2269&$C2269,'Smelter Look-up'!$J:$J,0))","v":{"$error":"#N/A"}},null,0,null,null,null,""]
[{"$nulls":18},{"$f":"IF(ISERROR($W2270),\"\",OFFSET('Smelter Look-up'!$C$4,$W2270-4,0)&\"\")","v":""},"",{"$f":"IF(B2270=\"\",\"\",IF(ISERROR(MATCH($J2270,SorP!$B$1:$B$6230,0)),\"\",INDIRECT(\"'SorP'!$A$\"&MATCH($J2270,SorP!$B$1:$B$6230,0))))","v":""},null,{"$f":"IF(C2270=\"\",NA(),MATCH($B2270&$C2270,'Smelter Look-up'!$J:$J,0))","v":{"$error":"#N/A"}},null,0,null,null,null,""]
[{"$nulls":18},{"$f":"IF(ISERROR($W2271),\"\",OFFSET('Smelter Look-up'!$C$4,$W2271-4,0)&\"\")","v":""},"",{"$f":"IF(B2271=\"\",\"\",IF(ISERROR(MATCH($J2271,SorP!$B$1:$B$6230,0)),\"\",INDIRECT(\"'SorP'!$A$\"&MATCH($J2271,SorP!$B$1:$B$6230,0))))","v":""},null,{"$f":"IF(C2271=\"\",NA(),MATCH($B2271&$C2271,'Smelter Look-up'!$J:$J,0))","v":{"$error":"#N/A"}},null,0,null,null,null,""]
[{"$nulls":18},{"$f":"IF(ISERROR($W2272),\"\",OFFSET('Smelter Look-up'!$C$4,$W2272-4,0)&\"\")","v":""},"",{"$f":"IF(B2272=\"\",\"\",IF(ISERROR(MATCH($J2272,SorP!$B$1:$B$6230,0)),\"\",INDIRECT(\"'SorP'!$A$\"&MATCH($J2272,SorP!$B$1:$B$6230,0))))","v":""},null,{"$f":"IF(C2272=\"\",NA(),MATCH($B2272&$C2272,'Smelter Look-up'!$J:$J,0))","v":{"$error":"#N/A"}},null,0,null,null,null,""]
[{"$nulls":18},{"$f":"IF(ISERROR($W2273),\"\",OFFSET('Smelter Look-up'!$C$4,$W2273-4,0)&\"\")","v":""},"",{"$f":"IF(B2273=\"\",\"\",IF(ISERROR(MATCH($J2273,SorP!$B$1:$B$6230,0)),\"\",INDIRECT(\"'SorP'!$A$\"&MATCH($J2273,SorP!$B$1:$B$6230,0))))","v":""},null,{"$f":"IF(C2273=\"\",NA(),MATCH($B2273&$C2273,'Smelter Look-up'!$J:$J,0))","v":{"$error":"#N/A"}},null,0,null,null,null,""]
[{"$nulls":18},{"$f":"IF(ISERROR($W2274),\"\",OFFSET('Smelter Look-up'!$C$4,$W2274-4,0)&\"\")","v":""},"",{"$f":"IF(B2274=\"\",\"\",IF(ISERROR(MATCH($J2274,SorP!$B$1:$B$6230,0)),\"\",INDIRECT(\"'SorP'!$A$\"&MATCH($J2274,SorP!$B$1:$B$6230,0))))","v":""},null,{"$f":"IF(C2274=\"\",NA(),MATCH($B2274&$C2274,'Smelter Look-up'!$J:$J,0))","v":{"$error":"#N/A"}},null,0,null,null,null,""]
[{"$nulls":18},{"$f":"IF(ISERROR($W2275),\"\",OFFSET('Smelter Look-up'!$C$4,$W2275-4,0)&\"\")","v":""},"",{"$f":"IF(B2275=\"\",\"\",IF(ISERROR(MATCH($J2275,SorP!$B$1:$B$6230,0)),\"\",INDIRECT(\"'SorP'!$A$\"&MATCH($J2275,SorP!$B$1:$B$6230,0))))","v":""},null,{"$f":"IF(C2275=\"\",NA(),MATCH($B2275&$C2275,'Smelter Look-up'!$J:$J,0))","v":{"$error":"#N/A"}},null,0,null,null,null,""]
[{"$nulls":18},{"$f":"IF(ISERROR($W2276),\"\",OFFSET('Smelter Look-up'!$C$4,$W2276-4,0)&\"\")","v":""},"",{"$f":"IF(B2276=\"\",\"\",IF(ISERROR(MATCH($J2276,SorP!$B$1:$B$6230,0)),\"\",INDIRECT(\"'SorP'!$A$\"&MATCH($J2276,SorP!$B$1:$B$6230,0))))","v":""},null,{"$f":"IF(C2276=\"\",NA(),MATCH($B2276&$C2276,'Smelter Look-up'!$J:$J,0))","v":{"$error":"#N/A"}},null,0,null,null,null,""]
[{"$nulls":18},{"$f":"IF(ISERROR($W2277),\"\",OFFSET('Smelter Look-up'!$C$4,$W2277-4,0)&\"\")","v":""},"",{"$f":"IF(B2277=\"\",\"\",IF(ISERROR(MATCH($J2277,SorP!$B$1:$B$6230,0)),\"\",INDIRECT(\"'SorP'!$A$\"&MATCH($J2277,SorP!$B$1:$B$6230,0))))","v":""},null,{"$f":"IF(C2277=\"\",NA(),MATCH($B2277&$C2277,'Smelter Look-up'!$J:$J,0))","v":{"$error":"#N/A"}},null,0,null,null,null,""]
[{"$nulls":18},{"$f":"IF(ISERROR($W2278),\"\",OFFSET('Smelter Look-up'!$C$4,$W2278-4,0)&\"\")","v":""},"",{"$f":"IF(B2278=\"\",\"\",IF(ISERROR(MATCH($J2278,SorP!$B$1:$B$6230,0)),\"\",INDIRECT(\"'SorP'!$A$\"&MATCH($J2278,SorP!$B$1:$B$6230,0))))","v":""},null,{"$f":"IF(C2278=\"\",NA(),MATCH($B2278&$C2278,'Smelter Look-up'!$J:$J,0))","v":{"$error":"#N/A"}},null,0,null,null,null,""]
[{"$nulls":18},{"$f":"IF(ISERROR($W2279),\"\",OFFSET('Smelter Look-up'!$C$4,$W2279-4,0)&\"\")","v":""},"",{"$f":"IF(B2279=\"\",\"\",IF(ISERROR(MATCH($J2279,SorP!$B$1:$B$6230,0)),\"\",INDIRECT(\"'SorP'!$A$\"&MATCH($J2279,SorP!$B$1:$B$6230,0))))","v":""},null,{"$f":"IF(C2279=\"\",NA(),MATCH($B2279&$C2279,'Smelter Look-up'!$J:$J,0))","v":{"$error":"#N/A"}},null,0,null,null,null,""]
[{"$nulls":18},{"$f":"IF(ISERROR($W2280),\"\",OFFSET('Smelter Look-up'!$C$4,$W2280-4,0)&\"\")","v":""},"",{"$f":"IF(B2280=\"\",\"\",IF(ISERROR(MATCH($J2280,SorP!$B$1:$B$6230,0)),\"\",INDIRECT(\"'SorP'!$A$\"&MATCH($J2280,SorP!$B$1:$B$6230,0))))","v":""},null,{"$f":"IF(C2280=\"\",NA(),MATCH($B2280&$C2280,'Smelter Look-up'!$J:$J,0))","v":{"$error":"#N/A"}},null,0,null,null,null,""]
[{"$nulls":18},{"$f":"IF(ISERROR($W2281),\"\",OFFSET('Smelter Look-up'!$C$4,$W2281-4,0)&\"\")","v":""},"",{"$f":"IF(B2281=\"\",\"\",IF(ISERROR(MATCH($J2281,SorP!$B$1:$B$6230,0)),\"\",INDIRECT(\"'SorP'!$A$\"&MATCH($J2281,SorP!$B$1:$B$6230,0))))","v":""},null,{"$f":"IF(C2281=\"\",NA(),MATCH($B2281&$C2281,'Smelter Look-up'!$J:$J,0))","v":{"$error":"#N/A"}},null,0,null,null,null,""]
[{"$nulls":18},{"$f":"IF(ISERROR($W2282),\"\",OFFSET('Smelter Look-up'!$C$4,$W2282-4,0)&\"\")","v":""},"",{"$f":"IF(B2282=\"\",\"\",IF(ISERROR(MATCH($J2282,SorP!$B$1:$B$6230,0)),\"\",INDIRECT(\"'SorP'!$A$\"&MATCH($J2282,SorP!$B$1:$B$6230,0))))","v":""},null,{"$f":"IF(C2282=\"\",NA(),MATCH($B2282&$C2282,'Smelter Look-up'!$J:$J,0))","v":{"$error":"#N/A"}},null,0,null,null,null,""]
[{"$nulls":18},{"$f":"IF(ISERROR($W2283),\"\",OFFSET('Smelter Look-up'!$C$4,$W2283-4,0)&\"\")","v":""},"",{"$f":"IF(B2283=\"\",\"\",IF(ISERROR(MATCH($J2283,SorP!$B$1:$B$6230,0)),\"\",INDIRECT(\"'SorP'!$A$\"&MATCH($J2283,SorP!$B$1:$B$6230,0))))","v":""},null,{"$f":"IF(C2283=\"\",NA(),MATCH($B2283&$C2283,'Smelter Look-up'!$J:$J,0))","v":{"$error":"#N/A"}},null,0,null,null,null,""]
[{"$nulls":18},{"$f":"IF(ISERROR($W2284),\"\",OFFSET('Smelter Look-up'!$C$4,$W2284-4,0)&\"\")","v":""},"",{"$f":"IF(B2284=\"\",\"\",IF(ISERROR(MATCH($J2284,SorP!$B$1:$B$6230,0)),\"\",INDIRECT(\"'SorP'!$A$\"&MATCH($J2284,SorP!$B$1:$B$6230,0))))","v":""},null,{"$f":"IF(C2284=\"\",NA(),MATCH($B2284&$C2284,'Smelter Look-up'!$J:$J,0))","v":{"$error":"#N/A"}},null,0,null,null,null,""]
[{"$nulls":18},{"$f":"IF(ISERROR($W2285),\"\",OFFSET('Smelter Look-up'!$C$4,$W2285-4,0)&\"\")","v":""},"",{"$f":"IF(B2285=\"\",\"\",IF(ISERROR(MATCH($J2285,SorP!$B$1:$B$6230,0)),\"\",INDIRECT(\"'SorP'!$A$\"&MATCH($J2285,SorP!$B$1:$B$6230,0))))","v":""},null,{"$f":"IF(C2285=\"\",NA(),MATCH($B2285&$C2285,'Smelter Look-up'!$J:$J,0))","v":{"$error":"#N/A"}},null,0,null,null,null,""]
[{"$nulls":18},{"$f":"IF(ISERROR($W2286),\"\",OFFSET('Smelter Look-up'!$C$4,$W2286-4,0)&\"\")","v":""},"",{"$f":"IF(B2286=\"\",\"\",IF(ISERROR(MATCH($J2286,SorP!$B$1:$B$6230,0)),\"\",INDIRECT(\"'SorP'!$A$\"&MATCH($J2286,SorP!$B$1:$B$6230,0))))","v":""},null,{"$f":"IF(C2286=\"\",NA(),MATCH($B2286&$C2286,'Smelter Look-up'!$J:$J,0))","v":{"$error":"#N/A"}},null,0,null,null,null,""]
[{"$nulls":18},{"$f":"IF(ISERROR($W2287),\"\",OFFSET('Smelter Look-up'!$C$4,$W2287-4,0)&\"\")","v":""},"",{"$f":"IF(B2287=\"\",\"\",IF(ISERROR(MATCH($J2287,SorP!$B$1:$B$6230,0)),\"\",INDIRECT(\"'SorP'!$A$\"&MATCH($J2287,SorP!$B$1:$B$6230,0))))","v":""},null,{"$f":"IF(C2287=\"\",NA(),MATCH($B2287&$C2287,'Smelter Look-up'!$J:$J,0))","v":{"$error":"#N/A"}},null,0,null,null,null,""]
[{"$nulls":18},{"$f":"IF(ISERROR($W2288),\"\",OFFSET('Smelter Look-up'!$C$4,$W2288-4,0)&\"\")","v":""},"",{"$f":"IF(B2288=\"\",\"\",IF(ISERROR(MATCH($J2288,SorP!$B$1:$B$6230,0)),\"\",INDIRECT(\"'SorP'!$A$\"&MATCH($J2288,SorP!$B$1:$B$6230,0))))","v":""},null,{"$f":"IF(C2288=\"\",NA(),MATCH($B2288&$C2288,'Smelter Look-up'!$J:$J,0))","v":{"$error":"#N/A"}},null,0,null,null,null,""]
[{"$nulls":18},{"$f":"IF(ISERROR($W2289),\"\",OFFSET('Smelter Look-up'!$C$4,$W2289-4,0)&\"\")","v":""},"",{"$f":"IF(B2289=\"\",\"\",IF(ISERROR(MATCH($J2289,SorP!$B$1:$B$6230,0)),\"\",INDIRECT(\"'SorP'!$A$\"&MATCH($J2289,SorP!$B$1:$B$6230,0))))","v":""},null,{"$f":"IF(C2289=\"\",NA(),MATCH($B2289&$C2289,'Smelter Look-up'!$J:$J,0))","v":{"$error":"#N/A"}},null,0,null,null,null,""]
[{"$nulls":18},{"$f":"IF(ISERROR($W2290),\"\",OFFSET('Smelter Look-up'!$C$4,$W2290-4,0)&\"\")","v":""},"",{"$f":"IF(B2290=\"\",\"\",IF(ISERROR(MATCH($J2290,SorP!$B$1:$B$6230,0)),\"\",INDIRECT(\"'SorP'!$A$\"&MATCH($J2290,SorP!$B$1:$B$6230,0))))","v":""},null,{"$f":"IF(C2290=\"\",NA(),MATCH($B2290&$C2290,'Smelter Look-up'!$J:$J,0))","v":{"$error":"#N/A"}},null,0,null,null,null,""]
[{"$nulls":18},{"$f":"IF(ISERROR($W2291),\"\",OFFSET('Smelter Look-up'!$C$4,$W2291-4,0)&\"\")","v":""},"",{"$f":"IF(B2291=\"\",\"\",IF(ISERROR(MATCH($J2291,SorP!$B$1:$B$6230,0)),\"\",INDIRECT(\"'SorP'!$A$\"&MATCH($J2291,SorP!$B$1:$B$6230,0))))","v":""},null,{"$f":"IF(C2291=\"\",NA(),MATCH($B2291&$C2291,'Smelter Look-up'!$J:$J,0))","v":{"$error":"#N/A"}},null,0,null,null,null,""]
[{"$nulls":18},{"$f":"IF(ISERROR($W2292),\"\",OFFSET('Smelter Look-up'!$C$4,$W2292-4,0)&\"\")","v":""},"",{"$f":"IF(B2292=\"\",\"\",IF(ISERROR(MATCH($J2292,SorP!$B$1:$B$6230,0)),\"\",INDIRECT(\"'SorP'!$A$\"&MATCH($J2292,SorP!$B$1:$B$6230,0))))","v":""},null,{"$f":"IF(C2292=\"\",NA(),MATCH($B2292&$C2292,'Smelter Look-up'!$J:$J,0))","v":{"$error":"#N/A"}},null,0,null,null,null,""]
[{"$nulls":18},{"$f":"IF(ISERROR($W2293),\"\",OFFSET('Smelter Look-up'!$C$4,$W2293-4,0)&\"\")","v":""},"",{"$f":"IF(B2293=\"\",\"\",IF(ISERROR(MATCH($J2293,SorP!$B$1:$B$6230,0)),\"\",INDIRECT(\"'SorP'!$A$\"&MATCH($J2293,SorP!$B$1:$B$6230,0))))","v":""},null,{"$f":"IF(C2293=\"\",NA(),MATCH($B2293&$C2293,'Smelter Look-up'!$J:$J,0))","v":{"$error":"#N/A"}},null,0,null,null,null,""]
[{"$nulls":18},{"$f":"IF(ISERROR($W2294),\"\",OFFSET('Smelter Look-up'!$C$4,$W2294-4,0)&\"\")","v":""},"",{"$f":"IF(B2294=\"\",\"\",IF(ISERROR(MATCH($J2294,SorP!$B$1:$B$6230,0)),\"\",INDIRECT(\"'SorP'!$A$\"&MATCH($J2294,SorP!$B$1:$B$6230,0))))","v":""},null,{"$f":"IF(C2294=\"\",NA(),MATCH($B2294&$C2294,'Smelter Look-up'!$J:$J,0))","v":{"$error":"#N/A"}},null,0,null,null,null,""]
[{"$nulls":18},{"$f":"IF(ISERROR($W2295),\"\",OFFSET('Smelter Look-up'!$C$4,$W2295-4,0)&\"\")","v":""},"",{"$f":"IF(B2295=\"\",\"\",IF(ISERROR(MATCH($J2295,SorP!$B$1:$B$6230,0)),\"\",INDIRECT(\"'SorP'!$A$\"&MATCH($J2295,SorP!$B$1:$B$6230,0))))","v":""},null,{"$f":"IF(C2295=\"\",NA(),MATCH($B2295&$C2295,'Smelter Look-up'!$J:$J,0))","v":{"$error":"#N/A"}},null,0,null,null,null,""]
[{"$nulls":18},{"$f":"IF(ISERROR($W2296),\"\",OFFSET('Smelter Look-up'!$C$4,$W2296-4,0)&\"\")","v":""},"",{"$f":"IF(B2296=\"\",\"\",IF(ISERROR(MATCH($J2296,SorP!$B$1:$B$6230,0)),\"\",INDIRECT(\"'SorP'!$A$\"&MATCH($J2296,SorP!$B$1:$B$6230,0))))","v":""},null,{"$f":"IF(C2296=\"\",NA(),MATCH($B2296&$C2296,'Smelter Look-up'!$J:$J,0))","v":{"$error":"#N/A"}},null,0,null,null,null,""]
[{"$nulls":18},{"$f":"IF(ISERROR($W2297),\"\",OFFSET('Smelter Look-up'!$C$4,$W2297-4,0)&\"\")","v":""},"",{"$f":"IF(B2297=\"\",\"\",IF(ISERROR(MATCH($J2297,SorP!$B$1:$B$6230,0)),\"\",INDIRECT(\"'SorP'!$A$\"&MATCH($J2297,SorP!$B$1:$B$6230,0))))","v":""},null,{"$f":"IF(C2297=\"\",NA(),MATCH($B2297&$C2297,'Smelter Look-up'!$J:$J,0))","v":{"$error":"#N/A"}},null,0,null,null,null,""]
[{"$nulls":18},{"$f":"IF(ISERROR($W2298),\"\",OFFSET('Smelter Look-up'!$C$4,$W2298-4,0)&\"\")","v":""},"",{"$f":"IF(B2298=\"\",\"\",IF(ISERROR(MATCH($J2298,SorP!$B$1:$B$6230,0)),\"\",INDIRECT(\"'SorP'!$A$\"&MATCH($J2298,SorP!$B$1:$B$6230,0))))","v":""},null,{"$f":"IF(C2298=\"\",NA(),MATCH($B2298&$C2298,'Smelter Look-up'!$J:$J,0))","v":{"$error":"#N/A"}},null,0,null,null,null,""]
[{"$nulls":18},{"$f":"IF(ISERROR($W2299),\"\",OFFSET('Smelter Look-up'!$C$4,$W2299-4,0)&\"\")","v":""},"",{"$f":"IF(B2299=\"\",\"\",IF(ISERROR(MATCH($J2299,SorP!$B$1:$B$6230,0)),\"\",INDIRECT(\"'SorP'!$A$\"&MATCH($J2299,SorP!$B$1:$B$6230,0))))","v":""},null,{"$f":"IF(C2299=\"\",NA(),MATCH($B2299&$C2299,'Smelter Look-up'!$J:$J,0))","v":{"$error":"#N/A"}},null,0,null,null,null,""]
[{"$nulls":18},{"$f":"IF(ISERROR($W2300),\"\",OFFSET('Smelter Look-up'!$C$4,$W2300-4,0)&\"\")","v":""},"",{"$f":"IF(B2300=\"\",\"\",IF(ISERROR(MATCH($J2300,SorP!$B$1:$B$6230,0)),\"\",INDIRECT(\"'SorP'!$A$\"&MATCH($J2300,SorP!$B$1:$B$6230,0))))","v":""},null,{"$f":"IF(C2300=\"\",NA(),MATCH($B2300&$C2300,'Smelter Look-up'!$J:$J,0))","v":{"$error":"#N/A"}},null,0,null,null,null,""]
[{"$nulls":18},{"$f":"IF(ISERROR($W2301),\"\",OFFSET('Smelter Look-up'!$C$4,$W2301-4,0)&\"\")","v":""},"",{"$f":"IF(B2301=\"\",\"\",IF(ISERROR(MATCH($J2301,SorP!$B$1:$B$6230,0)),\"\",INDIRECT(\"'SorP'!$A$\"&MATCH($J2301,SorP!$B$1:$B$6230,0))))","v":""},null,{"$f":"IF(C2301=\"\",NA(),MATCH($B2301&$C2301,'Smelter Look-up'!$J:$J,0))","v":{"$error":"#N/A"}},null,0,null,null,null,""]
[{"$nulls":18},{"$f":"IF(ISERROR($W2302),\"\",OFFSET('Smelter Look-up'!$C$4,$W2302-4,0)&\"\")","v":""},"",{"$f":"IF(B2302=\"\",\"\",IF(ISERROR(MATCH($J2302,SorP!$B$1:$B$6230,0)),\"\",INDIRECT(\"'SorP'!$A$\"&MATCH($J2302,SorP!$B$1:$B$6230,0))))","v":""},null,{"$f":"IF(C2302=\"\",NA(),MATCH($B2302&$C2302,'Smelter Look-up'!$J:$J,0))","v":{"$error":"#N/A"}},null,0,null,null,null,""]
[{"$nulls":18},{"$f":"IF(ISERROR($W2303),\"\",OFFSET('Smelter Look-up'!$C$4,$W2303-4,0)&\"\")","v":""},"",{"$f":"IF(B2303=\"\",\"\",IF(ISERROR(MATCH($J2303,SorP!$B$1:$B$6230,0)),\"\",INDIRECT(\"'SorP'!$A$\"&MATCH($J2303,SorP!$B$1:$B$6230,0))))","v":""},null,{"$f":"IF(C2303=\"\",NA(),MATCH($B2303&$C2303,'Smelter Look-up'!$J:$J,0))","v":{"$error":"#N/A"}},null,0,null,null,null,""]
[{"$nulls":18},{"$f":"IF(ISERROR($W2304),\"\",OFFSET('Smelter Look-up'!$C$4,$W2304-4,0)&\"\")","v":""},"",{"$f":"IF(B2304=\"\",\"\",IF(ISERROR(MATCH($J2304,SorP!$B$1:$B$6230,0)),\"\",INDIRECT(\"'SorP'!$A$\"&MATCH($J2304,SorP!$B$1:$B$6230,0))))","v":""},null,{"$f":"IF(C2304=\"\",NA(),MATCH($B2304&$C2304,'Smelter Look-up'!$J:$J,0))","v":{"$error":"#N/A"}},null,0,null,null,null,""]
[{"$nulls":18},{"$f":"IF(ISERROR($W2305),\"\",OFFSET('Smelter Look-up'!$C$4,$W2305-4,0)&\"\")","v":""},"",{"$f":"IF(B2305=\"\",\"\",IF(ISERROR(MATCH($J2305,SorP!$B$1:$B$6230,0)),\"\",INDIRECT(\"'SorP'!$A$\"&MATCH($J2305,SorP!$B$1:$B$6230,0))))","v":""},null,{"$f":"IF(C2305=\"\",NA(),MATCH($B2305&$C2305,'Smelter Look-up'!$J:$J,0))","v":{"$error":"#N/A"}},null,0,null,null,null,""]
[{"$nulls":18},{"$f":"IF(ISERROR($W2306),\"\",OFFSET('Smelter Look-up'!$C$4,$W2306-4,0)&\"\")","v":""},"",{"$f":"IF(B2306=\"\",\"\",IF(ISERROR(MATCH($J2306,SorP!$B$1:$B$6230,0)),\"\",INDIRECT(\"'SorP'!$A$\"&MATCH($J2306,SorP!$B$1:$B$6230,0))))","v":""},null,{"$f":"IF(C2306=\"\",NA(),MATCH($B2306&$C2306,'Smelter Look-up'!$J:$J,0))","v":{"$error":"#N/A"}},null,0,null,null,null,""]
[{"$nulls":18},{"$f":"IF(ISERROR($W2307),\"\",OFFSET('Smelter Look-up'!$C$4,$W2307-4,0)&\"\")","v":""},"",{"$f":"IF(B2307=\"\",\"\",IF(ISERROR(MATCH($J2307,SorP!$B$1:$B$6230,0)),\"\",INDIRECT(\"'SorP'!$A$\"&MATCH($J2307,SorP!$B$1:$B$6230,0))))","v":""},null,{"$f":"IF(C2307=\"\",NA(),MATCH($B2307&$C2307,'Smelter Look-up'!$J:$J,0))","v":{"$error":"#N/A"}},null,0,null,null,null,""]
[{"$nulls":18},{"$f":"IF(ISERROR($W2308),\"\",OFFSET('Smelter Look-up'!$C$4,$W2308-4,0)&\"\")","v":""},"",{"$f":"IF(B2308=\"\",\"\",IF(ISERROR(MATCH($J2308,SorP!$B$1:$B$6230,0)),\"\",INDIRECT(\"'SorP'!$A$\"&MATCH($J2308,SorP!$B$1:$B$6230,0))))","v":""},null,{"$f":"IF(C2308=\"\",NA(),MATCH($B2308&$C2308,'Smelter Look-up'!$J:$J,0))","v":{"$error":"#N/A"}},null,0,null,null,null,""]
[{"$nulls":18},{"$f":"IF(ISERROR($W2309),\"\",OFFSET('Smelter Look-up'!$C$4,$W2309-4,0)&\"\")","v":""},{"$f":"IF(B2309=\"\",\"\",IF(ISERROR(MATCH($E2309,CL,0)),\"Unknown\",INDIRECT(\"'C'!$A$\"&MATCH($E2309,CL,0)+1)))","v":""},{"$f":"IF(B2309=\"\",\"\",IF(ISERROR(MATCH($J2309,SorP!$B$1:$B$6230,0)),\"\",INDIRECT(\"'SorP'!$A$\"&MATCH($J2309,SorP!$B$1:$B$6230,0))))","v":""},null,{"$f":"IF(C2309=\"\",NA(),MATCH($B2309&$C2309,'Smelter Look-up'!$J:$J,0))","v":{"$error":"#N/A"}},null,{"$f":"IF(AND(C2309=\"Smelter not listed\",OR(LEN(D2309)=0,LEN(E2309)=0)),1,0)","v":0},null,null,null,{"$f":"B2309&C2309","v":""}]
[{"$nulls":18},{"$f":"IF(ISERROR($W2310),\"\",OFFSET('Smelter Look-up'!$C$4,$W2310-4,0)&\"\")","v":""},"",{"$f":"IF(B2310=\"\",\"\",IF(ISERROR(MATCH($J2310,SorP!$B$1:$B$6230,0)),\"\",INDIRECT(\"'SorP'!$A$\"&MATCH($J2310,SorP!$B$1:$B$6230,0))))","v":""},null,{"$f":"IF(C2310=\"\",NA(),MATCH($B2310&$C2310,'Smelter Look-up'!$J:$J,0))","v":{"$error":"#N/A"}},null,0,null,null,null,""]
[{"$nulls":18},{"$f":"IF(ISERROR($W2311),\"\",OFFSET('Smelter Look-up'!$C$4,$W2311-4,0)&\"\")","v":""},"",{"$f":"IF(B2311=\"\",\"\",IF(ISERROR(MATCH($J2311,SorP!$B$1:$B$6230,0)),\"\",INDIRECT(\"'SorP'!$A$\"&MATCH($J2311,SorP!$B$1:$B$6230,0))))","v":""},null,{"$f":"IF(C2311=\"\",NA(),MATCH($B2311&$C2311,'Smelter Look-up'!$J:$J,0))","v":{"$error":"#N/A"}},null,0,null,null,null,""]
[{"$nulls":18},{"$f":"IF(ISERROR($W2312),\"\",OFFSET('Smelter Look-up'!$C$4,$W2312-4,0)&\"\")","v":""},"",{"$f":"IF(B2312=\"\",\"\",IF(ISERROR(MATCH($J2312,SorP!$B$1:$B$6230,0)),\"\",INDIRECT(\"'SorP'!$A$\"&MATCH($J2312,SorP!$B$1:$B$6230,0))))","v":""},null,{"$f":"IF(C2312=\"\",NA(),MATCH($B2312&$C2312,'Smelter Look-up'!$J:$J,0))","v":{"$error":"#N/A"}},null,0,null,null,null,""]
[{"$nulls":18},{"$f":"IF(ISERROR($W2313),\"\",OFFSET('Smelter Look-up'!$C$4,$W2313-4,0)&\"\")","v":""},"",{"$f":"IF(B2313=\"\",\"\",IF(ISERROR(MATCH($J2313,SorP!$B$1:$B$6230,0)),\"\",INDIRECT(\"'SorP'!$A$\"&MATCH($J2313,SorP!$B$1:$B$6230,0))))","v":""},null,{"$f":"IF(C2313=\"\",NA(),MATCH($B2313&$C2313,'Smelter Look-up'!$J:$J,0))","v":{"$error":"#N/A"}},null,0,null,null,null,""]
[{"$nulls":18},{"$f":"IF(ISERROR($W2314),\"\",OFFSET('Smelter Look-up'!$C$4,$W2314-4,0)&\"\")","v":""},"",{"$f":"IF(B2314=\"\",\"\",IF(ISERROR(MATCH($J2314,SorP!$B$1:$B$6230,0)),\"\",INDIRECT(\"'SorP'!$A$\"&MATCH($J2314,SorP!$B$1:$B$6230,0))))","v":""},null,{"$f":"IF(C2314=\"\",NA(),MATCH($B2314&$C2314,'Smelter Look-up'!$J:$J,0))","v":{"$error":"#N/A"}},null,0,null,null,null,""]
[{"$nulls":18},{"$f":"IF(ISERROR($W2315),\"\",OFFSET('Smelter Look-up'!$C$4,$W2315-4,0)&\"\")","v":""},"",{"$f":"IF(B2315=\"\",\"\",IF(ISERROR(MATCH($J2315,SorP!$B$1:$B$6230,0)),\"\",INDIRECT(\"'SorP'!$A$\"&MATCH($J2315,SorP!$B$1:$B$6230,0))))","v":""},null,{"$f":"IF(C2315=\"\",NA(),MATCH($B2315&$C2315,'Smelter Look-up'!$J:$J,0))","v":{"$error":"#N/A"}},null,0,null,null,null,""]
[{"$nulls":18},{"$f":"IF(ISERROR($W2316),\"\",OFFSET('Smelter Look-up'!$C$4,$W2316-4,0)&\"\")","v":""},"",{"$f":"IF(B2316=\"\",\"\",IF(ISERROR(MATCH($J2316,SorP!$B$1:$B$6230,0)),\"\",INDIRECT(\"'SorP'!$A$\"&MATCH($J2316,SorP!$B$1:$B$6230,0))))","v":""},null,{"$f":"IF(C2316=\"\",NA(),MATCH($B2316&$C2316,'Smelter Look-up'!$J:$J,0))","v":{"$error":"#N/A"}},null,0,null,null,null,""]
[{"$nulls":18},{"$f":"IF(ISERROR($W2317),\"\",OFFSET('Smelter Look-up'!$C$4,$W2317-4,0)&\"\")","v":""},"",{"$f":"IF(B2317=\"\",\"\",IF(ISERROR(MATCH($J2317,SorP!$B$1:$B$6230,0)),\"\",INDIRECT(\"'SorP'!$A$\"&MATCH($J2317,SorP!$B$1:$B$6230,0))))","v":""},null,{"$f":"IF(C2317=\"\",NA(),MATCH($B2317&$C2317,'Smelter Look-up'!$J:$J,0))","v":{"$error":"#N/A"}},null,0,null,null,null,""]
[{"$nulls":18},{"$f":"IF(ISERROR($W2318),\"\",OFFSET('Smelter Look-up'!$C$4,$W2318-4,0)&\"\")","v":""},"",{"$f":"IF(B2318=\"\",\"\",IF(ISERROR(MATCH($J2318,SorP!$B$1:$B$6230,0)),\"\",INDIRECT(\"'SorP'!$A$\"&MATCH($J2318,SorP!$B$1:$B$6230,0))))","v":""},null,{"$f":"IF(C2318=\"\",NA(),MATCH($B2318&$C2318,'Smelter Look-up'!$J:$J,0))","v":{"$error":"#N/A"}},null,0,null,null,null,""]
[{"$nulls":18},{"$f":"IF(ISERROR($W2319),\"\",OFFSET('Smelter Look-up'!$C$4,$W2319-4,0)&\"\")","v":""},"",{"$f":"IF(B2319=\"\",\"\",IF(ISERROR(MATCH($J2319,SorP!$B$1:$B$6230,0)),\"\",INDIRECT(\"'SorP'!$A$\"&MATCH($J2319,SorP!$B$1:$B$6230,0))))","v":""},null,{"$f":"IF(C2319=\"\",NA(),MATCH($B2319&$C2319,'Smelter Look-up'!$J:$J,0))","v":{"$error":"#N/A"}},null,0,null,null,null,""]
[{"$nulls":18},{"$f":"IF(ISERROR($W2320),\"\",OFFSET('Smelter Look-up'!$C$4,$W2320-4,0)&\"\")","v":""},"",{"$f":"IF(B2320=\"\",\"\",IF(ISERROR(MATCH($J2320,SorP!$B$1:$B$6230,0)),\"\",INDIRECT(\"'SorP'!$A$\"&MATCH($J2320,SorP!$B$1:$B$6230,0))))","v":""},null,{"$f":"IF(C2320=\"\",NA(),MATCH($B2320&$C2320,'Smelter Look-up'!$J:$J,0))","v":{"$error":"#N/A"}},null,0,null,null,null,""]
[{"$nulls":18},{"$f":"IF(ISERROR($W2321),\"\",OFFSET('Smelter Look-up'!$C$4,$W2321-4,0)&\"\")","v":""},"",{"$f":"IF(B2321=\"\",\"\",IF(ISERROR(MATCH($J2321,SorP!$B$1:$B$6230,0)),\"\",INDIRECT(\"'SorP'!$A$\"&MATCH($J2321,SorP!$B$1:$B$6230,0))))","v":""},null,{"$f":"IF(C2321=\"\",NA(),MATCH($B2321&$C2321,'Smelter Look-up'!$J:$J,0))","v":{"$error":"#N/A"}},null,0,null,null,null,""]
[{"$nulls":18},{"$f":"IF(ISERROR($W2322),\"\",OFFSET('Smelter Look-up'!$C$4,$W2322-4,0)&\"\")","v":""},"",{"$f":"IF(B2322=\"\",\"\",IF(ISERROR(MATCH($J2322,SorP!$B$1:$B$6230,0)),\"\",INDIRECT(\"'SorP'!$A$\"&MATCH($J2322,SorP!$B$1:$B$6230,0))))","v":""},null,{"$f":"IF(C2322=\"\",NA(),MATCH($B2322&$C2322,'Smelter Look-up'!$J:$J,0))","v":{"$error":"#N/A"}},null,0,null,null,null,""]
[{"$nulls":18},{"$f":"IF(ISERROR($W2323),\"\",OFFSET('Smelter Look-up'!$C$4,$W2323-4,0)&\"\")","v":""},"",{"$f":"IF(B2323=\"\",\"\",IF(ISERROR(MATCH($J2323,SorP!$B$1:$B$6230,0)),\"\",INDIRECT(\"'SorP'!$A$\"&MATCH($J2323,SorP!$B$1:$B$6230,0))))","v":""},null,{"$f":"IF(C2323=\"\",NA(),MATCH($B2323&$C2323,'Smelter Look-up'!$J:$J,0))","v":{"$error":"#N/A"}},null,0,null,null,null,""]
[{"$nulls":18},{"$f":"IF(ISERROR($W2324),\"\",OFFSET('Smelter Look-up'!$C$4,$W2324-4,0)&\"\")","v":""},"",{"$f":"IF(B2324=\"\",\"\",IF(ISERROR(MATCH($J2324,SorP!$B$1:$B$6230,0)),\"\",INDIRECT(\"'SorP'!$A$\"&MATCH($J2324,SorP!$B$1:$B$6230,0))))","v":""},null,{"$f":"IF(C2324=\"\",NA(),MATCH($B2324&$C2324,'Smelter Look-up'!$J:$J,0))","v":{"$error":"#N/A"}},null,0,null,null,null,""]
[{"$nulls":18},{"$f":"IF(ISERROR($W2325),\"\",OFFSET('Smelter Look-up'!$C$4,$W2325-4,0)&\"\")","v":""},"",{"$f":"IF(B2325=\"\",\"\",IF(ISERROR(MATCH($J2325,SorP!$B$1:$B$6230,0)),\"\",INDIRECT(\"'SorP'!$A$\"&MATCH($J2325,SorP!$B$1:$B$6230,0))))","v":""},null,{"$f":"IF(C2325=\"\",NA(),MATCH($B2325&$C2325,'Smelter Look-up'!$J:$J,0))","v":{"$error":"#N/A"}},null,0,null,null,null,""]
[{"$nulls":18},{"$f":"IF(ISERROR($W2326),\"\",OFFSET('Smelter Look-up'!$C$4,$W2326-4,0)&\"\")","v":""},"",{"$f":"IF(B2326=\"\",\"\",IF(ISERROR(MATCH($J2326,SorP!$B$1:$B$6230,0)),\"\",INDIRECT(\"'SorP'!$A$\"&MATCH($J2326,SorP!$B$1:$B$6230,0))))","v":""},null,{"$f":"IF(C2326=\"\",NA(),MATCH($B2326&$C2326,'Smelter Look-up'!$J:$J,0))","v":{"$error":"#N/A"}},null,0,null,null,null,""]
[{"$nulls":18},{"$f":"IF(ISERROR($W2327),\"\",OFFSET('Smelter Look-up'!$C$4,$W2327-4,0)&\"\")","v":""},"",{"$f":"IF(B2327=\"\",\"\",IF(ISERROR(MATCH($J2327,SorP!$B$1:$B$6230,0)),\"\",INDIRECT(\"'SorP'!$A$\"&MATCH($J2327,SorP!$B$1:$B$6230,0))))","v":""},null,{"$f":"IF(C2327=\"\",NA(),MATCH($B2327&$C2327,'Smelter Look-up'!$J:$J,0))","v":{"$error":"#N/A"}},null,0,null,null,null,""]
[{"$nulls":18},{"$f":"IF(ISERROR($W2328),\"\",OFFSET('Smelter Look-up'!$C$4,$W2328-4,0)&\"\")","v":""},"",{"$f":"IF(B2328=\"\",\"\",IF(ISERROR(MATCH($J2328,SorP!$B$1:$B$6230,0)),\"\",INDIRECT(\"'SorP'!$A$\"&MATCH($J2328,SorP!$B$1:$B$6230,0))))","v":""},null,{"$f":"IF(C2328=\"\",NA(),MATCH($B2328&$C2328,'Smelter Look-up'!$J:$J,0))","v":{"$error":"#N/A"}},null,0,null,null,null,""]
[{"$nulls":18},{"$f":"IF(ISERROR($W2329),\"\",OFFSET('Smelter Look-up'!$C$4,$W2329-4,0)&\"\")","v":""},"",{"$f":"IF(B2329=\"\",\"\",IF(ISERROR(MATCH($J2329,SorP!$B$1:$B$6230,0)),\"\",INDIRECT(\"'SorP'!$A$\"&MATCH($J2329,SorP!$B$1:$B$6230,0))))","v":""},null,{"$f":"IF(C2329=\"\",NA(),MATCH($B2329&$C2329,'Smelter Look-up'!$J:$J,0))","v":{"$error":"#N/A"}},null,0,null,null,null,""]
[{"$nulls":18},{"$f":"IF(ISERROR($W2330),\"\",OFFSET('Smelter Look-up'!$C$4,$W2330-4,0)&\"\")","v":""},"",{"$f":"IF(B2330=\"\",\"\",IF(ISERROR(MATCH($J2330,SorP!$B$1:$B$6230,0)),\"\",INDIRECT(\"'SorP'!$A$\"&MATCH($J2330,SorP!$B$1:$B$6230,0))))","v":""},null,{"$f":"IF(C2330=\"\",NA(),MATCH($B2330&$C2330,'Smelter Look-up'!$J:$J,0))","v":{"$error":"#N/A"}},null,0,null,null,null,""]
[{"$nulls":18},{"$f":"IF(ISERROR($W2331),\"\",OFFSET('Smelter Look-up'!$C$4,$W2331-4,0)&\"\")","v":""},"",{"$f":"IF(B2331=\"\",\"\",IF(ISERROR(MATCH($J2331,SorP!$B$1:$B$6230,0)),\"\",INDIRECT(\"'SorP'!$A$\"&MATCH($J2331,SorP!$B$1:$B$6230,0))))","v":""},null,{"$f":"IF(C2331=\"\",NA(),MATCH($B2331&$C2331,'Smelter Look-up'!$J:$J,0))","v":{"$error":"#N/A"}},null,0,null,null,null,""]
[{"$nulls":18},{"$f":"IF(ISERROR($W2332),\"\",OFFSET('Smelter Look-up'!$C$4,$W2332-4,0)&\"\")","v":""},"",{"$f":"IF(B2332=\"\",\"\",IF(ISERROR(MATCH($J2332,SorP!$B$1:$B$6230,0)),\"\",INDIRECT(\"'SorP'!$A$\"&MATCH($J2332,SorP!$B$1:$B$6230,0))))","v":""},null,{"$f":"IF(C2332=\"\",NA(),MATCH($B2332&$C2332,'Smelter Look-up'!$J:$J,0))","v":{"$error":"#N/A"}},null,0,null,null,null,""]
[{"$nulls":18},{"$f":"IF(ISERROR($W2333),\"\",OFFSET('Smelter Look-up'!$C$4,$W2333-4,0)&\"\")","v":""},"",{"$f":"IF(B2333=\"\",\"\",IF(ISERROR(MATCH($J2333,SorP!$B$1:$B$6230,0)),\"\",INDIRECT(\"'SorP'!$A$\"&MATCH($J2333,SorP!$B$1:$B$6230,0))))","v":""},null,{"$f":"IF(C2333=\"\",NA(),MATCH($B2333&$C2333,'Smelter Look-up'!$J:$J,0))","v":{"$error":"#N/A"}},null,0,null,null,null,""]
[{"$nulls":18},{"$f":"IF(ISERROR($W2334),\"\",OFFSET('Smelter Look-up'!$C$4,$W2334-4,0)&\"\")","v":""},"",{"$f":"IF(B2334=\"\",\"\",IF(ISERROR(MATCH($J2334,SorP!$B$1:$B$6230,0)),\"\",INDIRECT(\"'SorP'!$A$\"&MATCH($J2334,SorP!$B$1:$B$6230,0))))","v":""},null,{"$f":"IF(C2334=\"\",NA(),MATCH($B2334&$C2334,'Smelter Look-up'!$J:$J,0))","v":{"$error":"#N/A"}},null,0,null,null,null,""]
[{"$nulls":18},{"$f":"IF(ISERROR($W2335),\"\",OFFSET('Smelter Look-up'!$C$4,$W2335-4,0)&\"\")","v":""},"",{"$f":"IF(B2335=\"\",\"\",IF(ISERROR(MATCH($J2335,SorP!$B$1:$B$6230,0)),\"\",INDIRECT(\"'SorP'!$A$\"&MATCH($J2335,SorP!$B$1:$B$6230,0))))","v":""},null,{"$f":"IF(C2335=\"\",NA(),MATCH($B2335&$C2335,'Smelter Look-up'!$J:$J,0))","v":{"$error":"#N/A"}},null,0,null,null,null,""]
[{"$nulls":18},{"$f":"IF(ISERROR($W2336),\"\",OFFSET('Smelter Look-up'!$C$4,$W2336-4,0)&\"\")","v":""},"",{"$f":"IF(B2336=\"\",\"\",IF(ISERROR(MATCH($J2336,SorP!$B$1:$B$6230,0)),\"\",INDIRECT(\"'SorP'!$A$\"&MATCH($J2336,SorP!$B$1:$B$6230,0))))","v":""},null,{"$f":"IF(C2336=\"\",NA(),MATCH($B2336&$C2336,'Smelter Look-up'!$J:$J,0))","v":{"$error":"#N/A"}},null,0,null,null,null,""]
[{"$nulls":18},{"$f":"IF(ISERROR($W2337),\"\",OFFSET('Smelter Look-up'!$C$4,$W2337-4,0)&\"\")","v":""},"",{"$f":"IF(B2337=\"\",\"\",IF(ISERROR(MATCH($J2337,SorP!$B$1:$B$6230,0)),\"\",INDIRECT(\"'SorP'!$A$\"&MATCH($J2337,SorP!$B$1:$B$6230,0))))","v":""},null,{"$f":"IF(C2337=\"\",NA(),MATCH($B2337&$C2337,'Smelter Look-up'!$J:$J,0))","v":{"$error":"#N/A"}},null,0,null,null,null,""]
[{"$nulls":18},{"$f":"IF(ISERROR($W2338),\"\",OFFSET('Smelter Look-up'!$C$4,$W2338-4,0)&\"\")","v":""},"",{"$f":"IF(B2338=\"\",\"\",IF(ISERROR(MATCH($J2338,SorP!$B$1:$B$6230,0)),\"\",INDIRECT(\"'SorP'!$A$\"&MATCH($J2338,SorP!$B$1:$B$6230,0))))","v":""},null,{"$f":"IF(C2338=\"\",NA(),MATCH($B2338&$C2338,'Smelter Look-up'!$J:$J,0))","v":{"$error":"#N/A"}},null,0,null,null,null,""]
[{"$nulls":18},{"$f":"IF(ISERROR($W2339),\"\",OFFSET('Smelter Look-up'!$C$4,$W2339-4,0)&\"\")","v":""},"",{"$f":"IF(B2339=\"\",\"\",IF(ISERROR(MATCH($J2339,SorP!$B$1:$B$6230,0)),\"\",INDIRECT(\"'SorP'!$A$\"&MATCH($J2339,SorP!$B$1:$B$6230,0))))","v":""},null,{"$f":"IF(C2339=\"\",NA(),MATCH($B2339&$C2339,'Smelter Look-up'!$J:$J,0))","v":{"$error":"#N/A"}},null,0,null,null,null,""]
[{"$nulls":18},{"$f":"IF(ISERROR($W2340),\"\",OFFSET('Smelter Look-up'!$C$4,$W2340-4,0)&\"\")","v":""},"",{"$f":"IF(B2340=\"\",\"\",IF(ISERROR(MATCH($J2340,SorP!$B$1:$B$6230,0)),\"\",INDIRECT(\"'SorP'!$A$\"&MATCH($J2340,SorP!$B$1:$B$6230,0))))","v":""},null,{"$f":"IF(C2340=\"\",NA(),MATCH($B2340&$C2340,'Smelter Look-up'!$J:$J,0))","v":{"$error":"#N/A"}},null,0,null,null,null,""]
[{"$nulls":18},{"$f":"IF(ISERROR($W2341),\"\",OFFSET('Smelter Look-up'!$C$4,$W2341-4,0)&\"\")","v":""},"",{"$f":"IF(B2341=\"\",\"\",IF(ISERROR(MATCH($J2341,SorP!$B$1:$B$6230,0)),\"\",INDIRECT(\"'SorP'!$A$\"&MATCH($J2341,SorP!$B$1:$B$6230,0))))","v":""},null,{"$f":"IF(C2341=\"\",NA(),MATCH($B2341&$C2341,'Smelter Look-up'!$J:$J,0))","v":{"$error":"#N/A"}},null,0,null,null,null,""]
[{"$nulls":18},{"$f":"IF(ISERROR($W2342),\"\",OFFSET('Smelter Look-up'!$C$4,$W2342-4,0)&\"\")","v":""},"",{"$f":"IF(B2342=\"\",\"\",IF(ISERROR(MATCH($J2342,SorP!$B$1:$B$6230,0)),\"\",INDIRECT(\"'SorP'!$A$\"&MATCH($J2342,SorP!$B$1:$B$6230,0))))","v":""},null,{"$f":"IF(C2342=\"\",NA(),MATCH($B2342&$C2342,'Smelter Look-up'!$J:$J,0))","v":{"$error":"#N/A"}},null,0,null,null,null,""]
[{"$nulls":18},{"$f":"IF(ISERROR($W2343),\"\",OFFSET('Smelter Look-up'!$C$4,$W2343-4,0)&\"\")","v":""},"",{"$f":"IF(B2343=\"\",\"\",IF(ISERROR(MATCH($J2343,SorP!$B$1:$B$6230,0)),\"\",INDIRECT(\"'SorP'!$A$\"&MATCH($J2343,SorP!$B$1:$B$6230,0))))","v":""},null,{"$f":"IF(C2343=\"\",NA(),MATCH($B2343&$C2343,'Smelter Look-up'!$J:$J,0))","v":{"$error":"#N/A"}},null,0,null,null,null,""]
[{"$nulls":18},{"$f":"IF(ISERROR($W2344),\"\",OFFSET('Smelter Look-up'!$C$4,$W2344-4,0)&\"\")","v":""},"",{"$f":"IF(B2344=\"\",\"\",IF(ISERROR(MATCH($J2344,SorP!$B$1:$B$6230,0)),\"\",INDIRECT(\"'SorP'!$A$\"&MATCH($J2344,SorP!$B$1:$B$6230,0))))","v":""},null,{"$f":"IF(C2344=\"\",NA(),MATCH($B2344&$C2344,'Smelter Look-up'!$J:$J,0))","v":{"$error":"#N/A"}},null,0,null,null,null,""]
[{"$nulls":18},{"$f":"IF(ISERROR($W2345),\"\",OFFSET('Smelter Look-up'!$C$4,$W2345-4,0)&\"\")","v":""},"",{"$f":"IF(B2345=\"\",\"\",IF(ISERROR(MATCH($J2345,SorP!$B$1:$B$6230,0)),\"\",INDIRECT(\"'SorP'!$A$\"&MATCH($J2345,SorP!$B$1:$B$6230,0))))","v":""},null,{"$f":"IF(C2345=\"\",NA(),MATCH($B2345&$C2345,'Smelter Look-up'!$J:$J,0))","v":{"$error":"#N/A"}},null,0,null,null,null,""]
[{"$nulls":18},{"$f":"IF(ISERROR($W2346),\"\",OFFSET('Smelter Look-up'!$C$4,$W2346-4,0)&\"\")","v":""},"",{"$f":"IF(B2346=\"\",\"\",IF(ISERROR(MATCH($J2346,SorP!$B$1:$B$6230,0)),\"\",INDIRECT(\"'SorP'!$A$\"&MATCH($J2346,SorP!$B$1:$B$6230,0))))","v":""},null,{"$f":"IF(C2346=\"\",NA(),MATCH($B2346&$C2346,'Smelter Look-up'!$J:$J,0))","v":{"$error":"#N/A"}},null,0,null,null,null,""]
[{"$nulls":18},{"$f":"IF(ISERROR($W2347),\"\",OFFSET('Smelter Look-up'!$C$4,$W2347-4,0)&\"\")","v":""},"",{"$f":"IF(B2347=\"\",\"\",IF(ISERROR(MATCH($J2347,SorP!$B$1:$B$6230,0)),\"\",INDIRECT(\"'SorP'!$A$\"&MATCH($J2347,SorP!$B$1:$B$6230,0))))","v":""},null,{"$f":"IF(C2347=\"\",NA(),MATCH($B2347&$C2347,'Smelter Look-up'!$J:$J,0))","v":{"$error":"#N/A"}},null,0,null,null,null,""]
[{"$nulls":18},{"$f":"IF(ISERROR($W2348),\"\",OFFSET('Smelter Look-up'!$C$4,$W2348-4,0)&\"\")","v":""},"",{"$f":"IF(B2348=\"\",\"\",IF(ISERROR(MATCH($J2348,SorP!$B$1:$B$6230,0)),\"\",INDIRECT(\"'SorP'!$A$\"&MATCH($J2348,SorP!$B$1:$B$6230,0))))","v":""},null,{"$f":"IF(C2348=\"\",NA(),MATCH($B2348&$C2348,'Smelter Look-up'!$J:$J,0))","v":{"$error":"#N/A"}},null,0,null,null,null,""]
[{"$nulls":18},{"$f":"IF(ISERROR($W2349),\"\",OFFSET('Smelter Look-up'!$C$4,$W2349-4,0)&\"\")","v":""},"",{"$f":"IF(B2349=\"\",\"\",IF(ISERROR(MATCH($J2349,SorP!$B$1:$B$6230,0)),\"\",INDIRECT(\"'SorP'!$A$\"&MATCH($J2349,SorP!$B$1:$B$6230,0))))","v":""},null,{"$f":"IF(C2349=\"\",NA(),MATCH($B2349&$C2349,'Smelter Look-up'!$J:$J,0))","v":{"$error":"#N/A"}},null,0,null,null,null,""]
[{"$nulls":18},{"$f":"IF(ISERROR($W2350),\"\",OFFSET('Smelter Look-up'!$C$4,$W2350-4,0)&\"\")","v":""},"",{"$f":"IF(B2350=\"\",\"\",IF(ISERROR(MATCH($J2350,SorP!$B$1:$B$6230,0)),\"\",INDIRECT(\"'SorP'!$A$\"&MATCH($J2350,SorP!$B$1:$B$6230,0))))","v":""},null,{"$f":"IF(C2350=\"\",NA(),MATCH($B2350&$C2350,'Smelter Look-up'!$J:$J,0))","v":{"$error":"#N/A"}},null,0,null,null,null,""]
[{"$nulls":18},{"$f":"IF(ISERROR($W2351),\"\",OFFSET('Smelter Look-up'!$C$4,$W2351-4,0)&\"\")","v":""},"",{"$f":"IF(B2351=\"\",\"\",IF(ISERROR(MATCH($J2351,SorP!$B$1:$B$6230,0)),\"\",INDIRECT(\"'SorP'!$A$\"&MATCH($J2351,SorP!$B$1:$B$6230,0))))","v":""},null,{"$f":"IF(C2351=\"\",NA(),MATCH($B2351&$C2351,'Smelter Look-up'!$J:$J,0))","v":{"$error":"#N/A"}},null,0,null,null,null,""]
[{"$nulls":18},{"$f":"IF(ISERROR($W2352),\"\",OFFSET('Smelter Look-up'!$C$4,$W2352-4,0)&\"\")","v":""},"",{"$f":"IF(B2352=\"\",\"\",IF(ISERROR(MATCH($J2352,SorP!$B$1:$B$6230,0)),\"\",INDIRECT(\"'SorP'!$A$\"&MATCH($J2352,SorP!$B$1:$B$6230,0))))","v":""},null,{"$f":"IF(C2352=\"\",NA(),MATCH($B2352&$C2352,'Smelter Look-up'!$J:$J,0))","v":{"$error":"#N/A"}},null,0,null,null,null,""]
[{"$nulls":18},{"$f":"IF(ISERROR($W2353),\"\",OFFSET('Smelter Look-up'!$C$4,$W2353-4,0)&\"\")","v":""},"",{"$f":"IF(B2353=\"\",\"\",IF(ISERROR(MATCH($J2353,SorP!$B$1:$B$6230,0)),\"\",INDIRECT(\"'SorP'!$A$\"&MATCH($J2353,SorP!$B$1:$B$6230,0))))","v":""},null,{"$f":"IF(C2353=\"\",NA(),MATCH($B2353&$C2353,'Smelter Look-up'!$J:$J,0))","v":{"$error":"#N/A"}},null,0,null,null,null,""]
[{"$nulls":18},{"$f":"IF(ISERROR($W2354),\"\",OFFSET('Smelter Look-up'!$C$4,$W2354-4,0)&\"\")","v":""},"",{"$f":"IF(B2354=\"\",\"\",IF(ISERROR(MATCH($J2354,SorP!$B$1:$B$6230,0)),\"\",INDIRECT(\"'SorP'!$A$\"&MATCH($J2354,SorP!$B$1:$B$6230,0))))","v":""},null,{"$f":"IF(C2354=\"\",NA(),MATCH($B2354&$C2354,'Smelter Look-up'!$J:$J,0))","v":{"$error":"#N/A"}},null,0,null,null,null,""]
[{"$nulls":18},{"$f":"IF(ISERROR($W2355),\"\",OFFSET('Smelter Look-up'!$C$4,$W2355-4,0)&\"\")","v":""},"",{"$f":"IF(B2355=\"\",\"\",IF(ISERROR(MATCH($J2355,SorP!$B$1:$B$6230,0)),\"\",INDIRECT(\"'SorP'!$A$\"&MATCH($J2355,SorP!$B$1:$B$6230,0))))","v":""},null,{"$f":"IF(C2355=\"\",NA(),MATCH($B2355&$C2355,'Smelter Look-up'!$J:$J,0))","v":{"$error":"#N/A"}},null,0,null,null,null,""]
[{"$nulls":18},{"$f":"IF(ISERROR($W2356),\"\",OFFSET('Smelter Look-up'!$C$4,$W2356-4,0)&\"\")","v":""},"",{"$f":"IF(B2356=\"\",\"\",IF(ISERROR(MATCH($J2356,SorP!$B$1:$B$6230,0)),\"\",INDIRECT(\"'SorP'!$A$\"&MATCH($J2356,SorP!$B$1:$B$6230,0))))","v":""},null,{"$f":"IF(C2356=\"\",NA(),MATCH($B2356&$C2356,'Smelter Look-up'!$J:$J,0))","v":{"$error":"#N/A"}},null,0,null,null,null,""]
[{"$nulls":18},{"$f":"IF(ISERROR($W2357),\"\",OFFSET('Smelter Look-up'!$C$4,$W2357-4,0)&\"\")","v":""},"",{"$f":"IF(B2357=\"\",\"\",IF(ISERROR(MATCH($J2357,SorP!$B$1:$B$6230,0)),\"\",INDIRECT(\"'SorP'!$A$\"&MATCH($J2357,SorP!$B$1:$B$6230,0))))","v":""},null,{"$f":"IF(C2357=\"\",NA(),MATCH($B2357&$C2357,'Smelter Look-up'!$J:$J,0))","v":{"$error":"#N/A"}},null,0,null,null,null,""]
[{"$nulls":18},{"$f":"IF(ISERROR($W2358),\"\",OFFSET('Smelter Look-up'!$C$4,$W2358-4,0)&\"\")","v":""},"",{"$f":"IF(B2358=\"\",\"\",IF(ISERROR(MATCH($J2358,SorP!$B$1:$B$6230,0)),\"\",INDIRECT(\"'SorP'!$A$\"&MATCH($J2358,SorP!$B$1:$B$6230,0))))","v":""},null,{"$f":"IF(C2358=\"\",NA(),MATCH($B2358&$C2358,'Smelter Look-up'!$J:$J,0))","v":{"$error":"#N/A"}},null,0,null,null,null,""]
[{"$nulls":18},{"$f":"IF(ISERROR($W2359),\"\",OFFSET('Smelter Look-up'!$C$4,$W2359-4,0)&\"\")","v":""},"",{"$f":"IF(B2359=\"\",\"\",IF(ISERROR(MATCH($J2359,SorP!$B$1:$B$6230,0)),\"\",INDIRECT(\"'SorP'!$A$\"&MATCH($J2359,SorP!$B$1:$B$6230,0))))","v":""},null,{"$f":"IF(C2359=\"\",NA(),MATCH($B2359&$C2359,'Smelter Look-up'!$J:$J,0))","v":{"$error":"#N/A"}},null,0,null,null,null,""]
[{"$nulls":18},{"$f":"IF(ISERROR($W2360),\"\",OFFSET('Smelter Look-up'!$C$4,$W2360-4,0)&\"\")","v":""},"",{"$f":"IF(B2360=\"\",\"\",IF(ISERROR(MATCH($J2360,SorP!$B$1:$B$6230,0)),\"\",INDIRECT(\"'SorP'!$A$\"&MATCH($J2360,SorP!$B$1:$B$6230,0))))","v":""},null,{"$f":"IF(C2360=\"\",NA(),MATCH($B2360&$C2360,'Smelter Look-up'!$J:$J,0))","v":{"$error":"#N/A"}},null,0,null,null,null,""]
[{"$nulls":18},{"$f":"IF(ISERROR($W2361),\"\",OFFSET('Smelter Look-up'!$C$4,$W2361-4,0)&\"\")","v":""},"",{"$f":"IF(B2361=\"\",\"\",IF(ISERROR(MATCH($J2361,SorP!$B$1:$B$6230,0)),\"\",INDIRECT(\"'SorP'!$A$\"&MATCH($J2361,SorP!$B$1:$B$6230,0))))","v":""},null,{"$f":"IF(C2361=\"\",NA(),MATCH($B2361&$C2361,'Smelter Look-up'!$J:$J,0))","v":{"$error":"#N/A"}},null,0,null,null,null,""]
[{"$nulls":18},{"$f":"IF(ISERROR($W2362),\"\",OFFSET('Smelter Look-up'!$C$4,$W2362-4,0)&\"\")","v":""},"",{"$f":"IF(B2362=\"\",\"\",IF(ISERROR(MATCH($J2362,SorP!$B$1:$B$6230,0)),\"\",INDIRECT(\"'SorP'!$A$\"&MATCH($J2362,SorP!$B$1:$B$6230,0))))","v":""},null,{"$f":"IF(C2362=\"\",NA(),MATCH($B2362&$C2362,'Smelter Look-up'!$J:$J,0))","v":{"$error":"#N/A"}},null,0,null,null,null,""]
[{"$nulls":18},{"$f":"IF(ISERROR($W2363),\"\",OFFSET('Smelter Look-up'!$C$4,$W2363-4,0)&\"\")","v":""},"",{"$f":"IF(B2363=\"\",\"\",IF(ISERROR(MATCH($J2363,SorP!$B$1:$B$6230,0)),\"\",INDIRECT(\"'SorP'!$A$\"&MATCH($J2363,SorP!$B$1:$B$6230,0))))","v":""},null,{"$f":"IF(C2363=\"\",NA(),MATCH($B2363&$C2363,'Smelter Look-up'!$J:$J,0))","v":{"$error":"#N/A"}},null,0,null,null,null,""]
[{"$nulls":18},{"$f":"IF(ISERROR($W2364),\"\",OFFSET('Smelter Look-up'!$C$4,$W2364-4,0)&\"\")","v":""},"",{"$f":"IF(B2364=\"\",\"\",IF(ISERROR(MATCH($J2364,SorP!$B$1:$B$6230,0)),\"\",INDIRECT(\"'SorP'!$A$\"&MATCH($J2364,SorP!$B$1:$B$6230,0))))","v":""},null,{"$f":"IF(C2364=\"\",NA(),MATCH($B2364&$C2364,'Smelter Look-up'!$J:$J,0))","v":{"$error":"#N/A"}},null,0,null,null,null,""]
[{"$nulls":18},{"$f":"IF(ISERROR($W2365),\"\",OFFSET('Smelter Look-up'!$C$4,$W2365-4,0)&\"\")","v":""},"",{"$f":"IF(B2365=\"\",\"\",IF(ISERROR(MATCH($J2365,SorP!$B$1:$B$6230,0)),\"\",INDIRECT(\"'SorP'!$A$\"&MATCH($J2365,SorP!$B$1:$B$6230,0))))","v":""},null,{"$f":"IF(C2365=\"\",NA(),MATCH($B2365&$C2365,'Smelter Look-up'!$J:$J,0))","v":{"$error":"#N/A"}},null,0,null,null,null,""]
[{"$nulls":18},{"$f":"IF(ISERROR($W2366),\"\",OFFSET('Smelter Look-up'!$C$4,$W2366-4,0)&\"\")","v":""},"",{"$f":"IF(B2366=\"\",\"\",IF(ISERROR(MATCH($J2366,SorP!$B$1:$B$6230,0)),\"\",INDIRECT(\"'SorP'!$A$\"&MATCH($J2366,SorP!$B$1:$B$6230,0))))","v":""},null,{"$f":"IF(C2366=\"\",NA(),MATCH($B2366&$C2366,'Smelter Look-up'!$J:$J,0))","v":{"$error":"#N/A"}},null,0,null,null,null,""]
[{"$nulls":18},{"$f":"IF(ISERROR($W2367),\"\",OFFSET('Smelter Look-up'!$C$4,$W2367-4,0)&\"\")","v":""},"",{"$f":"IF(B2367=\"\",\"\",IF(ISERROR(MATCH($J2367,SorP!$B$1:$B$6230,0)),\"\",INDIRECT(\"'SorP'!$A$\"&MATCH($J2367,SorP!$B$1:$B$6230,0))))","v":""},null,{"$f":"IF(C2367=\"\",NA(),MATCH($B2367&$C2367,'Smelter Look-up'!$J:$J,0))","v":{"$error":"#N/A"}},null,0,null,null,null,""]
[{"$nulls":18},{"$f":"IF(ISERROR($W2368),\"\",OFFSET('Smelter Look-up'!$C$4,$W2368-4,0)&\"\")","v":""},"",{"$f":"IF(B2368=\"\",\"\",IF(ISERROR(MATCH($J2368,SorP!$B$1:$B$6230,0)),\"\",INDIRECT(\"'SorP'!$A$\"&MATCH($J2368,SorP!$B$1:$B$6230,0))))","v":""},null,{"$f":"IF(C2368=\"\",NA(),MATCH($B2368&$C2368,'Smelter Look-up'!$J:$J,0))","v":{"$error":"#N/A"}},null,0,null,null,null,""]
[{"$nulls":18},{"$f":"IF(ISERROR($W2369),\"\",OFFSET('Smelter Look-up'!$C$4,$W2369-4,0)&\"\")","v":""},"",{"$f":"IF(B2369=\"\",\"\",IF(ISERROR(MATCH($J2369,SorP!$B$1:$B$6230,0)),\"\",INDIRECT(\"'SorP'!$A$\"&MATCH($J2369,SorP!$B$1:$B$6230,0))))","v":""},null,{"$f":"IF(C2369=\"\",NA(),MATCH($B2369&$C2369,'Smelter Look-up'!$J:$J,0))","v":{"$error":"#N/A"}},null,0,null,null,null,""]
[{"$nulls":18},{"$f":"IF(ISERROR($W2370),\"\",OFFSET('Smelter Look-up'!$C$4,$W2370-4,0)&\"\")","v":""},"",{"$f":"IF(B2370=\"\",\"\",IF(ISERROR(MATCH($J2370,SorP!$B$1:$B$6230,0)),\"\",INDIRECT(\"'SorP'!$A$\"&MATCH($J2370,SorP!$B$1:$B$6230,0))))","v":""},null,{"$f":"IF(C2370=\"\",NA(),MATCH($B2370&$C2370,'Smelter Look-up'!$J:$J,0))","v":{"$error":"#N/A"}},null,0,null,null,null,""]
[{"$nulls":18},{"$f":"IF(ISERROR($W2371),\"\",OFFSET('Smelter Look-up'!$C$4,$W2371-4,0)&\"\")","v":""},"",{"$f":"IF(B2371=\"\",\"\",IF(ISERROR(MATCH($J2371,SorP!$B$1:$B$6230,0)),\"\",INDIRECT(\"'SorP'!$A$\"&MATCH($J2371,SorP!$B$1:$B$6230,0))))","v":""},null,{"$f":"IF(C2371=\"\",NA(),MATCH($B2371&$C2371,'Smelter Look-up'!$J:$J,0))","v":{"$error":"#N/A"}},null,0,null,null,null,""]
[{"$nulls":18},{"$f":"IF(ISERROR($W2372),\"\",OFFSET('Smelter Look-up'!$C$4,$W2372-4,0)&\"\")","v":""},"",{"$f":"IF(B2372=\"\",\"\",IF(ISERROR(MATCH($J2372,SorP!$B$1:$B$6230,0)),\"\",INDIRECT(\"'SorP'!$A$\"&MATCH($J2372,SorP!$B$1:$B$6230,0))))","v":""},null,{"$f":"IF(C2372=\"\",NA(),MATCH($B2372&$C2372,'Smelter Look-up'!$J:$J,0))","v":{"$error":"#N/A"}},null,0,null,null,null,""]
[{"$nulls":18},{"$f":"IF(ISERROR($W2373),\"\",OFFSET('Smelter Look-up'!$C$4,$W2373-4,0)&\"\")","v":""},{"$f":"IF(B2373=\"\",\"\",IF(ISERROR(MATCH($E2373,CL,0)),\"Unknown\",INDIRECT(\"'C'!$A$\"&MATCH($E2373,CL,0)+1)))","v":""},{"$f":"IF(B2373=\"\",\"\",IF(ISERROR(MATCH($J2373,SorP!$B$1:$B$6230,0)),\"\",INDIRECT(\"'SorP'!$A$\"&MATCH($J2373,SorP!$B$1:$B$6230,0))))","v":""},null,{"$f":"IF(C2373=\"\",NA(),MATCH($B2373&$C2373,'Smelter Look-up'!$J:$J,0))","v":{"$error":"#N/A"}},null,{"$f":"IF(AND(C2373=\"Smelter not listed\",OR(LEN(D2373)=0,LEN(E2373)=0)),1,0)","v":0},null,null,null,{"$f":"B2373&C2373","v":""}]
[{"$nulls":18},{"$f":"IF(ISERROR($W2374),\"\",OFFSET('Smelter Look-up'!$C$4,$W2374-4,0)&\"\")","v":""},"",{"$f":"IF(B2374=\"\",\"\",IF(ISERROR(MATCH($J2374,SorP!$B$1:$B$6230,0)),\"\",INDIRECT(\"'SorP'!$A$\"&MATCH($J2374,SorP!$B$1:$B$6230,0))))","v":""},null,{"$f":"IF(C2374=\"\",NA(),MATCH($B2374&$C2374,'Smelter Look-up'!$J:$J,0))","v":{"$error":"#N/A"}},null,0,null,null,null,""]
[{"$nulls":18},{"$f":"IF(ISERROR($W2375),\"\",OFFSET('Smelter Look-up'!$C$4,$W2375-4,0)&\"\")","v":""},"",{"$f":"IF(B2375=\"\",\"\",IF(ISERROR(MATCH($J2375,SorP!$B$1:$B$6230,0)),\"\",INDIRECT(\"'SorP'!$A$\"&MATCH($J2375,SorP!$B$1:$B$6230,0))))","v":""},null,{"$f":"IF(C2375=\"\",NA(),MATCH($B2375&$C2375,'Smelter Look-up'!$J:$J,0))","v":{"$error":"#N/A"}},null,0,null,null,null,""]
[{"$nulls":18},{"$f":"IF(ISERROR($W2376),\"\",OFFSET('Smelter Look-up'!$C$4,$W2376-4,0)&\"\")","v":""},"",{"$f":"IF(B2376=\"\",\"\",IF(ISERROR(MATCH($J2376,SorP!$B$1:$B$6230,0)),\"\",INDIRECT(\"'SorP'!$A$\"&MATCH($J2376,SorP!$B$1:$B$6230,0))))","v":""},null,{"$f":"IF(C2376=\"\",NA(),MATCH($B2376&$C2376,'Smelter Look-up'!$J:$J,0))","v":{"$error":"#N/A"}},null,0,null,null,null,""]
[{"$nulls":18},{"$f":"IF(ISERROR($W2377),\"\",OFFSET('Smelter Look-up'!$C$4,$W2377-4,0)&\"\")","v":""},"",{"$f":"IF(B2377=\"\",\"\",IF(ISERROR(MATCH($J2377,SorP!$B$1:$B$6230,0)),\"\",INDIRECT(\"'SorP'!$A$\"&MATCH($J2377,SorP!$B$1:$B$6230,0))))","v":""},null,{"$f":"IF(C2377=\"\",NA(),MATCH($B2377&$C2377,'Smelter Look-up'!$J:$J,0))","v":{"$error":"#N/A"}},null,0,null,null,null,""]
[{"$nulls":18},{"$f":"IF(ISERROR($W2378),\"\",OFFSET('Smelter Look-up'!$C$4,$W2378-4,0)&\"\")","v":""},"",{"$f":"IF(B2378=\"\",\"\",IF(ISERROR(MATCH($J2378,SorP!$B$1:$B$6230,0)),\"\",INDIRECT(\"'SorP'!$A$\"&MATCH($J2378,SorP!$B$1:$B$6230,0))))","v":""},null,{"$f":"IF(C2378=\"\",NA(),MATCH($B2378&$C2378,'Smelter Look-up'!$J:$J,0))","v":{"$error":"#N/A"}},null,0,null,null,null,""]
[{"$nulls":18},{"$f":"IF(ISERROR($W2379),\"\",OFFSET('Smelter Look-up'!$C$4,$W2379-4,0)&\"\")","v":""},"",{"$f":"IF(B2379=\"\",\"\",IF(ISERROR(MATCH($J2379,SorP!$B$1:$B$6230,0)),\"\",INDIRECT(\"'SorP'!$A$\"&MATCH($J2379,SorP!$B$1:$B$6230,0))))","v":""},null,{"$f":"IF(C2379=\"\",NA(),MATCH($B2379&$C2379,'Smelter Look-up'!$J:$J,0))","v":{"$error":"#N/A"}},null,0,null,null,null,""]
[{"$nulls":18},{"$f":"IF(ISERROR($W2380),\"\",OFFSET('Smelter Look-up'!$C$4,$W2380-4,0)&\"\")","v":""},"",{"$f":"IF(B2380=\"\",\"\",IF(ISERROR(MATCH($J2380,SorP!$B$1:$B$6230,0)),\"\",INDIRECT(\"'SorP'!$A$\"&MATCH($J2380,SorP!$B$1:$B$6230,0))))","v":""},null,{"$f":"IF(C2380=\"\",NA(),MATCH($B2380&$C2380,'Smelter Look-up'!$J:$J,0))","v":{"$error":"#N/A"}},null,0,null,null,null,""]
[{"$nulls":18},{"$f":"IF(ISERROR($W2381),\"\",OFFSET('Smelter Look-up'!$C$4,$W2381-4,0)&\"\")","v":""},"",{"$f":"IF(B2381=\"\",\"\",IF(ISERROR(MATCH($J2381,SorP!$B$1:$B$6230,0)),\"\",INDIRECT(\"'SorP'!$A$\"&MATCH($J2381,SorP!$B$1:$B$6230,0))))","v":""},null,{"$f":"IF(C2381=\"\",NA(),MATCH($B2381&$C2381,'Smelter Look-up'!$J:$J,0))","v":{"$error":"#N/A"}},null,0,null,null,null,""]
[{"$nulls":18},{"$f":"IF(ISERROR($W2382),\"\",OFFSET('Smelter Look-up'!$C$4,$W2382-4,0)&\"\")","v":""},"",{"$f":"IF(B2382=\"\",\"\",IF(ISERROR(MATCH($J2382,SorP!$B$1:$B$6230,0)),\"\",INDIRECT(\"'SorP'!$A$\"&MATCH($J2382,SorP!$B$1:$B$6230,0))))","v":""},null,{"$f":"IF(C2382=\"\",NA(),MATCH($B2382&$C2382,'Smelter Look-up'!$J:$J,0))","v":{"$error":"#N/A"}},null,0,null,null,null,""]
[{"$nulls":18},{"$f":"IF(ISERROR($W2383),\"\",OFFSET('Smelter Look-up'!$C$4,$W2383-4,0)&\"\")","v":""},"",{"$f":"IF(B2383=\"\",\"\",IF(ISERROR(MATCH($J2383,SorP!$B$1:$B$6230,0)),\"\",INDIRECT(\"'SorP'!$A$\"&MATCH($J2383,SorP!$B$1:$B$6230,0))))","v":""},null,{"$f":"IF(C2383=\"\",NA(),MATCH($B2383&$C2383,'Smelter Look-up'!$J:$J,0))","v":{"$error":"#N/A"}},null,0,null,null,null,""]
[{"$nulls":18},{"$f":"IF(ISERROR($W2384),\"\",OFFSET('Smelter Look-up'!$C$4,$W2384-4,0)&\"\")","v":""},"",{"$f":"IF(B2384=\"\",\"\",IF(ISERROR(MATCH($J2384,SorP!$B$1:$B$6230,0)),\"\",INDIRECT(\"'SorP'!$A$\"&MATCH($J2384,SorP!$B$1:$B$6230,0))))","v":""},null,{"$f":"IF(C2384=\"\",NA(),MATCH($B2384&$C2384,'Smelter Look-up'!$J:$J,0))","v":{"$error":"#N/A"}},null,0,null,null,null,""]
[{"$nulls":18},{"$f":"IF(ISERROR($W2385),\"\",OFFSET('Smelter Look-up'!$C$4,$W2385-4,0)&\"\")","v":""},"",{"$f":"IF(B2385=\"\",\"\",IF(ISERROR(MATCH($J2385,SorP!$B$1:$B$6230,0)),\"\",INDIRECT(\"'SorP'!$A$\"&MATCH($J2385,SorP!$B$1:$B$6230,0))))","v":""},null,{"$f":"IF(C2385=\"\",NA(),MATCH($B2385&$C2385,'Smelter Look-up'!$J:$J,0))","v":{"$error":"#N/A"}},null,0,null,null,null,""]
[{"$nulls":18},{"$f":"IF(ISERROR($W2386),\"\",OFFSET('Smelter Look-up'!$C$4,$W2386-4,0)&\"\")","v":""},"",{"$f":"IF(B2386=\"\",\"\",IF(ISERROR(MATCH($J2386,SorP!$B$1:$B$6230,0)),\"\",INDIRECT(\"'SorP'!$A$\"&MATCH($J2386,SorP!$B$1:$B$6230,0))))","v":""},null,{"$f":"IF(C2386=\"\",NA(),MATCH($B2386&$C2386,'Smelter Look-up'!$J:$J,0))","v":{"$error":"#N/A"}},null,0,null,null,null,""]
[{"$nulls":18},{"$f":"IF(ISERROR($W2387),\"\",OFFSET('Smelter Look-up'!$C$4,$W2387-4,0)&\"\")","v":""},"",{"$f":"IF(B2387=\"\",\"\",IF(ISERROR(MATCH($J2387,SorP!$B$1:$B$6230,0)),\"\",INDIRECT(\"'SorP'!$A$\"&MATCH($J2387,SorP!$B$1:$B$6230,0))))","v":""},null,{"$f":"IF(C2387=\"\",NA(),MATCH($B2387&$C2387,'Smelter Look-up'!$J:$J,0))","v":{"$error":"#N/A"}},null,0,null,null,null,""]
[{"$nulls":18},{"$f":"IF(ISERROR($W2388),\"\",OFFSET('Smelter Look-up'!$C$4,$W2388-4,0)&\"\")","v":""},"",{"$f":"IF(B2388=\"\",\"\",IF(ISERROR(MATCH($J2388,SorP!$B$1:$B$6230,0)),\"\",INDIRECT(\"'SorP'!$A$\"&MATCH($J2388,SorP!$B$1:$B$6230,0))))","v":""},null,{"$f":"IF(C2388=\"\",NA(),MATCH($B2388&$C2388,'Smelter Look-up'!$J:$J,0))","v":{"$error":"#N/A"}},null,0,null,null,null,""]
[{"$nulls":18},{"$f":"IF(ISERROR($W2389),\"\",OFFSET('Smelter Look-up'!$C$4,$W2389-4,0)&\"\")","v":""},"",{"$f":"IF(B2389=\"\",\"\",IF(ISERROR(MATCH($J2389,SorP!$B$1:$B$6230,0)),\"\",INDIRECT(\"'SorP'!$A$\"&MATCH($J2389,SorP!$B$1:$B$6230,0))))","v":""},null,{"$f":"IF(C2389=\"\",NA(),MATCH($B2389&$C2389,'Smelter Look-up'!$J:$J,0))","v":{"$error":"#N/A"}},null,0,null,null,null,""]
[{"$nulls":18},{"$f":"IF(ISERROR($W2390),\"\",OFFSET('Smelter Look-up'!$C$4,$W2390-4,0)&\"\")","v":""},"",{"$f":"IF(B2390=\"\",\"\",IF(ISERROR(MATCH($J2390,SorP!$B$1:$B$6230,0)),\"\",INDIRECT(\"'SorP'!$A$\"&MATCH($J2390,SorP!$B$1:$B$6230,0))))","v":""},null,{"$f":"IF(C2390=\"\",NA(),MATCH($B2390&$C2390,'Smelter Look-up'!$J:$J,0))","v":{"$error":"#N/A"}},null,0,null,null,null,""]
[{"$nulls":18},{"$f":"IF(ISERROR($W2391),\"\",OFFSET('Smelter Look-up'!$C$4,$W2391-4,0)&\"\")","v":""},"",{"$f":"IF(B2391=\"\",\"\",IF(ISERROR(MATCH($J2391,SorP!$B$1:$B$6230,0)),\"\",INDIRECT(\"'SorP'!$A$\"&MATCH($J2391,SorP!$B$1:$B$6230,0))))","v":""},null,{"$f":"IF(C2391=\"\",NA(),MATCH($B2391&$C2391,'Smelter Look-up'!$J:$J,0))","v":{"$error":"#N/A"}},null,0,null,null,null,""]
[{"$nulls":18},{"$f":"IF(ISERROR($W2392),\"\",OFFSET('Smelter Look-up'!$C$4,$W2392-4,0)&\"\")","v":""},"",{"$f":"IF(B2392=\"\",\"\",IF(ISERROR(MATCH($J2392,SorP!$B$1:$B$6230,0)),\"\",INDIRECT(\"'SorP'!$A$\"&MATCH($J2392,SorP!$B$1:$B$6230,0))))","v":""},null,{"$f":"IF(C2392=\"\",NA(),MATCH($B2392&$C2392,'Smelter Look-up'!$J:$J,0))","v":{"$error":"#N/A"}},null,0,null,null,null,""]
[{"$nulls":18},{"$f":"IF(ISERROR($W2393),\"\",OFFSET('Smelter Look-up'!$C$4,$W2393-4,0)&\"\")","v":""},"",{"$f":"IF(B2393=\"\",\"\",IF(ISERROR(MATCH($J2393,SorP!$B$1:$B$6230,0)),\"\",INDIRECT(\"'SorP'!$A$\"&MATCH($J2393,SorP!$B$1:$B$6230,0))))","v":""},null,{"$f":"IF(C2393=\"\",NA(),MATCH($B2393&$C2393,'Smelter Look-up'!$J:$J,0))","v":{"$error":"#N/A"}},null,0,null,null,null,""]
[{"$nulls":18},{"$f":"IF(ISERROR($W2394),\"\",OFFSET('Smelter Look-up'!$C$4,$W2394-4,0)&\"\")","v":""},"",{"$f":"IF(B2394=\"\",\"\",IF(ISERROR(MATCH($J2394,SorP!$B$1:$B$6230,0)),\"\",INDIRECT(\"'SorP'!$A$\"&MATCH($J2394,SorP!$B$1:$B$6230,0))))","v":""},null,{"$f":"IF(C2394=\"\",NA(),MATCH($B2394&$C2394,'Smelter Look-up'!$J:$J,0))","v":{"$error":"#N/A"}},null,0,null,null,null,""]
[{"$nulls":18},{"$f":"IF(ISERROR($W2395),\"\",OFFSET('Smelter Look-up'!$C$4,$W2395-4,0)&\"\")","v":""},"",{"$f":"IF(B2395=\"\",\"\",IF(ISERROR(MATCH($J2395,SorP!$B$1:$B$6230,0)),\"\",INDIRECT(\"'SorP'!$A$\"&MATCH($J2395,SorP!$B$1:$B$6230,0))))","v":""},null,{"$f":"IF(C2395=\"\",NA(),MATCH($B2395&$C2395,'Smelter Look-up'!$J:$J,0))","v":{"$error":"#N/A"}},null,0,null,null,null,""]
[{"$nulls":18},{"$f":"IF(ISERROR($W2396),\"\",OFFSET('Smelter Look-up'!$C$4,$W2396-4,0)&\"\")","v":""},"",{"$f":"IF(B2396=\"\",\"\",IF(ISERROR(MATCH($J2396,SorP!$B$1:$B$6230,0)),\"\",INDIRECT(\"'SorP'!$A$\"&MATCH($J2396,SorP!$B$1:$B$6230,0))))","v":""},null,{"$f":"IF(C2396=\"\",NA(),MATCH($B2396&$C2396,'Smelter Look-up'!$J:$J,0))","v":{"$error":"#N/A"}},null,0,null,null,null,""]
[{"$nulls":18},{"$f":"IF(ISERROR($W2397),\"\",OFFSET('Smelter Look-up'!$C$4,$W2397-4,0)&\"\")","v":""},"",{"$f":"IF(B2397=\"\",\"\",IF(ISERROR(MATCH($J2397,SorP!$B$1:$B$6230,0)),\"\",INDIRECT(\"'SorP'!$A$\"&MATCH($J2397,SorP!$B$1:$B$6230,0))))","v":""},null,{"$f":"IF(C2397=\"\",NA(),MATCH($B2397&$C2397,'Smelter Look-up'!$J:$J,0))","v":{"$error":"#N/A"}},null,0,null,null,null,""]
[{"$nulls":18},{"$f":"IF(ISERROR($W2398),\"\",OFFSET('Smelter Look-up'!$C$4,$W2398-4,0)&\"\")","v":""},"",{"$f":"IF(B2398=\"\",\"\",IF(ISERROR(MATCH($J2398,SorP!$B$1:$B$6230,0)),\"\",INDIRECT(\"'SorP'!$A$\"&MATCH($J2398,SorP!$B$1:$B$6230,0))))","v":""},null,{"$f":"IF(C2398=\"\",NA(),MATCH($B2398&$C2398,'Smelter Look-up'!$J:$J,0))","v":{"$error":"#N/A"}},null,0,null,null,null,""]
[{"$nulls":18},{"$f":"IF(ISERROR($W2399),\"\",OFFSET('Smelter Look-up'!$C$4,$W2399-4,0)&\"\")","v":""},"",{"$f":"IF(B2399=\"\",\"\",IF(ISERROR(MATCH($J2399,SorP!$B$1:$B$6230,0)),\"\",INDIRECT(\"'SorP'!$A$\"&MATCH($J2399,SorP!$B$1:$B$6230,0))))","v":""},null,{"$f":"IF(C2399=\"\",NA(),MATCH($B2399&$C2399,'Smelter Look-up'!$J:$J,0))","v":{"$error":"#N/A"}},null,0,null,null,null,""]
[{"$nulls":18},{"$f":"IF(ISERROR($W2400),\"\",OFFSET('Smelter Look-up'!$C$4,$W2400-4,0)&\"\")","v":""},"",{"$f":"IF(B2400=\"\",\"\",IF(ISERROR(MATCH($J2400,SorP!$B$1:$B$6230,0)),\"\",INDIRECT(\"'SorP'!$A$\"&MATCH($J2400,SorP!$B$1:$B$6230,0))))","v":""},null,{"$f":"IF(C2400=\"\",NA(),MATCH($B2400&$C2400,'Smelter Look-up'!$J:$J,0))","v":{"$error":"#N/A"}},null,0,null,null,null,""]
[{"$nulls":18},{"$f":"IF(ISERROR($W2401),\"\",OFFSET('Smelter Look-up'!$C$4,$W2401-4,0)&\"\")","v":""},"",{"$f":"IF(B2401=\"\",\"\",IF(ISERROR(MATCH($J2401,SorP!$B$1:$B$6230,0)),\"\",INDIRECT(\"'SorP'!$A$\"&MATCH($J2401,SorP!$B$1:$B$6230,0))))","v":""},null,{"$f":"IF(C2401=\"\",NA(),MATCH($B2401&$C2401,'Smelter Look-up'!$J:$J,0))","v":{"$error":"#N/A"}},null,0,null,null,null,""]
[{"$nulls":18},{"$f":"IF(ISERROR($W2402),\"\",OFFSET('Smelter Look-up'!$C$4,$W2402-4,0)&\"\")","v":""},"",{"$f":"IF(B2402=\"\",\"\",IF(ISERROR(MATCH($J2402,SorP!$B$1:$B$6230,0)),\"\",INDIRECT(\"'SorP'!$A$\"&MATCH($J2402,SorP!$B$1:$B$6230,0))))","v":""},null,{"$f":"IF(C2402=\"\",NA(),MATCH($B2402&$C2402,'Smelter Look-up'!$J:$J,0))","v":{"$error":"#N/A"}},null,0,null,null,null,""]
[{"$nulls":18},{"$f":"IF(ISERROR($W2403),\"\",OFFSET('Smelter Look-up'!$C$4,$W2403-4,0)&\"\")","v":""},"",{"$f":"IF(B2403=\"\",\"\",IF(ISERROR(MATCH($J2403,SorP!$B$1:$B$6230,0)),\"\",INDIRECT(\"'SorP'!$A$\"&MATCH($J2403,SorP!$B$1:$B$6230,0))))","v":""},null,{"$f":"IF(C2403=\"\",NA(),MATCH($B2403&$C2403,'Smelter Look-up'!$J:$J,0))","v":{"$error":"#N/A"}},null,0,null,null,null,""]
[{"$nulls":18},{"$f":"IF(ISERROR($W2404),\"\",OFFSET('Smelter Look-up'!$C$4,$W2404-4,0)&\"\")","v":""},"",{"$f":"IF(B2404=\"\",\"\",IF(ISERROR(MATCH($J2404,SorP!$B$1:$B$6230,0)),\"\",INDIRECT(\"'SorP'!$A$\"&MATCH($J2404,SorP!$B$1:$B$6230,0))))","v":""},null,{"$f":"IF(C2404=\"\",NA(),MATCH($B2404&$C2404,'Smelter Look-up'!$J:$J,0))","v":{"$error":"#N/A"}},null,0,null,null,null,""]
[{"$nulls":18},{"$f":"IF(ISERROR($W2405),\"\",OFFSET('Smelter Look-up'!$C$4,$W2405-4,0)&\"\")","v":""},"",{"$f":"IF(B2405=\"\",\"\",IF(ISERROR(MATCH($J2405,SorP!$B$1:$B$6230,0)),\"\",INDIRECT(\"'SorP'!$A$\"&MATCH($J2405,SorP!$B$1:$B$6230,0))))","v":""},null,{"$f":"IF(C2405=\"\",NA(),MATCH($B2405&$C2405,'Smelter Look-up'!$J:$J,0))","v":{"$error":"#N/A"}},null,0,null,null,null,""]
[{"$nulls":18},{"$f":"IF(ISERROR($W2406),\"\",OFFSET('Smelter Look-up'!$C$4,$W2406-4,0)&\"\")","v":""},"",{"$f":"IF(B2406=\"\",\"\",IF(ISERROR(MATCH($J2406,SorP!$B$1:$B$6230,0)),\"\",INDIRECT(\"'SorP'!$A$\"&MATCH($J2406,SorP!$B$1:$B$6230,0))))","v":""},null,{"$f":"IF(C2406=\"\",NA(),MATCH($B2406&$C2406,'Smelter Look-up'!$J:$J,0))","v":{"$error":"#N/A"}},null,0,null,null,null,""]
[{"$nulls":18},{"$f":"IF(ISERROR($W2407),\"\",OFFSET('Smelter Look-up'!$C$4,$W2407-4,0)&\"\")","v":""},"",{"$f":"IF(B2407=\"\",\"\",IF(ISERROR(MATCH($J2407,SorP!$B$1:$B$6230,0)),\"\",INDIRECT(\"'SorP'!$A$\"&MATCH($J2407,SorP!$B$1:$B$6230,0))))","v":""},null,{"$f":"IF(C2407=\"\",NA(),MATCH($B2407&$C2407,'Smelter Look-up'!$J:$J,0))","v":{"$error":"#N/A"}},null,0,null,null,null,""]
[{"$nulls":18},{"$f":"IF(ISERROR($W2408),\"\",OFFSET('Smelter Look-up'!$C$4,$W2408-4,0)&\"\")","v":""},"",{"$f":"IF(B2408=\"\",\"\",IF(ISERROR(MATCH($J2408,SorP!$B$1:$B$6230,0)),\"\",INDIRECT(\"'SorP'!$A$\"&MATCH($J2408,SorP!$B$1:$B$6230,0))))","v":""},null,{"$f":"IF(C2408=\"\",NA(),MATCH($B2408&$C2408,'Smelter Look-up'!$J:$J,0))","v":{"$error":"#N/A"}},null,0,null,null,null,""]
[{"$nulls":18},{"$f":"IF(ISERROR($W2409),\"\",OFFSET('Smelter Look-up'!$C$4,$W2409-4,0)&\"\")","v":""},"",{"$f":"IF(B2409=\"\",\"\",IF(ISERROR(MATCH($J2409,SorP!$B$1:$B$6230,0)),\"\",INDIRECT(\"'SorP'!$A$\"&MATCH($J2409,SorP!$B$1:$B$6230,0))))","v":""},null,{"$f":"IF(C2409=\"\",NA(),MATCH($B2409&$C2409,'Smelter Look-up'!$J:$J,0))","v":{"$error":"#N/A"}},null,0,null,null,null,""]
[{"$nulls":18},{"$f":"IF(ISERROR($W2410),\"\",OFFSET('Smelter Look-up'!$C$4,$W2410-4,0)&\"\")","v":""},"",{"$f":"IF(B2410=\"\",\"\",IF(ISERROR(MATCH($J2410,SorP!$B$1:$B$6230,0)),\"\",INDIRECT(\"'SorP'!$A$\"&MATCH($J2410,SorP!$B$1:$B$6230,0))))","v":""},null,{"$f":"IF(C2410=\"\",NA(),MATCH($B2410&$C2410,'Smelter Look-up'!$J:$J,0))","v":{"$error":"#N/A"}},null,0,null,null,null,""]
[{"$nulls":18},{"$f":"IF(ISERROR($W2411),\"\",OFFSET('Smelter Look-up'!$C$4,$W2411-4,0)&\"\")","v":""},"",{"$f":"IF(B2411=\"\",\"\",IF(ISERROR(MATCH($J2411,SorP!$B$1:$B$6230,0)),\"\",INDIRECT(\"'SorP'!$A$\"&MATCH($J2411,SorP!$B$1:$B$6230,0))))","v":""},null,{"$f":"IF(C2411=\"\",NA(),MATCH($B2411&$C2411,'Smelter Look-up'!$J:$J,0))","v":{"$error":"#N/A"}},null,0,null,null,null,""]
[{"$nulls":18},{"$f":"IF(ISERROR($W2412),\"\",OFFSET('Smelter Look-up'!$C$4,$W2412-4,0)&\"\")","v":""},"",{"$f":"IF(B2412=\"\",\"\",IF(ISERROR(MATCH($J2412,SorP!$B$1:$B$6230,0)),\"\",INDIRECT(\"'SorP'!$A$\"&MATCH($J2412,SorP!$B$1:$B$6230,0))))","v":""},null,{"$f":"IF(C2412=\"\",NA(),MATCH($B2412&$C2412,'Smelter Look-up'!$J:$J,0))","v":{"$error":"#N/A"}},null,0,null,null,null,""]
[{"$nulls":18},{"$f":"IF(ISERROR($W2413),\"\",OFFSET('Smelter Look-up'!$C$4,$W2413-4,0)&\"\")","v":""},"",{"$f":"IF(B2413=\"\",\"\",IF(ISERROR(MATCH($J2413,SorP!$B$1:$B$6230,0)),\"\",INDIRECT(\"'SorP'!$A$\"&MATCH($J2413,SorP!$B$1:$B$6230,0))))","v":""},null,{"$f":"IF(C2413=\"\",NA(),MATCH($B2413&$C2413,'Smelter Look-up'!$J:$J,0))","v":{"$error":"#N/A"}},null,0,null,null,null,""]
[{"$nulls":18},{"$f":"IF(ISERROR($W2414),\"\",OFFSET('Smelter Look-up'!$C$4,$W2414-4,0)&\"\")","v":""},"",{"$f":"IF(B2414=\"\",\"\",IF(ISERROR(MATCH($J2414,SorP!$B$1:$B$6230,0)),\"\",INDIRECT(\"'SorP'!$A$\"&MATCH($J2414,SorP!$B$1:$B$6230,0))))","v":""},null,{"$f":"IF(C2414=\"\",NA(),MATCH($B2414&$C2414,'Smelter Look-up'!$J:$J,0))","v":{"$error":"#N/A"}},null,0,null,null,null,""]
[{"$nulls":18},{"$f":"IF(ISERROR($W2415),\"\",OFFSET('Smelter Look-up'!$C$4,$W2415-4,0)&\"\")","v":""},"",{"$f":"IF(B2415=\"\",\"\",IF(ISERROR(MATCH($J2415,SorP!$B$1:$B$6230,0)),\"\",INDIRECT(\"'SorP'!$A$\"&MATCH($J2415,SorP!$B$1:$B$6230,0))))","v":""},null,{"$f":"IF(C2415=\"\",NA(),MATCH($B2415&$C2415,'Smelter Look-up'!$J:$J,0))","v":{"$error":"#N/A"}},null,0,null,null,null,""]
[{"$nulls":18},{"$f":"IF(ISERROR($W2416),\"\",OFFSET('Smelter Look-up'!$C$4,$W2416-4,0)&\"\")","v":""},"",{"$f":"IF(B2416=\"\",\"\",IF(ISERROR(MATCH($J2416,SorP!$B$1:$B$6230,0)),\"\",INDIRECT(\"'SorP'!$A$\"&MATCH($J2416,SorP!$B$1:$B$6230,0))))","v":""},null,{"$f":"IF(C2416=\"\",NA(),MATCH($B2416&$C2416,'Smelter Look-up'!$J:$J,0))","v":{"$error":"#N/A"}},null,0,null,null,null,""]
[{"$nulls":18},{"$f":"IF(ISERROR($W2417),\"\",OFFSET('Smelter Look-up'!$C$4,$W2417-4,0)&\"\")","v":""},"",{"$f":"IF(B2417=\"\",\"\",IF(ISERROR(MATCH($J2417,SorP!$B$1:$B$6230,0)),\"\",INDIRECT(\"'SorP'!$A$\"&MATCH($J2417,SorP!$B$1:$B$6230,0))))","v":""},null,{"$f":"IF(C2417=\"\",NA(),MATCH($B2417&$C2417,'Smelter Look-up'!$J:$J,0))","v":{"$error":"#N/A"}},null,0,null,null,null,""]
[{"$nulls":18},{"$f":"IF(ISERROR($W2418),\"\",OFFSET('Smelter Look-up'!$C$4,$W2418-4,0)&\"\")","v":""},"",{"$f":"IF(B2418=\"\",\"\",IF(ISERROR(MATCH($J2418,SorP!$B$1:$B$6230,0)),\"\",INDIRECT(\"'SorP'!$A$\"&MATCH($J2418,SorP!$B$1:$B$6230,0))))","v":""},null,{"$f":"IF(C2418=\"\",NA(),MATCH($B2418&$C2418,'Smelter Look-up'!$J:$J,0))","v":{"$error":"#N/A"}},null,0,null,null,null,""]
[{"$nulls":18},{"$f":"IF(ISERROR($W2419),\"\",OFFSET('Smelter Look-up'!$C$4,$W2419-4,0)&\"\")","v":""},"",{"$f":"IF(B2419=\"\",\"\",IF(ISERROR(MATCH($J2419,SorP!$B$1:$B$6230,0)),\"\",INDIRECT(\"'SorP'!$A$\"&MATCH($J2419,SorP!$B$1:$B$6230,0))))","v":""},null,{"$f":"IF(C2419=\"\",NA(),MATCH($B2419&$C2419,'Smelter Look-up'!$J:$J,0))","v":{"$error":"#N/A"}},null,0,null,null,null,""]
[{"$nulls":18},{"$f":"IF(ISERROR($W2420),\"\",OFFSET('Smelter Look-up'!$C$4,$W2420-4,0)&\"\")","v":""},"",{"$f":"IF(B2420=\"\",\"\",IF(ISERROR(MATCH($J2420,SorP!$B$1:$B$6230,0)),\"\",INDIRECT(\"'SorP'!$A$\"&MATCH($J2420,SorP!$B$1:$B$6230,0))))","v":""},null,{"$f":"IF(C2420=\"\",NA(),MATCH($B2420&$C2420,'Smelter Look-up'!$J:$J,0))","v":{"$error":"#N/A"}},null,0,null,null,null,""]
[{"$nulls":18},{"$f":"IF(ISERROR($W2421),\"\",OFFSET('Smelter Look-up'!$C$4,$W2421-4,0)&\"\")","v":""},"",{"$f":"IF(B2421=\"\",\"\",IF(ISERROR(MATCH($J2421,SorP!$B$1:$B$6230,0)),\"\",INDIRECT(\"'SorP'!$A$\"&MATCH($J2421,SorP!$B$1:$B$6230,0))))","v":""},null,{"$f":"IF(C2421=\"\",NA(),MATCH($B2421&$C2421,'Smelter Look-up'!$J:$J,0))","v":{"$error":"#N/A"}},null,0,null,null,null,""]
[{"$nulls":18},{"$f":"IF(ISERROR($W2422),\"\",OFFSET('Smelter Look-up'!$C$4,$W2422-4,0)&\"\")","v":""},"",{"$f":"IF(B2422=\"\",\"\",IF(ISERROR(MATCH($J2422,SorP!$B$1:$B$6230,0)),\"\",INDIRECT(\"'SorP'!$A$\"&MATCH($J2422,SorP!$B$1:$B$6230,0))))","v":""},null,{"$f":"IF(C2422=\"\",NA(),MATCH($B2422&$C2422,'Smelter Look-up'!$J:$J,0))","v":{"$error":"#N/A"}},null,0,null,null,null,""]
[{"$nulls":18},{"$f":"IF(ISERROR($W2423),\"\",OFFSET('Smelter Look-up'!$C$4,$W2423-4,0)&\"\")","v":""},"",{"$f":"IF(B2423=\"\",\"\",IF(ISERROR(MATCH($J2423,SorP!$B$1:$B$6230,0)),\"\",INDIRECT(\"'SorP'!$A$\"&MATCH($J2423,SorP!$B$1:$B$6230,0))))","v":""},null,{"$f":"IF(C2423=\"\",NA(),MATCH($B2423&$C2423,'Smelter Look-up'!$J:$J,0))","v":{"$error":"#N/A"}},null,0,null,null,null,""]
[{"$nulls":18},{"$f":"IF(ISERROR($W2424),\"\",OFFSET('Smelter Look-up'!$C$4,$W2424-4,0)&\"\")","v":""},"",{"$f":"IF(B2424=\"\",\"\",IF(ISERROR(MATCH($J2424,SorP!$B$1:$B$6230,0)),\"\",INDIRECT(\"'SorP'!$A$\"&MATCH($J2424,SorP!$B$1:$B$6230,0))))","v":""},null,{"$f":"IF(C2424=\"\",NA(),MATCH($B2424&$C2424,'Smelter Look-up'!$J:$J,0))","v":{"$error":"#N/A"}},null,0,null,null,null,""]
[{"$nulls":18},{"$f":"IF(ISERROR($W2425),\"\",OFFSET('Smelter Look-up'!$C$4,$W2425-4,0)&\"\")","v":""},"",{"$f":"IF(B2425=\"\",\"\",IF(ISERROR(MATCH($J2425,SorP!$B$1:$B$6230,0)),\"\",INDIRECT(\"'SorP'!$A$\"&MATCH($J2425,SorP!$B$1:$B$6230,0))))","v":""},null,{"$f":"IF(C2425=\"\",NA(),MATCH($B2425&$C2425,'Smelter Look-up'!$J:$J,0))","v":{"$error":"#N/A"}},null,0,null,null,null,""]
[{"$nulls":18},{"$f":"IF(ISERROR($W2426),\"\",OFFSET('Smelter Look-up'!$C$4,$W2426-4,0)&\"\")","v":""},"",{"$f":"IF(B2426=\"\",\"\",IF(ISERROR(MATCH($J2426,SorP!$B$1:$B$6230,0)),\"\",INDIRECT(\"'SorP'!$A$\"&MATCH($J2426,SorP!$B$1:$B$6230,0))))","v":""},null,{"$f":"IF(C2426=\"\",NA(),MATCH($B2426&$C2426,'Smelter Look-up'!$J:$J,0))","v":{"$error":"#N/A"}},null,0,null,null,null,""]
[{"$nulls":18},{"$f":"IF(ISERROR($W2427),\"\",OFFSET('Smelter Look-up'!$C$4,$W2427-4,0)&\"\")","v":""},"",{"$f":"IF(B2427=\"\",\"\",IF(ISERROR(MATCH($J2427,SorP!$B$1:$B$6230,0)),\"\",INDIRECT(\"'SorP'!$A$\"&MATCH($J2427,SorP!$B$1:$B$6230,0))))","v":""},null,{"$f":"IF(C2427=\"\",NA(),MATCH($B2427&$C2427,'Smelter Look-up'!$J:$J,0))","v":{"$error":"#N/A"}},null,0,null,null,null,""]
[{"$nulls":18},{"$f":"IF(ISERROR($W2428),\"\",OFFSET('Smelter Look-up'!$C$4,$W2428-4,0)&\"\")","v":""},"",{"$f":"IF(B2428=\"\",\"\",IF(ISERROR(MATCH($J2428,SorP!$B$1:$B$6230,0)),\"\",INDIRECT(\"'SorP'!$A$\"&MATCH($J2428,SorP!$B$1:$B$6230,0))))","v":""},null,{"$f":"IF(C2428=\"\",NA(),MATCH($B2428&$C2428,'Smelter Look-up'!$J:$J,0))","v":{"$error":"#N/A"}},null,0,null,null,null,""]
[{"$nulls":18},{"$f":"IF(ISERROR($W2429),\"\",OFFSET('Smelter Look-up'!$C$4,$W2429-4,0)&\"\")","v":""},"",{"$f":"IF(B2429=\"\",\"\",IF(ISERROR(MATCH($J2429,SorP!$B$1:$B$6230,0)),\"\",INDIRECT(\"'SorP'!$A$\"&MATCH($J2429,SorP!$B$1:$B$6230,0))))","v":""},null,{"$f":"IF(C2429=\"\",NA(),MATCH($B2429&$C2429,'Smelter Look-up'!$J:$J,0))","v":{"$error":"#N/A"}},null,0,null,null,null,""]
[{"$nulls":18},{"$f":"IF(ISERROR($W2430),\"\",OFFSET('Smelter Look-up'!$C$4,$W2430-4,0)&\"\")","v":""},"",{"$f":"IF(B2430=\"\",\"\",IF(ISERROR(MATCH($J2430,SorP!$B$1:$B$6230,0)),\"\",INDIRECT(\"'SorP'!$A$\"&MATCH($J2430,SorP!$B$1:$B$6230,0))))","v":""},null,{"$f":"IF(C2430=\"\",NA(),MATCH($B2430&$C2430,'Smelter Look-up'!$J:$J,0))","v":{"$error":"#N/A"}},null,0,null,null,null,""]
[{"$nulls":18},{"$f":"IF(ISERROR($W2431),\"\",OFFSET('Smelter Look-up'!$C$4,$W2431-4,0)&\"\")","v":""},"",{"$f":"IF(B2431=\"\",\"\",IF(ISERROR(MATCH($J2431,SorP!$B$1:$B$6230,0)),\"\",INDIRECT(\"'SorP'!$A$\"&MATCH($J2431,SorP!$B$1:$B$6230,0))))","v":""},null,{"$f":"IF(C2431=\"\",NA(),MATCH($B2431&$C2431,'Smelter Look-up'!$J:$J,0))","v":{"$error":"#N/A"}},null,0,null,null,null,""]
[{"$nulls":18},{"$f":"IF(ISERROR($W2432),\"\",OFFSET('Smelter Look-up'!$C$4,$W2432-4,0)&\"\")","v":""},"",{"$f":"IF(B2432=\"\",\"\",IF(ISERROR(MATCH($J2432,SorP!$B$1:$B$6230,0)),\"\",INDIRECT(\"'SorP'!$A$\"&MATCH($J2432,SorP!$B$1:$B$6230,0))))","v":""},null,{"$f":"IF(C2432=\"\",NA(),MATCH($B2432&$C2432,'Smelter Look-up'!$J:$J,0))","v":{"$error":"#N/A"}},null,0,null,null,null,""]
[{"$nulls":18},{"$f":"IF(ISERROR($W2433),\"\",OFFSET('Smelter Look-up'!$C$4,$W2433-4,0)&\"\")","v":""},"",{"$f":"IF(B2433=\"\",\"\",IF(ISERROR(MATCH($J2433,SorP!$B$1:$B$6230,0)),\"\",INDIRECT(\"'SorP'!$A$\"&MATCH($J2433,SorP!$B$1:$B$6230,0))))","v":""},null,{"$f":"IF(C2433=\"\",NA(),MATCH($B2433&$C2433,'Smelter Look-up'!$J:$J,0))","v":{"$error":"#N/A"}},null,0,null,null,null,""]
[{"$nulls":18},{"$f":"IF(ISERROR($W2434),\"\",OFFSET('Smelter Look-up'!$C$4,$W2434-4,0)&\"\")","v":""},"",{"$f":"IF(B2434=\"\",\"\",IF(ISERROR(MATCH($J2434,SorP!$B$1:$B$6230,0)),\"\",INDIRECT(\"'SorP'!$A$\"&MATCH($J2434,SorP!$B$1:$B$6230,0))))","v":""},null,{"$f":"IF(C2434=\"\",NA(),MATCH($B2434&$C2434,'Smelter Look-up'!$J:$J,0))","v":{"$error":"#N/A"}},null,0,null,null,null,""]
[{"$nulls":18},{"$f":"IF(ISERROR($W2435),\"\",OFFSET('Smelter Look-up'!$C$4,$W2435-4,0)&\"\")","v":""},"",{"$f":"IF(B2435=\"\",\"\",IF(ISERROR(MATCH($J2435,SorP!$B$1:$B$6230,0)),\"\",INDIRECT(\"'SorP'!$A$\"&MATCH($J2435,SorP!$B$1:$B$6230,0))))","v":""},null,{"$f":"IF(C2435=\"\",NA(),MATCH($B2435&$C2435,'Smelter Look-up'!$J:$J,0))","v":{"$error":"#N/A"}},null,0,null,null,null,""]
[{"$nulls":18},{"$f":"IF(ISERROR($W2436),\"\",OFFSET('Smelter Look-up'!$C$4,$W2436-4,0)&\"\")","v":""},"",{"$f":"IF(B2436=\"\",\"\",IF(ISERROR(MATCH($J2436,SorP!$B$1:$B$6230,0)),\"\",INDIRECT(\"'SorP'!$A$\"&MATCH($J2436,SorP!$B$1:$B$6230,0))))","v":""},null,{"$f":"IF(C2436=\"\",NA(),MATCH($B2436&$C2436,'Smelter Look-up'!$J:$J,0))","v":{"$error":"#N/A"}},null,0,null,null,null,""]
[{"$nulls":18},{"$f":"IF(ISERROR($W2437),\"\",OFFSET('Smelter Look-up'!$C$4,$W2437-4,0)&\"\")","v":""},{"$f":"IF(B2437=\"\",\"\",IF(ISERROR(MATCH($E2437,CL,0)),\"Unknown\",INDIRECT(\"'C'!$A$\"&MATCH($E2437,CL,0)+1)))","v":""},{"$f":"IF(B2437=\"\",\"\",IF(ISERROR(MATCH($J2437,SorP!$B$1:$B$6230,0)),\"\",INDIRECT(\"'SorP'!$A$\"&MATCH($J2437,SorP!$B$1:$B$6230,0))))","v":""},null,{"$f":"IF(C2437=\"\",NA(),MATCH($B2437&$C2437,'Smelter Look-up'!$J:$J,0))","v":{"$error":"#N/A"}},null,{"$f":"IF(AND(C2437=\"Smelter not listed\",OR(LEN(D2437)=0,LEN(E2437)=0)),1,0)","v":0},null,null,null,{"$f":"B2437&C2437","v":""}]
[{"$nulls":18},{"$f":"IF(ISERROR($W2438),\"\",OFFSET('Smelter Look-up'!$C$4,$W2438-4,0)&\"\")","v":""},"",{"$f":"IF(B2438=\"\",\"\",IF(ISERROR(MATCH($J2438,SorP!$B$1:$B$6230,0)),\"\",INDIRECT(\"'SorP'!$A$\"&MATCH($J2438,SorP!$B$1:$B$6230,0))))","v":""},null,{"$f":"IF(C2438=\"\",NA(),MATCH($B2438&$C2438,'Smelter Look-up'!$J:$J,0))","v":{"$error":"#N/A"}},null,0,null,null,null,""]
[{"$nulls":18},{"$f":"IF(ISERROR($W2439),\"\",OFFSET('Smelter Look-up'!$C$4,$W2439-4,0)&\"\")","v":""},"",{"$f":"IF(B2439=\"\",\"\",IF(ISERROR(MATCH($J2439,SorP!$B$1:$B$6230,0)),\"\",INDIRECT(\"'SorP'!$A$\"&MATCH($J2439,SorP!$B$1:$B$6230,0))))","v":""},null,{"$f":"IF(C2439=\"\",NA(),MATCH($B2439&$C2439,'Smelter Look-up'!$J:$J,0))","v":{"$error":"#N/A"}},null,0,null,null,null,""]
[{"$nulls":18},{"$f":"IF(ISERROR($W2440),\"\",OFFSET('Smelter Look-up'!$C$4,$W2440-4,0)&\"\")","v":""},"",{"$f":"IF(B2440=\"\",\"\",IF(ISERROR(MATCH($J2440,SorP!$B$1:$B$6230,0)),\"\",INDIRECT(\"'SorP'!$A$\"&MATCH($J2440,SorP!$B$1:$B$6230,0))))","v":""},null,{"$f":"IF(C2440=\"\",NA(),MATCH($B2440&$C2440,'Smelter Look-up'!$J:$J,0))","v":{"$error":"#N/A"}},null,0,null,null,null,""]
[{"$nulls":18},{"$f":"IF(ISERROR($W2441),\"\",OFFSET('Smelter Look-up'!$C$4,$W2441-4,0)&\"\")","v":""},"",{"$f":"IF(B2441=\"\",\"\",IF(ISERROR(MATCH($J2441,SorP!$B$1:$B$6230,0)),\"\",INDIRECT(\"'SorP'!$A$\"&MATCH($J2441,SorP!$B$1:$B$6230,0))))","v":""},null,{"$f":"IF(C2441=\"\",NA(),MATCH($B2441&$C2441,'Smelter Look-up'!$J:$J,0))","v":{"$error":"#N/A"}},null,0,null,null,null,""]
[{"$nulls":18},{"$f":"IF(ISERROR($W2442),\"\",OFFSET('Smelter Look-up'!$C$4,$W2442-4,0)&\"\")","v":""},"",{"$f":"IF(B2442=\"\",\"\",IF(ISERROR(MATCH($J2442,SorP!$B$1:$B$6230,0)),\"\",INDIRECT(\"'SorP'!$A$\"&MATCH($J2442,SorP!$B$1:$B$6230,0))))","v":""},null,{"$f":"IF(C2442=\"\",NA(),MATCH($B2442&$C2442,'Smelter Look-up'!$J:$J,0))","v":{"$error":"#N/A"}},null,0,null,null,null,""]
[{"$nulls":18},{"$f":"IF(ISERROR($W2443),\"\",OFFSET('Smelter Look-up'!$C$4,$W2443-4,0)&\"\")","v":""},"",{"$f":"IF(B2443=\"\",\"\",IF(ISERROR(MATCH($J2443,SorP!$B$1:$B$6230,0)),\"\",INDIRECT(\"'SorP'!$A$\"&MATCH($J2443,SorP!$B$1:$B$6230,0))))","v":""},null,{"$f":"IF(C2443=\"\",NA(),MATCH($B2443&$C2443,'Smelter Look-up'!$J:$J,0))","v":{"$error":"#N/A"}},null,0,null,null,null,""]
[{"$nulls":18},{"$f":"IF(ISERROR($W2444),\"\",OFFSET('Smelter Look-up'!$C$4,$W2444-4,0)&\"\")","v":""},"",{"$f":"IF(B2444=\"\",\"\",IF(ISERROR(MATCH($J2444,SorP!$B$1:$B$6230,0)),\"\",INDIRECT(\"'SorP'!$A$\"&MATCH($J2444,SorP!$B$1:$B$6230,0))))","v":""},null,{"$f":"IF(C2444=\"\",NA(),MATCH($B2444&$C2444,'Smelter Look-up'!$J:$J,0))","v":{"$error":"#N/A"}},null,0,null,null,null,""]
[{"$nulls":18},{"$f":"IF(ISERROR($W2445),\"\",OFFSET('Smelter Look-up'!$C$4,$W2445-4,0)&\"\")","v":""},"",{"$f":"IF(B2445=\"\",\"\",IF(ISERROR(MATCH($J2445,SorP!$B$1:$B$6230,0)),\"\",INDIRECT(\"'SorP'!$A$\"&MATCH($J2445,SorP!$B$1:$B$6230,0))))","v":""},null,{"$f":"IF(C2445=\"\",NA(),MATCH($B2445&$C2445,'Smelter Look-up'!$J:$J,0))","v":{"$error":"#N/A"}},null,0,null,null,null,""]
[{"$nulls":18},{"$f":"IF(ISERROR($W2446),\"\",OFFSET('Smelter Look-up'!$C$4,$W2446-4,0)&\"\")","v":""},"",{"$f":"IF(B2446=\"\",\"\",IF(ISERROR(MATCH($J2446,SorP!$B$1:$B$6230,0)),\"\",INDIRECT(\"'SorP'!$A$\"&MATCH($J2446,SorP!$B$1:$B$6230,0))))","v":""},null,{"$f":"IF(C2446=\"\",NA(),MATCH($B2446&$C2446,'Smelter Look-up'!$J:$J,0))","v":{"$error":"#N/A"}},null,0,null,null,null,""]
[{"$nulls":18},{"$f":"IF(ISERROR($W2447),\"\",OFFSET('Smelter Look-up'!$C$4,$W2447-4,0)&\"\")","v":""},"",{"$f":"IF(B2447=\"\",\"\",IF(ISERROR(MATCH($J2447,SorP!$B$1:$B$6230,0)),\"\",INDIRECT(\"'SorP'!$A$\"&MATCH($J2447,SorP!$B$1:$B$6230,0))))","v":""},null,{"$f":"IF(C2447=\"\",NA(),MATCH($B2447&$C2447,'Smelter Look-up'!$J:$J,0))","v":{"$error":"#N/A"}},null,0,null,null,null,""]
[{"$nulls":18},{"$f":"IF(ISERROR($W2448),\"\",OFFSET('Smelter Look-up'!$C$4,$W2448-4,0)&\"\")","v":""},"",{"$f":"IF(B2448=\"\",\"\",IF(ISERROR(MATCH($J2448,SorP!$B$1:$B$6230,0)),\"\",INDIRECT(\"'SorP'!$A$\"&MATCH($J2448,SorP!$B$1:$B$6230,0))))","v":""},null,{"$f":"IF(C2448=\"\",NA(),MATCH($B2448&$C2448,'Smelter Look-up'!$J:$J,0))","v":{"$error":"#N/A"}},null,0,null,null,null,""]
[{"$nulls":18},{"$f":"IF(ISERROR($W2449),\"\",OFFSET('Smelter Look-up'!$C$4,$W2449-4,0)&\"\")","v":""},"",{"$f":"IF(B2449=\"\",\"\",IF(ISERROR(MATCH($J2449,SorP!$B$1:$B$6230,0)),\"\",INDIRECT(\"'SorP'!$A$\"&MATCH($J2449,SorP!$B$1:$B$6230,0))))","v":""},null,{"$f":"IF(C2449=\"\",NA(),MATCH($B2449&$C2449,'Smelter Look-up'!$J:$J,0))","v":{"$error":"#N/A"}},null,0,null,null,null,""]
[{"$nulls":18},{"$f":"IF(ISERROR($W2450),\"\",OFFSET('Smelter Look-up'!$C$4,$W2450-4,0)&\"\")","v":""},"",{"$f":"IF(B2450=\"\",\"\",IF(ISERROR(MATCH($J2450,SorP!$B$1:$B$6230,0)),\"\",INDIRECT(\"'SorP'!$A$\"&MATCH($J2450,SorP!$B$1:$B$6230,0))))","v":""},null,{"$f":"IF(C2450=\"\",NA(),MATCH($B2450&$C2450,'Smelter Look-up'!$J:$J,0))","v":{"$error":"#N/A"}},null,0,null,null,null,""]
[{"$nulls":18},{"$f":"IF(ISERROR($W2451),\"\",OFFSET('Smelter Look-up'!$C$4,$W2451-4,0)&\"\")","v":""},"",{"$f":"IF(B2451=\"\",\"\",IF(ISERROR(MATCH($J2451,SorP!$B$1:$B$6230,0)),\"\",INDIRECT(\"'SorP'!$A$\"&MATCH($J2451,SorP!$B$1:$B$6230,0))))","v":""},null,{"$f":"IF(C2451=\"\",NA(),MATCH($B2451&$C2451,'Smelter Look-up'!$J:$J,0))","v":{"$error":"#N/A"}},null,0,null,null,null,""]
[{"$nulls":18},{"$f":"IF(ISERROR($W2452),\"\",OFFSET('Smelter Look-up'!$C$4,$W2452-4,0)&\"\")","v":""},"",{"$f":"IF(B2452=\"\",\"\",IF(ISERROR(MATCH($J2452,SorP!$B$1:$B$6230,0)),\"\",INDIRECT(\"'SorP'!$A$\"&MATCH($J2452,SorP!$B$1:$B$6230,0))))","v":""},null,{"$f":"IF(C2452=\"\",NA(),MATCH($B2452&$C2452,'Smelter Look-up'!$J:$J,0))","v":{"$error":"#N/A"}},null,0,null,null,null,""]
[{"$nulls":18},{"$f":"IF(ISERROR($W2453),\"\",OFFSET('Smelter Look-up'!$C$4,$W2453-4,0)&\"\")","v":""},"",{"$f":"IF(B2453=\"\",\"\",IF(ISERROR(MATCH($J2453,SorP!$B$1:$B$6230,0)),\"\",INDIRECT(\"'SorP'!$A$\"&MATCH($J2453,SorP!$B$1:$B$6230,0))))","v":""},null,{"$f":"IF(C2453=\"\",NA(),MATCH($B2453&$C2453,'Smelter Look-up'!$J:$J,0))","v":{"$error":"#N/A"}},null,0,null,null,null,""]
[{"$nulls":18},{"$f":"IF(ISERROR($W2454),\"\",OFFSET('Smelter Look-up'!$C$4,$W2454-4,0)&\"\")","v":""},"",{"$f":"IF(B2454=\"\",\"\",IF(ISERROR(MATCH($J2454,SorP!$B$1:$B$6230,0)),\"\",INDIRECT(\"'SorP'!$A$\"&MATCH($J2454,SorP!$B$1:$B$6230,0))))","v":""},null,{"$f":"IF(C2454=\"\",NA(),MATCH($B2454&$C2454,'Smelter Look-up'!$J:$J,0))","v":{"$error":"#N/A"}},null,0,null,null,null,""]
[{"$nulls":18},{"$f":"IF(ISERROR($W2455),\"\",OFFSET('Smelter Look-up'!$C$4,$W2455-4,0)&\"\")","v":""},"",{"$f":"IF(B2455=\"\",\"\",IF(ISERROR(MATCH($J2455,SorP!$B$1:$B$6230,0)),\"\",INDIRECT(\"'SorP'!$A$\"&MATCH($J2455,SorP!$B$1:$B$6230,0))))","v":""},null,{"$f":"IF(C2455=\"\",NA(),MATCH($B2455&$C2455,'Smelter Look-up'!$J:$J,0))","v":{"$error":"#N/A"}},null,0,null,null,null,""]
[{"$nulls":18},{"$f":"IF(ISERROR($W2456),\"\",OFFSET('Smelter Look-up'!$C$4,$W2456-4,0)&\"\")","v":""},"",{"$f":"IF(B2456=\"\",\"\",IF(ISERROR(MATCH($J2456,SorP!$B$1:$B$6230,0)),\"\",INDIRECT(\"'SorP'!$A$\"&MATCH($J2456,SorP!$B$1:$B$6230,0))))","v":""},null,{"$f":"IF(C2456=\"\",NA(),MATCH($B2456&$C2456,'Smelter Look-up'!$J:$J,0))","v":{"$error":"#N/A"}},null,0,null,null,null,""]
[{"$nulls":18},{"$f":"IF(ISERROR($W2457),\"\",OFFSET('Smelter Look-up'!$C$4,$W2457-4,0)&\"\")","v":""},"",{"$f":"IF(B2457=\"\",\"\",IF(ISERROR(MATCH($J2457,SorP!$B$1:$B$6230,0)),\"\",INDIRECT(\"'SorP'!$A$\"&MATCH($J2457,SorP!$B$1:$B$6230,0))))","v":""},null,{"$f":"IF(C2457=\"\",NA(),MATCH($B2457&$C2457,'Smelter Look-up'!$J:$J,0))","v":{"$error":"#N/A"}},null,0,null,null,null,""]
[{"$nulls":18},{"$f":"IF(ISERROR($W2458),\"\",OFFSET('Smelter Look-up'!$C$4,$W2458-4,0)&\"\")","v":""},"",{"$f":"IF(B2458=\"\",\"\",IF(ISERROR(MATCH($J2458,SorP!$B$1:$B$6230,0)),\"\",INDIRECT(\"'SorP'!$A$\"&MATCH($J2458,SorP!$B$1:$B$6230,0))))","v":""},null,{"$f":"IF(C2458=\"\",NA(),MATCH($B2458&$C2458,'Smelter Look-up'!$J:$J,0))","v":{"$error":"#N/A"}},null,0,null,null,null,""]
[{"$nulls":18},{"$f":"IF(ISERROR($W2459),\"\",OFFSET('Smelter Look-up'!$C$4,$W2459-4,0)&\"\")","v":""},"",{"$f":"IF(B2459=\"\",\"\",IF(ISERROR(MATCH($J2459,SorP!$B$1:$B$6230,0)),\"\",INDIRECT(\"'SorP'!$A$\"&MATCH($J2459,SorP!$B$1:$B$6230,0))))","v":""},null,{"$f":"IF(C2459=\"\",NA(),MATCH($B2459&$C2459,'Smelter Look-up'!$J:$J,0))","v":{"$error":"#N/A"}},null,0,null,null,null,""]
[{"$nulls":18},{"$f":"IF(ISERROR($W2460),\"\",OFFSET('Smelter Look-up'!$C$4,$W2460-4,0)&\"\")","v":""},"",{"$f":"IF(B2460=\"\",\"\",IF(ISERROR(MATCH($J2460,SorP!$B$1:$B$6230,0)),\"\",INDIRECT(\"'SorP'!$A$\"&MATCH($J2460,SorP!$B$1:$B$6230,0))))","v":""},null,{"$f":"IF(C2460=\"\",NA(),MATCH($B2460&$C2460,'Smelter Look-up'!$J:$J,0))","v":{"$error":"#N/A"}},null,0,null,null,null,""]
[{"$nulls":18},{"$f":"IF(ISERROR($W2461),\"\",OFFSET('Smelter Look-up'!$C$4,$W2461-4,0)&\"\")","v":""},"",{"$f":"IF(B2461=\"\",\"\",IF(ISERROR(MATCH($J2461,SorP!$B$1:$B$6230,0)),\"\",INDIRECT(\"'SorP'!$A$\"&MATCH($J2461,SorP!$B$1:$B$6230,0))))","v":""},null,{"$f":"IF(C2461=\"\",NA(),MATCH($B2461&$C2461,'Smelter Look-up'!$J:$J,0))","v":{"$error":"#N/A"}},null,0,null,null,null,""]
[{"$nulls":18},{"$f":"IF(ISERROR($W2462),\"\",OFFSET('Smelter Look-up'!$C$4,$W2462-4,0)&\"\")","v":""},"",{"$f":"IF(B2462=\"\",\"\",IF(ISERROR(MATCH($J2462,SorP!$B$1:$B$6230,0)),\"\",INDIRECT(\"'SorP'!$A$\"&MATCH($J2462,SorP!$B$1:$B$6230,0))))","v":""},null,{"$f":"IF(C2462=\"\",NA(),MATCH($B2462&$C2462,'Smelter Look-up'!$J:$J,0))","v":{"$error":"#N/A"}},null,0,null,null,null,""]
[{"$nulls":18},{"$f":"IF(ISERROR($W2463),\"\",OFFSET('Smelter Look-up'!$C$4,$W2463-4,0)&\"\")","v":""},"",{"$f":"IF(B2463=\"\",\"\",IF(ISERROR(MATCH($J2463,SorP!$B$1:$B$6230,0)),\"\",INDIRECT(\"'SorP'!$A$\"&MATCH($J2463,SorP!$B$1:$B$6230,0))))","v":""},null,{"$f":"IF(C2463=\"\",NA(),MATCH($B2463&$C2463,'Smelter Look-up'!$J:$J,0))","v":{"$error":"#N/A"}},null,0,null,null,null,""]
[{"$nulls":18},{"$f":"IF(ISERROR($W2464),\"\",OFFSET('Smelter Look-up'!$C$4,$W2464-4,0)&\"\")","v":""},"",{"$f":"IF(B2464=\"\",\"\",IF(ISERROR(MATCH($J2464,SorP!$B$1:$B$6230,0)),\"\",INDIRECT(\"'SorP'!$A$\"&MATCH($J2464,SorP!$B$1:$B$6230,0))))","v":""},null,{"$f":"IF(C2464=\"\",NA(),MATCH($B2464&$C2464,'Smelter Look-up'!$J:$J,0))","v":{"$error":"#N/A"}},null,0,null,null,null,""]
[{"$nulls":18},{"$f":"IF(ISERROR($W2465),\"\",OFFSET('Smelter Look-up'!$C$4,$W2465-4,0)&\"\")","v":""},"",{"$f":"IF(B2465=\"\",\"\",IF(ISERROR(MATCH($J2465,SorP!$B$1:$B$6230,0)),\"\",INDIRECT(\"'SorP'!$A$\"&MATCH($J2465,SorP!$B$1:$B$6230,0))))","v":""},null,{"$f":"IF(C2465=\"\",NA(),MATCH($B2465&$C2465,'Smelter Look-up'!$J:$J,0))","v":{"$error":"#N/A"}},null,0,null,null,null,""]
[{"$nulls":18},{"$f":"IF(ISERROR($W2466),\"\",OFFSET('Smelter Look-up'!$C$4,$W2466-4,0)&\"\")","v":""},"",{"$f":"IF(B2466=\"\",\"\",IF(ISERROR(MATCH($J2466,SorP!$B$1:$B$6230,0)),\"\",INDIRECT(\"'SorP'!$A$\"&MATCH($J2466,SorP!$B$1:$B$6230,0))))","v":""},null,{"$f":"IF(C2466=\"\",NA(),MATCH($B2466&$C2466,'Smelter Look-up'!$J:$J,0))","v":{"$error":"#N/A"}},null,0,null,null,null,""]
[{"$nulls":18},{"$f":"IF(ISERROR($W2467),\"\",OFFSET('Smelter Look-up'!$C$4,$W2467-4,0)&\"\")","v":""},"",{"$f":"IF(B2467=\"\",\"\",IF(ISERROR(MATCH($J2467,SorP!$B$1:$B$6230,0)),\"\",INDIRECT(\"'SorP'!$A$\"&MATCH($J2467,SorP!$B$1:$B$6230,0))))","v":""},null,{"$f":"IF(C2467=\"\",NA(),MATCH($B2467&$C2467,'Smelter Look-up'!$J:$J,0))","v":{"$error":"#N/A"}},null,0,null,null,null,""]
[{"$nulls":18},{"$f":"IF(ISERROR($W2468),\"\",OFFSET('Smelter Look-up'!$C$4,$W2468-4,0)&\"\")","v":""},"",{"$f":"IF(B2468=\"\",\"\",IF(ISERROR(MATCH($J2468,SorP!$B$1:$B$6230,0)),\"\",INDIRECT(\"'SorP'!$A$\"&MATCH($J2468,SorP!$B$1:$B$6230,0))))","v":""},null,{"$f":"IF(C2468=\"\",NA(),MATCH($B2468&$C2468,'Smelter Look-up'!$J:$J,0))","v":{"$error":"#N/A"}},null,0,null,null,null,""]
[{"$nulls":18},{"$f":"IF(ISERROR($W2469),\"\",OFFSET('Smelter Look-up'!$C$4,$W2469-4,0)&\"\")","v":""},"",{"$f":"IF(B2469=\"\",\"\",IF(ISERROR(MATCH($J2469,SorP!$B$1:$B$6230,0)),\"\",INDIRECT(\"'SorP'!$A$\"&MATCH($J2469,SorP!$B$1:$B$6230,0))))","v":""},null,{"$f":"IF(C2469=\"\",NA(),MATCH($B2469&$C2469,'Smelter Look-up'!$J:$J,0))","v":{"$error":"#N/A"}},null,0,null,null,null,""]
[{"$nulls":18},{"$f":"IF(ISERROR($W2470),\"\",OFFSET('Smelter Look-up'!$C$4,$W2470-4,0)&\"\")","v":""},"",{"$f":"IF(B2470=\"\",\"\",IF(ISERROR(MATCH($J2470,SorP!$B$1:$B$6230,0)),\"\",INDIRECT(\"'SorP'!$A$\"&MATCH($J2470,SorP!$B$1:$B$6230,0))))","v":""},null,{"$f":"IF(C2470=\"\",NA(),MATCH($B2470&$C2470,'Smelter Look-up'!$J:$J,0))","v":{"$error":"#N/A"}},null,0,null,null,null,""]
[{"$nulls":18},{"$f":"IF(ISERROR($W2471),\"\",OFFSET('Smelter Look-up'!$C$4,$W2471-4,0)&\"\")","v":""},"",{"$f":"IF(B2471=\"\",\"\",IF(ISERROR(MATCH($J2471,SorP!$B$1:$B$6230,0)),\"\",INDIRECT(\"'SorP'!$A$\"&MATCH($J2471,SorP!$B$1:$B$6230,0))))","v":""},null,{"$f":"IF(C2471=\"\",NA(),MATCH($B2471&$C2471,'Smelter Look-up'!$J:$J,0))","v":{"$error":"#N/A"}},null,0,null,null,null,""]
[{"$nulls":18},{"$f":"IF(ISERROR($W2472),\"\",OFFSET('Smelter Look-up'!$C$4,$W2472-4,0)&\"\")","v":""},"",{"$f":"IF(B2472=\"\",\"\",IF(ISERROR(MATCH($J2472,SorP!$B$1:$B$6230,0)),\"\",INDIRECT(\"'SorP'!$A$\"&MATCH($J2472,SorP!$B$1:$B$6230,0))))","v":""},null,{"$f":"IF(C2472=\"\",NA(),MATCH($B2472&$C2472,'Smelter Look-up'!$J:$J,0))","v":{"$error":"#N/A"}},null,0,null,null,null,""]
[{"$nulls":18},{"$f":"IF(ISERROR($W2473),\"\",OFFSET('Smelter Look-up'!$C$4,$W2473-4,0)&\"\")","v":""},"",{"$f":"IF(B2473=\"\",\"\",IF(ISERROR(MATCH($J2473,SorP!$B$1:$B$6230,0)),\"\",INDIRECT(\"'SorP'!$A$\"&MATCH($J2473,SorP!$B$1:$B$6230,0))))","v":""},null,{"$f":"IF(C2473=\"\",NA(),MATCH($B2473&$C2473,'Smelter Look-up'!$J:$J,0))","v":{"$error":"#N/A"}},null,0,null,null,null,""]
[{"$nulls":18},{"$f":"IF(ISERROR($W2474),\"\",OFFSET('Smelter Look-up'!$C$4,$W2474-4,0)&\"\")","v":""},"",{"$f":"IF(B2474=\"\",\"\",IF(ISERROR(MATCH($J2474,SorP!$B$1:$B$6230,0)),\"\",INDIRECT(\"'SorP'!$A$\"&MATCH($J2474,SorP!$B$1:$B$6230,0))))","v":""},null,{"$f":"IF(C2474=\"\",NA(),MATCH($B2474&$C2474,'Smelter Look-up'!$J:$J,0))","v":{"$error":"#N/A"}},null,0,null,null,null,""]
[{"$nulls":18},{"$f":"IF(ISERROR($W2475),\"\",OFFSET('Smelter Look-up'!$C$4,$W2475-4,0)&\"\")","v":""},"",{"$f":"IF(B2475=\"\",\"\",IF(ISERROR(MATCH($J2475,SorP!$B$1:$B$6230,0)),\"\",INDIRECT(\"'SorP'!$A$\"&MATCH($J2475,SorP!$B$1:$B$6230,0))))","v":""},null,{"$f":"IF(C2475=\"\",NA(),MATCH($B2475&$C2475,'Smelter Look-up'!$J:$J,0))","v":{"$error":"#N/A"}},null,0,null,null,null,""]
[{"$nulls":18},{"$f":"IF(ISERROR($W2476),\"\",OFFSET('Smelter Look-up'!$C$4,$W2476-4,0)&\"\")","v":""},"",{"$f":"IF(B2476=\"\",\"\",IF(ISERROR(MATCH($J2476,SorP!$B$1:$B$6230,0)),\"\",INDIRECT(\"'SorP'!$A$\"&MATCH($J2476,SorP!$B$1:$B$6230,0))))","v":""},null,{"$f":"IF(C2476=\"\",NA(),MATCH($B2476&$C2476,'Smelter Look-up'!$J:$J,0))","v":{"$error":"#N/A"}},null,0,null,null,null,""]
[{"$nulls":18},{"$f":"IF(ISERROR($W2477),\"\",OFFSET('Smelter Look-up'!$C$4,$W2477-4,0)&\"\")","v":""},"",{"$f":"IF(B2477=\"\",\"\",IF(ISERROR(MATCH($J2477,SorP!$B$1:$B$6230,0)),\"\",INDIRECT(\"'SorP'!$A$\"&MATCH($J2477,SorP!$B$1:$B$6230,0))))","v":""},null,{"$f":"IF(C2477=\"\",NA(),MATCH($B2477&$C2477,'Smelter Look-up'!$J:$J,0))","v":{"$error":"#N/A"}},null,0,null,null,null,""]
[{"$nulls":18},{"$f":"IF(ISERROR($W2478),\"\",OFFSET('Smelter Look-up'!$C$4,$W2478-4,0)&\"\")","v":""},"",{"$f":"IF(B2478=\"\",\"\",IF(ISERROR(MATCH($J2478,SorP!$B$1:$B$6230,0)),\"\",INDIRECT(\"'SorP'!$A$\"&MATCH($J2478,SorP!$B$1:$B$6230,0))))","v":""},null,{"$f":"IF(C2478=\"\",NA(),MATCH($B2478&$C2478,'Smelter Look-up'!$J:$J,0))","v":{"$error":"#N/A"}},null,0,null,null,null,""]
[{"$nulls":18},{"$f":"IF(ISERROR($W2479),\"\",OFFSET('Smelter Look-up'!$C$4,$W2479-4,0)&\"\")","v":""},"",{"$f":"IF(B2479=\"\",\"\",IF(ISERROR(MATCH($J2479,SorP!$B$1:$B$6230,0)),\"\",INDIRECT(\"'SorP'!$A$\"&MATCH($J2479,SorP!$B$1:$B$6230,0))))","v":""},null,{"$f":"IF(C2479=\"\",NA(),MATCH($B2479&$C2479,'Smelter Look-up'!$J:$J,0))","v":{"$error":"#N/A"}},null,0,null,null,null,""]
[{"$nulls":18},{"$f":"IF(ISERROR($W2480),\"\",OFFSET('Smelter Look-up'!$C$4,$W2480-4,0)&\"\")","v":""},"",{"$f":"IF(B2480=\"\",\"\",IF(ISERROR(MATCH($J2480,SorP!$B$1:$B$6230,0)),\"\",INDIRECT(\"'SorP'!$A$\"&MATCH($J2480,SorP!$B$1:$B$6230,0))))","v":""},null,{"$f":"IF(C2480=\"\",NA(),MATCH($B2480&$C2480,'Smelter Look-up'!$J:$J,0))","v":{"$error":"#N/A"}},null,0,null,null,null,""]
[{"$nulls":18},{"$f":"IF(ISERROR($W2481),\"\",OFFSET('Smelter Look-up'!$C$4,$W2481-4,0)&\"\")","v":""},"",{"$f":"IF(B2481=\"\",\"\",IF(ISERROR(MATCH($J2481,SorP!$B$1:$B$6230,0)),\"\",INDIRECT(\"'SorP'!$A$\"&MATCH($J2481,SorP!$B$1:$B$6230,0))))","v":""},null,{"$f":"IF(C2481=\"\",NA(),MATCH($B2481&$C2481,'Smelter Look-up'!$J:$J,0))","v":{"$error":"#N/A"}},null,0,null,null,null,""]
[{"$nulls":18},{"$f":"IF(ISERROR($W2482),\"\",OFFSET('Smelter Look-up'!$C$4,$W2482-4,0)&\"\")","v":""},"",{"$f":"IF(B2482=\"\",\"\",IF(ISERROR(MATCH($J2482,SorP!$B$1:$B$6230,0)),\"\",INDIRECT(\"'SorP'!$A$\"&MATCH($J2482,SorP!$B$1:$B$6230,0))))","v":""},null,{"$f":"IF(C2482=\"\",NA(),MATCH($B2482&$C2482,'Smelter Look-up'!$J:$J,0))","v":{"$error":"#N/A"}},null,0,null,null,null,""]
[{"$nulls":18},{"$f":"IF(ISERROR($W2483),\"\",OFFSET('Smelter Look-up'!$C$4,$W2483-4,0)&\"\")","v":""},"",{"$f":"IF(B2483=\"\",\"\",IF(ISERROR(MATCH($J2483,SorP!$B$1:$B$6230,0)),\"\",INDIRECT(\"'SorP'!$A$\"&MATCH($J2483,SorP!$B$1:$B$6230,0))))","v":""},null,{"$f":"IF(C2483=\"\",NA(),MATCH($B2483&$C2483,'Smelter Look-up'!$J:$J,0))","v":{"$error":"#N/A"}},null,0,null,null,null,""]
[{"$nulls":18},{"$f":"IF(ISERROR($W2484),\"\",OFFSET('Smelter Look-up'!$C$4,$W2484-4,0)&\"\")","v":""},"",{"$f":"IF(B2484=\"\",\"\",IF(ISERROR(MATCH($J2484,SorP!$B$1:$B$6230,0)),\"\",INDIRECT(\"'SorP'!$A$\"&MATCH($J2484,SorP!$B$1:$B$6230,0))))","v":""},null,{"$f":"IF(C2484=\"\",NA(),MATCH($B2484&$C2484,'Smelter Look-up'!$J:$J,0))","v":{"$error":"#N/A"}},null,0,null,null,null,""]
[{"$nulls":18},{"$f":"IF(ISERROR($W2485),\"\",OFFSET('Smelter Look-up'!$C$4,$W2485-4,0)&\"\")","v":""},"",{"$f":"IF(B2485=\"\",\"\",IF(ISERROR(MATCH($J2485,SorP!$B$1:$B$6230,0)),\"\",INDIRECT(\"'SorP'!$A$\"&MATCH($J2485,SorP!$B$1:$B$6230,0))))","v":""},null,{"$f":"IF(C2485=\"\",NA(),MATCH($B2485&$C2485,'Smelter Look-up'!$J:$J,0))","v":{"$error":"#N/A"}},null,0,null,null,null,""]
[{"$nulls":18},{"$f":"IF(ISERROR($W2486),\"\",OFFSET('Smelter Look-up'!$C$4,$W2486-4,0)&\"\")","v":""},"",{"$f":"IF(B2486=\"\",\"\",IF(ISERROR(MATCH($J2486,SorP!$B$1:$B$6230,0)),\"\",INDIRECT(\"'SorP'!$A$\"&MATCH($J2486,SorP!$B$1:$B$6230,0))))","v":""},null,{"$f":"IF(C2486=\"\",NA(),MATCH($B2486&$C2486,'Smelter Look-up'!$J:$J,0))","v":{"$error":"#N/A"}},null,0,null,null,null,""]
[{"$nulls":18},{"$f":"IF(ISERROR($W2487),\"\",OFFSET('Smelter Look-up'!$C$4,$W2487-4,0)&\"\")","v":""},"",{"$f":"IF(B2487=\"\",\"\",IF(ISERROR(MATCH($J2487,SorP!$B$1:$B$6230,0)),\"\",INDIRECT(\"'SorP'!$A$\"&MATCH($J2487,SorP!$B$1:$B$6230,0))))","v":""},null,{"$f":"IF(C2487=\"\",NA(),MATCH($B2487&$C2487,'Smelter Look-up'!$J:$J,0))","v":{"$error":"#N/A"}},null,0,null,null,null,""]
[{"$nulls":18},{"$f":"IF(ISERROR($W2488),\"\",OFFSET('Smelter Look-up'!$C$4,$W2488-4,0)&\"\")","v":""},"",{"$f":"IF(B2488=\"\",\"\",IF(ISERROR(MATCH($J2488,SorP!$B$1:$B$6230,0)),\"\",INDIRECT(\"'SorP'!$A$\"&MATCH($J2488,SorP!$B$1:$B$6230,0))))","v":""},null,{"$f":"IF(C2488=\"\",NA(),MATCH($B2488&$C2488,'Smelter Look-up'!$J:$J,0))","v":{"$error":"#N/A"}},null,0,null,null,null,""]
[{"$nulls":18},{"$f":"IF(ISERROR($W2489),\"\",OFFSET('Smelter Look-up'!$C$4,$W2489-4,0)&\"\")","v":""},"",{"$f":"IF(B2489=\"\",\"\",IF(ISERROR(MATCH($J2489,SorP!$B$1:$B$6230,0)),\"\",INDIRECT(\"'SorP'!$A$\"&MATCH($J2489,SorP!$B$1:$B$6230,0))))","v":""},null,{"$f":"IF(C2489=\"\",NA(),MATCH($B2489&$C2489,'Smelter Look-up'!$J:$J,0))","v":{"$error":"#N/A"}},null,0,null,null,null,""]
[{"$nulls":18},{"$f":"IF(ISERROR($W2490),\"\",OFFSET('Smelter Look-up'!$C$4,$W2490-4,0)&\"\")","v":""},"",{"$f":"IF(B2490=\"\",\"\",IF(ISERROR(MATCH($J2490,SorP!$B$1:$B$6230,0)),\"\",INDIRECT(\"'SorP'!$A$\"&MATCH($J2490,SorP!$B$1:$B$6230,0))))","v":""},null,{"$f":"IF(C2490=\"\",NA(),MATCH($B2490&$C2490,'Smelter Look-up'!$J:$J,0))","v":{"$error":"#N/A"}},null,0,null,null,null,""]
[{"$nulls":18},{"$f":"IF(ISERROR($W2491),\"\",OFFSET('Smelter Look-up'!$C$4,$W2491-4,0)&\"\")","v":""},"",{"$f":"IF(B2491=\"\",\"\",IF(ISERROR(MATCH($J2491,SorP!$B$1:$B$6230,0)),\"\",INDIRECT(\"'SorP'!$A$\"&MATCH($J2491,SorP!$B$1:$B$6230,0))))","v":""},null,{"$f":"IF(C2491=\"\",NA(),MATCH($B2491&$C2491,'Smelter Look-up'!$J:$J,0))","v":{"$error":"#N/A"}},null,0,null,null,null,""]
[{"$nulls":18},{"$f":"IF(ISERROR($W2492),\"\",OFFSET('Smelter Look-up'!$C$4,$W2492-4,0)&\"\")","v":""},"",{"$f":"IF(B2492=\"\",\"\",IF(ISERROR(MATCH($J2492,SorP!$B$1:$B$6230,0)),\"\",INDIRECT(\"'SorP'!$A$\"&MATCH($J2492,SorP!$B$1:$B$6230,0))))","v":""},null,{"$f":"IF(C2492=\"\",NA(),MATCH($B2492&$C2492,'Smelter Look-up'!$J:$J,0))","v":{"$error":"#N/A"}},null,0,null,null,null,""]
[{"$nulls":18},{"$f":"IF(ISERROR($W2493),\"\",OFFSET('Smelter Look-up'!$C$4,$W2493-4,0)&\"\")","v":""},"",{"$f":"IF(B2493=\"\",\"\",IF(ISERROR(MATCH($J2493,SorP!$B$1:$B$6230,0)),\"\",INDIRECT(\"'SorP'!$A$\"&MATCH($J2493,SorP!$B$1:$B$6230,0))))","v":""},null,{"$f":"IF(C2493=\"\",NA(),MATCH($B2493&$C2493,'Smelter Look-up'!$J:$J,0))","v":{"$error":"#N/A"}},null,0,null,null,null,""]
[{"$nulls":18},{"$f":"IF(ISERROR($W2494),\"\",OFFSET('Smelter Look-up'!$C$4,$W2494-4,0)&\"\")","v":""},"",{"$f":"IF(B2494=\"\",\"\",IF(ISERROR(MATCH($J2494,SorP!$B$1:$B$6230,0)),\"\",INDIRECT(\"'SorP'!$A$\"&MATCH($J2494,SorP!$B$1:$B$6230,0))))","v":""},null,{"$f":"IF(C2494=\"\",NA(),MATCH($B2494&$C2494,'Smelter Look-up'!$J:$J,0))","v":{"$error":"#N/A"}},null,0,null,null,null,""]
[{"$nulls":18},{"$f":"IF(ISERROR($W2495),\"\",OFFSET('Smelter Look-up'!$C$4,$W2495-4,0)&\"\")","v":""},"",{"$f":"IF(B2495=\"\",\"\",IF(ISERROR(MATCH($J2495,SorP!$B$1:$B$6230,0)),\"\",INDIRECT(\"'SorP'!$A$\"&MATCH($J2495,SorP!$B$1:$B$6230,0))))","v":""},null,{"$f":"IF(C2495=\"\",NA(),MATCH($B2495&$C2495,'Smelter Look-up'!$J:$J,0))","v":{"$error":"#N/A"}},null,0,null,null,null,""]
[{"$nulls":18},{"$f":"IF(ISERROR($W2496),\"\",OFFSET('Smelter Look-up'!$C$4,$W2496-4,0)&\"\")","v":""},"",{"$f":"IF(B2496=\"\",\"\",IF(ISERROR(MATCH($J2496,SorP!$B$1:$B$6230,0)),\"\",INDIRECT(\"'SorP'!$A$\"&MATCH($J2496,SorP!$B$1:$B$6230,0))))","v":""},null,{"$f":"IF(C2496=\"\",NA(),MATCH($B2496&$C2496,'Smelter Look-up'!$J:$J,0))","v":{"$error":"#N/A"}},null,0,null,null,null,""]
[{"$nulls":18},{"$f":"IF(ISERROR($W2497),\"\",OFFSET('Smelter Look-up'!$C$4,$W2497-4,0)&\"\")","v":""},"",{"$f":"IF(B2497=\"\",\"\",IF(ISERROR(MATCH($J2497,SorP!$B$1:$B$6230,0)),\"\",INDIRECT(\"'SorP'!$A$\"&MATCH($J2497,SorP!$B$1:$B$6230,0))))","v":""},null,{"$f":"IF(C2497=\"\",NA(),MATCH($B2497&$C2497,'Smelter Look-up'!$J:$J,0))","v":{"$error":"#N/A"}},null,0,null,null,null,""]
[{"$nulls":18},{"$f":"IF(ISERROR($W2498),\"\",OFFSET('Smelter Look-up'!$C$4,$W2498-4,0)&\"\")","v":""},"",{"$f":"IF(B2498=\"\",\"\",IF(ISERROR(MATCH($J2498,SorP!$B$1:$B$6230,0)),\"\",INDIRECT(\"'SorP'!$A$\"&MATCH($J2498,SorP!$B$1:$B$6230,0))))","v":""},null,{"$f":"IF(C2498=\"\",NA(),MATCH($B2498&$C2498,'Smelter Look-up'!$J:$J,0))","v":{"$error":"#N/A"}},null,0,null,null,null,""]
[{"$nulls":18},{"$f":"IF(ISERROR($W2499),\"\",OFFSET('Smelter Look-up'!$C$4,$W2499-4,0)&\"\")","v":""},"",{"$f":"IF(B2499=\"\",\"\",IF(ISERROR(MATCH($J2499,SorP!$B$1:$B$6230,0)),\"\",INDIRECT(\"'SorP'!$A$\"&MATCH($J2499,SorP!$B$1:$B$6230,0))))","v":""},null,{"$f":"IF(C2499=\"\",NA(),MATCH($B2499&$C2499,'Smelter Look-up'!$J:$J,0))","v":{"$error":"#N/A"}},null,0,null,null,null,""]
[{"$nulls":18},{"$f":"IF(ISERROR($W2500),\"\",OFFSET('Smelter Look-up'!$C$4,$W2500-4,0)&\"\")","v":""},"",{"$f":"IF(B2500=\"\",\"\",IF(ISERROR(MATCH($J2500,SorP!$B$1:$B$6230,0)),\"\",INDIRECT(\"'SorP'!$A$\"&MATCH($J2500,SorP!$B$1:$B$6230,0))))","v":""},null,{"$f":"IF(C2500=\"\",NA(),MATCH($B2500&$C2500,'Smelter Look-up'!$J:$J,0))","v":{"$error":"#N/A"}},null,0,null,null,null,""]

{"sheet":"Checker","index":5,"n_rows":62,"n_cols":12,"rows_kept":62,"cut":false,"hidden":true,"merged":[[0,0,0,2]]}
[{"$f":"OFFSET(L!$C$1,MATCH(\"Checker\"&ADDRESS(ROW(),COLUMN(),4),L!$A:$A,0)-1,SL,,)","v":"To ensure all required fields have been populated before submitting to your customers review form for any line items highlighted in red"},null,null,{"$f":"OFFSET(L!$C$1,MATCH(\"Checker\"&ADDRESS(ROW(),COLUMN(),4),L!$A:$A,0)-1,SL,,)","v":"Required fields remaining to be completed"},"\n"]
["Click here to return to Declaration tab",{"$f":"IF(F57=1,\"Click here to return to Smelter List\",\"\")","v":"Click here to return to Smelter List"},{"$f":"IF(F56=1,\"Click here to return to Product List\",\"\")","v":""},{"$f":"IF(H62=0,\"0\",H62)","v":{"$error":"#REF!"}}]
[{"$f":"OFFSET(L!$C$1,MATCH(\"Checker\"&ADDRESS(ROW(),COLUMN(),4),L!$A:$A,0)-1,SL,,)","v":"Required Fields"},{"$f":"OFFSET(L!$C$1,MATCH(\"Checker\"&ADDRESS(ROW(),COLUMN(),4),L!$A:$A,0)-1,SL,,)","v":"Answer provided"},{"$f":"OFFSET(L!$C$1,MATCH(\"Checker\"&ADDRESS(ROW(),COLUMN(),4),L!$A:$A,0)-1,SL,,)","v":"Notes"},{"$f":"OFFSET(L!$C$1,MATCH(\"Checker\"&ADDRESS(ROW(),COLUMN(),4),L!$A:$A,0)-1,SL,,)","v":"Hyperlink to source"},null,"necessary?","complete?","incomplete","comment1","comment for remaining"]
[{"$f":"Declaration!B8","v":"Company Name (*):"},{"$f":"Declaration!D8","v":"Samtec Inc."},{"$f":"IF(H4=1,J4,I4)","v":"Complete"},{"$f":"IF(H4=1,\"Click here to enter Company Name\",\"\")","v":""},"\n\n",1,{"$f":"IF(B4=0,1,0)","v":0},{"$f":"F4*G4","v":0},{"$f":"OFFSET(L!$C$1,MATCH(\"Checker\"&\"Comp\",L!$A:$A,0)-1,SL,,)","v":"Complete"},{"$f":"OFFSET(L!$C$1,MATCH(\"Checker\"&ADDRESS(ROW(),COLUMN(),4),L!$A:$A,0)-1,SL,,)","v":"Provide your company name on the Declaration tab cell D8"}]
[{"$f":"Declaration!B9","v":"Company Unique ID:"},{"$f":"Declaration!D9","v":0},"Select the scope of declaration on the Declaration tab cell D9",{"$f":"IF(H5=1,\"Click here to enter Declaration Scope\",\"\")","v":"Click here to enter Declaration Scope"},"\n\n",1,1,{"$f":"F5*G5","v":1},{"$f":"OFFSET(L!$C$1,MATCH(\"Checker\"&\"Comp\",L!$A:$A,0)-1,SL,,)","v":"Complete"},{"$f":"OFFSET(L!$C$1,MATCH(\"Checker\"&ADDRESS(ROW(),COLUMN(),4),L!$A:$A,0)-1,SL,,)","v":"Select the scope of declaration on the Declaration tab cell D9"}]
[{"$f":"Declaration!B10","v":"Address:"},{"$f":"Declaration!D10","v":"520 Park East Blvd. New Albany, IN 47150"},"Complete",{"$f":"IF(H6=1,\"Click here to provide a Description of Scope\",\"\")","v":""},"\n\n",{"$f":"IF(OR(B5=Declaration!P9,B5=Declaration!Q9,B5=0),0,1)","v":0},0,0,{"$f":"OFFSET(L!$C$1,MATCH(\"Checker\"&\"Comp\",L!$A:$A,0)-1,SL,,)","v":"Complete"},{"$f":"OFFSET(L!$C$1,MATCH(\"Checker\"&ADDRESS(ROW(),COLUMN(),4),L!$A:$A,0)-1,SL,,)","v":"Provide description of scope on Declaration tab cell D10"}]
[{"$f":"Declaration!B14","v":"Effective Date (*):"},{"$f":"Declaration!D14","v":"06/09/2021"},"Complete",{"$f":"IF(H7=1,\"Click here to enter Contact Name\",\"\")","v":""},"\n\n",1,0,0,{"$f":"OFFSET(L!$C$1,MATCH(\"Checker\"&\"Comp\",L!$A:$A,0)-1,SL,,)","v":"Complete"},{"$f":"OFFSET(L!$C$1,MATCH(\"Checker\"&ADDRESS(ROW(),COLUMN(),4),L!$A:$A,0)-1,SL,,)","v":"Provide contact name in Declaration tab cell D15"}]
[{"$f":"Declaration!#REF!","v":{"$error":"#REF!"}},{"$f":"Declaration!#REF!","v":{"$error":"#REF!"}},"Provide a valid email for contact in Declaration tab cell D16",{"$f":"IF(H8=1,\"Click here to enter Email-Contact\",\"\")","v":"Click here to enter Email-Contact"},"\n\n",1,{"$f":"IF(ISNUMBER(SEARCH(\"@\",B8)),0,1)","v":1},1,{"$f":"OFFSET(L!$C$1,MATCH(\"Checker\"&\"Comp\",L!$A:$A,0)-1,SL,,)","v":"Complete"},{"$f":"OFFSET(L!$C$1,MATCH(\"Checker\"&ADDRESS(ROW(),COLUMN(),4),L!$A:$A,0)-1,SL,,)","v":"Provide a valid email for contact in Declaration tab cell D16"}]
[{"$f":"Declaration!#REF!","v":{"$error":"#REF!"}},{"$f":"Declaration!#REF!","v":{"$error":"#REF!"}},{"$error":"#REF!"},{"$f":"IF(H9=1,\"Click here to enter Phone-Contact\",\"\")","v":{"$error":"#REF!"}},"\n\n",1,{"$error":"#REF!"},{"$error":"#REF!"},{"$f":"OFFSET(L!$C$1,MATCH(\"Checker\"&\"Comp\",L!$A:$A,0)-1,SL,,)","v":"Complete"},{"$f":"OFFSET(L!$C$1,MATCH(\"Checker\"&ADDRESS(ROW(),COLUMN(),4),L!$A:$A,0)-1,SL,,)","v":"Provide a phone number for contact in Declaration tab cell D17"}]
[{"$f":"Declaration!#REF!","v":{"$error":"#REF!"}},{"$f":"Declaration!#REF!","v":{"$error":"#REF!"}},{"$f":"IF(H10=1,J10,I10)","v":{"$error":"#REF!"}},{"$f":"IF(H10=1,\"Click here to enter an Authorized Company Representative's name\",\"\")","v":{"$error":"#REF!"}},"\n\n",1,{"$f":"IF(B10=0,1,0)","v":{"$error":"#REF!"}},{"$error":"#REF!"},{"$f":"OFFSET(L!$C$1,MATCH(\"Checker\"&\"Comp\",L!$A:$A,0)-1,SL,,)","v":"Complete"},{"$f":"OFFSET(L!$C$1,MATCH(\"Checker\"&ADDRESS(ROW(),COLUMN(),4),L!$A:$A,0)-1,SL,,)","v":"Provide authorized company representative contact name in Declaration tab cell D18"}]
[{"$f":"Declaration!#REF!","v":{"$error":"#REF!"}},{"$f":"Declaration!#REF!","v":{"$error":"#REF!"}},"Provide an email for authorized company representative on Declaration tab cell D20",{"$f":"IF(H11=1,\"Click here to enter Representative's email\",\"\")","v":"Click here to enter Representative's email"},"\n\n",1,{"$f":"IF(ISNUMBER(SEARCH(\"@\",B11)),0,1)","v":1},1,{"$f":"OFFSET(L!$C$1,MATCH(\"Checker\"&\"Comp\",L!$A:$A,0)-1,SL,,)","v":"Complete"},{"$f":"OFFSET(L!$C$1,MATCH(\"Checker\"&ADDRESS(ROW(),COLUMN(),4),L!$A:$A,0)-1,SL,,)","v":"Provide an email for authorized company representative on Declaration tab cell D20"}]
[{"$f":"Declaration!#REF!","v":{"$error":"#REF!"}},{"$f":"Declaration!#REF!","v":{"$error":"#REF!"}},{"$f":"IF(H12=1,J12,I12)","v":{"$error":"#REF!"}},{"$f":"IF(H12=1,\"Click here to enter Representative's phone\",\"\")","v":{"$error":"#REF!"}},"\n\n",1,{"$f":"IF(B12=0,1,0)","v":{"$error":"#REF!"}},{"$f":"F12*G12","v":{"$error":"#REF!"}},{"$f":"OFFSET(L!$C$1,MATCH(\"Checker\"&\"Comp\",L!$A:$A,0)-1,SL,,)","v":"Complete"},{"$f":"OFFSET(L!$C$1,MATCH(\"Checker\"&ADDRESS(ROW(),COLUMN(),4),L!$A:$A,0)-1,SL,,)","v":"Provide a phone number for authorized company representative on Declaration tab cell D21"}]
[{"$f":"Declaration!#REF!","v":{"$error":"#REF!"}},{"$f":"Declaration!#REF!","v":{"$error":"#REF!"}},{"$error":"#REF!"},{"$f":"IF(H13=1,\"Click here to enter Date of Completion\",\"\")","v":{"$error":"#REF!"}},"\n\n",1,{"$error":"#REF!"},{"$error":"#REF!"},{"$f":"OFFSET(L!$C$1,MATCH(\"Checker\"&\"Comp\",L!$A:$A,0)-1,SL,,)","v":"Complete"},{"$f":"OFFSET(L!$C$1,MATCH(\"Checker\"&ADDRESS(ROW(),COLUMN(),4),L!$A:$A,0)-1,SL,,)","v":"Provide date the form was completed on Declaration tab cell D22"}]
[{"$f":"Declaration!B16","v":{"$error":"#N/A"}},null,null,null,"\n\n\n\n",null,null,0]
[{"$f":"Declaration!B17","v":{"$error":"#N/A"}},{"$f":"Declaration!D17","v":0},"Declare if cobalt is intentionally added to your products on Declaration tab cell D26",{"$f":"IF(H15=1,\"Click here to answer question 1 for Cobalt\",\"\")","v":"Click here to answer question 1 for Cobalt"},"\n",1,1,1,{"$f":"OFFSET(L!$C$1,MATCH(\"Checker\"&\"Comp\",L!$A:$A,0)-1,SL,,)","v":"Complete"},{"$f":"OFFSET(L!$C$1,MATCH(\"Checker\"&ADDRESS(ROW(),COLUMN(),4),L!$A:$A,0)-1,SL,,)","v":"Declare if cobalt is intentionally added to your products on Declaration tab cell D26"}]
[{"$f":"Declaration!B18","v":{"$error":"#N/A"}},{"$f":"Declaration!D18","v":"No"},"Complete",{"$f":"IF(H16=1,\"Click here to answer question 1 for Tin\",\"\")","v":""},"\n\n",1,0,0,{"$f":"OFFSET(L!$C$1,MATCH(\"Checker\"&\"Comp\",L!$A:$A,0)-1,SL,,)","v":"Complete"},{"$f":"OFFSET(L!$C$1,MATCH(\"Checker\"&ADDRESS(ROW(),COLUMN(),4),L!$A:$A,0)-1,SL,,)","v":0}]
[{"$f":"Declaration!B19","v":{"$error":"#N/A"}},{"$f":"Declaration!D19","v":"No"},"Complete",{"$f":"IF(H17=1,\"Click here to answer question 1 for Gold\",\"\")","v":""},"\n\n",1,0,0,{"$f":"OFFSET(L!$C$1,MATCH(\"Checker\"&\"Comp\",L!$A:$A,0)-1,SL,,)","v":"Complete"},{"$f":"OFFSET(L!$C$1,MATCH(\"Checker\"&ADDRESS(ROW(),COLUMN(),4),L!$A:$A,0)-1,SL,,)","v":0}]
[{"$f":"Declaration!B20","v":{"$error":"#N/A"}},{"$f":"Declaration!D20","v":"No"},"Complete",{"$f":"IF(H18=1,\"Click here to answer question 1 for Tungsten\",\"\")","v":""},"\n\n",1,0,0,{"$f":"OFFSET(L!$C$1,MATCH(\"Checker\"&\"Comp\",L!$A:$A,0)-1,SL,,)","v":"Complete"},{"$f":"OFFSET(L!$C$1,MATCH(\"Checker\"&ADDRESS(ROW(),COLUMN(),4),L!$A:$A,0)-1,SL,,)","v":0}]
[{"$f":"Declaration!B22","v":{"$error":"#N/A"}},null,null,null,"\n\n"]
[{"$f":"Declaration!B23","v":{"$error":"#N/A"}},{"$f":"Declaration!D23","v":0},"Declare if cobalt used within the scope of products declared within this survey response originated from a Conflict-Affected and High-Risk Area (CAHRA) on the Declaration tab cell D32",{"$f":"IF(H20=1,\"Click here to answer question 2 for Cobalt\",\"\")","v":"Click here to answer question 2 for Cobalt"},"\n\n",{"$f":"IF(OR(B$15=\"No\",B$15=\"Unknown\"),0,1)","v":1},{"$f":"IF(B20=0,1,0)","v":1},{"$f":"F20*G20","v":1},{"$f":"OFFSET(L!$C$1,MATCH(\"Checker\"&\"Comp\",L!$A:$A,0)-1,SL,,)","v":"Complete"},{"$f":"OFFSET(L!$C$1,MATCH(\"Checker\"&ADDRESS(ROW(),COLUMN(),4),L!$A:$A,0)-1,SL,,)","v":"Declare if cobalt used within the scope of products declared within this survey response originated from a Conflict-Affected and High-Risk Area (CAHRA) on the Declaration tab cell D32"}]
[{"$f":"Declaration!B24","v":{"$error":"#N/A"}},{"$f":"Declaration!D24","v":0},"Complete",{"$f":"IF(H21=1,\"Click here to answer question 3 for Tin\",\"\")","v":""},"\n\n",{"$f":"IF(B$16=\"No\",0,1)","v":0},1,0,{"$f":"OFFSET(L!$C$1,MATCH(\"Checker\"&\"Comp\",L!$A:$A,0)-1,SL,,)","v":"Complete"},{"$f":"OFFSET(L!$C$1,MATCH(\"Checker\"&ADDRESS(ROW(),COLUMN(),4),L!$A:$A,0)-1,SL,,)","v":0}]
[{"$f":"Declaration!B25","v":{"$error":"#N/A"}},{"$f":"Declaration!D25","v":0},"Complete",{"$f":"IF(H22=1,\"Click here to answer question 3 for Gold\",\"\")","v":""},"\n\n",{"$f":"IF(B$17=\"No\",0,1)","v":0},1,0,{"$f":"OFFSET(L!$C$1,MATCH(\"Checker\"&\"Comp\",L!$A:$A,0)-1,SL,,)","v":"Complete"},{"$f":"OFFSET(L!$C$1,MATCH(\"Checker\"&ADDRESS(ROW(),COLUMN(),4),L!$A:$A,0)-1,SL,,)","v":0}]
[{"$f":"Declaration!B26","v":{"$error":"#N/A"}},{"$f":"Declaration!D26","v":0},"Complete",{"$f":"IF(H23=1,\"Click here to answer question 3 for Tungsten\",\"\")","v":""},"\n\n",{"$f":"IF(B$18=\"No\",0,1)","v":0},1,0,{"$f":"OFFSET(L!$C$1,MATCH(\"Checker\"&\"Comp\",L!$A:$A,0)-1,SL,,)","v":"Complete"},{"$f":"OFFSET(L!$C$1,MATCH(\"Checker\"&ADDRESS(ROW(),COLUMN(),4),L!$A:$A,0)-1,SL,,)","v":0}]
[{"$f":"Declaration!B28","v":{"$error":"#N/A"}},null,null,null,"\n\n"]
[{"$f":"Declaration!B29","v":{"$error":"#N/A"}},{"$f":"Declaration!D29","v":0},{"$f":"IF(H25=1,J25,I25)","v":"Declare if cobalt used within the scope of products declared within this survey response originated entirely from a recycled or scrap source on the Declaration tab cell D44"},{"$f":"IF(H25=1,\"Click here to answer question 3 for Cobalt\",\"\")","v":"Click here to answer question 3 for Cobalt"},"\n\n",{"$f":"F20","v":1},{"$f":"IF(B25=0,1,0)","v":1},{"$f":"F25*G25","v":1},{"$f":"OFFSET(L!$C$1,MATCH(\"Checker\"&\"Comp\",L!$A:$A,0)-1,SL,,)","v":"Complete"},{"$f":"OFFSET(L!$C$1,MATCH(\"Checker\"&ADDRESS(ROW(),COLUMN(),4),L!$A:$A,0)-1,SL,,)","v":"Declare if cobalt used within the scope of products declared within this survey response originated entirely from a recycled or scrap source on the Declaration tab cell D44"}]
[{"$f":"Declaration!B30","v":{"$error":"#N/A"}},{"$f":"Declaration!D30","v":0},{"$f":"IF(H26=1,J26,I26)","v":"Complete"},{"$f":"IF(H26=1,\"Click here to answer question 4 for Tin\",\"\")","v":""},"\n\n",{"$f":"F21","v":0},{"$f":"IF(B26=0,1,0)","v":1},{"$f":"F26*G26","v":0},{"$f":"OFFSET(L!$C$1,MATCH(\"Checker\"&\"Comp\",L!$A:$A,0)-1,SL,,)","v":"Complete"},{"$f":"OFFSET(L!$C$1,MATCH(\"Checker\"&ADDRESS(ROW(),COLUMN(),4),L!$A:$A,0)-1,SL,,)","v":0}]
[{"$f":"Declaration!B31","v":{"$error":"#N/A"}},{"$f":"Declaration!D31","v":0},{"$f":"IF(H27=1,J27,I27)","v":"Complete"},{"$f":"IF(H27=1,\"Click here to answer question 4 for Gold\",\"\")","v":""},"\n\n",{"$f":"F22","v":0},{"$f":"IF(B27=0,1,0)","v":1},{"$f":"F27*G27","v":0},{"$f":"OFFSET(L!$C$1,MATCH(\"Checker\"&\"Comp\",L!$A:$A,0)-1,SL,,)","v":"Complete"},{"$f":"OFFSET(L!$C$1,MATCH(\"Checker\"&ADDRESS(ROW(),COLUMN(),4),L!$A:$A,0)-1,SL,,)","v":0}]
[{"$f":"Declaration!B32","v":{"$error":"#N/A"}},{"$f":"Declaration!D32","v":0},{"$f":"IF(H28=1,J28,I28)","v":"Complete"},{"$f":"IF(H28=1,\"Click here to answer question 4 for Tungsten\",\"\")","v":""},"\n\n",{"$f":"F23","v":0},{"$f":"IF(B28=0,1,0)","v":1},{"$f":"F28*G28","v":0},{"$f":"OFFSET(L!$C$1,MATCH(\"Checker\"&\"Comp\",L!$A:$A,0)-1,SL,,)","v":"Complete"},{"$f":"OFFSET(L!$C$1,MATCH(\"Checker\"&ADDRESS(ROW(),COLUMN(),4),L!$A:$A,0)-1,SL,,)","v":0}]
[{"$f":"Declaration!B34","v":{"$error":"#N/A"}},null,null,null,"\n\n"]
[{"$f":"Declaration!B35","v":{"$error":"#N/A"}},{"$f":"Declaration!D35","v":0},"Provide % of completeness of supplier's smelter information on Declaration tab cell D44",{"$f":"IF(H30=1,\"Click here to answer question 4 for Cobalt\",\"\")","v":"Click here to answer question 4 for Cobalt"},"\n",{"$f":"F20","v":1},1,1,{"$f":"OFFSET(L!$C$1,MATCH(\"Checker\"&\"Comp\",L!$A:$A,0)-1,SL,,)","v":"Complete"},{"$f":"OFFSET(L!$C$1,MATCH(\"Checker\"&ADDRESS(ROW(),COLUMN(),4),L!$A:$A,0)-1,SL,,)","v":"Provide % of completeness of supplier's smelter information on Declaration tab cell D44"}]
[{"$f":"Declaration!B36","v":{"$error":"#N/A"}},{"$f":"Declaration!D36","v":0},"Complete",{"$f":"IF(H31=1,\"Click here to answer question 5 for Tin\",\"\")","v":""},"\n",{"$f":"F21","v":0},1,0,{"$f":"OFFSET(L!$C$1,MATCH(\"Checker\"&\"Comp\",L!$A:$A,0)-1,SL,,)","v":"Complete"},{"$f":"OFFSET(L!$C$1,MATCH(\"Checker\"&ADDRESS(ROW(),COLUMN(),4),L!$A:$A,0)-1,SL,,)","v":0}]
[{"$f":"Declaration!B37","v":{"$error":"#N/A"}},{"$f":"Declaration!D37","v":0},"Complete",{"$f":"IF(H32=1,\"Click here to answer question 5 for Gold\",\"\")","v":""},"\n",{"$f":"F22","v":0},1,0,{"$f":"OFFSET(L!$C$1,MATCH(\"Checker\"&\"Comp\",L!$A:$A,0)-1,SL,,)","v":"Complete"},{"$f":"OFFSET(L!$C$1,MATCH(\"Checker\"&ADDRESS(ROW(),COLUMN(),4),L!$A:$A,0)-1,SL,,)","v":0}]
[{"$f":"Declaration!B38","v":{"$error":"#N/A"}},{"$f":"Declaration!D38","v":0},"Complete",{"$f":"IF(H33=1,\"Click here to answer question 5 for Tungsten\",\"\")","v":""},"\n",{"$f":"F23","v":0},1,0,{"$f":"OFFSET(L!$C$1,MATCH(\"Checker\"&\"Comp\",L!$A:$A,0)-1,SL,,)","v":"Complete"},{"$f":"OFFSET(L!$C$1,MATCH(\"Checker\"&ADDRESS(ROW(),COLUMN(),4),L!$A:$A,0)-1,SL,,)","v":0}]
[{"$f":"Declaration!B40","v":{"$error":"#N/A"}},null,null,null,"\n\n\n"]
[{"$f":"Declaration!B41","v":{"$error":"#N/A"}},{"$f":"Declaration!D41","v":0},"Declare if all smelter names have been provided in this survey response under the scope of products declared on the Declaration tab cell D50",{"$f":"IF(H35=1,\"Click here to answer question 5 for Cobalt\",\"\")","v":"Click here to answer question 5 for Cobalt"},"\n\n\n",{"$f":"F20","v":1},1,1,{"$f":"OFFSET(L!$C$1,MATCH(\"Checker\"&\"Comp\",L!$A:$A,0)-1,SL,,)","v":"Complete"},{"$f":"OFFSET(L!$C$1,MATCH(\"Checker\"&ADDRESS(ROW(),COLUMN(),4),L!$A:$A,0)-1,SL,,)","v":"Declare if all smelter names have been provided in this survey response under the scope of products declared on the Declaration tab cell D50"}]
[{"$f":"Declaration!B42","v":{"$error":"#N/A"}},{"$f":"Declaration!D42","v":0},"Complete",{"$f":"IF(H36=1,\"Click here to answer question 6 for Tin\",\"\")","v":""},"\n\n\n",{"$f":"F21","v":0},1,0,{"$f":"OFFSET(L!$C$1,MATCH(\"Checker\"&\"Comp\",L!$A:$A,0)-1,SL,,)","v":"Complete"},{"$f":"OFFSET(L!$C$1,MATCH(\"Checker\"&ADDRESS(ROW(),COLUMN(),4),L!$A:$A,0)-1,SL,,)","v":0}]
[{"$f":"Declaration!B43","v":{"$error":"#N/A"}},{"$f":"Declaration!D43","v":0},"Complete",{"$f":"IF(H37=1,\"Click here to answer question 6 for Gold\",\"\")","v":""},"\n\n\n",{"$f":"F22","v":0},1,0,{"$f":"OFFSET(L!$C$1,MATCH(\"Checker\"&\"Comp\",L!$A:$A,0)-1,SL,,)","v":"Complete"},{"$f":"OFFSET(L!$C$1,MATCH(\"Checker\"&ADDRESS(ROW(),COLUMN(),4),L!$A:$A,0)-1,SL,,)","v":0}]
[{"$f":"Declaration!B44","v":{"$error":"#N/A"}},{"$f":"Declaration!D44","v":0},"Complete",{"$f":"IF(H38=1,\"Click here to answer question 6 for Tungsten\",\"\")","v":""},"\n\n\n",{"$f":"F23","v":0},1,0,{"$f":"OFFSET(L!$C$1,MATCH(\"Checker\"&\"Comp\",L!$A:$A,0)-1,SL,,)","v":"Complete"},{"$f":"OFFSET(L!$C$1,MATCH(\"Checker\"&ADDRESS(ROW(),COLUMN(),4),L!$A:$A,0)-1,SL,,)","v":0}]
[{"$f":"Declaration!B46","v":{"$error":"#N/A"}},null,null,null,"\n\n\n\n"]
[{"$f":"Declaration!B47","v":{"$error":"#N/A"}},{"$f":"Declaration!D47","v":0},"Declare if all applicable cobalt smelter information has been provided on Declaration tab cell D56",{"$f":"IF(H40=1,\"Click here to answer question 6 for Cobalt\",\"\")","v":"Click here to answer question 6 for Cobalt"},"\n\n",{"$f":"F20","v":1},1,1,{"$f":"OFFSET(L!$C$1,MATCH(\"Checker\"&\"Comp\",L!$A:$A,0)-1,SL,,)","v":"Complete"},{"$f":"OFFSET(L!$C$1,MATCH(\"Checker\"&ADDRESS(ROW(),COLUMN(),4),L!$A:$A,0)-1,SL,,)","v":"Declare if all applicable cobalt smelter information has been provided on Declaration tab cell D56"}]
[{"$f":"Declaration!B48","v":{"$error":"#N/A"}},{"$f":"Declaration!D48","v":0},"Complete",{"$f":"IF(H41=1,\"Click here to answer question 7 for Tin\",\"\")","v":""},"\n\n",{"$f":"F21","v":0},1,0,{"$f":"OFFSET(L!$C$1,MATCH(\"Checker\"&\"Comp\",L!$A:$A,0)-1,SL,,)","v":"Complete"},{"$f":"OFFSET(L!$C$1,MATCH(\"Checker\"&ADDRESS(ROW(),COLUMN(),4),L!$A:$A,0)-1,SL,,)","v":0}]
[{"$f":"Declaration!B49","v":{"$error":"#N/A"}},{"$f":"Declaration!D49","v":0},"Complete",{"$f":"IF(H42=1,\"Click here to answer question 7 for Gold\",\"\")","v":""},"\n\n",{"$f":"F22","v":0},1,0,{"$f":"OFFSET(L!$C$1,MATCH(\"Checker\"&\"Comp\",L!$A:$A,0)-1,SL,,)","v":"Complete"},{"$f":"OFFSET(L!$C$1,MATCH(\"Checker\"&ADDRESS(ROW(),COLUMN(),4),L!$A:$A,0)-1,SL,,)","v":0}]
[{"$f":"Declaration!B50","v":{"$error":"#N/A"}},{"$f":"Declaration!D50","v":0},"Complete",{"$f":"IF(H43=1,\"Click here to answer question 7 for Tungsten\",\"\")","v":""},"\n\n",{"$f":"F23","v":0},1,0,{"$f":"OFFSET(L!$C$1,MATCH(\"Checker\"&\"Comp\",L!$A:$A,0)-1,SL,,)","v":"Complete"},{"$f":"OFFSET(L!$C$1,MATCH(\"Checker\"&ADDRESS(ROW(),COLUMN(),4),L!$A:$A,0)-1,SL,,)","v":0}]
[{"$f":"Declaration!B53","v":{"$error":"#N/A"}},null,null,null,"\n"]
[{"$f":"Declaration!B54","v":{"$error":"#N/A"}},{"$f":"Declaration!D54","v":0},"Answer if your company has a publicly available cobalt sourcing policy on the Declaration tab cell D63",{"$f":"IF(H45=1,\"Click here to answer question (A)\",\"\")","v":"Click here to answer question (A)"},"\n\n",{"$f":"IF(SUM(F$20:F$23)=0,0,1)","v":1},1,1,{"$f":"OFFSET(L!$C$1,MATCH(\"Checker\"&\"Comp\",L!$A:$A,0)-1,SL,,)","v":"Complete"},{"$f":"OFFSET(L!$C$1,MATCH(\"Checker\"&ADDRESS(ROW(),COLUMN(),4),L!$A:$A,0)-1,SL,,)","v":"Answer if your company has a publicly available cobalt sourcing policy on the Declaration tab cell D63"}]
["The URL in the comment field",{"$f":"Declaration!G54","v":0},{"$f":"IF(H46=1,J46,I46)","v":"Complete"},{"$f":"IF(H46=1,\"Click here to specify URL for question (A)\",\"\")","v":""},null,{"$f":"IF(AND(F45=1,B45=\"Yes\"),1,0)","v":0},{"$f":"IF(LEN(B46)>1,0,1)","v":1},{"$f":"F46*G46","v":0},{"$f":"OFFSET(L!$C$1,MATCH(\"Checker\"&\"Comp\",L!$A:$A,0)-1,SL,,)","v":"Complete"},{"$f":"OFFSET(L!$C$1,MATCH(\"Checker\"&ADDRESS(ROW(),COLUMN(),4),L!$A:$A,0)-1,SL,,)","v":"Enter the URL in Declaration worksheet cell G65 if you answer \"Yes\" for question A. The format of the URL should be \"www.companyname.com\""}]
[{"$f":"Declaration!B56","v":{"$error":"#N/A"}},{"$f":"Declaration!D56","v":0},{"$f":"IF(H47=1,J47,I47)","v":"Answer if your company's policy covers, at a minimum, all risks in the OECD Due Diligence Guidance Annex II Model Policy, as well as the worst forms of child labor, on the Declaration tab cell D65"},{"$f":"IF(H47=1,\"Click here to answer question (B)\",\"\")","v":"Click here to answer question (B)"},"\n\n",{"$f":"F$45","v":1},{"$f":"IF(B47=0,1,0)","v":1},{"$f":"F47*G47","v":1},{"$f":"OFFSET(L!$C$1,MATCH(\"Checker\"&\"Comp\",L!$A:$A,0)-1,SL,,)","v":"Complete"},{"$f":"OFFSET(L!$C$1,MATCH(\"Checker\"&ADDRESS(ROW(),COLUMN(),4),L!$A:$A,0)-1,SL,,)","v":"Answer if your company's policy covers, at a minimum, all risks in the OECD Due Diligence Guidance Annex II Model Policy, as well as the worst forms of child labor, on the Declaration tab cell D65"}]
[{"$f":"Declaration!B58","v":{"$error":"#N/A"}},{"$f":"Declaration!D58","v":0},"Answer if you implement cobalt due diligence measures on the Declaration tab cell D67",{"$f":"IF(H48=1,\"Click here to answer question (C)\",\"\")","v":"Click here to answer question (C)"},"\n\n",1,1,1,{"$f":"OFFSET(L!$C$1,MATCH(\"Checker\"&\"Comp\",L!$A:$A,0)-1,SL,,)","v":"Complete"},{"$f":"OFFSET(L!$C$1,MATCH(\"Checker\"&ADDRESS(ROW(),COLUMN(),4),L!$A:$A,0)-1,SL,,)","v":"Answer if you implement cobalt due diligence measures on the Declaration tab cell D67"}]
[{"$f":"Declaration!B60","v":{"$error":"#N/A"}},{"$f":"Declaration!D60","v":0},"Answer if you require your direct suppliers to exercise due diligence over cobalt supply chains on Declaration tab cell D69",{"$f":"IF(H49=1,\"Click here to answer question (D)\",\"\")","v":"Click here to answer question (D)"},"\n\n",1,1,1,{"$f":"OFFSET(L!$C$1,MATCH(\"Checker\"&\"Comp\",L!$A:$A,0)-1,SL,,)","v":"Complete"},{"$f":"OFFSET(L!$C$1,MATCH(\"Checker\"&ADDRESS(ROW(),COLUMN(),4),L!$A:$A,0)-1,SL,,)","v":"Answer if you require your direct suppliers to exercise due diligence over cobalt supply chains on Declaration tab cell D69"}]
[{"$f":"Declaration!B62","v":{"$error":"#N/A"}},{"$f":"Declaration!D62","v":0},"Answer if you require direct supplier to source cobalt from independently validated smelters on Declaration tab cell D71",{"$f":"IF(H50=1,\"Click here to answer question (E)\",\"\")","v":"Click here to answer question (E)"},"\n\n",1,1,1,{"$f":"OFFSET(L!$C$1,MATCH(\"Checker\"&\"Comp\",L!$A:$A,0)-1,SL,,)","v":"Complete"},{"$f":"OFFSET(L!$C$1,MATCH(\"Checker\"&ADDRESS(ROW(),COLUMN(),4),L!$A:$A,0)-1,SL,,)","v":"Answer if you require direct supplier to source cobalt from independently validated smelters on Declaration tab cell D71"}]
[{"$f":"Declaration!B64","v":{"$error":"#N/A"}},{"$f":"Declaration!D64","v":0},"Answer if you require smelter's due diligence practices to cover, at a minimum, all risks in the OECD Due Diligence Guidance Annex II Model Policy, as well as the worst forms of child labor, on Declaration tab cell D73",{"$f":"IF(H51=1,\"Click here to answer question (F)\",\"\")","v":"Click here to answer question (F)"},"\n\n",1,1,1,{"$f":"OFFSET(L!$C$1,MATCH(\"Checker\"&\"Comp\",L!$A:$A,0)-1,SL,,)","v":"Complete"},{"$f":"OFFSET(L!$C$1,MATCH(\"Checker\"&ADDRESS(ROW(),COLUMN(),4),L!$A:$A,0)-1,SL,,)","v":"Answer if you require smelter's due diligence practices to cover, at a minimum, all risks in the OECD Due Diligence Guidance Annex II Model Policy, as well as the worst forms of child labor, on Declaration tab cell D73"}]
[]
[{"$f":"Declaration!B66","v":{"$error":"#N/A"}},{"$f":"IF(Declaration!D66=\"No\",Declaration!D66,IF(Declaration!D66=\"Yes, CRT\",Declaration!D66,IF(Declaration!D66=\"Yes, Using Other Format (Describe)\",Declaration!G66,0)))","v":0},"Answer if you conduct cobalt supply chain surveys on the declaration tab cell D75",{"$f":"IF(H53=1,\"Click here to answer question (G)\",\"\")","v":"Click here to answer question (G)"},"\n\n",1,1,1,{"$f":"OFFSET(L!$C$1,MATCH(\"Checker\"&\"Comp\",L!$A:$A,0)-1,SL,,)","v":"Complete"},{"$f":"OFFSET(L!$C$1,MATCH(\"Checker\"&ADDRESS(ROW(),COLUMN(),4),L!$A:$A,0)-1,SL,,)","v":"Answer if you conduct cobalt supply chain surveys on the declaration tab cell D75"}]
[{"$f":"Declaration!B68","v":{"$error":"#N/A"}},{"$f":"Declaration!D68","v":0},"Answer if you verify responses from your suppliers against your company's expectations on Declaration tab cell D77",{"$f":"IF(H54=1,\"Click here to answer question (H)\",\"\")","v":"Click here to answer question (H)"},"\n\n",1,1,1,{"$f":"OFFSET(L!$C$1,MATCH(\"Checker\"&\"Comp\",L!$A:$A,0)-1,SL,,)","v":"Complete"},{"$f":"OFFSET(L!$C$1,MATCH(\"Checker\"&ADDRESS(ROW(),COLUMN(),4),L!$A:$A,0)-1,SL,,)","v":"Answer if you verify responses from your suppliers against your company's expectations on Declaration tab cell D77"}]
[{"$f":"Declaration!B70","v":{"$error":"#N/A"}},{"$f":"Declaration!D70","v":0},"Answer if your verification process includes corrective action management on Declaration tab cell D79",{"$f":"IF(H55=1,\"Click here to answer question (I)\",\"\")","v":"Click here to answer question (I)"},"\n\n",1,1,1,{"$f":"OFFSET(L!$C$1,MATCH(\"Checker\"&\"Comp\",L!$A:$A,0)-1,SL,,)","v":"Complete"},{"$f":"OFFSET(L!$C$1,MATCH(\"Checker\"&ADDRESS(ROW(),COLUMN(),4),L!$A:$A,0)-1,SL,,)","v":"Answer if your verification process includes corrective action management on Declaration tab cell D79"}]
["Product List",{"$f":"IF(H56=1,\"No products or item numbers listed\",\"One or more product / item numbers have been provided\")","v":"No products or item numbers listed"},{"$f":"IF(H56=0,I56,J56)","v":"If applicable, provide 1 or more Products or Item Numbers this declaration applies to. From Declaration tab select hyperlink in cell 11H  to enter Product List tab"},{"$f":"IF(H56=1,\"Click here to enter detail on Product List tab\",\"\")","v":"Click here to enter detail on Product List tab"},"\n\n",{"$f":"IF(B5=\"B. Product Level\",1,0)","v":0},{"$f":"IF((COUNTIF('Product List'!B$6:B$1000,\"<>\"&\"\")>0),1,0)","v":0},{"$f":"IF((COUNTIF('Product List'!B$6:B$1000,\"<>\"&\"\")>0),0,1)","v":1},{"$f":"OFFSET(L!$C$1,MATCH(\"Checker\"&\"Comp\",L!$A:$A,0)-1,SL,,)","v":"Complete"},{"$f":"OFFSET(L!$C$1,MATCH(\"Checker\"&ADDRESS(ROW(),COLUMN(),4),L!$A:$A,0)-1,SL,,)","v":"If applicable, provide 1 or more Products or Item Numbers this declaration applies to. From Declaration tab select hyperlink in cell 11H  to enter Product List tab"}]
["Smelter List - Cobalt",null,{"$f":"IF(K57=1,L57,IF(B15=\"No\",\"Not Required\",IF(G57=0,I57,J57)))","v":"Please answer Question 1 on Declaration tab. If you answered \"Yes\" and this field is still red, please add cobalt smelters to the smelter list tab."},{"$f":"IF(H57=0,\"\",\"Click here to provide smelter information\")","v":""},"\n\n",{"$f":"F$45","v":1},{"$f":"IF(AND(COUNTIF(SmelterIdetifiedForMetal,\"Cobalt\")>0,COUNTIF('Processor List'!AC$5:AC$2500,\"Cobalt?*\")>0),0,1)","v":1},{"$f":"IF(AND(OR(Declaration!D17=\"Yes\",Declaration!D23=\"Yes\"),(COUNTIF(SmelterIdetifiedForMetal,\"Cobalt\")<1)),(1*K57),(0*K57))","v":0},{"$f":"OFFSET(L!$C$1,MATCH(\"Checker\"&\"Comp\",L!$A:$A,0)-1,SL,,)","v":"Complete"},{"$f":"OFFSET(L!$C$1,MATCH(\"Checker\"&ADDRESS(ROW(),COLUMN(),4),L!$A:$A,0)-1,SL,,)","v":"Provide list of cobalt refiners contributing material to supply chain on Smelter List tab"},{"$f":"IF(H15>0,1,0)","v":1},{"$f":"OFFSET(L!$C$1,MATCH(\"Checker\"&ADDRESS(ROW(),COLUMN(),4),L!$A:$A,0)-1,SL,,)","v":"Please answer Question 1 on Declaration tab. If you answered \"Yes\" and this field is still red, please add cobalt smelters to the smelter list tab."}]
[{"$nulls":4},"\n\n",{"$f":"F$45","v":1},{"$f":"IF(COUNTIF('Processor List'!C5:C9,\"\")<10,0,1)","v":0},{"$f":"IF(AND(OR(Declaration!D18=\"Yes\",#REF!=\"Yes\"),(COUNTIF(SmelterIdetifiedForMetal,\"Tin\")<1)),(1*K58),(0*K58))","v":{"$error":"#REF!"}},{"$f":"OFFSET(L!$C$1,MATCH(\"Checker\"&\"Comp\",L!$A:$A,0)-1,SL,,)","v":"Complete"},{"$f":"OFFSET(L!$C$1,MATCH(\"Checker\"&ADDRESS(ROW(),COLUMN(),4),L!$A:$A,0)-1,SL,,)","v":0},{"$f":"IF(AND(Declaration!D18=\"No\",#REF!=\"No\"),0,1)","v":{"$error":"#REF!"}},{"$f":"OFFSET(L!$C$1,MATCH(\"Checker\"&ADDRESS(ROW(),COLUMN(),4),L!$A:$A,0)-1,SL,,)","v":{"$error":"#N/A"}}]
[{"$nulls":4},"\n\n",{"$f":"F$45","v":1},{"$f":"IF(COUNTIF('Processor List'!C5:C10,\"\")<10,0,1)","v":0},{"$f":"IF(AND(OR(Declaration!D19=\"Yes\",#REF!=\"Yes\"),(COUNTIF(SmelterIdetifiedForMetal,\"Gold\")<1)),(1*K59),(0*K59))","v":{"$error":"#REF!"}},{"$f":"OFFSET(L!$C$1,MATCH(\"Checker\"&\"Comp\",L!$A:$A,0)-1,SL,,)","v":"Complete"},{"$f":"OFFSET(L!$C$1,MATCH(\"Checker\"&ADDRESS(ROW(),COLUMN(),4),L!$A:$A,0)-1,SL,,)","v":0},{"$f":"IF(AND(Declaration!D19=\"No\",#REF!=\"No\"),0,1)","v":{"$error":"#REF!"}},{"$f":"OFFSET(L!$C$1,MATCH(\"Checker\"&ADDRESS(ROW(),COLUMN(),4),L!$A:$A,0)-1,SL,,)","v":{"$error":"#N/A"}}]
[{"$nulls":4},"\n\n",{"$f":"F$45","v":1},{"$f":"IF(COUNTIF('Processor List'!C5:C11,\"\")<10,0,1)","v":0},{"$f":"IF(AND(OR(Declaration!D20=\"Yes\",#REF!=\"Yes\"),(COUNTIF(SmelterIdetifiedForMetal,\"Tungsten\")<1)),(1*K60),(0*K60))","v":{"$error":"#REF!"}},{"$f":"OFFSET(L!$C$1,MATCH(\"Checker\"&\"Comp\",L!$A:$A,0)-1,SL,,)","v":"Complete"},{"$f":"OFFSET(L!$C$1,MATCH(\"Checker\"&ADDRESS(ROW(),COLUMN(),4),L!$A:$A,0)-1,SL,,)","v":0},{"$f":"IF(AND(Declaration!D20=\"No\",#REF!=\"No\"),0,1)","v":{"$error":"#REF!"}},{"$f":"OFFSET(L!$C$1,MATCH(\"Checker\"&ADDRESS(ROW(),COLUMN(),4),L!$A:$A,0)-1,SL,,)","v":{"$error":"#N/A"}}]
["All rows with \"Smelter not listed\" selected, have a name and country listed",null,{"$f":"IF(F61=0,J61,IF(G61=0,I61,L61))","v":"N/A"},null,null,{"$f":"IF(COUNTIF('Processor List'!$C:$C,\"Smelter Not Listed\")>0,1,0)","v":0},{"$f":"SUM('Processor List'!Y5:Y2498)","v":0},{"$f":"F61*G61","v":0},{"$f":"OFFSET(L!$C$1,MATCH(\"Checker\"&\"Comp\",L!$A:$A,0)-1,SL,,)","v":"Complete"},"N/A",null,"Please complete columns D & E on Smelter List for all rows \"Smelter Not Listed\" selected in column C"]
[{"$nulls":7},{"$f":"SUM(H4:H57)","v":{"$error":"#REF!"}}]

{"sheet":"Product List","index":6,"n_rows":1001,"n_cols":4,"rows_kept":1001,"cut":false,"hidden":true,"merged":[[3,1,3,3],[0,0,0,3],[1000,1,1000,3]]}
[{"$f":"OFFSET(L!$C$1,MATCH(\"Product List\"&ADDRESS(ROW(),COLUMN(),4),L!$A:$A,0)-1,SL,,)","v":"Completion required only if reporting level \"Product (or List of Products)\" selected on the 'Declaration' worksheet."}]
[]
[]
[null,"Click here to return to Declaration tab"]
[null,{"$f":"OFFSET(L!$C$1,MATCH(\"Product List\"&ADDRESS(ROW(),COLUMN(),4),L!$A:$A,0)-1,SL,,)","v":"Manufacturer’s Product Number (*)"},{"$f":"OFFSET(L!$C$1,MATCH(\"Product List\"&ADDRESS(ROW(),COLUMN(),4),L!$A:$A,0)-1,SL,,)","v":"Manufacturer’s Product Name"},{"$f":"OFFSET(L!$C$1,MATCH(\"Product List\"&ADDRESS(ROW(),COLUMN(),4),L!$A:$A,0)-1,SL,,)","v":"Comments"}]
{"$rows_empty":995}
[null,{"$f":"OFFSET(L!$C$1,MATCH(\"General\"&\"Cpy\",L!$A:$A,0)-1,SL,,)","v":"© 2020 Responsible Minerals Initiative. All rights reserved."}]

{"sheet":"Smelter Look-up","index":7,"n_rows":82,"n_cols":11,"rows_kept":82,"cut":false,"hidden":true,"merged":[[0,0,0,6],[1,0,2,8]]}
[{"$f":"OFFSET(L!$C$1,MATCH(\"Smelter Look-up\"&ADDRESS(ROW(),COLUMN(),4),L!$A:$A,0)-1,SL,,)","v":{"$error":"#N/A"}}]
[]
[]
[{"$f":"OFFSET(L!$C$1,MATCH(\"Smelter Look-up\"&ADDRESS(ROW(),COLUMN(),4),L!$A:$A,0)-1,SL,,)","v":{"$error":"#N/A"}},{"$f":"OFFSET(L!$C$1,MATCH(\"Smelter Look-up\"&ADDRESS(ROW(),COLUMN(),4),L!$A:$A,0)-1,SL,,)","v":{"$error":"#N/A"}},{"$f":"OFFSET(L!$C$1,MATCH(\"Smelter Look-up\"&ADDRESS(ROW(),COLUMN(),4),L!$A:$A,0)-1,SL,,)","v":"Standard Smelter Names"},{"$f":"OFFSET(L!$C$1,MATCH(\"Smelter Look-up\"&ADDRESS(ROW(),COLUMN(),4),L!$A:$A,0)-1,SL,,)","v":"Smelter Facility Location: Country"},{"$f":"OFFSET(L!$C$1,MATCH(\"Smelter Look-up\"&ADDRESS(ROW(),COLUMN(),4),L!$A:$A,0)-1,SL,,)","v":"Smelter ID"},{"$f":"OFFSET(L!$C$1,MATCH(\"Smelter Look-up\"&ADDRESS(ROW(),COLUMN(),4),L!$A:$A,0)-1,SL,,)","v":"Source of Smelter Identification Number"},{"$f":"OFFSET(L!$C$1,MATCH(\"Smelter Look-up\"&ADDRESS(ROW(),COLUMN(),4),L!$A:$A,0)-1,SL,,)","v":"Smelter Street "},{"$f":"OFFSET(L!$C$1,MATCH(\"Smelter Look-up\"&ADDRESS(ROW(),COLUMN(),4),L!$A:$A,0)-1,SL,,)","v":"Smelter City"},{"$f":"OFFSET(L!$C$1,MATCH(\"Smelter Look-up\"&ADDRESS(ROW(),COLUMN(),4),L!$A:$A,0)-1,SL,,)","v":"Smelter Facility Location: State / Province"},"METAL+Alias","METAL+Alias"]
["Cobalt","Compagnie de Tifnout Tiranimine","Compagnie de Tifnout Tiranimine","MOROCCO","CID003280","RMI",null,"Marrakech","Marrakesh-Safi",{"$f":"A5&B5","v":"CobaltCompagnie de Tifnout Tiranimine"},{"$f":"A5&B5","v":"CobaltCompagnie de Tifnout Tiranimine"}]
["Cobalt","Complexe hydrométallurgique de Guemassa","Compagnie de Tifnout Tiranimine","MOROCCO","CID003280","RMI",null,"Marrakech","Marrakesh-Safi","CobaltComplexe hydrométallurgique de Guemassa","CobaltComplexe hydrométallurgique de Guemassa"]
["Cobalt","CoreMax Corporation","CoreMax Corporation","TAIWAN, PROVINCE OF CHINA","CID003473","RMI",null,"Hsinchu","Hsinchu","CobaltCoreMax Corporation","CobaltCoreMax Corporation"]
["Cobalt","Cosmo EcoChem Co., Ltd.","Cosmo EcoChem Co., Ltd.","KOREA, REPUBLIC OF","CID003415","RMI",null,"Ulsan","Ulsan-gwangyeoksi","CobaltCosmo EcoChem Co., Ltd.","CobaltCosmo EcoChem Co., Ltd."]
["Cobalt","Dynatec Madagascar Company","Dynatec Madagascar Company","MADAGASCAR","CID003232","RMI",null,"Toamasina","Toamasina","CobaltDynatec Madagascar Company","CobaltDynatec Madagascar Company"]
["Cobalt","Fairsky Industrial Co., Limited","Fairsky Industrial Co., Limited","CHINA","CID003469","RMI",null,"Baoding","Hebei Sheng","CobaltFairsky Industrial Co., Limited","CobaltFairsky Industrial Co., Limited"]
["Cobalt","Fort Saskatchewan Metals Facility","Fort Saskatchewan Metals Facility","CANADA","CID003242","RMI",null,"Toronto","Ontario","CobaltFort Saskatchewan Metals Facility","CobaltFort Saskatchewan Metals Facility"]
["Cobalt","Freeport Kokkola","Umicore Finland Oy","FINLAND","CID003226","RMI",null,"Kokkola","Central Ostrobothnia","CobaltFreeport Kokkola","CobaltFreeport Kokkola"]
["Cobalt","Gangzhou Yi Hao Umicore Industry Co.","Gangzhou Yi Hao Umicore Industry Co.","CHINA","CID003227","RMI",null,"Ganzhou","Jiangxi Sheng","CobaltGangzhou Yi Hao Umicore Industry Co.","CobaltGangzhou Yi Hao Umicore Industry Co."]
["Cobalt","Ganzhou Highpower Technology Co., Ltd.","Ganzhou Highpower Technology Co., Ltd.","CHINA","CID003384","RMI",null,"Ganzhou","Jiangxi Sheng","CobaltGanzhou Highpower Technology Co., Ltd.","CobaltGanzhou Highpower Technology Co., Ltd."]
["Cobalt","Ganzhou Tengyuan Cobalt New Material Co., Ltd.","Ganzhou Tengyuan Cobalt New Material Co., Ltd.","CHINA","CID003212","RMI",null,"Ganzhou","Jiangxi Sheng","CobaltGanzhou Tengyuan Cobalt New Material Co., Ltd.","CobaltGanzhou Tengyuan Cobalt New Material Co., Ltd."]
["Cobalt","Gem (Jiangsu) Cobalt Industry Co., Ltd.","Gem (Jiangsu) Cobalt Industry Co., Ltd.","CHINA","CID003209","RMI",null,"Taixing","Jiangsu Sheng","CobaltGem (Jiangsu) Cobalt Industry Co., Ltd.","CobaltGem (Jiangsu) Cobalt Industry Co., Ltd."]
["Cobalt","Glencore Nikkelverk Refinery","Glencore Nikkelverk Refinery","NORWAY","CID003403","RMI",null,"Kristiansand","Kristiansandregion","CobaltGlencore Nikkelverk Refinery","CobaltGlencore Nikkelverk Refinery"]
["Cobalt","Guangdong Jiana Energy Technology Co., Ltd.","Guangdong Jiana Energy Technology Co., Ltd.","CHINA","CID003291","RMI",null,"Guangzhou","Guangdong Sheng","CobaltGuangdong Jiana Energy Technology Co., Ltd.","CobaltGuangdong Jiana Energy Technology Co., Ltd."]
["Cobalt","Guangxi Yinyi Advanced Material Co., Ltd.","Guangxi Yinyi Advanced Material Co., Ltd.","CHINA","CID003213","RMI",null,"Yulin","Guangxi Sheng","CobaltGuangxi Yinyi Advanced Material Co., Ltd.","CobaltGuangxi Yinyi Advanced Material Co., Ltd."]
["Cobalt","Hunan Brunp Recycling Technology Co., Ltd.","Hunan Brunp Recycling Technology Co., Ltd.","CHINA","CID003219","RMI",null,"Changsha","Hunan Sheng","CobaltHunan Brunp Recycling Technology Co., Ltd.","CobaltHunan Brunp Recycling Technology Co., Ltd."]
["Cobalt","Hunan Hina Advanced Material Co., Ltd.","Hunan Zoomwe New Energy Science & Technology Co., Ltd.","CHINA","CID003411","RMI",null,"Changsha","Hunan Sheng","CobaltHunan Hina Advanced Material Co., Ltd.","CobaltHunan Hina Advanced Material Co., Ltd."]
["Cobalt","Hunan Jinxin New Material Holding Co., Ltd.","Hunan Jinxin New Material Holding Co., Ltd.","CHINA","CID003470","RMI",null,"Yiyang","Hunan Sheng","CobaltHunan Jinxin New Material Holding Co., Ltd.","CobaltHunan Jinxin New Material Holding Co., Ltd."]
["Cobalt","Hunan Shiji Yintian New Material Co., Ltd.","Hunan Shiji Yintian New Material Co., Ltd.","CHINA","CID003467","RMI",null,"Yiyang","Hunan Sheng","CobaltHunan Shiji Yintian New Material Co., Ltd.","CobaltHunan Shiji Yintian New Material Co., Ltd."]
["Cobalt","Hunan Yacheng New Materials Co., Ltd.","Hunan Yacheng New Materials Co., Ltd.","CHINA","CID003404","RMI",null,"Changsha","Hunan Sheng","CobaltHunan Yacheng New Materials Co., Ltd.","CobaltHunan Yacheng New Materials Co., Ltd."]
["Cobalt","Hunan Zoomwe New Energy Science & Technology Co., Ltd.","Hunan Zoomwe New Energy Science & Technology Co., Ltd.","CHINA","CID003411","RMI",null,"Changsha","Hunan Sheng","CobaltHunan Zoomwe New Energy Science & Technology Co., Ltd.","CobaltHunan Zoomwe New Energy Science & Technology Co., Ltd."]
["Cobalt","Jiana","Guangdong Jiana Energy Technology Co., Ltd.","CHINA","CID003291","RMI",null,"Guangzhou","Guangdong Sheng","CobaltJiana","CobaltJiana"]
["Cobalt","Jiangsu Cobalt Nickel Metal (KLK)","Gem (Jiangsu) Cobalt Industry Co., Ltd.","CHINA","CID003209","RMI",null,"Taixing","Jiangsu Sheng","CobaltJiangsu Cobalt Nickel Metal (KLK)","CobaltJiangsu Cobalt Nickel Metal (KLK)"]
["Cobalt","Jiangsu KLK Cobalt Nickel Metal Co., Ltd.","Gem (Jiangsu) Cobalt Industry Co., Ltd.","CHINA","CID003209","RMI",null,"Taixing","Jiangsu Sheng","CobaltJiangsu KLK Cobalt Nickel Metal Co., Ltd.","CobaltJiangsu KLK Cobalt Nickel Metal Co., Ltd."]
["Cobalt","Jiangsu Xiongfeng Technology Co., Ltd.","Jiangsu Xiongfeng Technology Co., Ltd.","CHINA","CID003293","RMI",null,"Haimen","Jiangsu Sheng","CobaltJiangsu Xiongfeng Technology Co., Ltd.","CobaltJiangsu Xiongfeng Technology Co., Ltd."]
["Cobalt","Jiangxi Jiangwu Cobalt industrial Co., Ltd.","Jiangxi Jiangwu Cobalt industrial Co., Ltd.","CHINA","CID003377","RMI",null,"Ganzhou","Jiangxi Sheng","CobaltJiangxi Jiangwu Cobalt industrial Co., Ltd.","CobaltJiangxi Jiangwu Cobalt industrial Co., Ltd."]
["Cobalt","Jiangxi Rui da Xinnengyuan Technology Co., Ltd.","Jiangxi Rui da Xinnengyuan Technology Co., Ltd.","CHINA","CID003447","RMI",null,"Yichun","Jiangxi Sheng",{"$f":"A31&B31","v":"CobaltJiangxi Rui da Xinnengyuan Technology Co., Ltd."},{"$f":"A31&B31","v":"CobaltJiangxi Rui da Xinnengyuan Technology Co., Ltd."}]
["Cobalt","Jingmen GEM Co., Ltd.","Jingmen GEM Co., Ltd.","CHINA","CID003378","RMI",null,"Jingmen","Hubei Sheng","CobaltJingmen GEM Co., Ltd.","CobaltJingmen GEM Co., Ltd."]
["Cobalt","JSC Kolskaya Mining and Metallurgical Company (Kola MMC)","JSC Kolskaya Mining and Metallurgical Company (Kola MMC)","RUSSIAN FEDERATION","CID003233","RMI",null,"Monchegorsk","Murmansk Oblast","CobaltJSC Kolskaya Mining and Metallurgical Company (Kola MMC)","CobaltJSC Kolskaya Mining and Metallurgical Company (Kola MMC)"]
["Cobalt","Kola Mining and Metallurgical Company","JSC Kolskaya Mining and Metallurgical Company (Kola MMC)","RUSSIAN FEDERATION","CID003233","RMI",null,"Monchegorsk","Murmansk Oblast","CobaltKola Mining and Metallurgical Company","CobaltKola Mining and Metallurgical Company"]
["Cobalt","Lanzhou Jinchuan Advanced Materials Technology Co., Ltd.","Lanzhou Jinchuan Advanced Materials Technology Co., Ltd.","CHINA","CID003210","RMI",null,"Lanzhou","Gansu Sheng","CobaltLanzhou Jinchuan Advanced Materials Technology Co., Ltd.","CobaltLanzhou Jinchuan Advanced Materials Technology Co., Ltd."]
["Cobalt","Maolian","Tianjin Maolian Science & Technology Co., Ltd.","CHINA","CID003215","RMI",null,"Tianjin","Tianjin Sheng","CobaltMaolian","CobaltMaolian"]
["Cobalt","Minara Resources Pty","Murrin Murrin Nickel Cobalt Plant","AUSTRALIA","CID003406","RMI",null,"Laverton","Western Australia",{"$f":"A37&B37","v":"CobaltMinara Resources Pty"},{"$f":"A37&B37","v":"CobaltMinara Resources Pty"}]
["Cobalt","Minara Resources Pty Ltd.","Murrin Murrin Nickel Cobalt Plant","AUSTRALIA","CID003406","RMI",null,"Laverton","Western Australia","CobaltMinara Resources Pty Ltd.","CobaltMinara Resources Pty Ltd."]
["Cobalt","Mine de Bou-Azzer","Mine de Bou-Azzer","MOROCCO","CID003279","RMI",null,"Tazenakht","Drâa-Tafilalet","CobaltMine de Bou-Azzer","CobaltMine de Bou-Azzer"]
["Cobalt","Murrin Murrin Nickel Cobalt Plant","Murrin Murrin Nickel Cobalt Plant","AUSTRALIA","CID003406","RMI",null,"Laverton","Western Australia","CobaltMurrin Murrin Nickel Cobalt Plant","CobaltMurrin Murrin Nickel Cobalt Plant"]
["Cobalt","Nanjing Hanrui Cobalt","Nanjing Hanrui Cobalt","CHINA","CID003252","RMI",null,"Nanjing","Jiangsu Sheng","CobaltNanjing Hanrui Cobalt","CobaltNanjing Hanrui Cobalt"]
["Cobalt","Nantong Xinwei","Nantong Xinwei Nickel Cobalt Technology Development Co., Ltd.","CHINA","CID003221","RMI",null,"Haimei","Jiangsu Sheng","CobaltNantong Xinwei","CobaltNantong Xinwei"]
["Cobalt","Nantong Xinwei Nickel Cobalt Technology Development Co., Ltd.","Nantong Xinwei Nickel Cobalt Technology Development Co., Ltd.","CHINA","CID003221","RMI",null,"Haimei","Jiangsu Sheng","CobaltNantong Xinwei Nickel Cobalt Technology Development Co., Ltd.","CobaltNantong Xinwei Nickel Cobalt Technology Development Co., Ltd."]
["Cobalt","New Era Group Zhejiang Zhongneng Cycle Technology Co., Ltd.","New Era Group Zhejiang Zhongneng Cycle Technology Co., Ltd.","CHINA","CID003398","RMI",null,"Shaoxing","Zhejiang Sheng","CobaltNew Era Group Zhejiang Zhongneng Cycle Technology Co., Ltd.","CobaltNew Era Group Zhejiang Zhongneng Cycle Technology Co., Ltd."]
["Cobalt","New Providence Metals Marketing Inc.","Fort Saskatchewan Metals Facility","CANADA","CID003242","RMI",null,"Toronto","Ontario","CobaltNew Providence Metals Marketing Inc.","CobaltNew Providence Metals Marketing Inc."]
["Cobalt","Niihama Nickel and Cobalt Facility","Sumitomo Metal Mining","JAPAN","CID003278","RMI",null,"Niihama","Ehime","CobaltNiihama Nickel and Cobalt Facility","CobaltNiihama Nickel and Cobalt Facility"]
["Cobalt","Ningbo Hubang New Material Co., Ltd.","Ningbo Hubang New Material Co., Ltd.","CHINA","CID003465","RMI",null,"Ningbo","Zhejiang Sheng","CobaltNingbo Hubang New Material Co., Ltd.","CobaltNingbo Hubang New Material Co., Ltd."]
["Cobalt","Ningbo Yanmen Chemical Co., Ltd.","Ningbo Yanmen Chemical Co., Ltd.","CHINA","CID003422","RMI",null,"Ningbo","Zhejiang Sheng","CobaltNingbo Yanmen Chemical Co., Ltd.","CobaltNingbo Yanmen Chemical Co., Ltd."]
["Cobalt","NORILSK NICKEL HARJAVALTA OY","NORILSK NICKEL HARJAVALTA OY","FINLAND","CID003390","RMI",null,"Harvjavalta","Satakunta","CobaltNORILSK NICKEL HARJAVALTA OY","CobaltNORILSK NICKEL HARJAVALTA OY"]
["Cobalt","Port Colborne Refinery","Port Colborne Refinery","CANADA","CID003239","RMI",null,"Port Colborne","Ontario",{"$f":"A50&B50","v":"CobaltPort Colborne Refinery"},{"$f":"A50&B50","v":"CobaltPort Colborne Refinery"}]
["Cobalt","Quzhou Huayou Cobalt New Material Co., Ltd.","Quzhou Huayou Cobalt New Material Co., Ltd.","CHINA","CID003255","RMI",null,"Quzhou","Zhejiang Sheng","CobaltQuzhou Huayou Cobalt New Material Co., Ltd.","CobaltQuzhou Huayou Cobalt New Material Co., Ltd."]
["Cobalt","Sherritt","Fort Saskatchewan Metals Facility","CANADA","CID003242","RMI",null,"Toronto","Ontario","CobaltSherritt","CobaltSherritt"]
["Cobalt","Shu Powders Ltd.","Shu Powders Ltd.","SOUTH AFRICA","CID003309","RMI",null,"Durban","KwaZulu-Natal","CobaltShu Powders Ltd.","CobaltShu Powders Ltd."]
["Cobalt","Sumitomo Metal Mining","Sumitomo Metal Mining","JAPAN","CID003278","RMI",null,"Tokyo","Tokyo","CobaltSumitomo Metal Mining","CobaltSumitomo Metal Mining"]
["Cobalt","SungEel HiMetal Co., Ltd.","SungEel HiTech Co.,Ltd.","KOREA, REPUBLIC OF","CID003338","RMI",null,"Gunsan-si","Jeollabuk-do","CobaltSungEel HiMetal Co., Ltd.","CobaltSungEel HiMetal Co., Ltd."]
["Cobalt","SungEel HiTech Co.,Ltd.","SungEel HiTech Co.,Ltd.","KOREA, REPUBLIC OF","CID003338","RMI",null,"Gunsan-si","Jeollabuk-do","CobaltSungEel HiTech Co.,Ltd.","CobaltSungEel HiTech Co.,Ltd."]
["Cobalt","The Ambatovy","Dynatec Madagascar Company","MADAGASCAR","CID003232","RMI",null,"Toamasina","","CobaltThe Ambatovy","CobaltThe Ambatovy"]
["Cobalt","Tianjin Maolian Science & Technology Co., Ltd.","Tianjin Maolian Science & Technology Co., Ltd.","CHINA","CID003215","RMI",null,"Tianjin","Tianjin Sheng","CobaltTianjin Maolian Science & Technology Co., Ltd.","CobaltTianjin Maolian Science & Technology Co., Ltd."]
["Cobalt","Umicore Finland Oy","Umicore Finland Oy","FINLAND","CID003226","RMI",null,"Kokkola","Central Ostrobothnia","CobaltUmicore Finland Oy","CobaltUmicore Finland Oy"]
["Cobalt","Umicore Olen","Umicore Olen","BELGIUM","CID003228","RMI",null,"Olen","Antwerpen","CobaltUmicore Olen","CobaltUmicore Olen"]
["Cobalt","Xiangtan Huacheng Nickel Cobalt New Material Co., Ltd.","Xiangtan Huacheng Nickel Cobalt New Material Co., Ltd.","CHINA","CID003466","RMI",null,"Xiangtan","Hunan Sheng","CobaltXiangtan Huacheng Nickel Cobalt New Material Co., Ltd.","CobaltXiangtan Huacheng Nickel Cobalt New Material Co., Ltd."]
["Cobalt","Xiongfeng","Jiangsu Xiongfeng Technology Co., Ltd.","CHINA","CID003293","RMI",null,"Haimen","Jiangsu Sheng","CobaltXiongfeng","CobaltXiongfeng"]
["Cobalt","XTC New Energy Materials (Xiamen) LTD.","XTC New Energy Materials (Xiamen) LTD.","CHINA","CID003376","RMI",null,"Xiamen","Fujian Sheng","CobaltXTC New Energy Materials (Xiamen) LTD.","CobaltXTC New Energy Materials (Xiamen) LTD."]
["Cobalt","Zhejiang Huayou Cobalt Co., Ltd.","Zhejiang Huayou Cobalt Company Limited","CHINA","CID003225","RMI",null,"Tongxiang","Zhejiang Sheng","CobaltZhejiang Huayou Cobalt Co., Ltd.","CobaltZhejiang Huayou Cobalt Co., Ltd."]
["Cobalt","Zhejiang Huayou Cobalt Company Limited","Zhejiang Huayou Cobalt Company Limited","CHINA","CID003225","RMI",null,"Tongxiang","Zhejiang Sheng","CobaltZhejiang Huayou Cobalt Company Limited","CobaltZhejiang Huayou Cobalt Company Limited"]
["Cobalt","Zhuhai Kelixin Metal Materials Co., Ltd.","Zhuhai Kelixin Metal Materials Co., Ltd.","CHINA","CID003211","RMI",null,"Zhuhai","Guangdong Sheng","CobaltZhuhai Kelixin Metal Materials Co., Ltd.","CobaltZhuhai Kelixin Metal Materials Co., Ltd."]
["Cobalt","Chemaf Etoile","Chemaf Etoile","CONGO, DEMOCRATIC REPUBLIC OF THE","CID003264","RMI",null,"Lubumbashi","Haut Katanga","CobaltChemaf Etoile","CobaltChemaf Etoile"]
["Cobalt","Chemaf Usoke","Chemaf Usoke","CONGO, DEMOCRATIC REPUBLIC OF THE","CID003423","RMI",null,"Lubumbashi","Haut Katanga","CobaltChemaf Usoke","CobaltChemaf Usoke"]
["Cobalt","Chizhou Xi’en New Material Technology Co., Ltd.","Chizhou Xi’en New Material Technology Co., Ltd.","CHINA","CID003481","RMI",null,"Chizhou","Anhui Sheng","CobaltChizhou Xi’en New Material Technology Co., Ltd.","CobaltChizhou Xi’en New Material Technology Co., Ltd."]
["Cobalt","Kamoto Copper Company","Kamoto Copper Company","CONGO, DEMOCRATIC REPUBLIC OF THE","CID003261","RMI",null,"Kolwezi","Haut-Katanga","CobaltKamoto Copper Company","CobaltKamoto Copper Company"]
["Cobalt","Lubumbashi (Mine de L’Etoile)","Chemaf Etoile","CONGO, DEMOCRATIC REPUBLIC OF THE","CID003264","RMI",null,"Lubumbashi","Haut Katanga","CobaltLubumbashi (Mine de L’Etoile)","CobaltLubumbashi (Mine de L’Etoile)"]
["Cobalt","METAL MINES SARL","METAL MINES SARL","CONGO, DEMOCRATIC REPUBLIC OF THE","CID003385","RMI",null,"Likasi","Haut-Katanga","CobaltMETAL MINES SARL","CobaltMETAL MINES SARL"]
["Cobalt","MJM SARLU","MJM SARLU","CONGO, DEMOCRATIC REPUBLIC OF THE","CID003419","RMI",null,"Likasi","Haut-Katanga","CobaltMJM SARLU","CobaltMJM SARLU"]
["Cobalt","MKM - La Miniere de Kalumbwe Myunga","MKM - La Miniere de Kalumbwe Myunga","CONGO, DEMOCRATIC REPUBLIC OF THE","CID003464","RMI",null,"Kisanfu","Lualaba","CobaltMKM - La Miniere de Kalumbwe Myunga","CobaltMKM - La Miniere de Kalumbwe Myunga"]
["Cobalt","MKM - La Minière de Kalumbwe Myunga","MKM - La Miniere de Kalumbwe Myunga","CONGO, DEMOCRATIC REPUBLIC OF THE","CID003464","RMI",null,"Kisanfu","Lualaba","CobaltMKM - La Minière de Kalumbwe Myunga","CobaltMKM - La Minière de Kalumbwe Myunga"]
["Cobalt","Mutanda Mining","Mutanda Mining","CONGO, DEMOCRATIC REPUBLIC OF THE","CID003301","RMI",null,"Kolwezi","Haut-Katanga","CobaltMutanda Mining","CobaltMutanda Mining"]
["Cobalt","Ruashi","Ruashi Mining SAS","CONGO, DEMOCRATIC REPUBLIC OF THE","CID003442","RMI",null,"Luano","Haut Katanga","CobaltRuashi","CobaltRuashi"]
["Cobalt","Ruashi Mining SAS","Ruashi Mining SAS","CONGO, DEMOCRATIC REPUBLIC OF THE","CID003442","RMI",null,"Luano","Haut Katanga","CobaltRuashi Mining SAS","CobaltRuashi Mining SAS"]
["Cobalt","SOCIETE MINIERE DU KATANGA (SOMIKA SARL)","SOCIETE MINIERE DU KATANGA (SOMIKA SARL)","CONGO, DEMOCRATIC REPUBLIC OF THE","CID003426","RMI",null,"Lubumbashi","Haut Katanga","CobaltSOCIETE MINIERE DU KATANGA (SOMIKA SARL)","CobaltSOCIETE MINIERE DU KATANGA (SOMIKA SARL)"]
["Cobalt","Societe pour le Traitment du Terril de Lubumbashi (STL)","Societe pour le Traitment du Terril de Lubumbashi (STL)","CONGO, DEMOCRATIC REPUBLIC OF THE","CID003266","RMI",null,"Lubumbashi","Haut Katanga","CobaltSociete pour le Traitment du Terril de Lubumbashi (STL)","CobaltSociete pour le Traitment du Terril de Lubumbashi (STL)"]
["Cobalt","Smelter Not Listed"]
["Cobalt","Smelter Not Yet Identified","Unknown","Unknown"]

{"sheet":"L","index":8,"n_rows":180,"n_cols":13,"rows_kept":180,"cut":false,"hidden":true,"merged":[]}
[null,"Sheets","Cells","English","中文 Chinese","日本語 Japanese","한국어 Korean","Français","Português","Deutsch","Español","italiano","Türkçe"]
[{"$f":"B2&C2","v":"InstructionsA1"},"Instructions","A1","RMI:www.responsiblemineralsinitiative.org/","RMI 网站：(http://www.responsiblemineralsinitiative.org/)","RMIウェブサイト：www.responsiblemineralsinitiative.org/","RMI:www.responsiblemineralsinitiative.org/","Site Internet du RMI: (www.conflictfreesourcing.org) \nFormations, recommandations, modèles, liste des fonderies conformes au programme fonderie sans conflit","Website do RMI: (www.conflictfreesourcing.org)\nFormação e guias de orientação, modelos, lista de fundições cumpridoras com o Programa de Fundições Livres de Conflitos. \n","RMI website: (www.conflictfreesourcing.org)\nSchulung und Beratung, Vorlagen, Konfliktfreie Metalle, konforme Schmelzhütten Liste","Website  de RMI: (www.conflictfreesourcing.org)  entrenamiento y guía, templete,  programa de fundidores sin conflicto lista de fundidores en cumplimiento.","Estratti dal sito internet:\n(www.conflictfreesourcing.org)\nFormazione, modelli, Domande  Frequenti (FAQs), lista dei Conflict-Free Smelters (CFS -  fonderie che certificano l'origine e la tracciabilità dei metalli provenienti da zone di conflitto o ad alto rischio)","RMI web sitesi: (www.conflictfreesourcing.org)\nEğitim ve kılavuzluk, şablon, İhtilafsız İzabe Tesisi Programı uyumlu izabe tesislerinin listesi"]
[{"$f":"B3&C3","v":"InstructionsA2"},"Instructions","A2","Introduction","介绍","始めに","소개","Introduction","Introdução","Einführung","Introducción","Introduzione","Giriş"]
["InstructionsA3","Instructions","A3","This Mica Reporting Template (MRT) is a free, standardized reporting template created by the Responsible Minerals Initiative (RMI). The Template facilitates the transfer of information through the supply chain regarding mineral country of origin and processors being utilized. The template also facilitates the identification of new processors to potentially undergo an assessment via the Responsible Minerals Assurance Process.\n\nThe MRT was designed for downstream companies to disclose information about their supply chains up to the processor. If you are a processor, we recommend you enter your own name in the processor list tab.\n\nWhen filling out the form, none of the cell entries should start with \"+\" or \"#\".","此钴报告模板 (CRT) 是 Responsible Minerals Initiative®（负责任矿物计划® (RMI®) 创建的免费标准化报告‏‎模板。\n该模板促进了通过关于矿产原产国、所使用冶炼厂和精炼厂的供应链的信息传输，并且支持了按照《经济合作与发展组织关于来自受冲突影响和高风险地区矿石的负责任供应链尽职调查指南》(OECD Due Diligence Guidance for Responsible Supply Chains of Minerals from Conflict-Af‎‎‎fected and High-Risk Areas) 执行尽职调查。\n该模板还促进辨识新的冶炼厂和精炼厂以通过负责任矿物审验流程对这些厂家进行潜在的审核。\n\nCRT 旨在供下游企业披露与其供应链\n（截至但不包括冶炼厂）相关的信息。如果贵公司是冶炼厂或精炼厂，我们建议您在“冶炼厂目录”选项卡中输入贵公司名称。\n\n填好的表格中不应有单元格条目以“=”或\n“#”开头。","このマイカ報告テンプレート（MRT）は、Responsible Minerals Initiative®（RMI®）が作成した、無料の標準報告テンプレートです。このテンプレートは鉱物の原産国と、使用される加工業者に関しサプライチェーンを通して情報を収集することを円滑にします。また、このテンプレートは、責任ある鉱物保証プロセス（Responsible Minerals Assurance Process）に則った監査を受ける可能性のある、新たな加工業者の特定も支援します。\n\nMRTは、川下企業が、川下企業から加工業者までのサプライチェーンに関する情報を開示するために考案されたものです。貴社が加工業者の場合は、「加工業者リストタブ（Processor List）」に貴社名を記入することをお勧めします。\n\nフォームに記入する際、セルへの記入内容が「＋」または「#」で始まることはできません。","본 마이카 보고 템플릿(MRT)은 Responsible Minerals Initiative®(RMI®)가 만든 표준화된 무료 보고 템플릿입니다. 이 템플릿은 광물 원산국 및 사용하는 광물가공업체와 관련된 공급망을 통해 정보의 전달을 촉진하고 분쟁 및 고위험 지역으로부터의 책임 있는 광물 공급망을 위한 OECD 실사 지침에 부합하는 실사 이행을 지원합니다. 또한 이 템플릿은 책임 있는 광물 보증 프로세스를 통해 감사를 받을 가능성이 있는 새로운 광물가공업체를 쉽게 식별할 수 있습니다. MRT는 다운스트림 회사가 광물가공업체를 제외한 회사의 공급망 정보를 최대한 공개하도록 설계되었습니다. 귀사가 광물 가공업체에 해당하는 경우, 광물가공업체 목록 탭에 귀사의 이름을 입력하길 권장합니다.\n\n양식에 기입할 때, 어떤 셀에도 \"=\" 또는 \"#\"으로 시작하는 내용이 없어야 합니다.","Ce modèle de rapport sur le cobalt (Cobalt Reporting Template, CRT) est un modèle de rapport normalisé et gratuit créé par l’Initiative pour des minérais responsables (Responsible Minerals Initiative®, RMI®). Le modèle permet le transfert d’informations tout au long de la chaîne d’approvisionnement concernant le pays d’origine du minérai, les fonderies et les raffineries utilisées. Il soutient l’exercice de la diligence raisonnable conformément aux Directives de l’OCDE en matière de diligence raisonnable pour les chaînes d’approvisionnement responsables des minéraux issus de zones de conflit et à haut risque. Le modèle permet également l’identification de nouvelles fonderies et raffineries pour les soumettre éventuellement à un audit via le processus d’assurance des minérais responsables.\n\nLe CRT a été conçu pour que les entreprises en aval divulguent des informations sur leurs chaînes d’approvisionnement jusqu’à leur fonderie, mais excluant celle-ci.  Si vous êtes un fondeur ou un raffineur, nous vous recommandons de saisir votre propre nom dans l’onglet Liste de fonderies.\n\nLorsque vous remplissez le formulaire, aucune des cellules ne doit commencer par « = » ou « # ».","Este modelo de relatório de cobalto (CRT) é um modelo de relatório padronizado e gratuito criado pela Iniciativa de Minerais Responsáveis (Responsible Minerals Initiative, RMI®). O Modelo facilita a transferência de informações por meio da cadeia de suprimentos sobre o país de origem mineral e as fundições e refinarias sendo utilizadas e apoia o exercício de diligência devida de acordo com a Orientação de Diligência Devida da OECD para cadeias de suprimentos responsáveis de minerais de áreas afetadas por conflitos e de alto risco. O modelo também facilita a identificação de novas fundições e refinarias para potencialmente passar por uma auditoria por meio do Processo de Garantia de Minerais Responsáveis.\n\nO CRT foi projetado para empresas a jusante divulgarem informações sobre suas cadeias de suprimentos até a fundição, mas não incluindo-a.  Se você for fundição ou refinaria, recomendamos que você insira seu próprio nome na guia da lista de fundidores.\n\nAo preencher o formulário, nenhuma das entradas da célula deve começar com \"=\" ou \"#\".","Diese Vorlage für den Kobalt-Bericht (Cobalt Reporting Template, CRT) ist eine kostenlose, standardisierte Berichtsvorlage, die von der Responsible Minerals Initiative® (RMI®) erstellt wurde. Die Vorlage erleichtert die Übertragung von Informationen über die Lieferkette in Bezug auf das Ursprungsland des Minerals und die verwendeten Schmelzhütten und Raffinerien und unterstützt die Durchführung der Sorgfaltspflicht in Übereinstimmung mit der OECD-Richtlinie zur Sorgfaltspflicht für verantwortungsvolle Lieferketten für Mineralien aus Konflikt- und Hochrisikogebieten. Die Vorlage erleichtert auch die Identifizierung neuer Schmelzhütten und Raffinerien, die sich möglicherweise einem Audit im Rahmen des Gewährleistungsprozesses für die verantwortungsvolle Beschaffung von Mineralien (Responsible Minerals Assurance Process) unterziehen.\n\nDie CRT wurde für nachgelagerte Unternehmen entwickelt, um Informationen über deren Lieferketten bis hin zur der Schmelzhütte offenzulegen.  Wenn Sie eine Schmelzhütte oder Raffinerie sind, empfehlen wir Ihnen die Eingabe Ihres eigenen Namens in die Registerkarte Schmelzhüttenliste.\n\nBeim Ausfüllen des Formulars sollte keiner der Zelleneinträge mit „=“ oder „#“ beginnen.","Esta Plantilla de generación de informes de cobalto (CRT) es una plantilla de informes estandarizada y gratuita creada por la iniciativa Responsible Minerals Initiative® (RMI®). La plantilla facilita la transferencia de información a través de la cadena de suministro en relación con el país de origen del mineral y los fundidoras y refinerías que se utilizan, además de respaldar el ejercicio de debida diligencia, de conformidad con la Guía de debida diligencia de la Organización para la Cooperación y el Desarrollo Económicos (OCDE) aplicable a las cadenas responsables de suministro de minerales de zonas afectadas por conflictos y de alto riesgo. La plantilla también facilita la identificación de nuevas fundidoras y refinerías que potencialmente deben someterse a una auditoría a través del Proceso responsable de garantía de minerales.\n\nLa CRT se diseñó para que las empresas intermedias revelaran información sobre sus cadenas de suministro, pero sin incluir las fundidoras.  Si es una fundidora o refinadora, le recomendamos que ingrese su propio nombre en la pestaña de la lista de fundidoras.\n\nAl completar el formulario, ninguna de las entradas de celda debe comenzar con \"=\" ni \"#\".","Questo Modello di segnalazione del cobalto (Cobalt Reporting Template, CRT) è un modello di segnalazione standardizzato e gratuito creato da Responsible Minerals Initiative® (RMI®). Il Modello facilita il trasferimento alla catena di fornitura delle informazioni relative al Paese di origine del minerale e alle fonderie e raffinerie utilizzate, e supporta l’esercizio della due diligence in conformità alle Linee guida dell’OCSE sul dovere di diligenza per una catena di fornitura responsabile dei minerali provenienti da zone di conflitto e ad alto rischio (OECD Due Diligence Guidance for Responsible Supply Chains of Minerals from Conflict-Affected and High-Risk Areas). Il Modello, inoltre, facilita l’individuazione delle nuove fonderie e raffinerie potenzialmente soggette a verifica in base al processo di approvvigionamento responsabile dei minerali (Responsible Minerals Assurance Process).\n\nIl CRT è stato progettato per guidare le aziende nella comunicazione delle informazioni relative alle proprie filiere, fino alla fase che precede la fonderia.  Se la vostra azienda è una fonderia o una raffineria, vi consigliamo di inserire il vostro nome nel foglio con l’elenco delle fonderie.\n\nNel compilare il modulo, non inserire mai i caratteri “=” o “#” all’inizio del testo di qualsiasi cella.","Bu Kobalt Raporlama Şablonu (CRT) Responsible Minerals Initiative® (RMI®) tarafından oluşturulan ücretsiz, standart bir raporlama şablonudur. Bu Şablon, mineral menşe ülkesi ve kullanılan izabe ve rafineri tesisleri ile ilgili olarak tedarik zinciri vasıtası ile bilgi aktarılmasını kolaylaştırır ve OECD’nin Çatışmadan Etkilenen ve Yüksek Riskli Bölgelerden gelen Minerallerin Sorumlu Tedarik Zincirleri için Ayrıntılı İnceleme Rehberine uygun şekilde ayrıntılı inceleme yapılmasını destekler. Şablon ayrıca Sorumlu Mineraller Güvence Süreci vasıtası ile potansiyel olarak denetimden geçecek olan yeni izabe ve rafineri tesislerinin belirlenmesini kolaylaştırmaktadır.\n\nCRT, süreçte daha sonra gelen şirketlerin kendi tedarik zincirleri hakkında izabe tesisini içermeyen şekilde bilgi beyan etmesi için tasarlanmıştır.  Bir izabe veya rafineri tesisi olmanız durumunda izabe tesisi listesi sekmesine kendi adınızı girmenizi tavsiye ederiz.\n\nFormu doldururken hücre girişlerinden hiçbirisi “=” veya “#” ile başlamamalıdır."]
["InstructionsA5","Instructions","A5","Instructions for completing the Company Information questions (rows 8 - 14)\nProvide comments in ENGLISH only","公司资料填写说明（第8-14行）。只限英文作答","会社情報の記入（8～14行）に関する解説。\n回答は英語(半角)で入力してください。","회사 정보 질문(8~14행)의 답변 지침. \n영어로만 의견을 작성하십시오","Instructions pour compléter les informations relatives à votre entreprise (lignes 8 - 14). Merci de répondre en anglais uniquement.","Instruções para completar as questões relativas às informações da Empresa (linhas 8-22). Favor fornecer comentários apenas em Inglês.","Anleitung zum Ausfüllen von Informationen zu Unternehmen (Zeilen 8 - 22).  Die Kommentare nur in englischer Sprache.","Instrucciones para completar las preguntas de la información de la compañía (renglones 8-22).\nProvea comentarios en INGLES solamente.","Istruzioni per il completamento della sezione INFORMAZIONI SULL'AZIENDA (righe 8-22).\nSiete pregati di rispondere unicamente in Inglese.","Şirket Bilgi sorularının yanıtlanması için talimatlar (8 ila 22 arası satırlar).\nAçıklamaları yalnızca İNGİLİZCE olarak yapın"]
["InstructionsA6","Instructions","A6","Note:  Entries with (*) are mandatory fields. ","注：带星号（*）的栏目必须填写","注：(*)のあるフィールドは記入必須です。","참고:  (*) 표시가 있는 항목은 필수 기재란입니다. ","Remarque : les astérisques (*) marquent des champs obligatoires","Nota: Campos sinalizados com *, são campos de preenchimento obrigatório.","Hinweis: Eingaben mit (*) sind Pflichtfelder","     Nota:  Datos con (*) son campos obligatorios. ","Note: i campi con asterisco (*) sono a risposta obbligatoria"," Not: (*) ile işaretlenmiş alanların doldurulması zorunludur. "]
["InstructionsA7","Instructions","A7","1. Insert your company's Legal Name.  Please do not use abbreviations. In this field you have the option to add other commercial names, DBAs, etc.","1. 插入贵公司的法定名称。请勿使用缩写。在此字段中，您可以选择添加其他商业名称、营业名称等。","1. 貴社の正式名称を記入してください。省略形は使わないでください。このフィールドでは、他の社名やDBAなどを追加することができます。","1. 귀사의 법적인 공식 명칭을 기입하십시오. 축약된 명칭을 기입하면 안됩니다. 이 필드에는 다른 상업명, DBA 등을 추가할 수 있는 옵션이 있습니다. ","1. Insérez la dénomination sociale de votre société.  Merci de ne pas utiliser d’abréviations. Dans ce champ, vous avez la possibilité d’ajouter d’autres noms commerciaux, le gestionnaire de votre base de données, etc. Ce champ est obligatoire.","1. Insira a razão/denominação social da empresa.  Não use abreviaturas. Neste campo você tem a opção de adicionar outros nomes comerciais, DBAs, etc. Este campo é obrigatório.","1. Geben Sie hier den rechtmäßigen Firmennamen Ihres Unternehmens ein.  Bitte verwenden Sie keine Abkürzungen. In diesem Feld haben Sie die Möglichkeit, weitere Geschäftsnamen, DBAs usw. hinzuzufügen. Dies ist ein Pflichtfeld.","1. Ingrese el nombre legal de su empresa.  No utilice abreviaturas. En este campo tiene la opción de agregar otros nombres comerciales, DBA, etc. Este campo es obligatorio.","1. Inserire la denominazione legale dell’Azienda.  Si prega di non utilizzare abbreviazioni. In questo campo è possibile aggiungere altri nomi commerciali, DBA, ecc. Questo campo è obbligatorio.","1. Şirketinizin Yasal Adını ekleyin.  Lütfen kısaltmalar kullanmayın. Bu alanda başka ticari adlar, DBA’lar, vb. ekleme seçeneğine sahip olacaksınız. Bu alan zorunludur."]
["InstructionsA8","Instructions","A8","2. Insert your company’s unique identifier number or code (DUNS number, VAT number, customer-specific identifier, etc.)","2. 插入贵公司的唯一识别序号或编号（DUNS 号码、VAT 号码、客户特定识别码等）","2.  貴社固有の識別番号又はコードを記入してください（DUNSナンバー、VATナンバー、顧客固有番号等）。","2.  귀사의 고유한 번호나 코드를 기입하십시오. (DUNS #, VAT # 등)","2. Sélectionnez le champ d’application de la déclaration de votre société.  Les options de champ d’application sont les suivantes :\n\nA. Ensemble de la société\nB. Produit (ou Liste de produits)\nC. Défini par l’utilisateur \n\nPour l’option « Ensemble de la société », la déclaration englobe la totalité des produits de la société ou substances des produits fabriqués par la société mère. Ainsi, si l’utilisateur déclare des données concernant du cobalt à l’échelle de la société, il déclarera des données sur tous les produits qu’il fabrique. \n\nSi le champ d’application est le produit (ou liste de produits), un lien vers l’onglet de la feuille de travail de liste des produits sera affiché.  Si ce champ d’application est sélectionné, il est obligatoire de mentionner le numéro de produit du fabricant pour les produits couverts par le champ d’application de cette déclaration dans la colonne B de la feuille de travail de liste des produits. Il n’est pas obligatoire de mentionner le nom des produits du fabricant dans la colonne C de la feuille de travail de liste de produits.\n\nEn sélectionnant le champ d’application « Défini par l’utilisateur », l’utilisateur doit décrire le champ d’application faisant l’objet de la déclaration de cobalt. Pour cette classe, le champ d’application doit être renseigné dans un champ de texte par le fournisseur et doit être facilement compris par les clients ou les destinataires du document. Par exemple, les entreprises peuvent fournir un lien vers des informations explicatives complémentaires.\n\nCe champ est obligatoire.","2. Selecione o Escopo da Declaração da sua empresa.  As opções são:\n\nA. Toda a empresa\nB. Produto (ou Lista de Produtos)\nC. Definido pelo usuário \n\nPara “Toda a empresa”, a declaração engloba a totalidade dos produtos da empresa ou de substâncias contidas nos produtos produzidos pela empresa controladora. Portanto, se o utilizador estiver relatando dados de cobalto  no nível da empresa, ele estará relatando dados de minerais de conflito sobre todos os produtos por ela fabricados. \n\nPara a seleção do âmbito de Produto (ou Lista de Produtos), será exibido um link para a aba da folha de cálculo Lista de produtos.  Se esse âmbito for escolhido, é obrigatório listar o Número do Produto do fabricante abrangido no Escopo desta Declaração na coluna B da folha de cálculo da Lista de Produtos. É opcional listar o Nome do Produto do Fabricante na coluna C da folha de cálculo da Lista de Produtos.\n\nPara a seleção do Escopo de “Definido pelo utilizador”, é obrigatório que o utilizador descreva o escopo em que a divulgação do cobalto é aplicável. O escopo desta classe deve ser definido em um campo de texto pelo fornecedor e deve ser facilmente compreendido pelos clientes ou pelos destinatários do documento. Como exemplo, as empresas podem fornecer um link para esclarecer informações.\n\nEste campo é obrigatório.","2. Wählen Sie den Erklärungsumfang Ihres Unternehmens aus. Die Auswahlmöglichkeiten für den Umfang sind:\n\nA. Unternehmensweit\nB. Produkt (oder Produktliste)\nC. Benutzerdefiniert \n\nFür „Unternehmensweit” umfasst die Erklärung die Gesamtheit der Produkte eines Unternehmens oder der von der Muttergesellschaft hergestellten Produktsubstanzen. Falls der Benutzer Kobalt-Daten auf Unternehmensebene anzeigt, muss er Daten für alle Produkte anzeigen, die er herstellt. \n\nZur Auswahl des Umfangs des Produkts (oder der Produktliste) wird ein Link zum Arbeitsblattreiter für die Produktliste angezeigt.  Wenn dieser Umfang ausgewählt wird, muss die Produktnummer des Herstellers der vom Umfang dieser Erklärung umfassten Produkte in Spalte B des Arbeitsblatts „Produktliste“ genannt werden. Die Produktnummer des Herstellers kann in Spalte C des Arbeitsblatts „Produktliste“ optional angegeben werden.\n\nFür eine „benutzerdefinierte“ Auswahl des Umfangs muss der Nutzer den Umfang der Anwendbarkeit der Offenlegung des Kobalts beschreiben. Der Umfang dieser Klasse wird vom Lieferanten in einem Textfeld definiert und sollte für die Kunden oder Empfänger des Dokuments leicht verständlich sein. Beispielsweise können Unternehmen einen Link zu erläuternden Angaben zur Verfügung stellen.\n\nDies ist ein Pflichtfeld.","2. Seleccione el alcance de la declaración de su empresa.  Las opciones de alcance son las siguientes:\n\nA. Toda la empresa\nB. Producto (o Lista de productos)\nC. Definido por el usuario \n\nPara \"Toda la empresa\", la declaración abarca la totalidad de los productos o sustancias de producto de una empresa producidas por la empresa matriz. Por lo tanto, si el usuario informa datos relacionados con el cobalto a nivel de empresa, estará informando los datos de todos los productos que fabrican. \n\nPara la selección de alcance de Producto (o Lista de productos), se mostrará un enlace a la pestaña de la hoja de trabajo para la Lista de productos.  Si se elige este alcance, es obligatorio enumerar el Número de producto del fabricante de los productos cubiertos por el alcance de esta declaración en la columna B de la hoja de trabajo correspondiente a Lista de productos. Es opcional enumerar el Nombre del producto del fabricante en la columna C de la hoja de trabajo correspondiente a Lista de productos.\n\nPara la selección del alcance de \"Definido por el usuario\", es obligatorio que el usuario describa el alcance al cual se aplica la divulgación de datos de cobalto. El proveedor debe definir el alcance de esta clase en un campo de texto. Los receptores del documento deben poder comprender fácilmente el alcance descripto. Por ejemplo, las empresas pueden proporcionar un enlace a la aclaración de la información.\n\nEste campo es obligatorio.","2. Selezionare il perimetro di dichiarazione dell’azienda.  Le opzioni per il perimetro sono:\n\nA. Perimetro aziendale\nB. Prodotto (o Lista di prodotti)\nC. Definito dall’utilizzatore/utente \n\nPer “Perimetro aziendale”, la dichiarazione si riferisce a tutti i prodotti dell’azienda o le sostanze prodotte dall’azienda madre. Pertanto, se l’utilizzatore comunica dati relativi al cobalto a livello aziendale, allora verranno comunicati i dati relativi a tutti i prodotti fabbricati. \n\nPer Selezione del perimetro del prodotto (o Lista di prodotti) verrà visualizzato un link alla scheda del foglio di lavoro Lista prodotti.  Se viene selezionato questo perimetro, è obbligatorio elencare il Codice del costruttore dei prodotti che rientrano nel Perimetro di questa dichiarazione alla Colonna B del foglio di lavoro Lista prodotti. È facoltativo indicare la Denominazione del costruttore del prodotto nella Colonna C del foglio di lavoro Lista prodotti.\n\nPer la selezione del Perimetro di “Definito dall’utente/utilizzatore”, è obbligatorio che l’utilizzatore descriva l’ambito a cui è applicabile la comunicazione del cobalto. Il perimetro di questa categoria deve essere definito in un campo di testo dal fornitore e deve essere facilmente compreso dai clienti o dai destinatari del documento. Ad esempio, le aziende possono fornire un link per chiarire le informazioni.\n\nQuesto campo è obbligatorio.","2. Şirketinizin Beyan Kapsamını seçin.  Kapsam seçenekleri aşağıdaki gibidir:\n\nA.  Şirket Geneli\nB.  Ürün (veya Ürün Listesi)\nC.  Kullanıcı Tanımlı \n\n“Şirket geneli” için, beyan, bir şirketin ürünlerinin tamamını veya ana şirket tarafından üretilen ürün maddelerini içerir. Bu nedenle, kullanıcı eğer şirket düzeyinde kobalt verileri raporluyorsa, ürettikleri tüm ürünlerle ilgili verileri raporlayacaktır. \n\nÜrünün (veya Ürün Listesinin) Kapsam seçimi için, Ürün Listesi için çalışma sayfası sekmesine bir bağlantı gösterilecektir.  Bu kapsamın seçilmesi halinde, bu Beyanın Kapsamına giren ürünlerin Üretici Ürün Numaralarını Ürün Listesi çalışma sayfasının B Sütununda belirtmek zorunludur. Üreticinin Ürün Adını Ürün Listesi çalışma sayfasının C Sütununda belirtmek isteğe bağlıdır.\n\n“Kullanıcı Tanımlı”nın Kapsam seçimi bakımından kobalt beyanının geçerli olduğu kapsamı kullanıcının açıklaması zorunludur. Bu sınıfın kapsamı bir metin alanında tedarikçi tarafından tanımlanmalı ve müşteriler veya belgenin alıcıları tarafından kolayca anlaşılmalıdır. Örnek olarak, şirketler bilgileri açıklığa kavuşturmak için bir bağlantı sağlayabilir.\n\nBu alan zorunludur."]
["InstructionsA9","Instructions","A9","3. Insert your full company address (street, city, state, country, postal code).  This field is optional.","3. 插入贵公司的完整地址（街道、城市、州、国家或地区、邮政编码）。此为必填字段。","3. 貴社の住所を省略せずに記入してください（番地、市、州/都道府県、国、郵便番号） 。このフィールドは任意です。","3.  귀사의 주소를 기입하십시오. (시, 구, 동, 우편번호 등).  이 필드는 선택 사항입니다.","3. Indiquer un identifiant unique de votre entreprise (numéro DUNS, numéro TVA, etc…)","3. Inserir o número único de identificação ou código da Empresa (número DUNS, número VAT, identificação específica de cliente , etc.)","3.Geben sie ihre eindeutige Firmenidentifikationsnummer (DUNS Nummer, Steuernummer, Kunden-spezifische Kennung, etc.) ein","3. Inserte su único numero de identificador de la compañía o código ( Numero DUNS ,  Numero VAT, identificación especifica del cliente, etc)","3. Inserire il codice univoco di identificazione dell'Azienda (DUNS number, Partita IVA, etc..)","3. Şirketinizin benzersiz tanımlayıcı numarasını ya da kodunu girin (DUNS numarası, KDV numarası, müşteriye özgü tanımlayıcı, vs.)"]
[{"$f":"B10&C10","v":"InstructionsA10"},"Instructions","A10","4. Insert the name of the person to contact regarding the contents of the declaration information. This field is mandatory.","4. 插入对此申报信息内容负责的联系人姓名。此为必填字段。","4. このテンプレートの回答データの内容に関して連絡先となる担当者の名前を記入してください。このフィールドは記入必須です。","4.  이 양식에 기입되는 내용에 관한 문의를 받을수 있는 담당직원 성명을 기입하십시오. 이 필드는 의무사항입니다.","4. Indiquer le type d'identifiant utilisé (numéro DUNS, numéro TVA, etc…)","4. Inserir a origem do número único de identificação ou código  (número DUNS, número VAT, identificação específica de cliente , etc.)","4. Geben Sie die Quelle für die eindeutige Kennung oder Code ( \"DUNS\",  \"MWST\",\"Kunde\", etc. ) an.","4. Inserte la fuente  de su único numero de identificador  o código ( \" DUNS\", \" VAT\",\" Cliente\",  etc)","4. Inserire la fonte per il codice univoco di identificazione dell'Azienda (DUNS number, Partita IVA, etc..)","4. Benzersiz tanımlayıcı numarası veya kod için kaynağı girin (\"DUNS\", \"VAT\", \"Müşteri\", vs.). "]
["InstructionsA11","Instructions","A11","5. Insert the email address of the contact person.  If an email address is not available, state ‘‘not available’’ or ‘‘n/a.’’ A blank field may cause an error in form implementation.  This field is mandatory.","5. 插入联系人的电子邮件地址。如果没有电子邮件地址，请说明“无”或“不适用”。如留空此字段，会导致此表格出错。此为必填字段。","5.連絡先の電子メール・アドレスを記入してください。電子メールが利用不可能な場合、「利用不可」又はn/aとしてください。空欄のままにするとフォームの実行時にエラーが発生する可能性があるため記入してください。このフィールドは記入必須です。","5.  담당직원 이메일 주소를 기입하십시오. 혹 이메일 주소가 없는 경우, \"not available\" (없음) 또는 \"N/A\"를 기입하십시오.","5. Indiquer l’adresse complète de votre entreprise (rue, ville, pays, code postal,…). Ce champ est optionnel.","5. Inserir o endereço completo da Empresa (Rua, Cidade, Estado, País, Código Postal). Este campo é obrigatório.","5. Geben Sie Ihre vollständige Firmenanschrift an (Straße, Stadt, Postleitzahl,  Bundesland).  Dieses Feld ist optional.","5. Inserte la dirección completa de la compañía (Calle, ciudad, estado, país, código postal). Este campo es opcional","5. Inserire l'indirizzo completo dell'Azienda (via, città, stato, paese, codice di avviamento postale, ..). Questo campo è opzionale","5. Şirketinizin açık adresini girin (cadde, şehir, eyalet, ülke, posta kodu). Bu alanın doldurulması isteğe bağlıdır."]
["InstructionsA12","Instructions","A12","6. Insert the telephone number for the contact. This field is mandatory.","6. 插入联系人的电话号码。此为必填字段。","6. 連絡先電話番号を記入してください。このフィールドは記入必須です","6.  담당직원 전화 번호를 기입하십시오. 이 필드는 필수입니다.","6. Insérez le nom de la personne à contacter concernant le contenu des informations de la déclaration. Ce champ est obligatoire.","6. Insira o nome da pessoa a entrar em contato com relação ao conteúdo das informações da declaração. Este campo é obrigatório.","6. Geben Sie den Namen der Person an, die bezüglich der Angaben in der Erklärung anzusprechen ist. Dies ist ein Pflichtfeld.","6. Ingrese el nombre de la persona de contacto con respecto al contenido de la información de la declaración. Este campo es obligatorio.","6. Inserire il nome della persona da contattare in merito al contenuto delle informazioni sulla dichiarazione. Questo campo è obbligatorio.","6. Beyan bilgilerinin içeriği ile ilgili olarak iletişim kurulacak olan kişinin adını ekleyin. Bu alan zorunludur."]
["InstructionsA13","Instructions","A13","7. Please enter the Date of Completion for this form using the format DD-MMM-YYYY.  This field is mandatory.","7. 请使用“日-月-年”的格式输入申报日期。此为必填字段。","7. このテンプレートの作成日をDD-MMM-YYYY（例: 01-JAN-2012）の形式で記入してください。このフィールドは記入必須です。","7.  이 템플릿 작성을 완료한 날짜를 기입하십시오. 날짜는 DD-MMM-YYYY (예: 12-Jul-2012).  이 필드는 필수입니다.","7. Insérez l’adresse e-mail de la personne à contacter.  Un champ vide peut entraîner une erreur dans le traitement du formulaire. Ce champ est obligatoire.  ","7. Insira o endereço de e-mail da pessoa de contato.  Um campo em branco pode causar um erro na implementação do formulário. Este campo é obrigatório.  ","7. Geben Sie die E-Mail-Adresse der Ansprechperson an. Ein leeres Feld kann zu einem Fehler bei der Verarbeitung des Formblattes führen. Dies ist ein Pflichtfeld.  ","7. Ingrese la dirección de correo electrónico de la persona de contacto.  Dejar un campo en blanco puede provocar un error en la implementación del formulario. Este campo es obligatorio.  ","7. Inserire l’indirizzo e-mail della persona di contatto.  Un campo vuoto può causare un errore nell’implementazione del modulo. Questo campo è obbligatorio.  ","7. İletişim kişisinin e-posta adresini ekleyin.  Boş bir alan, formun uygulamasında hataya neden olabilir. Bu alan zorunludur.  "]
["InstructionsA15","Instructions","A15","Instructions for completing the Processor List tab.\nProvide comments in ENGLISH only","“精炼厂清单”选项卡填写说明。仅提供“英文”备注","「加工業者リスト」タブに必要事項を記入する手順。\nコメントの入力は英語のみ","광물가공업체 목록 탭을 완료하기 위한 지침. \n영어로만 의견을 제공하십시요.","Instructions pour remplir l’onglet Liste des processeurs.\r\nNotez vos commentaires en FRANÇAIS uniquement","8. Insira o número de telefone do contato. Este campo é obrigatório.","8. Geben Sie die Telefonnummer der Kontaktperson an. Dies ist ein Pflichtfeld.","8. Ingrese el número de teléfono del contacto. Este campo es obligatorio.","8. Inserire il numero di telefono del contatto. Questo campo è obbligatorio.","8. İletişim için telefon numarasını ekleyin. Bu alan zorunludur."]
["InstructionsA16","Instructions","A16","1. Processor Name - Fill in local processor name. This field is mandatory.","1. 精炼厂名称 - 填写本地精炼厂名称。该字段为必填项。","1. 加工業者名 - 現地の加工業者の名前を記入してください。 このフィールドは記入必須です。。","1. 광물가공업체 이름 - 지역 광물가공업체 이름을 적으십시오. 이 필드는 필수 사항입니다.","1. Nom de la fonderie — Indiquez le nom de la fonderie locale. Ce champ est obligatoire.","9. Insira o nome da pessoa responsável pelo conteúdo das informações da declaração. O autorizador pode ser um indivíduo diferente da pessoa de contato. Não está correto usar as palavras \"mesmo\" ou identificação semelhante para fornecer o nome do autorizador. Este campo é obrigatório.","9. Geben Sie den Namen der Person an, die für die Angaben in der Erklärung verantwortlich ist. Dabei kann es sich um jemand anders als die Kontaktperson handeln. Die Verwendung des Ausdrucks „dito\" oder ähnliches ist nicht zulässig. Dies ist ein Pflichtfeld.","9. Ingrese el nombre de la persona responsable del contenido de la información de la declaración. El responsable de la autorización puede ser una persona distinta de la persona de contacto. No es correcto utilizar las palabras “igual” ni ninguna identificación similar para proporcionar el nombre del responsable de la autorización. Este campo es obligatorio.","9. Inserire il nome della persona responsabile del contenuto delle informazioni nella dichiarazione. La persona che fornisce l’autorizzazione può essere diversa da quella di contatto. Non è corretto utilizzare parole come “stessa persona” o simili per indicare il nome di questa persona. Questo campo è obbligatorio.","9. Beyan bilgilerinin içeriğinden sorumlu olan kişinin adını ekleyin. Yetki veren kişi, iletişim kişisinden farklı bir birey olabilir. Yetki veren kişinin adını sağlamak için “aynı” veya benzer belirtme kelimeleri kullanmak doğru değildir. Bu alan zorunludur."]
["InstructionsA17","Instructions","A17","2. Standard Processor Name - Fill in the processor's legal name.  If a company owns multiple processor facilities, the company's legal name should be filled in Column B and the individual facility name should be filled in Column A (ex. \"Local Processor\" in Column A, \"Global Processor Owner\" in Column B\"). This field is optional.","2. 标准精炼厂名称 - 填写精炼厂的法定名称。如拥有多项精炼厂设施，则公司的法定名称应在 B 列填写，单独的设施名称应在 A 列填写（如 A 列“本地精炼厂”，B 列“全球精炼厂所有者”）。该字段为选填。","2. 標準加工業者名 -　加工業者の正式名称を記入してください。 会社が複数の加工施設を所有している場合は、会社の正式名称を列Bに記入し、個々の施設名を列Aに記入する必要があります。（例： 列Aに「現地の加工業者」、列Bに「グローバル加工業者の所有者」）。このフィールドは任意です。","2. 표준 광물가공업체 이름 - 광물가공업체의 법적 이름을 적으십시오.  만일 회사가 여러 개의 광물 가공소 시설을 소유하고 있다면, 그 회사의 법적 이름은 B열에 적고, 개별 시설 이름은 A열(예: A열에  \"지역 광물가공업체\" , B열에는  \"다국적 광물가공업체 소유회사\"가 있음\")에 적어야 합니다. 이 필드는 선택 사항입니다.","2. Nom de la fonderie standard — Indiquez le nom légal de la fonderie. Si une entreprise possède plusieurs fonderies, le nom légal de l’entreprise doit être indiqué dans la colonne B et le nom de l’installation individuelle doit être indiqué dans la colonne A (ex. « fonderie locale » dans la colonne A, « propriétaire de la fonderie globale » dans la colonne B »). Ce champ est facultatif.","10. Insira o título do autorizador. Este campo é obrigatório.","10. Geben Sie den Titel des Freigabeberechtigten an. Dies ist ein Pflichtfeld.","10. Ingrese el cargo del responsable de la autorización. Este campo es obligatorio.","10. Inserire il titolo per la persona che fornisce l’autorizzazione. Questo campo è obbligatorio.","10. Yetki Veren kişinin unvanını ekleyin. Bu alan zorunludur."]
["InstructionsA18","Instructions","A18","3. Processor Location: Country - Use the pull down menu to select the country location of the Smelter. This field is mandatory.","3. 精炼厂位置：国家 - 使用下拉菜单选择精炼厂所在国家位置。该字段为必填项。","3. 加工業者所在地：国 - プルダウンメニューを使用して、加工業者が所在する国を選択してください。 このフィールドは記入必須です。","3. 광물가공업체의 위치: 국가 - 풀다운 메뉴를 선택하여 광물가공업체가 있는 국가의 위치를 선택하십시오. 이 필드는 필수 사항입니다.","3. Emplacement de la fonderie : Pays — Utilisez le menu déroulant pour sélectionner le pays dans lequel la fonderie est située. Ce champ est obligatoire.","11. Insira o endereço de e-mail do autorizador  Se um endereço de e-mail não estiver disponível, estado ‘‘não disponível’’ ou ‘‘n/a’’. Um campo em branco pode causar um erro na implementação do formulário. Este campo é obrigatório.","11. Geben Sie die E-Mail-Adresse der freigabeberechtigten Person an. Ist keine E-Mail-Adresse verfügbar, geben Sie „nicht verfügbar\" oder „n. v.” an. Ein leeres Feld kann zu einem Fehler bei der Verarbeitung des Formblattes führen. Dies ist ein Pflichtfeld.","11. Ingrese la dirección de correo electrónico del responsable de la autorización.  Si no hay una dirección de correo electrónico disponible, el estado ‘‘No disponible’’ o ‘‘N/C’’ puede provocar un error en la implementación del formulario. Este campo es obligatorio.","11. Inserire l’indirizzo e-mail della persona che fornisce l’autorizzazione.  Se un indirizzo e-mail non è disponibile, indicare ‘‘non disponibile’’ o ‘‘n/d’’. Un campo vuoto può causare un errore nell’implementazione del modulo. Questo campo è obbligatorio.","11. Yetki Veren kişinin e-posta adresini ekleyin.  Bir e-posta adresi mevcut değilse “mevcut değil” veya “yok” şeklinde belirtin. Boş bir alan form uygulamasında hataya neden olabilir. Bu alan zorunludur."]
[{"$f":"B18&C18","v":"InstructionsA19"},"Instructions","A19","4. Processor ID (if assigned) - This is a unique identifier assigned to a processor according to an established processor identification system. It is expected that multiple names could be used to describe a single processor and therefore multiple names or aliases could be associated to a single 'Processor ID'. This field is optional.","4. 精炼厂 ID（如分配） - 根据已创建的精炼厂标识系统向精炼厂分配的唯一标识符。预计多个名称可用于说明单个精炼厂，多个名称个联盟可关联至单个“精炼厂 ID”。该字段为选填。","4. 加工業者識別番号（割り当て済みの場合） - これは確立された加工業者の識別システムに従い、加工業者に割り当てられた固有の識別番号です。一つの加工業者を表記するために、複数の名前や別名が使用されることが予想されるため、複数の名前や別名を単一の「加工業者識別番号」に結びつけることができます。このフィールドは任意です。","4. 광물가공업체 식별 - 이것은 광물가공업체 식별 시스템에 따라 광물가공업체에 할당된 고유한 식별자입니다. 다수의 이름이나 별칭이 한 광물가공업체를 묘사하기 위해 사용되어 질 것으로 보여,  다수의 이름이나 별칭에 하나의 \"Processor ID\"를 부여합니다. 이 필드는 선택 사항입니다.","4. Identification de la fonderie — Il s’agit d’un identifiant unique attribué à chaque fonderie selon un système d’identification des fonderies établi. Plusieurs noms ou désignations peuvent être utilisés pour décrire un unique fondeur et donc ces noms ou désignations multiples pourraient être associés à un seul « identifiant de fonderie ». Ce champ est facultatif.","12. Insira o número de telefone para o autorizador. Este campo é obrigatório.","12. Geben Sie die Telefonnummer der freigabeberechtigten Person an. Dies ist ein Pflichtfeld.","12. Ingrese el número de teléfono del responsable de la autorización. Este campo es obligatorio.","12. Inserire il numero di telefono della persona che fornisce l’autorizzazione. Questo campo è obbligatorio.","12. Yetki Veren kişinin telefon numarasını ekleyin. Bu alan zorunludur."]
["InstructionsA20","Instructions","A20","5. Source of Processor ID Number - This is the source of the Processor ID entered in Column D. This field is optional.","5. 精炼厂识别号码 - D 列包括所有的精炼厂识别号码。该字段为选填。","5. 加工業者識別番号の発行元 - これは列Dに記入された加工業者識別番号の発行元です。このフィールドは任意です。","5. 광물가공업체 식별 번호의 출처 - 이것은 F열에 들어간 광물가공업체 식별 번호의 출처입니다. 이 필드는 선택 사항입니다. ","5. Type de l’identifiant de la fonderie — C’est la source du numéro d’identification de la fonderie identifiée dans la colonne D. Ce champ est facultatif.","13. Insira a Data de Conclusão para este formulário usando o formato DD-MMM-AAAA.  Este campo é obrigatório.","13. Bitte geben Sie das Datum des Ausfüllens dieses Formblattes im Format TT-MM-JJJJ an. Dies ist ein Pflichtfeld.","13. Ingrese la Fecha de finalización de este formulario, utilizando el formato DD-MMM-AAAA.  Este campo es obligatorio.","13. Inserire la Data di completamento per questo modulo utilizzando il formato GG-MMM-AAAA.  Questo campo è obbligatorio.","13. Lütfen DD-MMM-YYYY biçimini kullanarak bu form için Doldurma Tarihini girin.  Bu alan zorunludur."]
["InstructionsA21","Instructions","A21","6. Processor Street - Provide the street name on which the processor is located. This field is optional.","6. 精炼厂所在街道 - 提供精炼厂所在街道的名称。该字段为选填。","6.  加工業者所在地：番地 - 加工業者の所在する番地を記入してください。このフィールドは任意です。","6. 광물가공업체 주소 - 광물가공업체가 위치하고 있는 주소를 기입하십시오. 이 필드는 선택 사항입니다.","6. Rue de la fonderie — Indiquez le nom de la rue où est située la fonderie. Ce champ est facultatif.","14. Como exemplo, o utilizador poderá guardar o ficheiro como: Nomedaempresa-data.xlsx (data como AAAA-MM-DD).","14. Zum Beispiel kann der Benutzer die Datei unter dem Namen speichern: companyname-datum.xlsx (Datum im Format JJJJ-MM-TT).","14. Como ejemplo el usuario puede guardar el archivo como: compañianombre-fecha.xlsx (fecha como YYYY-MM-AA).","14. Si prega di salvare il questionario con la seguente denominazione: Denominazione dell'Azienda-data.xlsx (formato data AAAA-MM-GG)","14. Örnek olarak, kullanıcı dosyayı sirketadi-tarih.xlsx (tarih YYYY-AA-GG) şeklinde kaydedebilir. "]
["InstructionsA22","Instructions","A22","7. Processor City - Provide the city name of where the processor is located. This field is optional.","7. 精炼厂所在城市 - 提供精炼厂所在城市的名称。该字段为选填。","7.  加工業者所在地：市 - 加工業者の所在する市を記入してください。このフィールドは任意です。","7. 광물가공업체 소재 도시 – 광물가공업체가 위치하고 있는 도시를 기입하십시오. 이 필드는 선택 사항입니다.","7. Ville de la fonderie — Indiquez le nom de la ville où est située la fonderie. Ce champ est facultatif.","Instruções para completar as sete questões relativas às diligências devidas (linhas 24-56). Fornecer comentários apenas em Inglês.","Anweisungen für das Ausfüllen der sieben Due Diligence Fragen (Zeilen 24 - 56).\nAntworten bitte nur in englischer Sprache eingeben.","Instrucciones para completar las siete preguntas de diligencia de cuidado ( renglones 24-56) \nProvea comentarios en INGLES solamente. ","Istruzioni per rispondere alle sei domande relative al dovere di diligenza (righe da 24 a 56). Si prega di rispondere unicamente in inglese. ","Yedi Durum Tespiti Sorusunun cevaplanması için talimatlar (24 ila 56 arası satırlar).\nYanıtları yalnızca İNGİLİZCE olarak verin"]
["InstructionsA23","Instructions","A23","8. Processor State/Province - Provide the state or province where the smelter is located. This field is optional.","8. 精炼厂所在省/市/自治区/直辖市 - 提供精炼厂所在的省/市/自治区/直辖市。该字段为选填。","8. 加工業者所在地：州/都道府県 - 加工業者が所在する州/都道府県を記入してください。 このフィールドは任意です。","8. 광물가공업체 주/도 - 광물가공업체가 위치한 주나 도시를 기입하십시오. 이 필드는 선택 사항입니다.","8. État/Province de la fonderie — Indiquez l’état ou la province où est située la fonderie. Ce champ est facultatif.","Estas sete perguntas definem a utilização, origem e a identificação das fontes para cada um dos metais. As perguntas foram criadas para coletar informações sobre o uso dos minerais de conflito no(s) produto(s) da empresa, para permitir a determinação da aplicabilidade regulatória. As respostas a essas perguntas devem representar o “Âmbito da Declaração” selecionado na seção de informações da empresa. As respostas às perguntas nessa seção podem ser utilizadas para determinar a aplicabilidade e integridade dos relatórios sobre minerais de conflito.","Diese sieben Fragen definieren die Kennzeichnung der Verwendung, Herkunft und Beschaffung jedes der Metalle. Die Fragen sollen die Informationen über die Verwendung der 3TG-Mineralien im/in den Produkt(en) des Unternehmens erheben, damit die gesetzliche Anwendbarkeit bestimmt werden kann. Die Antworten auf diese Fragen sollen den „Erklärungsumfang“ widerspiegeln, der im Abschnitt über die Unternehmensinformationen ausgewählt worden ist. Die Antworten auf die Fragen in diesem Abschnitt können zur Bestimmung der Anwendbarkeit und Vollständigkeit des 3TG-Berichts verwendet werden.","Estas siete preguntas definen el uso, el origen y la identificación de la fuente para cada uno de los metales.  Las preguntas están diseñadas para recolectar información del uso de 3TG en los productos de la compañía para poder determinar la aplicación regulatoria.  Las respuestas a estas preguntas deben representar el 'Enfoque de la declaración' seleccionado en la sección de información de la compañía. Las respuestas a las preguntas de esta sección pueden utilizarse para determinar si los informes de 3TG están completos y son aplicables. ","Queste sette domande definiscono l'impiego, l'origine e l'identificazione dei fornitori per ciascuno dei metalli. Le domande hanno lo scopo di raccogliere informazioni sull'uso del metallo di conflitto nei prodotti della società per consentire la determinazione dell'applicabilità normativa. Le risposte alle domande devono essere rappresentative del \"Perimetro della dichiarazione\" selezionato nella sezione Informazioni sull'Azienda. Le risposte alle domande di questa sezione possono essere usate per determinare applicabilità e completezza del reporting del metallo di conflitto.","Bu yedi soru, metallerden her biri için kullanım, menşe ve kaynak tanımlaması sağlar. Sorular düzenleyici kurumlar açısından uygunluğun tanımlanabilmesi için şirket ürünlerinde 3TG kullanımı hakkında bilgi toplamayı amaçlamaktadır. Bu sorulara verilecek yanıtlar, şirket bilgileri bölümünde seçilen ‘Beyan Kapsamı’ bölümüne uygun olmalıdır. Bu bölümdeki sorulara verilen yanıtlar 3TG bildiriminin uygulanabilirliği ve eksiksizliğini belirlemek için kullanılabilir."]
[{"$f":"B23&C23","v":"InstructionsA24"},"Instructions","A24","9. Processor Contact Name - The Mica Reporting Template (MRT) is circulated among companies in the requesting company's supply chain.\n\nIf the template is circulated in a country where laws protecting personal information exist, sharing personal contact information in the MRT may violate related regulations. Therefore, it is recommended that the requesting company take precautions such as obtaining the contact person's permission to share the information with other companies in the supply chain when completing \"Processor Contact Name,\" \"Processor Contact Email\" and \"Processor Contact Phone Number\" columns.\n\nIf you have permission to share this information, please fill in the name of the Processor Facility Contact person who you worked with.","9. 精炼厂联系人姓名 - 冲突矿产报告模板 (MRT) 在所要求到的申报人的供应链中各间公司统一使用。\r\n\r\n如果在统一使用此报告模板中，所在国家或地区有保护个人信息的法律法规，填写个人联系信息会有可能触犯法律法规，则建议申报公司在填写“精炼厂联系人姓名”和“精炼厂联系人电子邮件”和“精炼厂联系人电话”时，先确保联系人本人同意公开其联系信息。\r\n\r\n如果申报人已获得公开联系信息的授权信息，请输入与之合作的精炼厂的联系人姓名。 ","9. 加工業者連絡先担当者名 -  マイカ報告テンプレート（MRT）は、調査企業のサプライチェーンを構成する企業に配布されます。\n\n個人情報保護法のある国でMRTに記載された個人の連絡先情報が共有される可能性がある場合は、関連法規に抵触する可能性がありますので、「加工業者連絡先担当者名」及び「加工業者連絡先電子メール」の記載については、これらの情報を上記の企業間で共有することについて担当者の同意を得るなどの対応を行うことを推奨します。\n\nこの情報を共有する許可を得た場合、貴社が連絡をとっている加工業者担当者名を記入してください。\n\n","9. 광물가공업체 담당자 이름 -  마이카 보고 템플릿(MRT)은 요청회사의 공급망에 있는 회사들 간에 배포됩니다.\n\n템플릿이 개인정보를 보호하는 법률이 있는 나라에서 배포된다면, MRT에 있는 담당자 정보의 공유는 관련된 법률을 위반할 수 있습니다. 그러므로, 요청회사는 \"광물가공업체 담당자 이름\", \"광물가공업체 담당 이메일\", \"광물가공업체 담당자 전화번호\" 열을 기입할 때 공급망에 있는 회사와 관련 정보를 공유하기 위해 담당자의 허락을 얻는 등, 주의를 하도록 권고합니다.\n\n만일 이러한 정보를 공유하도록 허락을 얻었다면, 귀사가 일하고 있는 광물가공업체 시설 담당자 이름을 기입하십시오. ","9.  Nom du contact de la fonderie — Le modèle de rapport Mica (MRT) est distribué aux entreprises de la chaîne d’approvisionnement de l’entreprise demandeuse. \r\n\r\nSi le modèle est diffusé dans un pays où il existe des lois protégeant les informations personnelles, le partage des coordonnées personnelles dans le MRT peut constituer une violation des réglementations connexes. En conséquence, il est recommandé que l’entreprise demandeuse prenne des précautions comme obtenir l’autorisation de la personne de contact pour partager les informations avec d’autres entreprises de la chaîne d’approvisionnement lorsqu’elle remplit les colonnes « Nom du contact de la fonderie », « Courriel du contact de la fonderie » et « Numéro de téléphone du contact de la fonderie ».\r\n\r\n\r\n\r\nSi vous avez l’autorisation de partager ces informations, veuillez remplir le nom du contact de la fonderie avec lequel vous avez travaillé.","Fornecer os comentários necessários no campo para comentários de forma a clarificar a suas respostas.","Geben Sie, falls notwendig, Anmerkungen im Kommentarbereich ein, die für eine Klarstellung ihrer Antwort hilfreich sind.","Proporcione comentarios en las secciones de comentario si se requiere para aclarar sus respuestas. ","Se necessario siete pregati di inserire i vostri commenti nella sezione prevista per chiarire le vostre risposte","Yanıtlarınızı açıklamak için Açıklama bölümlerine gereken açıklamaları girin."]
["InstructionsA25","Instructions","A25","10. Processor Contact Email - Fill in the email address of the Processor Facility contact person who was identified as the Processor Contact Name.  Example: John.Smith@SmelterXXX.com.  Please review the instructions for Processor Contact Name before completing this field.","10. 精炼厂联系人电子邮件 - 填写被确定为精炼厂联系人的电子邮件。例如： John.Smith@SmelterXXX.com。填写此字段栏前，请阅读精炼厂联系人姓名填写指引。 ","10. 加工業者連絡先電子メール　－　上記加工施設連絡先担当者のメールアドレスを記入してください。\n例：John.Smith@SmelterXXX.com 　この欄に記入する前に、「加工業者連絡先担当者名」の説明を確認してください。","10.  광물가공업체 담당자 이메일 - 광물가공업체 담당자로서 식별되는 광물가공업체 시설 담당자의 이메일 주소를 기입하시오.  예: John.Smith@SmelterXXX.com.  이 필드를 완료하기 전에 광물가공업체 담당자 이름에 대한 설명을 읽어보십시오.","10. Adresse Email du contact de la fonderie — Indiquez l’adresse email du contact que vous avez identifié pour la fonderie. Exemple : John.Smith@SmelterXXX.com. Merci de lire les instructions relatives au nom du contact de la fonderie avant de remplir ce champ.","Forneça uma resposta usando as seleções do menu suspenso. Se a resposta do cobalto à pergunta 1 for positiva, todas as perguntas devem ser preenchidas para o cobalto e as seguintes questões de diligência devida (A a I) devem ser concluídas sobre o programa geral de diligência devida da empresa.","Geben Sie eine Antwort an, indem Sie eine Auswahl aus dem Pull-Down-Menü treffen. Falls die Antwort auf Frage 1 für Kobalt positiv lautet, müssen die alle Fragen für Kobalt beantwortet werden und auch die folgenden Due-Diligence-Fragen (A bis I) bezüglich des allgemeinen Due-Diligence-Programms des Unternehmens müssen beantwortet werden.","Proporcione una respuesta utilizando las selecciones del menú desplegable. Si la respuesta para cobalto a la pregunta 1 es positiva, entonces todas las preguntas se completarán para cobalto y las siguientes preguntas de debida diligencia (de la A a la I) se completarán sobre el programa de debida diligencia general de la empresa.","Fornire una risposta utilizzando le scelte del menu a discesa. Se la risposta per il cobalto alla domanda 1 è positiva, è necessario completare tutte le domande per il cobalto e anche le seguenti domande sulla due diligence (dalla A alla I) sul programma di due diligence globale dell’azienda.","Aşağı açılır menü seçimlerini kullanarak bir yanıt sağlayın. Kobalt ile ilgili olarak soru 1’e olumlu yanıt verilmesi halinde kobalt için tüm sorular doldurulacaktır ve şirketin genel ayrıntılı inceleme programı hakkındaki şu ayrıntılı inceleme soruları (A’dan I’ye) doldurulacaktır."]
["InstructionsA26","Instructions","A26","11. Processor Contact Phone Number - Fill in the phone number of the Processor Facility contact person who was identified as the Processor Contact Name.  Example:888-888-8888.  Please review the instructions for Processor Contact Name before completing this field.","11. 精炼厂联系人电话号码 - 填写精炼厂设施联系人的电话号码，例如：888-888-8888。完成本字段前，请核查精炼厂联系人姓名说明。","11. 加工業者連絡先電話番号 - 上記加工施設連絡先担当者の電話番号を記入してください。\n例: 888-888-8888。 　この欄に記入する前に、「加工業者連絡先担当者名」の説明を確認してください。","11. 광물가공업체 담당자 전화번호 - 광물가공업체 담당자 이름으로 식별되는 광물가공업체 시설 담당자의 전화번호를 기입하십시오. 예: 888-888-8888. 이 필드를 완료하기 전에 광물가공업체 담당자 이름에 대한 설명을 읽어보십시오.","11. Numéro de téléphone de la personne de contact de la fonderie — indiquer le numéro de téléphone de la personne de contact de la fonderie que vous avez identifié. Exemple : 888-888-8888. Merci de lire les instructions relatives au numéro de téléphone de la personne de contact de la fonderie avant de compléter ce champ.","1. Esta é a primeira de duas perguntas para as quais a resposta é usada para determinar se o mineral de conflito está dentro do âmbito dos requisitos de relatórios sobre minerais de conflito.  Esta pergunta depende da orientação fornecida pela SEC com relação às regras finais relativas à determinação de um mineral de conflito ser “necessário para a funcionalidade ou produção” de um produto.   A orientação da SEC baseia-se no pressuposto de que uma empresa na cadeia de fornecimento de um produto não adicionaria intencionalmente um mineral de conflito a esse produto ou a qualquer dos subcomponentes de um produto, se tal mineral de conflito não fosse necessário para a função, a utilização ou o propósito geral esperado do produto.  Da mesma forma, a orientação supõe que um mineral de conflito não seria necessário para a produção de um produto, a não ser que fosse intencionalmente incluído no processo de produção daquele produto. A resposta a esta pergunta serve para excluir quaisquer contaminantes no nível de elemento-traço ou derivados naturalmente ocorrentes, tais como estanho em aço.  Esta pergunta deve ser respondida para cada mineral de conflito.\n\nEsta pergunta questiona se algum mineral de conflito é utilizado como matéria-prima, componente ou aditivo de um produto que você fabrique ou cuja fabricação você contrate (incluindo matérias-primas e componentes). Impurezas de matérias-primas, componentes, aditivos, abrasivos e ferramentas de corte estão fora do escopo da pesquisa.\n\nEsta pergunta deve ser respondida para cada mineral de conflito. Respostas válidas a esta pergunta são “sim” ou “não”. Esta pergunta é obrigatória.","1. Dies ist die erste von zwei Fragen, bei denen die Antwort zur Bestimmung verwendet wird, ob das 3TG-Mineral in den Umfang der Meldepflichten für Konfliktmineralien fällt.  Diese Frage orientiert sich an der Anleitung der SEC in den endgültigen Regeln betreffend die Bestimmung, ob ein 3TG-Mineral „notwendig für die Funktionalität oder Herstellung“ eines Produktes ist.   Die SEC-Anleitung basiert auf der Annahme, dass ein Unternehmen in der Lieferkette für ein Produkt ein 3TG-Mineral nicht absichtlich diesem Produkt oder den Unterbestandteilen eines Produktes hinzufügen würde, wenn das 3TG-Mineral nicht für die allgemein erwartete Funktion, Verwendung oder Zwecksetzung des Produkts notwendig ist.  Genauso geht die Anleitung davon aus, dass ein 3TG-Mineral für die Herstellung eines Produktes nicht notwendig ist, sofern es nicht absichtlich in den Fertigungsprozess dieses Produktes aufgenommen wurde. Die Antwort auf diese Frage soll alle Kontaminantenrückstände oder natürlich vorkommenden Nebenprodukte, wie Zinn in Stahl, ausschließen.  Diese Frage muss für jedes 3TG-Mineral beantwortet werden.\n\nDiese Frage zielt darauf ab, ob irgendwelche Konfliktmaterialien als Rohmaterialien, Komponenten oder Zusatzstoffe in einem Produkt verwendet werden, das sie herstellen oder zu deren Herstellung Sie sich vertraglich verpflichten (einschließlich Rohmaterialien und Komponenten). Unreinheiten bei Rohmaterialien, Komponenten, Zusatzstoffen, Schleifmitteln und Schneidewerkzeugen liegen außerhalb des Umfangs der Umfrage.\n\nDiese Frage muss für jedes 3TG-Mineral beantwortet werden. Gültige Antworten auf diese Frage sind entweder „Ja“ oder „Nein“. Diese Frage muss beantwortet werden.","1. Esta es la primera de dos preguntas cuya respuesta se usa para determinar si el 3TG se encuentra dentro del alcance de los requerimientos del informe de minerales en conflicto.  Esta pregunta depende de la guía suministrada por la SEC en las reglas finales para determinar si un 3TG es \"necesario para la funcionalidad o fabricación\" de un producto.   La guía de la SEC se basa en el supuesto de que una compañía en la cadena de suministro de un producto no añadiría intencionalmente un 3TG a ese producto o a cualquier sub-componente del producto si ese 3TG no fuera necesario para la función, uso o propósito generalmente esperados del producto.  Asimismo, la guía supone que el 3TG no sería necesario para la fabricación de un producto a menos que fuera incluido en el proceso de fabricación de dicho producto. La respuesta a esta pregunta sirve para excluir cualquier contaminante a nivel de trazas, o subproductos producidos naturalmente, como el estaño en el acero.  Se debe responder esta pregunta para cada 3TG.\n\nEsta pregunta plantea si se usa algún mineral en conflicto como materia prima, componente o aditivo en algún producto que usted fabrique o cuya fabricación contrate (incluidas las materias primas y los componentes). Las impurezas de las materias primas, componentes, aditivos, abrasivos y herramientas de corte están fuera del alcance de la encuesta.\n\nSe debe responder esta pregunta para cada 3TG. Las respuestas válidas para esta pregunta son \"sí\" o \"no\". Esta pregunta es obligatoria.","1. Questa è la prima di due domande la cui risposta viene usata per determinare se il metallo di conflitto rientra nell’ambito degli obblighi di comunicazione dei minerali di conflitto.  Questa domanda si basa sulle istruzioni fornite dalla SEC nelle norme definitive sulla determinazione di un metallo di conflitto come “necessario alla funzionalità o realizzazione” di un prodotto.   Le istruzioni della SEC si fondano sul presupposto che una società non aggiungerebbe deliberatamente nella catena di fornitura di un prodotto un metallo di conflitto né alcuno dei sottocomponenti di un prodotto se tale metallo di conflitto non fosse necessario alla funzione, all’uso o allo scopo generalmente previsti del prodotto.  Allo stesso modo, nelle istruzioni si specifica che per la realizzazione di un prodotto non sarebbe necessario alcun metallo di conflitto, a meno che sia stato intenzionalmente incluso nel processo di produzione. La risposta a questa domanda serve ad escludere eventuali contaminanti in tracce o sottoprodotti naturali come la latta nell’acciaio.  Questa domanda deve ottenere risposta per ciascun metallo di conflitto.\n\nIn questa domanda si chiede se vi sono materiali di conflitto fra le materie prime, componenti o additivi di un prodotto realizzato direttamente dall’azienda o da aziende esterne (compresi materie prime e componenti). Non rientrano nell’ambito dell’indagine impurità delle materie prime, componenti, additivi, abrasivi e strumenti per il taglio.\n\nQuesta domanda deve ottenere risposta per ciascun metallo di conflitto. Le risposte valide a questa domanda sono “sì” o “no”. Questa domanda è obbligatoria.","1. Bu, yanıtın 3TG'nin ihtilaf konusu maden raporlama gereksinimleri kapsamında olup olmadığını tespit etmek için kullanıldığı iki sorunun birincisidir.  Bu soru, bir 3TG bir ürüne ait “işlevsellik veya üretim için gerekliyse” tespite ilişkin son kurallarda SEC tarafından sağlanan rehberliğe dayanır.   SEC rehberliği, 3TG'nin ürünün genel olarak beklenen işlevi, kullanımı veya amacı için gerekli olmaması halinde, bir ürün için tedarik zincirindeki bir şirketin kasıtlı olarak söz konusu ürüne veya bir ürünün alt bileşenlerine bir 3TG eklemeyeceğine dair varsayıma dayanır.  Benzer şekilde rehberlik, bir 3TG'nin bir ürünün üretim sürecine kasten dahil edilmedikçe o ürünün üretimi için gerekli olmadığını varsayar. Bu soruya yönelik yanıt, çelikteki kalay gibi eser düzeydeki kirleticileri veya doğal olarak oluşan yan ürünleri kapsam dışı bırakmaya yarar.  Bu soru, her bir 3TG için yanıtlanacaktır.\n\nBu soru, herhangi bir ihtilaf konusu madenin hammadde, bileşen veya ürettiğiniz veya fason ürettirdiğiniz (hammadde ve bileşenler dahil) bir ürüne katkı olarak kullanılıp kullanılmadığını sorar. Hammaddeler, bileşenler, katkılar, aşındırıcılar ve kesme araçlarından kaynaklanan safsızlıklar bu anketin kapsamı dışındadır.\n\nBu soru, her bir 3TG için yanıtlanacaktır. Bu soruya yönelik yanıtlar “evet” veya “hayır”dır. Bu soru zorunludur."]
["InstructionsA27","Instructions","A27","12. Name of Mine(s) supplying the Processor or if synthetic mica, enter \"synthetic\" - This field allows a company to define the actual mines being used by the processor.  Please enter the actual mine names if known.  If 100% of the processor's feedstock is synthetic mica, enter \"synthetic\" in place of the name of the mine in Column L. This field is optional.","12. 矿场名称 - 此字段可让公司为冶炼厂正在使用的实际矿场取名。如果已知实际矿场的名称，请输入该名称。如果精炼厂的所有原料均来自回收料或报废料资源，则输入“回收料”或“报废料”以取代矿场名称，并在 L 列回答“是”。该字段为选填。\r\n\r\n\r\n","12. 加工業者に供給する鉱山名（合成マイカの場合は「synthetic」（合成）と記入－ 企業は、この欄に加工業者が使用している実際の鉱山を記載できます。既知の場合は実際の鉱山名を記入してください。加工業者が調達する原料の100％が合成マイカである場合は、L列で鉱山名の代わりに「synthetic」（合成）と記入してください。このフィールドは任意です。\n","12. 광물가공업체에 공급하는 광업소 이름 또는 합성 마이카일 경우 \"synthetic(합성)\"이라고 기입하십시오 - 이 필드에서 회사가 광물가공업체가 사용하고 있는 실제 광업소를 정의할 수 있습니다. 이름을 아는 경우 실제 광업소의 이름을 기입하시오. 광물가공업체 원료의 100%가 합성 마이카라면, L열의 광업소 이름에 \"synthetic(합성)\"을 입력하십시오.\n\n","12. Nom de la ou des mines qui fournissent la fonderie ou, s’il s’agit de mica synthétique, entrez « synthétique » — Ce champ permet à une entreprise de définir les mines effectivement utilisées par la fonderie. Veuillez entrer les noms des mines en question, si vous les connaissez. Si la totalité de la matière première de la fonderie est du mica synthétique, entrez « synthétique » à la place du nom de la mine dans la colonne L. Ce champ est facultatif.\r\n\r\n","Algumas empresas podem querer documentar a reposta \"Não\", o que deverá ser feito no campo para comentários.","Manche Unternehmen benötigen eine Begründung für eine \"Nein\" -Antwort im Kommentarfeld","Algunas compañías podrían requerir una justificación para una respuesta \"No\"  la cual deberá ser capturada en el campo de comentario. ","Alcune aziende potrebbero richiedere di sostanziare il NO, ciò può essere fatto nel campo Commenti","Bazı şirketler \"Hayır\" yanıtı için bir doğrulama gerektirebilir ve bu doğrulamanın Açıklama alanına girilmesi gerekmektedir."]
[{"$f":"B27&C27","v":"InstructionsA28"},"Instructions","A28","13. Location (Country) of Mine(s) or if synthetic mica, enter \"synthetic\" - This is a free form text field that allows a company to define the location of the mines being used by the processor.   Please enter the country of the mine(s).  If the country of origin is not known, enter \"Unknown\".   If 100% of the processor's feedstock is synthetic mica, enter \"synthetic\" in place of the country of origin.  This field is optional.","13. 矿场地点（国家或地区）- 无限制文本字段，公司可在此注明精炼厂正在使用的矿场地点。请输入矿场所在国家或地区。如果原产国未知，则输入“未知”。如果精炼厂的所有原料均来自回收料或报废料资源，则输入“回收料”或“报废料”以取代原产国。该字段为选填。","13. 鉱山の所在地（国名）（合成マイカの場合は「synthetic」（合成）と記入）－自由形式のテキスト欄で、企業は加工業者が使用している鉱山の場所を記入できます。鉱山が所在する国名を記入してください。原産国が不明の場合は「Unknown」（不明）とお答えください。加工業者が調達する原料の 100% が合成マイカである場合は、原産国の代わりに「synthetic」（合成）と記入してください。このフィールドは任意です。\n","13. 광업소의 위치(국가) 또는 합성 마이카라면 \"synthetic(합성)\"을 기입하십시오 - 이 란은 자유 형식의 문자 필드로서 회사가 광물가공업체가 사용하는 광업소의 위치를 정의할 수 있습니다. 광업소가 위치한 국가를 기입하십시오. 원산지 국가의 이름을 모르면 \"Unknown(알 수 없음)\"을 입력하십시오. 광물가공업체 원료의 100%가 합성 마이카라면, 원산지 국가 자리에 \"synthetic(합성)\"을 기입하십시오. 이 필드는 선택 사항입니다.\n\n","13. Emplacement (pays) de la ou des mines ou, s’il s’agit de mica synthétique, entrez « synthétique » — Il s’agit d’un champ de texte libre qui permet à une entreprise de définir l’emplacement des mines utilisées par la fonderie.   Veuillez entrer le pays de la (des) mine(s). Si le pays d’origine n’est pas connu, entrez « Inconnu ». Si la matière première de la fonderie est constituée à 100 % de mica synthétique, entrez « synthétique » à la place du pays d’origine. Ce champ est facultatif.\r\n\r\n","2. Esta é uma declaração de que qualquer parte do cobalto contida em um produto ou em vários produtos se origina de uma área afetada por conflitos e de alto risco (CAHRA). A resposta a essa pergunta deve ser \"sim\" se alguma fundição da cadeia de suprimentos for proveniente de uma CAHRA, independentemente de tal fundição ter sido auditada ou não de forma independente.\n\nAs respostas a esta pergunta devem ser \"sim\", \"não\", \"desconhecido\" ou \"RDC ou apenas países adjacentes\". Fundamente uma resposta “sim” na área de comentários.  Uma resposta de \"desconhecido\" é uma resposta aceitável. Essa pergunta é obrigatória para o cobalto se a resposta à pergunta 1 for \"Sim\".","2. Dies ist eine Erklärung, dass jedwede Menge des in einem Produkt oder in mehreren Produkten enthaltenen Kobalts aus einem Konflikt- und Hochrisikogebiet (CAHRA) stammt. Die Antwort auf diese Frage sollte „Ja“ lauten, wenn eine Schmelzhütte aus der Lieferkette von einem CAHRA bezieht, ganz gleich, ob diese Schmelzhütte unabhängig auditiert wurde oder nicht.\n\nDie Antworten auf diese Frage sind „Ja“, „Nein“, „Unbekannt“, „Unbekannt“ oder „DR Kongo oder nur angrenzende Länder“. Begründen Sie eine „Ja“-Antwort im Kommentarabschnitt. „Unbekannt“ ist eine akzeptable Antwort. Diese Frage muss für Kobalt beantwortet werden, wenn die Antwort auf Frage 1 „Ja“ lautet.","2. Esta es una declaración de que cualquier parte de cobalto que se incluya en un producto o en varios productos se origina en una zona afectada por conflictos y de alto riesgo (CAHRA). La respuesta a esta pregunta debe ser \"Sí\" si alguna fundidora en las fuentes de la cadena de suministro se encuentra en una CAHRA, independientemente de si dicha fundidora ha sido auditada de forma independiente o no.\n\nLas respuestas a esta pregunta serán \"Sí\", \"No\", \"Se desconoce\", \"DRC o países adyacentes solamente\". Corrobora una respuesta \"Sí\" en la sección de comentarios.  Una respuesta “Se desconoce” es una respuesta aceptable. Esta pregunta es obligatoria para el cobalto si la respuesta a la pregunta 1 es \"Sí\".","2. Questa è una dichiarazione attestante che qualsiasi parte di cobalto contenuta in un prodotto o in più prodotti proviene da una zona di conflitto e ad alto rischio (Conflict-Affected and High-Risk Area, CAHRA). La risposta a questa domanda deve essere “sì” nel caso in cui vi siano fonderie della catena di fornitura che si riforniscono da una zona di conflitto e ad alto rischio, indipendentemente dal fatto che tali fonderie siano state sottoposte a verifica o meno.\n\nLe risposte a questa domanda dovranno essere “sì”, “no”, “sconosciuto” o “solo DRC o Paesi limitrofi”. Motivare le risposte affermative (“Sì”) nella sezione dei commenti.  La risposta “sconosciuto” è una risposta accettabile. Questa domanda è obbligatoria per il cobalto se la risposta alla domanda 1 è “Sì”.","2. Bu, bir üründe veya birden fazla üründe yer alan kobaltın herhangi bir bölümünün çatışmalardan etkilenen ve yüksek riskli bir bölgeden (CAHRA) kaynaklandığı hakkında bir beyandır. Tedarik zincirindeki herhangi bir izabe tesisi CAHRA’dan tedarik yaptığı takdirde, söz konusu izabe tesisinin bağımsız şekilde denetlenip denetlenmediğine bakılmaksızın bu sorunun yanıtı “evet” olmalıdır.\n\nBu sorunun yanıtları “evet”, “hayır”, “bilinmiyor” veya “yalnızca DRC veya bitişik ülkeler” şeklinde olacaktır. Bir “Evet” yanıtının gerekçelerini Yorumlar bölümünde belirtin.  “Bilinmiyor” yanıtı kabul edilebilir bir yanıttır. Soru 1’in yanıtı “Evet” şeklinde ise kobalt için bu soru zorunludur."]
[{"$f":"B28&C28","v":"InstructionsA29"},"Instructions","A29","14. Indicates whether the processor obtains inputs for its process(es) from artisanal or small scale mining. This field is optional.  Permissible responses to this question are:\n\n- Yes\n- No\n- Unknown","14. 表明精炼厂是否仅从回收料或报废料资源中获取精炼过程的来料。此为选答问题。本问题允许的回答包括：\r\n\r\n- 是\r\n- 否\r\n- 未知","14. 加工業者が、プロセスに投入する原料を零細又は小規模採掘から取得しているかどうかを示します。このフィールドは任意です。回答は、以下の項目から選択してください。\n\n- はい\n- いいえ\n- わからない","14. 광물가공업체가 가공 공정에 필요한 투입물이 영세 또는 소규모 광업소로부터 공급되었음을 표시하십시오. 이 필드는 선택 사항입니다. 이 질문에 허용되는 답변은 다음과 같습니다. \n\n- 네\n- 아니요\n- 모름","14.Indique si la fonderie obtient des matières premières pour son (ses) procédé(s) de l’exploitation minière artisanale ou à petite échelle. Cette question est facultative. Les réponses possibles à cette question sont :\r\n\r\n– Oui\r\n– Non\r\n– Ne sais pas","3. Esta é uma declaração que identifica se o cobalto contido no(s) produto(s) é originário exclusivamente de fontes recicladas ou de sucata. \n\nA resposta a esta pergunta deverá ser “sim”, “não” ou “desconhecido”.\n\nUma resposta “Sim” significa que 100% do cobalto é originário de fontes de recicladas ou de sucata.  Uma resposta “Não” significa que parte da matéria-prima não é originária de fontes de recicladas ou de sucata. Uma resposta “Desconhecido” significa que o utilizador não sabe se 100% da matéria-prima é originário de fontes de recicladas ou de sucata.  Este campo é obrigatório.","3. Dies ist eine Erklärung, die bestimmt, ob das in dem/den Produkt/en enthaltene Kobalt ausschließlich aus Recycling- oder Schrottquellen stammt. \n\nDie Antwort auf diese Frage muss „Ja“ oder „Nein“ oder „Unbekannt“ lauten.\n\nEine Antwort mit „Ja“ bedeutet, dass 100 % des Kobalts aus Recycling- oder Schrottquellen stammen.  Eine Antwort mit „Nein“ bedeutet, dass ein Teil des Rohmaterials nicht aus Recycling- oder Schrottquellen stammt. Eine Antwort mit „Unbekannt“ bedeutet, dass der Benutzer nicht weiß, ob 100 % des Rohmaterials aus Recycling- oder Schrottquellen stammt oder nicht. Dies ist ein Pflichtfeld.","3. Se trata de una declaración que identifica si el cobalto que se incluye en los productos se origina exclusivamente de fuentes recicladas o de chatarra. \n\nLa respuesta a esta pregunta será \"Sí\", \"No\" o \"Se desconoce\".\n\nUna respuesta \"Sí\" significa que el 100 % del cobalto proviene de fuentes recicladas o de chatarra.  Una respuesta \"No\" significa que parte de la materia prima no proviene de fuentes recicladas o de chatarra. Una respuesta \"Se desconoce\" significa que el usuario no sabe si el 100 % de la materia prima procede de fuentes recicladas o de chatarra.  Este campo es obligatorio.","3. Questa è una dichiarazione che indica se il cobalto contenuto nel/i prodotto/i proviene esclusivamente da fonti riciclate o di scarto. \n\nLa risposta a questa domanda può essere “sì”, “no” o “sconosciuto”.\n\nLa risposta “sì” indica che il 100% del cobalto proviene da fonti riciclate o di scarto.  La risposta “no” indica che parte della materia prima proviene da fonti riciclate o di scarto. La risposta “sconosciuto” indica che l’utilizzatore non sa se il 100% della materia prima proviene o meno da fonti riciclate o di scarto.  Questo campo è obbligatorio.","3. Bu, ürün(ler)de bulunan kobaltın yalnızca geri dönüştürülmüş veya hurda kaynaklardan gelip gelmediğinin belirleyen bir beyandır. \n\nBu soruya “evet”, “hayır” ya da “bilinmiyor” şeklinde yanıt verilmelidir.\n\n“Evet” yanıtı kobaltın %100’ünün geri dönüştürülmüş veya hurda kaynaklardan geldiği anlamına gelir.  “Hayır” yanıtı, bazı hammaddelerin geri dönüştürülmüş veya hurda kaynaklardan gelmediği anlamına gelir. “Bilinmiyor” yanıtı, kullanıcının hammaddenin %100’ünün geri dönüştürülmüş veya hurda kaynaklardan gelip gelmediğini bilmediği anlamına gelir.  Bu alan zorunludur."]
[{"$f":"B29&C29","v":"InstructionsA30"},"Instructions","A30","15. Indicates whether the processor uses solely synthetic mica as the input for its process(es). This field is optional.  Permissible responses to this question are:\n\n- Yes\n- No\n- Unknown","15. 表明精炼厂是否仅从回收料或报废料资源中获取冶炼过程的来料。此为选答问题。本问题允许的回答包括：\r\n\r\n- 是\r\n- 否\r\n- 未知","15. 加工業者が、加工プロセスに投入する原料として合成マイカのみを使用しているかどうかを示します。このフィールドは任意です。回答は、以下の項目から選択してください。\n\n- はい\n- いいえ\n- わからない","15. 광물가공업체가 가공 공정에 유일한 투입물이 합성 마이카임을 표시하십시오. 이 필드는 선택 사항입니다. 이 질문에 허용되는 답변은 다음과 같습니다. \n\n\n- 네\n- 아니요\n- 모름","15. Indique si la fonderie utilise uniquement du mica synthétique comme matière première pour ses procédés de fusion. Cette question est facultative. Les réponses possibles à cette question sont :\r\n\r\n– O i\r\n– No \r\n– Ne  ais pas","4. Essa é uma pergunta para determinar se uma empresa recebeu divulgações de todos os fornecedores diretos que, razoavelmente, estão fornecendo cobalto contido nos produtos cobertos pelo escopo desta declaração. As respostas aceitáveis a esta pergunta são:\n\n­ 100%\nAcima de 90%\nAcima de 75%\n- Acima de 50%\n- 50% ou menos\n- Nenhuma\n\nEste campo é obrigatório.","4. Diese Frage dient der Bestimmung, ob ein Unternehmen Offenlegungen von allen Lieferanten erhalten hat, von denen vernünftigerweise angenommen wird, dass sie Kobalt liefern, das in den vom Umfang dieser Erklärung umfassten Produkten enthalten ist. Erlaubte Antworten auf diese Frage sind:\n\n100 %\nGrößer als 90 %\nGrößer als 75 %\n– Größer als 50 %\n– 50 % oder weniger\n– Keine\n\nDies ist ein Pflichtfeld.","4. Esta es una pregunta para determinar si una empresa ha recibido información de todos los proveedores directos que razonablemente se considera que proporcionar cobalto en los productos cubiertos por el alcance de esta declaración. Las respuestas aceptables a esta pregunta son las siguientes:\n\n­ 100 %\n­ Superior al 90 %\n­ Superior al 75 %\n­ Superior al 50 %\n- 50 % o menos\n- Ninguna\n\nEste campo es obligatorio.","4. Questa domanda serve a stabilire se un’azienda ha ricevuto le dichiarazioni da tutti i fornitori diretti, ragionevolmente ritenuti fornitori del cobalto contenuto nei prodotti che rientrano nel campo di applicazione della dichiarazione. Le risposte a questa domanda sono:\n\n100%\nOltre il 90%\nOltre il 75%\n- Oltre il 50%\n- 50% o meno\n- Nessuna\n\nQuesto campo è obbligatorio.","4. Bu soru, bir şirketin, bu beyan kapsamındaki ürünlerde bulunan kobaltı sağladığına makul olarak inanılan tüm doğrudan tedarikçilerden beyanlar alıp almadığını belirlemek içindir. Bu soruya aşağıdaki şekillerde yanıt verilebilir:\n\n­ %100\n %90’dan fazla\n %75’ten fazla\n- %50’den fazla\n- %50 veya daha az\n- Hiçbiri\n\nBu alan zorunludur."]
[{"$f":"B30&C30","v":"InstructionsA31"},"Instructions","A31","16. Comments – free form text field to enter any comments concerning the smelter.  Example: smelter is being acquired by Company YYY","16. 注释 - 无格式限制的文字栏，可输入有关冶炼厂的任何意见。例如：冶炼厂正在被 YYY 公司收购","16. 備考　－　加工業者に関するコメントがあれば備考欄に記述してください。例：加工業者はYYY社に買収されている","16. 추가 내용 - 광물가공업체에 대한 추가 정보를 기입하시오. (예:  광물가공업체는 YYY 회사가 구입중 )  ","16. Commentaires - Zone de texte pour indiquer tout commentaire relatif à la fonderie. Exemple: La fonderie a été achetée par l'entreprise YYY.","5. Esta pergunta verifica se o fornecedor tem razões para crer que identificou todas as fundições que fornecem cobalto nos produtos abrangidos por esta declaração. A resposta a esta pergunta deverá ser “Sim”, “Não” ou “Desconhecido”, com a adição de comentários em determinados casos, por exemplo, lista de fundições. Este campo é obrigatório.","5. Mit dieser Frage wird geprüft, ob ein Lieferant Grund zur Annahme hat, dass er alle diejenigen Schmelzhütten identifiziert hat, die in den vom Umfang dieser Erklärung umfassten Produkten Kobalt bereitstellen. Die Antwort auf diese Frage muss „Ja“, „Nein“ oder „Unbekannt“ lauten, zusammen mit einem Kommentar in bestimmten Fällen, z. B. einer Liste von Schmelzhütten. Dies ist ein Pflichtfeld.","5. Esta pregunta verifica si el proveedor tiene motivos para creer que han identificado a todas las fundidoras que proporcionan cobalto en los productos cubiertos por esta declaración. La respuesta a esta pregunta será \"Sí\", \"No\" o \"Se desconoce\", junto con un comentario en determinados casos, p. ej., lista de fundidoras. Este campo es obligatorio.","5. Questa domanda verifica se il fornitore ha ragione di credere di aver identificato tutte le fonderie che forniscono cobalto nei prodotti inseriti nella presente dichiarazione. La risposta a questa domanda dovrà essere “sì”, “no” o “sconosciuto” con un commento in alcuni casi, ad esempio, elenco delle fonderie. Questo campo è obbligatorio.","5. Bu soru, tedarikçinin, bu beyan kapsamındaki ürünlerde bulunan kobaltı sağlayan tüm izabe tesislerini belirlemiş olduğunu düşünüp düşünmediğini doğrular. Bu sorunun yanıtı, bazı durumlarda örneğin izabe tesislerinin listesi gibi bir açıklama ile birlikte “Evet”, “Hayır” veya “bilinmiyor” şeklinde olacaktır. Bu alan zorunludur."]
["InstructionsA33","Instructions","A33","TERMS AND CONDITIONS","条款及细则","利用規約","이용 약관","CONDITIONS GENERALES","Instruções para completar a pergunta A - I. (fileiras 63 a 79).  As perguntas A. a I. são obrigatórias se a resposta à pergunta 1 for “sim” para qualquer metal.\nDê as respostas somente em INGLÊS","Instruktionen zur Beantwortung der Fragen A. – I. (Reihen 63–79).  Die Fragen A. bis I. müssen beantwortet werden, wenn die Antwort auf Frage 1 für irgendein Metall „Ja“ lautet.\nBitte geben Sie Ihre Antworten nur auf ENGLISCH","Instrucciones para llenar las Preguntas A-I (renglones 63 - 79).  Las preguntas A. a la I. son obligatorias si la respuesta a la Pregunta 1 es \"sí\" para ese metal.\nResponda a las preguntas en INGLÉS solamente","Istruzioni per il completamento delle domande A– I. (righe 63 - 79).  Le domande dalla A. alla I. sono obbligatorie se la risposta alla domanda 1 è \"Sì\" per qualsiasi metallo.\nLe risposte devono essere fornite unicamente in lingua INGLESE","A. - I. arası soruların yanıtlanması için talimatlar (63 ila 79 arası satırlar)  Herhangi bir metal için 1. soruya \"Evet\" yanıtı verilmişse, A. ile I. arası soruların yanıtlanması gerekmektedir.\nYanıtları yalnızca İNGİLİZCE olarak verin"]
["InstructionsA34","Instructions","A34","The Responsible Minerals Initiative Processor List (the \"List\") and Program templates and tools, including, without limitation, the Mica Reporting Template  (collectively “Tools”), including, without limitation, all information provided therein, are provided for informational purposes only and are current as of the date set forth therein. Any inaccuracy or omission in the List or any Tool is not the responsibility of the Responsible Business Alliance, Incorporated, a Delaware non-stock corporation (\"RBA\"). Determination of whether and/or how to use all or any portion of the List or any Tool is to be made in the User’s sole and absolute discretion. Prior to using the List or any Tool, you should review it with your own legal counsel.  No part of the List or any Tool constitutes legal advice. Use of the List or any Tool is voluntary.","负责任矿物审验流程（“流程”）、合规冶炼厂列表（“列表”）及报告模板和工具表，包括但不限于冲突矿产报告模板（统称为“工具”），所提供的一切信息仅供参考之用，并以其上载日期为准。在列表或工具表中，如有任何不准确或遗漏的信息，均非特拉华州非股份公司责任商业联盟 (RBA) 的责任所在。是否使用和/或如何使用列表上的全部资料或部分资料或使用任何工具，用户拥有唯一及绝对的决定权​​。使用列表或任何工具之前，请向自己的法律顾问征询意见。列表或工具中没有任何一部份会构成法律咨询。使用列表或任何工具均属自愿。","責任ある鉱物イニシアチブ加工業者リスト（以下「リスト」といいます）、マイカ報告テンプレート等のプログラムテンプレートやツール（以下総称して「ツール」といいます）、ならびにここに提供されるあらゆる情報は、情報提供の目的のみに使用されるものであり、ここに明示される日付の時点の最新版です。リスト又はツールに不正確な点や脱落があった場合、それがいかなるものであれ、デラウェアの非株式会社であるレスポンシブル・ビジネス・アライアンス（以下「RBA」といいます）は、一切の責任を負わないものとします。リストの全部もしくは一部、あるいはツールを使用するかどうか、またどのように使用するかの決断は、ユーザー単独の自由裁量によって行われるものです。リスト又はツールの利用に際しては、事前にユーザー自身の法律顧問とともに当該リスト又はツールの精査を行うことが望まれます。リスト又はツールには法的助言は一切含まれていません。 リスト又はツールの利用は自由意思によるものです。","책임 있는 광물 보증 가공업체 리스트(“List(리스트)\")와 프로그램 템플릿과 도구는 마이카 보고서 템플릿(집합적 “Tools(툴)”라고 통침함)을 포함하나 이에 국한되지 않으며, 정보를 제공하는 목적으로만 제공되며 여기서 명시된 날짜는 현재 시점입니다. 리스트 또는 툴에서 부정확하거나 누락된 것은 델라웨어 주의 비주식회사인 책임감 있는 비지니스 연합(Responsible Business Alliance, RBA))의 책임이 아닙니다. 리스트 또는 툴의 모두 또는 일부분을 사용할 것인지 그리고 어떻게 사용할 것인지 여부는 사용자만의 재량에 의해 결정됩니다. 리스트나 툴을 사용하기 전에, 변호사의 자문을 거쳐야 할 것입니다. 리스트나 툴의 어느 부분도 법적 조언 으로 간주될 수 없습니다. 리스트나 툴의 사용은 자발적입니다.","Le programme Responsible Minerals Assurance (« Programme »), la liste des fonderies conformes (la « Liste ») et les modèles et outils du Programme, incluant, sans limitation, le modèle de rapport sur le MICA (collectivement dénommés ci-après « Outils »), incluant, sans limitation, toutes les informations fournies ci-incluses, sont uniquement fournis à titre d’information et sont les dernières en date à ce jour. La Responsible Business Alliance, une entreprise non cotée du Delaware (« RBA ») ne saurait être tenue responsable de toute inexactitude ou omission dans la Liste ou les Outils. La décision d’utiliser ou non et/ou de comment utiliser tout ou partie de cette Liste ou l’un des Outils est prise à la seule et absolue discrétion de l’Utilisateur. Avant d’utiliser la liste ou tout outil, vous devez l’examiner avec votre propre conseiller juridique. Aucune partie de la liste ou de tout outil ne constitue un avis juridique. L’utilisation de la liste ou de tout outil est volontaire.","As linhas de orientação das diligências devidas da OCDE para cadeias de Fornecimento responsáveis de Minerais de conflito afetados e de áreas de alto risco (Guia da OCDE) define \" Diligências devidas\" como um processo \"em curso, proactivo e reativo, através do qual as empresas conseguem garantir  os seu respeito pelos direitos humanos e não contribuir para o conflito\". As diligências devidas devem ser parte integrante da estratégia global da empresa sobre fontes livres de conflito. As questões de A a J foram formuladas para avaliar as atividades de diligência devidas da empresa face à origem dos minerais livres de conflito. As respostas a estas questões devem representar todo o âmbito das atividades da empresa e não se deverá limitar ao \"âmbito da Declaração\" selecionado no campo da informação da empresa.","Die OECD Due Diligence Richtlinie für verantwortliche Lieferketten von Mineralien aus mit Konflikten und hohem Risiko betroffen Gebieten (OECD Richtlinie) definiert \"Due Diligence\" als \"einen kontinuierlichen, pro-aktiven und re-aktiven Prozess, mit dem Firmen sicherstellen können, dass sie Menschenrechte respektieren und nicht zu Konflikten beitragen\". Due Diligence sollte ein fester Teil ihrer konfliktfreien Beschaffungsstrategie sein. \nFragen A. bis J. betreffen die Beurteilung ihrer konfliktfreien Mineralienbeschaffungs- Due Diligence- Aktivitäten. Die Antworten auf diese Fragen sollen den gesamten Bereich Ihrer Firmenaktivitäten abdecken und sich nicht nur auf den Bereich des \"Erklärungsbereiches\" (wie in der Firmeninformation ausgewählt) beschränken. ","La Guía de cuidado de la OCDE para las cadena de  Suministro Responsable de minerales de zonas afectadas por conflictos y de áreas de alto riesgo (OCDE Orientación) define  \" Diligencia de cuidados\", como \"un proceso continuo, proactivo y reactivo a través del cual las empresas pueden garantizar que se respeten los derechos humanos y no contribuyen a los conflictos \". La diligencia de cuidado debe ser una parte integral de la estrategia general de la empresa para abastecimiento libre de conflictos. Las preguntas a través de A. J. están diseñadas para evaluar las actividades diligentes de su empresa  para el abastecimiento de minerales sin conflicto. Las respuestas a estas preguntas deben de representar toda la gama de actividades de su empresa y no se limitará a la 'Declaración de Alcance' seleccionado en la sección de información de la compañía.","La guida OCDE sul dovere di diligenza per l'approvigionamento responsabile di minerali provenienti da zone di conflitto o ad alto rischio (Guida OCDE), definisce l'applicazione del \"dovere di diligenza\" come un \"processo continuo, proattivo e reattivo, che permette alle aziende di assicurarsi di rispettare i diritti umani e di non contribuire ai conflitti\". Il dovere di diligenza dovrebbe costituire parte integrante della strategia globale di approvigionamento conflict-free della vostra azienda. \nLe domande da A a J sono formulate per verificare le attività messe in atto dalla vostra azienda relative al dovere di diligenza per l'approvigionamento conflict-free. Le risposte alle domende devono essere rappresentative del perimetro completo delle attività della vostra azienda e non devono riferirsi unicamente al \"perimetro della dichiarazione\" indicato nella sezione Informazioni sull'Azienda"," İhtilaftan Etkilenen ya da Yüksek Riskli Alanlardan elde edilen Madenlerin Sorumlu Tedarik Zinciri için OECD Durum Tespiti Kılavuzu (OECD Kılavuzu), “Durum Tespiti” sürecini “şirketlerin insan haklarına saygı duyulmasını ve ihtilafa katkıda bulunulmamasını sağlayacak şekilde denetlendiği sürekli olarak, proaktif ve reaktif bir süreçtir”. Durum tespiti, şirketinizin genel ihtilaf içermeyen kaynak edinme stratejisinin ayrılmaz bir parçasını oluşturmalıdır. A. ile J. arası sorular, şirketinizin ihtilaf içermeyen maden kaynağı belirleme konulu durum tespiti aktivitelerinin değerlendirilmesi için tasarlanmıştır. Bu sorulara verilecek yanıtlar, şirketinizin faaliyetlerinin kapsamını eksiksiz bir şekilde ifade etmeli ve şirket bilgileri bölümünde seçilen ‘Beyan Kapsamı’ ile sınırlı tutulmamalıdır."]
["InstructionsA35","Instructions","A35","RBA does not make any representations or warranties with respect to the List or any Tool. The List and Tools are provided on an \"AS IS\" and on an \"AS AVAILABLE\" basis. RBA hereby disclaim all warranties of any nature, express, implied or otherwise, or arising from trade or custom, including, without limitation, any implied warranties of merchantability, non-infringement, quality, title, fitness for a particular purpose, completeness or accuracy. ","RBA 皆不会为名单或任何工具作任何的申述或保证。列表和工具依据“原样”和“现有”来提供。RBA 特此声明，不做任何性质的保证、明示、暗示或其他方式，或说明贸易或关税，包括但不限于任何隐含的适销性、非侵权性、质量、标题、为某一特定用途的适用性而作完整性或准确性的保证。\r\n","RBAは、リスト又はツールに関していかなる表明も保証も行いません。リスト及びツールは「現状有姿のまま」かつ「提供可能な限度」で提供されています。  RBAは、市販性、権利不侵害、品質、タイトル、特定目的との適合、完全性、正確性を含めて（ただし必ずしもこれらに限定されない）、明示的であれ黙示的であれ、もしくはその他の方法であれ、取引もしくは慣習から生じるものであれ、いかなる性質のものであろうと、一切の保証を行わないものとします。","RBA는 리스트 또는 어떤 툴에 대해서도 진술 또는 보장을 하지 않읍니다. 리스트와 툴들은 “있는 그대로” 및 “사용 가능한” 경우에 제공됩니다. RBA는 어떠한 경우, 명시적, 묵시적 또는 다른 경우 또는 무역이나 관습으로 부터 생기는 모든 보장을 부인한며, 이 보장은 양도성, 비침해, 품질, 소유, 특정 목적에의 적합성, 완성도 및 정확성으로부터의 묵시적 보장을 포함하며 이에 제한되지 않읍니다.","RBA ne donne des déclarations ou garanties concernant la Liste ou les Outils. La Liste et les Outils sont fournis « TEL QUEL » et « TEL QUE DISPONIBLE ». La RBA nie par la présente toute garantie, de toute sorte, expresse, tacite ou autre, ou émanant du commerce ou des douanes, incluant sans limitation, toute garantie implicite de qualité marchande, de non-contrefaçon, de qualité, de titre, de modèle pour un but particulier, de complétude et d’exactitude.","A. Esta é uma declaração para divulgar se a empresa tem uma política de aquisição de minerais de conflito. A resposta a esta pergunta deverá ser “sim” ou “não”. Os comentários serão capturados em um campo de comentário à pergunta. \n\nEsta pergunta é obrigatória.","A. Diese Erklärung dient der Bestimmung, ob ein Unternehmen über eine Beschaffungsrichtlinie für Konfliktmineralien verfügt. Die Antwort auf diese Frage muss „Ja“ oder „Nein“ lauten. Anmerkungen sollten in einem Frage/Kommentar-Feld festgehalten werden. \n\nDiese Frage muss beantwortet werden.","A. Esta es una declaración para revelar si una compañía cuenta con una política de compra de minerales en conflicto. La respuesta a esta pregunta debe ser \"sí\" o \"no\". Los comentarios deberán llenarse en el campo de comentarios de dicha pregunta. \n\nEsta pregunta es obligatoria.","A. Questa dichiarazione serve a comunicare se una società adotta una politica di approvvigionamento per i minerali di conflitto. La risposta a questa domanda può essere \"sì\" o \"no\". I commenti devono essere inseriti nel campo commenti. \n\nQuesta domanda è obbligatoria.","A. Bu beyan bir şirketin ihtilaf konusu maden kaynakları ile ilgili bir politikaya sahip olup olmadığını ifade eder. Bu soruya \"evet\" ya da \"hayır\" şeklinde yanıt verilmelidir. Yorumlar sorunun açıklama kısmında yansıtılmalıdır. \n\nBu soru zorunludur."]
["InstructionsA36","Instructions","A36","To the fullest extent permitted by applicable laws, RBA renounces any liability for any losses, expenses or damages of any nature, including, without limitation, special, incidental, punitive, direct, indirect or consequential damages or lost income or profits, resulting from or arising out of the User’s use of the List or any Tool, whether arising in tort, contract, statute, or otherwise, even if shown that they were advised of the possibility of such damages. ","根据相关法律所允许的最大限度，RBA 声明拒绝任何损失、费用或任何性质的损害之责任，包括但不限于因用户使用名单或工具表而造成特殊、偶然、惩罚性、直接、间接的或后果性损害或失去收入或利润，无论是以侵权、合同、章程或其他方式造成的损害，即使他们已被告知有这种损害的可能性。\r\n","適用される法律において許諾されている最大限の範囲内で、RBAは、不法行為、契約、規則、もしくはその他の状況下で生じたものであるかどうかにかかわらず、損害が生じる可能性について報告を受けていたとしても、リスト又はツールを利用したことに起因する特別損害、付帯損害、懲罰的損害、直接損害、間接損害もしくは偶発的損害、又は収益や利益の損失に関し、何らの責任も負いません。","해당 법률이 허용하는 한도까지, RBA는 어떠한 경우의 손실, 비용, 손해배상의 책임을  부인하며, 이에는 특별한, 우발적, 징벌적, 직접, 간접 또는 결과적 손해, 또는 사용자로부터 또는 사용자의 리스트 또는 툴의 사용으로 인한 수입 또는 이익의 손실이 불법 행위, 계약, 법령 또는 기타 사유로 발생한 경우 및 심지어 그러한 손해배상의 발생가능성이 있다고 표시된 경우를 포함하며 이에 국한되지 않읍습니다.  ","Dans les limites prévues par la loi, la RBA renonce à toute responsabilité pour tou(te)s pertes, dépenses ou dommages et intérêts de quelque nature que ce soit, incluant, sans limitation, des dommages spéciaux, accessoires, punitifs, directs, indirects ou conséquentiels ou perte de revenus ou de bénéfices, résultant ou émanant de l’utilisation de la Liste ou d’un Outil par l’Utilisateur, que cela émane d’un délit, d’un contrat, de la loi, ou pour tout autre motif, même si elle était prévenue de la possibilité de tels dommages.","B. Esta é uma declaração de que a política de fornecimento de cobalto da empresa aborda todos os riscos da Política Modelo de Anexo II da Orientação de Diligência Devida da OECD, bem como todas as piores formas de trabalho infantil.  A resposta a esta pergunta deverá ser “sim” ou “não”. \n\nEste campo é obrigatório.\n\n\"Anexo II Riscos\" pode ser encontrado em http://www.oecd.org/daf/inv/mne/OECD-Due-Diligence-Guidance-Minerals-Edition3.pdf.","B. Dies ist eine Erklärung, die bestimmt, ob die Beschaffungsrichtlinie für Kobalt des Unternehmens alle Risiken der OECD-Richtlinie zur Sorgfaltspflicht in Zusammenhang mit dem Richtlinienmodell aus Anhang II sowie allen schlimmsten Formen der Kinderarbeit behandelt. Die Antwort auf diese Frage muss „Ja“ oder „Nein“ lauten. \n\nDies ist ein Pflichtfeld.\n\n„Annex II Risks“ finden Sie in http://www.oecd.org/daf/inv/mne/OECD-Due-Diligence-Guidance-Minerals-Edition3.pdf.","B. Se trata de una declaración de si la política de abastecimiento de cobalto de la empresa aborda todos los riesgos identificados en el Anexo II, Política modelo, de la Guía de debida diligencia de la OCDE, así como todas las peores formas de trabajo infantil.  La respuesta a esta pregunta será \"Sí\" o \"No\". \n\nEste campo es obligatorio.\n\nEl Anexo II sobre riesgos se puede encontrar en el siguiente documento: http://www.oecd.org/daf/inv/mne/OECD-Due-Diligence-Guidance-Minerals-Edition3.pdf (en inglés).","B. Questa è una dichiarazione che indica se la politica di approvvigionamento del cobalto dell’azienda affronta tutti i rischi contenuti nella Politica modello relativa alla Linee guida dell’OCSE sul dovere di diligenza Allegato II, nonché tutte le peggiori forme di lavoro minorile.  La risposta a questa domanda può essere “sì” o “no”. \n\nQuesto campo è obbligatorio.\n\nL’“Allegato II Rischi” è disponibile su http://www.oecd.org/daf/inv/mne/OECD-Due-Diligence-Guidance-Minerals-Edition3.pdf.","B. Bu, şirketin kobalt tedarik politikasının OECD Ayrıntılı İnceleme Rehberi Ek II Model Politikasındaki tüm risklerin yanı sıra çocuk işçiliğinin en kötü biçimlerini ele alıp almadığı hakkında bir beyandır.  Bu soruya “evet” veya “hayır” şeklinde yanıt verilmelidir. \n\nBu alan zorunludur.\n\n“Ek II Riskler” http://www.oecd.org/daf/inv/mne/OECD-Due-Diligence-Guidance-Minerals-Edition3.pdf adresinde bulunabilir."]
["InstructionsA37","Instructions","A37","In consideration for access and use of the List and/or any Tool, THE USER hereby agrees to and does (a) release and forever discharge RBA as well as its officers, directors, agents, employees, volunteers, representatives, contractors, successors, and assigns, from any and all claims, actions, losses, suits, damages, judgments, levies, and executions, which the User has ever had, has, or ever can, shall, or may have or claim to have against RBA , as well as its officers, directors, agents, employees, volunteers, representatives, contractors, successors, and assigns, resulting from or arising out of the List or any Tool or use thereof, and agrees to (b) indemnify, defend and hold harmless RBA, as well as its officers, directors, agents, employees, volunteers, representatives, contractors, successors, and assigns, from any and all claims,  actions, losses, suits, damages, judgments, levies, and executions resulting from or arising out of the USER'S use of the List or any Tool.","鉴于对列表和/或工具表单的使用，用户在此同意：a) 让 RBA 及其相关管理人员、董事、代理、员工、志愿者、代表、承包商、继承人、指定人解除并永远免除责任，而不会因使用列表或任何工具导致或产生的任何及全部索赔、行动、损失、诉讼、损害、判决、征费和处决而受损，这包括用户有过或曾经可以、应当或者可能拥有或声称拥有对 RBA 及其相关管理人员、董事、代理、员工、志愿者、代表、承包商、继承人、指定人的索赔；b) 保障和捍卫 RBA 及其相关管理人员、董事、代理、员工、志愿者、代表、承包商、继承人、指定人的权利，确保其不会因用户使用列表或任何工具而导致或产生的任何及全部索赔、行动、损失、诉讼、损害、判决、征费和处决而受损。\r\n","リストやツールへのアクセス及びその利用を考慮して、ユーザーはここに、(a) RBAならびにその役員、理事、代理人、被雇用者、任意行為者、代表者、契約者、継承者、譲受人に対し、リストやツールによる、もしくはそれらを利用したことによる、又はそこから生じたり、生じた\r\n可能性がある、あるいはユーザーがRBAならびにその役員、理事、代理人、被雇用者、任意行為者、代表者、契約者、継承者、譲受人に対してそのように主張する、いかなる請求、訴訟、損失、請願、損害、判決、押収、強制執行についても一切の責任を問わず、(b) RBAならびにその役員、理事、代理人、被雇用者、任意行為者、代表者、契約者、継承者、譲受人に対し、ユーザーがリスト又はツールを利用したことによる、いかなる請求、訴訟、損失、請願、損害、判決、押収、強制執行に関しても免責の保証を与え、擁護し、責任を免除することに同意するものとします。","리스트 및 툴로의 접속 및 사용에 대하여, 사용자는 (a) RBA 뿐만 아니라 각각의 임원, 이사, 대리인, 직원, 자원 봉사자, 대표자, 계약자, 승계인, 양수인에 대해 사용자가 리스트나 툴로부터 또는 이의 사용으로부터 생기거나 발생하여 RBA 뿐만 아니라 각각의 임원, 이사, 대리인, 직원, 자원 봉사자, 대표자, 계약자, 승계인, 양수인에게 가졌거나 가지고 있거나 혹은 할 수 있고, 해야 하거나 가지고 있거나 가지고 있다고 주장할 수 있는 모든 청구, 조치, 손실, 소송, 손해 배상, 판결, 부가금, 그리고 이행에 대해, 영구히 면책하는데 동의하며, (b) 사용자의 리스트나 툴의 사용으로부터 또는 사용으로 인해 생기거나 발생한 모든 청구, 조치, 손실, 소송, 손해 배상, 판결, 부가금, 그리고 이행에 대해 RBA 뿐만 아니라 각각의 임원, 이사, 대리인, 직원, 자원 봉사자, 대표자, 계약자, 승계인, 양수인을 면책하고, 방어하며, 해가 미치지 않도록 하는 데 동의합니다.","Compte tenu de l’accès et de l’utilisation de la Liste et/ou d’un Outil, l’Utilisateur accepte par la présente de (a) libérer et pour toujours décharger la RBA, ainsi que ses officiers, directeurs, agents, employés, volontaires, représentants, sous-traitants, successeurs, et cède, pour chacun(e) et tou(te)s les revendications, actions, pertes, procès, dommages et intérêts, jugements, impôts, exécution, que l’Utilisateur a eus, a, pourra, devra ou prétendra avoir contre la RBA, ainsi que ses respectifs officiers, directeurs, agents, employés, volontaires, représentants, sous-traitants, successeurs et assignés résultant de ou émanant de la Liste ou d’un Outil ou de l’utilisation de ceux-ci, et accepte(b) d’indemniser, défendre et décharger de la responsabilité la RBA, ainsi que ses officiers, directeurs, agents, employés, volontaires, représentants, sous-traitants, successeurs, et ayants-droits cède, de chacun(e) et tou(te)s les revendications, actions, pertes, procès, dommages et intérêts, jugements, impôts, et exécutions, résultant ou émanant de la Liste ou d’un Outil ou de l’utilisation de ceux-ci par l’Utilisateur.","C. Responda “sim” ou “não” para divulgar se a sua empresa implementou medidas de diligência devida a fontes de cobalto. Esta declaração não pretende prestar detalhes das medidas de diligência devida de uma empresa, mas que uma empresa implementou medidas de diligência devida. Os aspectos de medidas de diligência devida aceitáveis serão determinados pelo solicitante e pelo fornecedor. \n\nExemplos de medidas de due diligence podem incluir: comunicar e incorporar em contratos (sempre que possível) suas expectativas aos fornecedores da cadeia de suprimentos de cobalto responsável; identificação e avaliação de riscos na cadeia de suprimentos; projetar e implementar uma estratégia para responder aos riscos identificados, etc.  Esses exemplos de medidas de due diligence são consistentes com as diretrizes incluídas na Orientação da OECD reconhecido internacionalmente.  \n\nEste campo é obrigatório.","C. Bitte antworten Sie mit „Ja“ oder „Nein“, um anzugeben, ob Ihr Unternehmen Sorgfaltspflichtmaßnahmen für die Beschaffung von Kobalt verwendet. Diese Erklärung dient nicht dazu, Details zu den Sorgfaltspflichtmaßnahmen eines Unternehmens zu liefern – es geht lediglich darum, ob das Unternehmen solche Maßnahmen in Kraft gesetzt hat. Die genaue Beschaffenheit angemessener Sorgfaltspflichtmaßnahmen muss vom Antragsteller und vom Lieferanten bestimmt werden. \n\nBeispiele für Sorgfaltspflichtmaßnahmen können Folgendes beinhalten: Erwartungen an eine verantwortungsvolle Kobalt-Lieferkette Ihren Lieferanten mitteilen und (wo dies möglich ist) zum Vertragsbestandteil machen; Risiken in der Lieferkette ausmachen und einschätzen, und das Entwickeln und Umsetzen einer Strategie zur Handhabung identifizierter Risiken etc.  Diese Sorgfaltspflicht-Maßnahmenbeispiele stimmen mit den Richtlinien überein, die in der international anerkannten OECD-Richtlinie enthalten ist.  \n\nDies ist ein Pflichtfeld.","C. Responda \"Sí\" o \"No\" para revelar si su empresa ha implementado medidas de debida diligencia para el abastecimiento de cobalto. Esta declaración no pretende proporcionar los detalles de las medidas de debida diligencia de una empresa, sino solo especificar que una empresa ha implementado tales medidas. El solicitante y el proveedor determinarán los aspectos de las medidas de debida diligencia aceptables. \n\nEntre los ejemplos de medidas de debida diligencia, se pueden incluir los siguientes: comunicar e incorporar en los contratos (cuando sea posible) las expectativas de la empresa para los proveedores sobre la cadena responsable de suministro de cobalto; identificar y evaluar los riesgos en la cadena de suministro; diseñar e implementar una estrategia para responder a riesgos identificados, etc.  Estos ejemplos de medidas de debida diligencia son coherentes con las pautas incluidas en la Guía de la OCDE, la cual cuenta con reconocimiento internacional.  \n\nEste campo es obligatorio.","E. Rispondere “sì” o “no” per comunicare se l’azienda ha implementato misure di due diligence per l’approvvigionamento del cobalto. Questa dichiarazione non intende fornire i dettagli delle misure di due diligence adottate dall’azienda, bensì comunicare unicamente l’eventuale implementazione delle stesse. Gli aspetti relativi all’ammissibilità delle misure di due diligence devono essere stabiliti dal richiedente e dal fornitore. \n\nAlcuni esempi di misure di due diligence includono: comunicazione e indicazione nei contratti (laddove possibile) delle aspettative nei confronti dei fornitori in relazione all’utilizzo di una catena di fornitura del cobalto responsabile; identificazione e valutazione dei rischi nella catena di fornitura; progettazione e implementazione di una strategia per la gestione dei rischi identificati, ecc.  Questi esempi di misure di due diligence sono coerenti con le linee guida dell’OCSE riconosciute a livello internazionale.  \n\nQuesto campo è obbligatorio.","C. Şirketinizin kobalt tedarik ayrıntılı inceleme önlemleri uygulayıp uygulamadığını beyan etmek için lütfen “evet” veya “hayır” şeklinde yanıt verin. Bu beyan, bir şirketin ayrıntılı inceleme önlemlerinin ayrıntılarını sağlama amacını taşımamaktadır - yalnızca şirketin ayrıntılı inceleme önlemleri uygulamış olduğu ile ilgilidir. Kabul edilebilir ayrıntılı inceleme önlemlerinin özellikleri talep sahibi ve tedarikçi tarafından belirlenecektir. \n\nAyrıntılı inceleme önlemlerinin örnekleri şunları içerebilir: sorumlu kobalt tedarik zinciri hakkındaki beklentilerinizi tedarikçilere iletmek ve sözleşmelere dahil etmek (olanaklı olduğu zaman); tedarik zincirindeki riskleri belirlemek ve değerlendirmek; belirlenen risklere müdahale etmek için bir strateji belirlemek ve bu stratejiyi uygulamak, vb.  Bu ayrıntılı inceleme önlemi örnekleri, uluslararası ölçekte tanınmış olan OECD Rehberinde bulunan kurallara uygundur.  \n\nBu alan zorunludur."]
["InstructionsA38","Instructions","A38","If any part of any provision of these Terms and Conditions shall be invalid or unenforceable under applicable law, said part shall be deemed ineffective to the extent of such invalidity or unenforceability only, without in any way affecting the remaining parts of said provision or the remaining provisions of these Terms and Conditions.","如果此条款及细则的某个条款部分在法律下无效或不可执行，被视为无效的部分应仅限于该无效或不能强制执行的部份，而不以任何方式影响到条款及细则的其余条款。","これらの利用規約の規定条項に、無効とすべき部分、もしくは適用される法律の下で執行不可能な部分が存在する場合、当該箇所は、当該規定条項のそれ以外の部分、もしくは本利用規約のそれ以外の規定条項にいかなる影響も与えることなく、そのような無効性や実行不可能性の範囲においてのみ無効とみなされるものとします。","이러한 계약사항과 조건들의 규정 중 일부가 관련 법에 의해 무효이거나 강행될 수 없는 경우 이러한 부분은 무효 또는 이행불가의 정도만큼만 효력이 없으며, 이러한 부분 또는 계약사항과 조건들의 나머지 부분에 영향을 미치지는 않읍니다.","Si toute ou partie des dispositions de ces Conditions Générales est invalide ou inapplicable en vertu du droit en vigueur, cette partie des dispositions sera jugée sans effet, sans affecter d’aucune façon les parties restantes de ladite disposition ou les autres dispositions de ces Conditions Générales ","D. Esta é uma declaração para determinar se uma empresa exige que seus fornecedores diretos exerçam a devida diligência na cadeia de suprimentos de cobalto, de acordo com a Orientação de Diligência Devida da OECD. A resposta a esta pergunta deverá ser “sim” ou “não”. Os comentários serão capturados em um campo de comentário à pergunta. Este campo é obrigatório.","D. Diese Erklärung dient der Bestimmung, ob ein Unternehmen verlangt, dass seine direkten Lieferanten die Sorgfaltspflicht über die Lieferkette von Kobalt in Übereinstimmung mit der OECD-Richtlinie zur Sorgfaltspflicht befolgen. Die Antwort auf diese Frage muss „Ja“ oder „Nein“ lauten. Anmerkungen sollten in einem Frage-/Kommentarfeld festgehalten werden. Dies ist ein Pflichtfeld.","D. Esta es una declaración para determinar si una empresa requiere que sus proveedores directos ejerzan la debida diligencia sobre la cadena de suministro de cobalto, de conformidad con la Guía de debida diligencia de la OCDE. La respuesta a esta pregunta será \"Sí\" o \"No\". Los comentarios deben registrarse en un campo de comentario para la pregunta. Este campo es obligatorio.","D. Questa è una dichiarazione per stabilire se un’azienda richiede ai propri fornitori diretti di esercitare la due diligence sulla catena di fornitura del cobalto in conformità con le Linee guida dell’OCSE sul dovere di diligenza. La risposta a questa domanda può essere “sì” o “no”. I commenti devono essere inseriti nel campo commenti. Questo campo è obbligatorio.","D. Bu beyan, bir şirketin kendi doğrudan tedarikçilerinden, kobalt tedarik zinciri konusunda OECD Ayrıntılı İnceleme Rehberine uygun şekilde ayrıntılı inceleme yapmalarını isteyip istemediğini belirlemek içindir. Bu soruya “evet” veya “hayır” şeklinde yanıt verilmelidir. Yorumlar, sorunun açıklama alanına yazılmalıdır. Bu alan zorunludur."]
["InstructionsA39","Instructions","A39","By accessing and using the List or any Tool, and in consideration thereof, the User agrees to the foregoing.","通过登入和使用该列表或任何工具，并经过考量，该用户同意上述条款。","リストもしくはツールへのアクセス、又はその利用によって、またそれを考慮して、ユーザーは前述の事項に同意するものとします。","리스트와 툴로의 접속 및 사용에 의해서, 그리고 이러한 점을 고려하여, 사용자는 전술한 내용에 동의합니다.","En accédant et en utilisant cette Liste ou l’un des Outils, et en contrepartie de ceux-ci, l’Utilisateur accepte les dispositions précitées.","E. Esta é uma declaração para determinar se uma empresa exige que seus fornecedores diretos obtenham cobalto de fundições validadas independentemente. A resposta a esta pergunta deverá ser “sim” ou “não”.  Os comentários serão capturados em um campo de comentário à pergunta. Este campo é obrigatório.\n","E. Diese Erklärung dient der Bestimmung, ob ein Unternehmen verlangt, dass seine direkten Lieferanten Kobalt aus unabhängig bestätigten Schmelzhütten beschaffen. Die Antwort auf diese Frage muss „Ja“ oder „Nein“ lauten. Anmerkungen sollten in einem Frage-/Kommentarfeld festgehalten werden. Dies ist ein Pflichtfeld.\n","E. Se trata de una declaración para determinar si una empresa requiere que sus proveedores directos obtengan cobalto de fundidoras validadas de forma independiente. La respuesta a esta pregunta será \"Sí\" o \"No\".  Los comentarios deben registrarse en un campo de comentario para la pregunta. Este campo es obligatorio.\n","E. Questa è una dichiarazione volta a determinare se un’azienda impone ai propri fornitori diretti di approvvigionare il cobalto da fonderie verificate in modo indipendente. La risposta a questa domanda può essere “sì” o “no”.  I commenti devono essere inseriti nel campo commenti. Questo campo è obbligatorio.\n","E. Bu beyan, bir şirketin kendi doğrudan tedarikçilerinin kobaltı bağımsız şekilde doğrulanmış izabe tesislerinden tedarik etmesini isteyip istemediğini belirlemek içindir. Bu soruya “evet” veya “hayır” şeklinde yanıt verilmelidir.  Yorumlar, sorunun açıklama alanına yazılmalıdır. Bu alan zorunludur.\n"]
["DefinitionsB2","Definitions","B2","ITEM","项目","項目","품목","ITEM","Item","Posten","Articulo","Articolo","ÖĞE"]
["DefinitionsB3","Definitions","B3","Processor","精炼厂","加工業者","광물가공업체","Fonderie","Pessoa que autoriza","Bevollmächtigter","Autorizador","Autorizzatore","İzin Yetkilisi"]
[{"$f":"B40&C40","v":"DefinitionsB4"},"Definitions","B4","Responsible Business Alliance (RBA)","责任商业联盟 (Responsible Business Alliance，RBA)","レスポンシブル・ビジネス・アライアンス　(RBA)","책임감 있는 비즈니스 연합Responsible Business Alliance，RBA)","Responsible Business Alliance (RBA)","Refinaria de cobalto","Kobalt-Raffinerie","Refinadora de cobalto","Raffineria di cobalto","Kobalt Rafine Tesisi"]
[{"$f":"B41&C41","v":"DefinitionsB5"},"Definitions","B5","Recycled or Scrap Sources","回收或废料源","再生利用品又はスクラップ起源\nRecycled or Scrap Sources","재활용 및 스크랩 광물 소스 Recycled and Scrap Sources","Fournisseurs de produits recyclés, rebuts de production ou déchets de consommation","País(es) Abrangido(s)","umfassendes Land(er)","País (es) cubiertos","Stato/i coperti","Kapsam Dahilindeki Ülke(ler)"]
[{"$f":"B42&C42","v":"DefinitionsB6"},"Definitions","B6","Responsible Minerals Assurance Process (RMAP)","负责任矿物审验流程 (RMAP)","責任ある鉱物保証プロセス（RMAP）\r\nResponsible Minerals Assurance Process","책임 있는 광물 보증 프로세스(Responsible Minerals Assurance Process (RMAP))","Programme pour les fonderies sans conflit (RMAP)","Declaração de escopo ou classe","Umfang bzw. Klasse der Erklärung","Declaración de alcance o clase","Dichiarazione di ambito o di categoria","Kapsam veya Sınıf Beyanı"]
[{"$f":"B43&C43","v":"DefinitionsB7"},"Definitions","B7","Responsible Minerals Initiative (RMI)","负责任矿物计划","責任ある鉱物イニシアチブ（RMI）\r\nResponsible Minerals Initiative (RMI)","책임 있는 광물 이니셔티브(Responsible Minerals Initiative)","Initiative pour des minerais responsables (RMI)","Diligência devida","Sorgfaltspflicht","Debida diligencia","Due diligence","Ayrıntılı İnceleme"]
[{"$f":"B44&C44","v":"DefinitionsB8"},"Definitions","B8","Synthetic","合成","合成","합성","Synthétique","RDC","DRK","DRC","RDC","DKC"]
["DefinitionsC2","Definitions","C2","DEFINITION","定义","定義","정의","DEFINITION","Definição","Definition","DEFINICION","DEFINIZIONE","TANIM"]
["DefinitionsC3","Definitions","C3","A mica processor is an entity that takes raw mined minerals such as pegmatites (schist), feldspar, kaolin, muscovite or phlogopite and subjects them to various physical or mechanical methods to separate non-mica components from mica components, then produce grades of mica products for use in downstream manufacturing processes. Raw mineral processing can include sorting, separation, milling, grinding, cutting, stampling and binding.","冲突精炼厂实体提取未经处理的伟晶岩（片岩）、长石、高岭土、白云母或金云母等矿物，并对其进行各种物理或机械处理，以将非云母成分与云母成分分离，然后生产出高级云母产品，用于下游制造工艺。原始矿物加工可以包括分选、分离、研磨、切割、冲压和绑定。","マイカ加工業者は、ペグマタイト（片岩）、長石、カオリン、白マイカ、金マイカなどの採掘された未加工の鉱物をさまざまな物理的または機械的方法にかけて、マイカ以外の成分をマイカ成分から分離した後で、川下の製造プロセスで使用するグレードのマイカ製品を製造する事業体である。未加工鉱物の処理には、選別、分離、摩砕、粉砕、切断、抽出、および結合が含まれる。","마이카 가공업체는 페그마타이트(편암), 장성, 카올린, 백운모 또는 금운모와 같은 채굴된 원료 광물에 다양한 물리적 또는 기계적 방법을 적용하여 마이카 성분에서 비마이카 성분을 분리하여 이후 제조 공정에 사용할 수 있도록 여러 등급의 마이카 제품을 생산하는 시설입니다. 원료 광물 공정은 분류, 분리, 밀링, 분쇄, 절단, 스탬핑, 바인딩이 포함될 수 있습니다.","Une fonderie de mica est une entité qui utilise les minéraux bruts extraits tels que les pegmatites (schiste), le feldspath, le kaolin, la muscovite ou la phlogopite et les soumet à diverses méthodes physiques ou mécaniques pour séparer les composants non mica des composants mica, puis produit des catégories de produits à base de mica qui seront utilisées dans les processus de fabrication en aval. Le traitement des minéraux bruts peut comprendre le tri, la séparation, le broyage, le meulage, la coupe, l’estampage et la reliure.","Este campo identifica a pessoa responsável pelo conteúdo desta declaração. A pessoa que autoriza, ou responsável legal pode ser um indivíduo diferente da pessoa de contacto. Não é correto usar a palavra \"mesmo\" ou identificação similar para fornecer o nome da pessoa que autoriza.","Dieses Feld identifiziert die Person, welche  für den Inhalt der Erklärung verantwortlich ist. Der Bevollmächtigte kann eine andere Person sein als der Ansprechpartner. Es ist nicht richtig, wenn sie die Worten \"gleiche\" oder ähnliche Identifikation wie  der Name des Bevollmächtigten benutzen.","Este campo identifica la persona responsable del contenido de la declaración. El autorizador puede ser un individuo diferente de la persona contacto. No es correcto usar la palabra  \"mismo\" o algo similar para dar el nombre del autorizador.","Questo campo identifica la persona avente la responsabilità del contenuto della dichiarazione. Colui che autorizza può essere una persona diversa rispetto al riferimento come contatto. Non è corretto l'impiego della parola \"uguale\" o di simili identificazioni per indicare il nome della persona che autorizza.","Bu alan, beyanın içeriğinden sorumlu kişiyi tanımlama amacı taşır. İzin yetkilisi, irtibat kişisinden farklı bir kişi olabilir. İzin yetkilisinin adı belirtilirken “aynı” gibi ifadelerin kullanılması doğru olmayacaktır. "]
[{"$f":"B47&C47","v":"DefinitionsC4"},"Definitions","C4","Founded in 2004 the Responsible Business Alliance is the world’s largest industry coalition dedicated to electronics supply chain responsibility. (http://www.responsiblebusiness.org)","责任商业联盟成立于 2004 年，是全球最大的\r\n致力于在电子行业供应链中倡导企业责任的行业联盟。\r\n(http://www.responsiblebusiness.org)\r\n","2004年に設立されたレスポンシブル・ビジネス・アライアンス　(RBA) は、責任あるエレクトロニクスサプライチェーンに特化した世界最大の産業連合である。\n(http://www.responsiblebusiness.org)","2004년에 설립된 Responsible Business Alliance는 전자제품 공급망 책무에 전념하는 세계에서 제일 큰 규모의 산업 연합입니다. (http://www.responsiblebusiness.org)\n","Fondée en 2004, la Responsible Business Alliance représente la plus grande coalition industrielle au monde dédiée à la responsabilité de la chaîne d’approvisionnement électronique. \r\n (http://www.responsiblebusiness.org)","Uma entidade que processa concentrados de cobalto, intermediários ou alimentos reciclados e produz um produto de cobalto para uso direto em um processo de fabricação a jusante.","Ein Unternehmen, das Kobaltkonzentrate, Zwischenprodukte oder recycelte Produkte verarbeitet und ein Kobaltprodukt für die direkte Verwendung durch einen nachgelagerten Herstellungsprozess produziert.","Entidad que procesa concentrados de cobalto, productos intermedios o reciclados y produce un producto de cobalto para uso directo en un proceso de fabricación posterior.","Un’entità che elabora concentrati, prodotti intermedi o materiali riciclati di cobalto, e che fabbrica prodotti di cobalto per l’uso diretto in un processo di produzione a valle.","Kobalt konsantresi, ara ürünler veya geri dönüştürülmüş besleme maddesi işleyen ve daha sonraki bir üretim işleminde doğrudan kullanım için bir kobalt ürünü üreten bir kuruluş."]
[{"$f":"B48&C48","v":"DefinitionsC5"},"Definitions","C5","Recycled or scrap sources are recycled cobalt that are reclaimed end-user or post-consumer products, or scrap processed cobalt created during product manufacturing.","回收料或报废料是指循环使用的金属。它们是从最终用户使用过的产品中回收，或在产品制造过程产生的废料。回收金属包括多余的、废弃的、缺陷的、报废的金属材料。这些材料能用于循环再生钽、锡、钨、金。回收利用金属的定义中不包括经部份加工过的矿产、未经加工过的矿产及其他种类非金属矿石的副产品。","再生利用品又はスクラップ起源とは、再生された最終消費者製品又は使用済み製品、又は製品製造中に作り出されたスクラップ加工金属のことである。再生された金属には、錫、タンタル、タングステン又は金の生産上、再生に適切な精製又は加工がなされた、過剰分、廃品、不良品及びスクラップの金属素材がある。加工の過程か未加工な鉱物又はその他の鉱石の副産物は、「再生利用品」の定義に含まれない。","재활용 또는 폐자원은 재활용되는 금속이며 최종 소비자 또는 소비 후 제품 또는 생산제조 중에 생산되는 폐 활용 금속으로부터 회수된다. 재활용 금속은 과잉, 쓸모 없는, 결함 있는, 그리고 주석, 탄탈륨, 텅스텐 및/또는 금의 생산에서 재가공에 적합한 폐 금속 물질을 포함한다. 부분적으로 가공되거나 가공되지 않은 광물질 다른 원석의 부산물은 재활용 금속의 정의에 포함되지 않는다.","Les produits recyclés, rebuts de production ou déchets de consommation sont les métaux qui sont récupérés de l’utilisateur final ou de produits déjà utilisés, ou de déchets de fabrication. Les métaux recyclés incluent les métaux obsolètes, défectueux, et les débris qui contiennent des métaux affinés ou transformés qui peuvent être recyclés pour produire de l’étain, du tantale, du tungstène et/ou de l’or. Les minerais partiellement on non-traités ou sous-produits d’autres minerais ne répondent pas la définition du recyclage.","País(es) abrangido(s) conforme definido pelo decreto dos EUA de Wall Street - Dood -Frank - Reforma e Proteção do Consumidor. Estes Países incluem a República Democrática do Congo e os nove países com os quais partilha fronteiras reconhecidas internacionalmente: Angola, Burundi, República Africana Central, República do Congo, Ruanda, Sudão do Sul, Tanzânia, Uganda, Zâmbia.","Betroffene Länder sind durch die Vereinigten Staaten Dodd-Frank Wall Street Reform und Consumer Protection Act von 2010 definiert. Diese Länder sind: die Demokratische Republik Kongo und die neun Länder, mit denen sie eine international anerkannte Grenze teilen: Angola, Burundi, Zentralafrikanische Republik, Republik Kongo, Ruanda, Südsudan, Tansania, Uganda, Sambia.","País (es) cubiertos como se define en la Ley Dodd-Frank de Reforma de Wall Street de Estados Unidos y la Ley de Protección al Consumidor de 2010. Estos países incluyen en la República Democrática del Congo y los nueve países con los que comparte una frontera reconocida internacionalmente: Angola, Burundi, República Centroafricana, República del Congo, Ruanda, Sudán del Sur, Tanzania, Uganda, Zambia.","I Paesi Coinvolti, come definiti dallo United States Dodd-Frank Wall Street Reform and Consumer Protection Act of 2010. Tali paesi includono la Repubblica Democratica del Congo e i nove Paesi con cui condivide confini internazionalmente riconosciuti: Angola, Burundi, Repubblica Centro Africana, Repubblica del Congo, Ruwanda, Sud Sudan, Tanzania, Uganda, Zambia. ","ABD Dodd-Frank Wall Street Reformu ve 2010 tarihli Tüketicinin Korunması Kanunu tarafından tanımlanan şekliyle Kapsam Dahilindeki Ülke(ler). Bu ülkeler, Demokratik Kongo Cumhuriyeti ile bu ülkenin sınırlarını paylaştığı uluslararası kapsamda kabul edilen dokuz ülkeyi içerir: Angola, Burundi, Orta Afrika Cumhuriyeti, Kongo Cumhuriyeti, Ruanda, Güney Sudan, Tanzanya, Uganda, Zambiya. "]
[{"$f":"B49&C49","v":"DefinitionsC6"},"Definitions","C6","The Responsible Minerals Assurance Process (RMAP) is a program developed by the RBA and GeSI to enhance company capability to verify the responsible sourcing of metals. Further details of the RMAP can be found here: http://www.responsiblemineralsinitiative.org/smelter-introduction/","负责任矿物审验流程 (RMAP) 是由责任商业联盟 (RBA) 所制定，用于提高公司对金属责任采购进行查证的能力。有关 RMAP 的更多信息，请访问 http://www.responsiblemineralsinitiative.org/responsible-minerals-assurance-process/。","責任ある鉱物保証プロセス（RMAP）とは、鉱物の責任ある調達の検証を強化するために、RBAによって開発されたプログラムである。RMAPに関する詳しい情報は以下のサイトに掲載されている。(http://www.responsiblemineralsinitiative.org/responsible-minerals-assurance-process/)","RBA가 개발한 책임 있는 광물 보증 프로세스(RMAP)는 회사의 책임감 있는 광물 구매 역량 강화를  위한 프로세스임.\n상세 내용은 아래 웹페이지에서 확인 가능하다.\nhttp://www.responsiblemineralsinitiative.org/responsible-minerals-assurance-process/","Le Programme pour les fonderies sans conflit (RMAP) est un programme développé par la RBA pour augmenter la capacité des entreprises à vérifier leur approvisionnement responsable en métaux. De plus amples détails sur le Processus RMA sont disponibles sur : http://www.responsiblemineralsinitiative.org/responsible-minerals-assurance-process/.","Para os fins deste modelo, “escopo” descreve a aplicabilidade das informações fornecidas pela empresa de relatórios.  O escopo pode abranger a totalidade dos serviços e/ou produtos de uma empresa, ou, a critério da empresa, o modelo pode ser usado para relatar um produto (ou produtos) específico ou ser \"Definido pelo usuário\".  A seleção ou classe de escopo \"Definido pelo usuário\" pode ser usada para descrever qualquer subconjunto da operação ou do portfólio de produtos de uma empresa","Im Rahmen dieser Vorlage beschreibt „Umfang“ die Anwendbarkeit der Informationen, die vom berichtenden Unternehmen bereitgestellt werden.  Der Umfang kann die Gesamtheit der Dienstleistungen und/oder Produkte eines Unternehmens umfassen, oder die Vorlage kann nach Ermessen des Unternehmens verwendet werden, um über ein bestimmtes Produkt (oder Produkte) zu berichten. Alternativ kann der Bericht „benutzerdefiniert“ sein. Die Auswahl von „benutzerdefinierter“ Umfang oder Klasse kann verwendet werden, um eine Teilmenge des Betriebs oder Produktportfolios eines Unternehmens zu beschreiben","Para los fines de esta plantilla, el término “alcance” describe la aplicabilidad de la información proporcionada por la empresa de generación de informes.  El alcance puede abarcar la totalidad de los servicios o productos de una empresa, o bien según lo determine la empresa, la plantilla puede utilizarse para informar sobre un producto (o productos) específico o estar “Definido por el usuario”.  La selección o clase de alcance \"Definido por el usuario\" puede utilizarse para describir cualquier subconjunto de la cartera de productos u operaciones de una empresa.","Ai fini di questo modello, l’“ambito” descrive l’applicabilità delle informazioni fornite dall’azienda di segnalazione.  L’ambito può comprendere l’intera parte di servizi e/o prodotti dell’azienda, o a discrezione dell’azienda, il modello può essere utilizzato per segnalare prodotti specifici o, essere “Definito dall’utente”.  La scelta o la categoria dell’ambito “Definito dall’utente” può essere utilizzata per descrivere qualsiasi sottoinsieme di operazioni o portafoglio di prodotti di un’azienda","Bu şablonun amaçları için, “kapsam”, raporlayan şirket tarafından sağlanan bilgilerin geçerliliğini açıklar.  Kapsam, bir şirketin hizmetlerinin ve/veya ürünlerinin tamamını içerebilir veya, bir şirketin kendi takdirine bağlı olarak, şablon, belirli bir ürün (veya ürünler) hakkında rapor vermek için kullanılabilir veya ‘Kullanıcı tanımlı’ olabilir.  ‘Kullanıcı tanımlı’ kapsam seçimi veya sınıfı, bir şirketin işletmesinin veya ürün portföyünün herhangi bir alt kümesini açıklamak için kullanılabilir"]
["DefinitionsC7","Definitions","C7","Founded in 2008 by members of the Responsible Business Alliance and the Global e-Sustainability Initiative, the Responsible Minerals Initiative has grown into one of the most utilized and respected resources for companies addressing conflict minerals issues in their supply chains. Over 150 companies from seven different industries participate in the RMI today, contributing to a range of tools and resources including the Responsible Minerals Assurance Process, the Conflict Minerals Reporting Template, Reasonable Country of Origin Inquiry data and a range of guidance documents on conflict minerals sourcing. The RMI also runs regular workshops on conflict minerals issues and contributes to policy development and debates with leading civil society organizations and governments. Additional information is available at http://www.responsiblemineralsinitiative.org/. ","负责任矿物计划由责任商业联盟 (RBA) 于 2008 年发起成立，并已成为公司供应链就冲突矿产问题而最广泛使用和认可的标准。 今天，来自 10 种不同行业的超过 360 家公司加入了负责任矿物计划，共同促成了一系列查证工具和资源的落实，例如负责任矿物审验流程、冲突矿产报告模板、合理的原产国信息查询和一系列无冲突矿产采购指引。另外，负责任矿物计划组织还会定期举办关于冲突矿产专题的工作坊、参与政策制度的修定、与前沿的社会团体和政府机构研讨等。有关更多信息，请造访http://www.responsiblemineralsinitiative.org","RBAのメンバーにより2008年に設立された責任ある鉱物イニシアチブは、サプライチェーンにおける紛争鉱物問題に取り組む企業が最も利用し尊重する組織のひとつに成長した。現在異なる7業界から150社以上の企業がRMIに参加し、RMAP、CMRT、合理的な原産国調査(RCOI)データおよび紛争鉱物調達に関するさまざまなガイダンス文書を含む幅広いツールおよびリソースを提供している。RMIは紛争鉱物問題の定期的なワークショップを実施し、政策展開に貢献し、主要な市民社会団体および政府とも協議を重ねている。詳細については以下を参照のこと。http://www.responsiblemineralsinitiative.org","2008년에 책임감 있는 비니지스 연합의 회원에 의해 설립된 책임 있는 광물 이니셔티브는 공급망에서 분쟁물질 문제에 대해 설명하고자 하는 회사들에게 가장 활발하고 존경 받는 조직의 하나로 성장해 왔다.  열개의 다른 산업에서 360개 이상의 회사가 오늘날 RMI에 참가하고 있고, RMAP, CMRT, RCOI data와 분쟁 물질에 대한 여러 가이던스 문서들을 포함하는 다양한 방법과 자원에 기여하고 있다. 또한 RMI는 분쟁 물질에 대한 정기적인 워크샵을 운영하고 주요 민간 사회 조직과 정부의 정책개발과 토론에 기여함. 추가 정보는 http://www.responsiblemineralsinitiative.org.","Fondée en 2008 par des membres de la Responsible Business Alliance, l’Initiative pour des fonderies sans conflit est devenue l’une des ressources les plus utilisées pour les entreprises traitant des minerais de conflit dans leurs chaînes d’approvisionnement. À ce jour, plus de 150 entreprises de sept secteurs industriels différents participent au RMI, contribuant à une gamme d’outils et de ressources, y compris le Programme de fonderie sans conflit, le formulaire de déclaration des minerais de conflit, les données sur la recherche raisonnable du pays d’origine et une série de lignes directrices sur l’approvisionnement des minerais de conflit. Le RMI organise également régulièrement des ateliers sur les questions des minerais de conflit et contribue à l’élaboration des politiques et aux débats avec les principales organisations de la société civile et les gouvernements. Des informations complémentaires sont disponibles à http://www.conflictfreesourcing.org.","Para os fins deste modelo, o \"âmbito\" descreve a aplicabilidade da informação fornecida pela empresa . O âmbito pode envolver a totalidade dos serviços e/ou produtos  da empresa, ou conforme critério da empresa, o modelo pode ser usado para reportar um produto(ou produtos) específico , ou, ser \"Definido pelo utilizador\". A seleção  ou classe do âmbito \"definido pelo utilizador\" pode ser usada para descrever  qualquer derivado de uma operação ou produto do portfolio da empresa. ","Der Zwecke dieser Vorlage \"Anwendungsbereich\" beschreibt die Anwendbarkeit der Informationen durch das bilanzierende Unternehmen. Die Möglichkeiten umfassen die Gesamtheit der Dienstleistungen und/oder Produkte oder die Vorlage kann in einem Unternehmen nach eigenem Ermessen für einen Bericht über ein bestimmtes Produkt (oder Produkte) oder \"User defined\" verwendet werden.  Die Auswahl des \"User defined\" Anwendungsbereichs oder Klasse kann dazu verwendet werden, um einen Teil eines Unternehmens oder Produkt Portfolio zu beschreiben.","Para propósitos de este templete, el alcance describe la aplicabilidad de la información proveída por la compañía que reporta.  El alcance puede englobar todos los servicios de la compañía y/o productos, o a discreción de la compañía, el templete puede ser usado para reportar un producto en especifico  ( o productos), o, ser \"definido por el usuario\".  El alcance o clase  \"definido por el Usuario\"  puede ser usado para describir cualquier  parte de la operación de la compañía o portafolio de productos.","Seondo gli obiettivi del questionario, \"scopo\" descrive il perimetro di applicabilità delle informazioni fornite dalla società compilatrice. Il perimetro può comprendere la totalità dei servizi e/o prodotti della societa o, a discrezione dell'azienda, il questionario può essere utilizzato per uno specifico prodotto (o prodotti) o definito dall'utente. La selezione dello scopo \"definito dall'utente\"  può essere utilizzato per descrivere un sottogruppo delle attività della società o del suo portafoglio prodotti.","Bu şablonun amaçları çerçevesinde, “kapsam” ifadesi, bildirimi yapan şirketin sağladığı bilgilerin geçerlilik alanını ifade etmektedir. Kapsam, bir şirketin hizmet ve/veya ürünlerinin tamamını ya da şirketin takdirinde olmak üzere bir kısmını içerebilir, şablon belirli bir ürün (ya da ürünler) hakkında bildirim yapmak için kullanılabilir ya da ‘Kullanıcı tanımlı’ olabilir. ‘Kullanıcı tanımlı’ kapsam seçimi ya da sınıfı, bir şirketin işletim ya da ürün portföyünün herhangi bir alt kümesini açıklamak için kullanılabilir."]
["DefinitionsC8","Definitions","C8","Fluorphlogopite mica, also called synthetic mica, is an artificial mica crystal created through smelting mica crystal. It is a component of plastic-free glitters, lustres and pigments.","合成氟金云母（也称合成云母）是通过熔化云母晶体制成的人造云母晶体。不含塑料闪光、光泽和颜料的成分。","合成マイカとも呼ばれる合成フルオロフロゴパイトは、マイカ結晶を加工して作られる人工マイカ結晶である。 プラスチックを含有しない、キラキラと光沢のある顔料の成分である。","합성 마이카라고도 불리는 플루오르플로고파이트 마이카는 제련 마이카 크리스털로부터 만들어진 인공 마이카 크리스털입니다. 그것은 플라스틱이 없는 글리터, 광택 재료, 안료의 성분입니다.","Le mica fluorphlogopite, également appelé mica synthétique, est un cristal de mica artificiel créé par la fusion du cristal de mica. C’est un composant des paillettes, lustres et pigments sans plastique.","República Democrática do Congo","Demokratische Republik Kongo","Republica Democrática del Congo","Repubblica Democratica del Congo","Demokratik Kongo Cumhuriyeti"]
["DeclarationD2","Declaration","D2","Mica Reporting Template (MRT)","云母报告模板 (MRT)","マイカ報告テンプレート (MRT)","마이카 보고 템플릿(MRT)","Modèle de rapport de MICA (MRT)","Conflict Minerals Reporting Template (CMRT)","Conflict Minerals Reporting Template (CMRT)","Conflict Minerals Reporting Template (CMRT)","Conflict Minerals Reporting Template (CMRT)","Conflict Minerals Reporting Template (CMRT)"]
["DeclarationF3","Declaration","F3","Click here to check required fields completion","点击此处，检查必填字段填写情况","必須欄の記入状況を確認するにはこちらをクリック","필수 항목이 모두 작성되었는지 확인하려면 여기를 클릭하십시오. ","Cliquez ici pour vérifier le remplissage des champs obligatoires","Clique aqui para verificar a conclusão dos campos obrigatórios","Klicken Sie hier, um die Ausfüllung der Pflichtfelder zu bestätigen","Haga clic aquí para revisar la terminación de los campos requeridos","Fare clic qui per controllare il completamento dei campi richiesti","Zorunlu alanların doldurulma düzeyini kontrol etmek için buraya tıklayın"]
["DeclarationI3","Declaration","I3","One (1) or more required fields needs to be populated","需要填写一个 (1) 或多个必填字段","1つ以上の必須欄に記入する必要があります","하나(1) 이상의 필수 항목을 작성해야 합니다. ","Un (1) ou plusieurs champs obligatoires doivent être remplis","Um (1) ou mais campos obrigatórios precisam ser preenchidos","Eines (1) oder mehr Pflichtfelder müssen ausgefüllt werden","Se deben poblar uno (1) o más campos requeridos","Uno (1) o più dei campi richiesti deve essere popolato","Bir (1) veya daha fazla zorunlu alanın doldurulması gerekiyor"]
["DeclarationI4","Declaration","I4","Link to Terms & Conditions","链接至条款和条件","利用規約へのリンク","이용 약관으로 연결되는 링크","Lien vers les Conditions générales","Link para Termos e condições","Link zu den Bedingungen","Enlace a Términos y condiciones","Link a Termini e Condizioni","Şartlar ve Koşullara yönlendiren Bağlantı"]
["DeclarationB4","Declaration","B4","The purpose of this document is to identify Mica related processors and mines.","本文件旨在收集产品中使用的特定原材料（特别是云母）的采购信息。","この文書の目的は、マイカ関連の加工業者と鉱山を特定することです。","본 문서의 목적은 마이카와 관련된 가공공장 및 광산을 식별하기 위함입니다.","Le but de ce document est d’identifier le Mica relié aux fonderies et aux mines.","O Objetivo deste documento é a recolha de informação da origem e fornecedores dos metais  Estanho, Tântalo, Tungsténio e ouro utilizados em produtos.","Der Zweck dieses Dokuments ist die Erfassung von Beschaffungsinformationen für Zinn, Tantal, Wolfram und Gold, welche in Produkten genutzt werden.","El propósito de este documento es recolectar información de la fuente del Estaño, Tantalio, tungsteno y Oro usado en productos","Lo scopo del presente documento è quello di raccogliere le informazioni su stagno, tantalio, tungsteno e oro usati nei prodotti","Bu belge, ürünlerde kullanılan kalay, tantal, tungsten ve altın hakkında kaynak bilgisi toplamayı amaçlamaktadır."]
["DeclarationB6","Declaration","B6","Mandatory fields are noted with an asterisk (*).  Consult the instructions tab for guidance on how to complete this form.","必填字段标记以星号 (*)。参考说明选项卡，获取关于如何完成该表格的指南。","必須項目は（*）で表示。このフォームに必要事項を記入する方法については、「 Instructions」（説明）タブを参照してください。","필수 기재란은 별표(*)로 표시됩니다. 이 양식을 완료하기 위한 방법은 지침 탭을 참조하십시오. ","Les champs obligatoires sont indiqués par un astérisque (*). Consultez l’onglet Instructions pour savoir comment répondre à chaque question, et compléter ce formulaire.","Campos obrigatórios estão marcados com um asterisco (*).  Consulte a guia “Instruções” para ver orientações sobre como responder a esta pergunta.","Pflichtfelder sind mit einem Sternchen (*) gekennzeichnet.  Im Tab „Instruktionen“ finden Sie eine Anleitung zur Beantwortung aller Fragen.","Los campos obligatorios están marcados con un asterisco (*).  Consulte la pestaña de instrucciones para orientación sobre cómo responder a cada pregunta.","I campi obbligatori sono contrassegnati con un asterisco (*).  Consultare la scheda Istruzioni per ottenere informazioni sulle modalità di risposta a ciascuna domanda.","Doldurulması zorunlu alanlar yıldız imi (*) ile gösterilmiştir.  Her bir soruya nasıl yanıt verileceği konusunda bilgi almak için talimatlar sekmesine başvurun."]
["DeclarationB7","Declaration","B7","Company Information (company completing this form)","公司信息（填写本表单的公司）","会社情報（このフォームに必要事項を記入する会社）","회사 정보(회사가 이 양식을 작성합니다)","Informations sur l’entreprise (l’entreprise qui complète ce formulaire)","Informações sobre da Empresa","Firmenangaben","Información de la Empresa","I campi obbligatori sono contrassegnati con (*). Le informazioni raccolte nel presente modulo devono essere aggiornate su base annuale. Qualsiasi modifica occorsa durante l'anno in corso dovrà essere comunicata al vostro cliente","Şirket Bilgileri"]
["DeclarationB8","Declaration","B8","Company Name (*):","公司名称（*）：","会社名(*):","회사 이름 (*):","Nom de l'entreprise (*):","Nome da Empresa (*):","Firmenname (*):","Nombre de la compañía (*):","Denominazione Sociale (*)","Şirket Adı (*):"]
["DeclarationB9","Declaration","B9","Company Unique ID:","公司唯一识别信息： ","会社固有の識別番号:","회사 고유 ID:","Identifiant unique de l'entreprise:","Número único de Identificação da Empresa- Número de Identificação de Pessoa Coletiva (NIPC):","Eindeutige Unternehmenskennung:","Identificador único de la compañía:","Numero di identificazione della società ","Şirket Benzersiz Kimlik Numarası:"]
["DeclarationB10","Declaration","B10","Address:","地址：","住所:","주소:","Adresse:","Endereço","Adresse:","Dirección:","Indirizzo","Adres:"]
["DeclarationB11","Declaration","B11","Contact Name (*):","联系人姓名 (*):","連絡先担当者名(*)","연락 담당자 이름(*):","Nom du contact (*):","Nome de Contacto (*):","Name des Ansprechpartners (*):","Nombre del Contacto (*)","Nome persona di contatto (*):","İrtibat Kişisinin Adı (*):"]
["DeclarationB12","Declaration","B12","Email – Contact (*):","联系人电邮地址 (*):","連絡先担当者の電子メール(*)","이메일 - 연락 담당자(*):","Email du contact (*):","E-mail de Contacto(*):","E-Mail-Adresse des Ansprechpartners (*):","Email-contacto (*)","Email - contatto (*):","E-posta – İrtibat (*):"]
["DeclarationB13","Declaration","B13","Phone – Contact (*):","联系人电话 (*):","連絡先担当者の電話番号(*)","전화 - 연락 담당자(*):","Téléphone du contact (*):","Telefone de Contacto (*):","Telefonnummer des Ansprechpartners (*):","Teléfono-contacto (*)","Telefono - Contatto (*):","Telefon – İrtibat (*):"]
["DeclarationB14","Declaration","B14","Effective Date (*):","授权日期 (*):"," 記入日(*):","발효일자(*):","Date de la déclaration (*):","Data de finalização (*):","Datum (*):","Fecha efectiva (*)","Data di validità (*):","Yürürlük Tarihi (*):"]
[{"$f":"B66&C66","v":"Smelter Look-upB64"},"Smelter Look-up","B64","The following list represents the RMI's latest smelter name/alias information as of this templates release.  This list is updated frequently,  and the most up-to-date version can be found on the RMI website http://www.responsiblemineralsinitiative.org/responsible-minerals-assurance-process/exports/cmt-export/.  The presence of a smelter here is NOT a guarantee that it is currently Active or Conformant within an independent third party audit program.\n\nPlease refer to the RMI web site www.responsiblemineralsinitiative.org for the most current and accurate list of standard smelter names that are Active or Conformant. \n\nNames included in column B represent company names that are commonly recognized and reported by the supply chain for a particular smelter. These names may include former company names, alternate names, abbreviations, or other variations. Although the names may not be the Standard Smelter Name, the reference names are helpful to identify the smelter, which is listed under column C in the Smelter Look-up.\n\nColumn C is the list of the official standard smelter names, in the ASCII character set. The majority of smelters will have the same entry for both columns, however if the common name varies from the standard name, the variation is noted in Column B. ","以下目录是截至此模板发布时 RBA 的最新冶炼厂名称/别名信息。  此目录会适时更新。  冶炼厂存在于此目录中并不保证它就是独立第三方审计计划内的目前有效或合规的冶炼厂。\n\n在 B 列中包括的名称表示供应链对于特定冶炼厂\n通常认可和报告使用的公司名称。这些名称可能包括公司曾用名、备用名称、简称或其他变体。虽然这些名称可能不是标准冶炼厂名称，但参考名称有助于识别列在“冶炼厂查找”中 C 列下的\n冶炼厂。\n\n在 ASCII 字符集中，C 列是正式标准冶炼厂名\n称目录。大多数冶炼厂的这两列具有相同的条目，然而，如果常用名称与标准名称不同，则在 B 列中注明这种变化。","以下の製錬業者リストは、このテンプレートのリリース時点でRBAの最新の製錬業者／別名の情報である。このリストは頻繁に更新される。このリストに製錬業者の名前が掲載されている場合でも、第三者の監査プログラムにおけるアクティブ（Active）又は適合（Conformant）を保証するものではない。\n\nB列に記載されている名前は、特定の製錬業者のサプライチェーンによって一般的に認められており、また報告されている会社名である。これらの名前には、旧社名、別名、略称その他のバリエーションが含まれる。名前はRMI標準製錬業者名ではないかもしれないが、参照名は製錬業者を特定するのに役立つ。製錬業者は、Smelter Look-up（製錬業者検索）のC列に記載されている。\n\nC列は、ASCII文字セットで表す公式の標準製錬業者名のリストである。大多数の製錬業者の名前は両方の列で同一だが、一般名称が正式名と違う場合は、B列にその違いが注記されている。","다음 목록은 이 템플릿의 발표 시점을 기준으로 한 RBA의 최신 제련소 명칭/별칭 정보를 나타냅니다.   이 목록은 자주 업데이트됩니다.   이 목록에 제련소가 포함되어 있다고 해서 해당 제련소가 현재 제3자 독립 감사 프로그램 내에서 활동 중이거나 준수한다고 보장하는 것은 아닙니다. \n\nB열에 포함된 명칭은 특정 제련소에 대한 공급망에 의해 일반적으로 인식 및 보고되는 회사명을 나타냅니다. 이러한 이름에는 이전의 회사명, 대체 명칭, 약어 또는 기타 다른 명칭이 포함될 수 있습니다. 이름이 표준 제련소 명칭이 아닐 수 있지만, 참조 이름은 제련소를 식별하는 데 도움이 되며 제련소 찾기의 C열에 나열되어 있습니다. \n\nC열은 ASCII 문자열로 표시되는 공식 표준 제련소 명칭의 목록입니다. 대다수 제련소들의 명칭이 두 열 모두 동일하지만, 일반 명칭이 표준 명칭과 다를 경우, 다른 명칭이 B열에 표기됩니다. ","La liste suivante représente les dernières informations de la RMI relatives au nom/pseudonyme de la fonderie au moment de la publication de ce modèle.  Cette liste est mise à jour régulièrement et la version la plus à jour peut être consultée sur le site Web de la RMI à l’adresse http://www.conflictfreesourcing.org/conflict-free-smelter-program/exports/cmrt-export/.  La présence d’une fonderie sur cette liste ne garantit PAS que celle-ci est actuellement active ou conforme au Programme des fonderies hors conflits (Conflict Free Smelter Program, RMAP).\n\nVeuillez consulter le site Web de la RMI, www.conflictfreesourcing.org, pour obtenir la liste actualisée et précise de noms des fonderies standard qui sont actives ou conformes. \n\nLes noms figurant dans la colonne B représentent des noms de sociétés généralement reconnues et déclarées par la chaîne d’approvisionnement pour une fonderie particulière. Ces noms peuvent comprendre d’anciens noms de sociétés, d’autres noms, des abréviations ou d’autres variantes. Bien que les noms ne soient pas forcément des noms de fonderies standard de la RMI, les noms de référence peuvent permettre d'identifier la fonderie dans la colonne C de la Recherche de fonderie.\n\nLa colonne C correspond à la liste des noms standard officiels des fonderies, dans le jeu de caractères de la norme ASCII. La plupart des fonderies auront la même entrée pour les deux colonnes ; toutefois, si le nom courant est différent du nom standard, la variation est indiquée dans la colonne B. ","A lista a seguir representa as informações mais recentes da RMI sobre nomes/pseudônimos de fundições no momento da divulgação deste modelo.  Essa lista é atualizada frequentemente e a versão mais atual está disponível no site da RMI, http://www.conflictfreesourcing.org/conflict-free-smelter-program/exports/cmrt-export/.  A presença de uma fundição aqui NÃO é uma garantia de que ela esteja atualmente Ativa ou Em conformidade com o Programa de fundições livres de conflito (Responsible Minerals Assurance Process, RMAP).\n\nConsulte o site da RMI, www.conflictfreesourcing.org, para obter a versão mais recente e precisa da lista de nomes padrão de fundições que estão Ativas ou em Conformidade. \n\nOs nomes na coluna B representam nomes de empresas normalmente reconhecidas e relatadas pela cadeia de suprimentos de uma fundição específica. Estes nomes podem incluir nomes antigos da empresa, nomes alternativos, abreviaturas ou outras variações. Embora os nomes possam não seguir o Nome de Fundição Padrão RMI, os nomes de referência são úteis para identificar a fundição, que está listada na coluna C da Lista de Referência de Fundições.\n\nA coluna C é a lista dos nomes oficiais padrão de fundição, no conjunto de caracteres ASCII. A maioria das fundições terá a mesma entrada em ambas as colunas; no entanto, se o nome comum variar em relação ao nome padrão, a variação será indicada na coluna B. ","Die folgende Liste beruht auf den neuesten Informationen der RMI über Schmelzofennamen/Aliasnamen zum Zeitpunkt der Veröffentlichung dieser Vorlage.  Diese Liste wird regelmäßig aktualisiert. Die aktuellste Version ist auf der RMI-Website zu finden unter http://www.conflictfreesourcing.org/conflict-free-smelter-program/exports/cmrt-export/.  Die Aufführung eines Schmelzofens in dieser Erklärung ist KEINE Garantie, dass dieser gegenwärtig aktiv ist oder das Responsible Minerals Assurance Process einhält.\n\nBitte entnehmen Sie der RMI-Website www.conflictfreesourcing.org die aktuellste und genaueste Liste der Namen von aktiven oder mit dem RMAP konformen Standardschmelzöfen. \n\nNamen in Spalte B stellen allgemein bekannte Firmennamen dar, die der Lieferkette für den jeweiligen Schmelzofen gemeldet werden. Zu diesen Namen können frühere Firmennamen, alternative Namen, Abkürzungen oder sonstige Varianten zählen. Obwohl diese Namen vielleicht nicht den RMI Standard-Schmelzofennamen entsprechen, sind sie für die Identifizierung des Schmelzofens hilfreich, welcher in Spalte C der Schmelzofensuche aufgeführt ist.\n\nSpalte C beinhaltet die Liste der offiziellen Standard-Schmelzofennamen, im ASCII-Zeichensatz. Die Mehrheit von Schmelzöfen hat dieselbe Eintragung für beide Spalten. Wenn jedoch der übliche Name vom Standardnamen abweicht, wird die Abweichung in Spalte B vermerkt. ","La siguiente lista representa la información de RMI (Iniciativa de Suministro Sin Conflicto) actualizada del nombre/alias de la última fundidora a partir de la publicación de la plantilla.  Esta lista se actualiza con frecuencia, y la versión más reciente se encuentra en el sitio de RMI http://www.conflictfreesourcing.org/conflict-free-smelter-program/exports/cmrt-export/.  La presencia de la fundidora en esta parte NO es una garantía de que actualmente se encuentre activa o en cumplimiento con el Programa de Fundidoras Sin Conflictos.\n\nConsulte la página de Internet de la RMI, www.conflictfreesourcing.org, para obtener la lista más actual y exacta de los nombres de fundidoras estándares que se encuentran activas o en cumplimiento. \n\nLos nombres incluidos en la columna B representan nombres de compañías que son comúnmente reconocidas y reportadas por la cadena de suministros de una fundidora en particular. Dichos nombres pueden incluir los nombres anteriores de compañías, nombres alternos, abreviaturas u otras variaciones. Aun cuando los nombres pueden no ser los nombres RMI estándar de la fundidora, los nombres de referencia son útiles para identificar a la fundidora, la cual está en la columna C en la Lista de Referencia de Fundidores.\n\nLa columna C es la lista de los nombres oficiales estándar de fundidoras, en el conjunto de caracteres ASCII. La mayoría de las fundidoras tendrán la misma entrada en ambas columnas; sin embargo, si el nombre común varía del nombre estándar, la variación se observa en la Columna B. ","La seguente lista riporta i dati più recenti relativamente a nomi/alias di RMI a partire dalla pubblicazione di questo modello.  La lista viene aggiornata spesso e la versione più aggiornata è disponibile sul sito web di RMI //www.conflictfreesourcing.org/conflict-free-smelter-program/exports/cmrt-export/.  La presenza di una fonderia NON è garanzia del fatto che essa sia attualmente attiva o conforme ai sensi del Responsible Minerals Assurance Process.\n\nPrego fare riferimento al sito RMI (www.conflictfreesourcing.org) per la versione più aggiornata e accurata dei nomi delle fonderie standard attive o conformi. \n\nI nomi compresi nella colonna B rappresentano i nomi delle aziende che sono comunemente conosciute e segnalate dalla catena logistica per una fonderia specifica. Questi nomi possono includere i nomi di ex aziende, nomi alternativi, abbreviazioni o altre variazioni. Sebbene i nomi possano non essere i Nomi delle fonderie standard di RMI, i nomi di riferimento sono utili all’identificazione della fonderia, che è elencata nella colonna C della Ricerca fonderia.\n\nLa colonna C è un elenco dei nomi delle fonderie standard ufficiali, in caratteri ASCII. La maggioranza delle fonderie avrà lo stesso nome su entrambe le colonne, tuttavia se il nome comune varia rispetto al nome standard, la variazione è annotata nella colonna B. ","Aşağıdaki liste, RMI'nin şablonun yayın tarihi itibariyle en güncel izabe tesisi adı/rumuz bilgilerini içermektedir.  Bu liste sık sık güncellenmektedir ve listenin en güncel sürümü http://www.conflictfreesourcing.org/conflict-free-smelter-program/exports/cmrt-export/ adresindeki RMI web sitesinden bulunabilir.  Bir izabe tesisinin bu listede yer alması, mevcut durumda Aktif olduğu ya da İhtilafsız İzabe Tesisi Programına Uyumlu olduğu anlamına GELMEZ.\n\nAktif veya Uyumlu standart izabe tesisi adlarının en güncel ve en doğru listesi için lütfen RMI web sitesine başvurun: www.conflictfreesourcing.org \n\nB sütununda bulunan adlar, belirli bir izabe tesisi için tedarik zinciri tarafından sıklıkla tanınan ve bildirilen şirket adlarının listesini içerir. Bu adlar, eski şirket adları, alternatif adlar, kısaltmalar veya diğer değişik biçimleri kapsayabilir. Her ne kadar adlar RMI Standart İzabe Tesisi adı aynı olmasa da, İzabe Tesisi Arama Listesinde verilen adlar izabe tesisinin tanımlanması için faydalı olacaktır.\n\nC sütunu, ASCII karakter kümesinde resmi standart izabe tesisi adlarının listesini içerir. İzabe tesislerinin büyük bir çoğunluğunda her iki sütunda da aynı değer görülecektir ancak genel adın standart addan farklı olduğu durumlar B sütununda belirtilmektedir. "]
["Smelter Look-upB65","Smelter Look-up","B65","Metal",null,"金属","금속","Métal","Metal","Metall","Metal","Metallo","Metal"]
["Smelter Look-upB66","Smelter Look-up","B66","Smelter Look-up (*)","冶炼厂查找 (*)","Smelter Look-Up（製錬業者名検索）（*）","제련소 찾기(*)","Recherche de fonderie (*)","Lista de Referência de Fundições (*)","Schmelzofensuche (*)","Búsqueda de fundidora (*)","Ricerca fonderia (*)","İzabe Tesisi Arama (*)"]
["Smelter Look-up","Smelter Look-up",null,"Known alias",null,"既知の別名","알려진 별칭","Alias connus","Pseudônimos conhecidos","Bekannt als","Alias conocidos","alias noti/conosciuti","Bilinen rumuz"]
["Smelter Look-upC4","Smelter Look-up","C4","Standard Smelter Names","在 B 列中包括的名称表示供应链对于特定冶炼厂通常认可和报告使用的公司名称。这些名称可能包括公司曾用名、备用名称、简称、或其他变体。虽然这些名称可能不是 RMI 标准冶炼厂名称，但参考名称有助于识别冶炼厂，该冶炼厂列在冶炼厂参考列表中的 C 列下。","標準製錬業者名","표준 제련소 명칭","Noms standard des fonderies","Nomes estandardizados de Fundições","Standard Schmelzhütten Namen","Nombres estándar del fundidor","Nomi delle fonderie comuni","Standart İzabe Tesisi Adları"]
["Smelter Look-upD4","Smelter Look-up","D4","Smelter Facility Location: Country",null,"製錬施設所在地：国","제련소 시설 위치: 국가","Localisation de la fonderie : pays ","Localização da Unidade de Fundição: País","Schmelzhütte: Land","Localización de la fabrica de fundición: País ","Localizzazione della Fonderia: Paese","İzabe Tesisi Konumu: Ülke"]
["Smelter Look-upE4","Smelter Look-up","E4","Smelter ID","冶炼厂 ID","製錬業者ID","제련소 ID","Identifiant fonderie","ID da Fundição","Schmelzofen-ID","Identificador de fundidora","ID fonderia","İzabe Tesisi Kimliği"]
["Smelter Look-upF4","Smelter Look-up","F4","Source of Smelter Identification Number","冶炼厂出处识别号","製錬業者識別番号の発行元","제련소 조달 식별 번호","Type de l'identifiant de la fonderie","Número de Identificação da Fundição","Quelle der Schmelzhütte Id-Nummer","Numero de identificación de la fuente del fundidor","Origine del codice identificativo della fonderia","İzabe Tesisi Tanımlama Numarası Kaynağı"]
["Smelter Look-upG4","Smelter Look-up","G4","Smelter Street ","冶炼工厂地址（街道）","製錬業者所在地：番地","제련소 도로명 ","Localisation de la fonderie : Rue et Numéro","Rua da Fundição","Schmelzhütten: Straße","Calle del fundidor (*)","Indirizzo Fonderia (*)","İzabe Tesisinin Bulunduğu Cadde "]
["Smelter Look-upH4","Smelter Look-up","H4","Smelter City","冶炼工厂地址（城市）","製錬業者所在地：市","제련소 도시","Localisation de la fonderie : Ville","Cidade da Fundição","Schmelzhütten: Stadt","Ciudad del fundidor(*)","Città Fonderia (*)","İzabe Tesisinin Bulunduğu Şehir"]
["Smelter Look-upI4","Smelter Look-up","I4","Smelter Facility Location: State / Province","冶炼工厂地址（州/省）","製錬施設所在地：州／県","제련소 시설 위치: 시/도","Localisation de la fonderie : Etat / Province","Localização da Unidade de Fundição: Estado/ Província","Schmelzhütten: Bundesland/Provinz","Localización de la fabrica de fundición: Estado/Provincia","Localizzazione della Fonderia: Stato / Provincia","İzabe Tesisi Konumu: Eyalet/İl"]
["Smelter ListA4","Smelter List","A4","Processor Name (*)","精炼厂名称 (*)","加工業者名  (*)\n","광물가공업체 이름 (*)","Nom de la fonderie (*)","Coluna de entrada do número de identificação da fundição","Eingabespalte Schmelzofenidentifizierungsnummer ","Columna para ingresar el número de identificación del fundidor","Colonna di immissione numero di identificazione fonderia","İzabe Tesisi Tanımlama Numarası Giriş Sütunu"]
["Smelter ListB4","Smelter List","B4","Metal (*)","金属 l (*)","金属 (*)","금속(*)","Métal (*)","Metal (*)","Metall (1)","Metal (*)","Metalli (*)","Metal  (*)"]
["Smelter ListC4","Smelter List","C4","Smelter Look-up (*)","冶炼厂查找 (*)","Smelter Look-Up（製錬業者名検索）（*）","제련소 찾기(*)","Recherche de fonderie (*)","Lista de Referência de Fundições (*)","Schmelzofensuche (*)","Búsqueda de fundidora (*)","Ricerca fonderia (*)","İzabe Tesisi Arama (*)"]
["Smelter ListD4","Smelter List","D4","Standard Processor Name (Official Name)","标准精炼厂名称（官方名称）","標準加工業者名（正式名）\n","표준 광물가공업체 이름(공식 명칭)","Nom de la fonderie standard (Nom officiel)","Nome de Fundição (1)","Schmelzofenname (1)","Nombre de la fundidora (1)","Nome della fonderia (1)","İzabe Tesisi Adı (1)"]
["Smelter ListE4","Smelter List","E4","Processor Country (*)","精炼厂国家 (*)","加工業者所在地：国 (*)","광물가공업체 국가(*)","Localisation de la fonderie : Pays (*)","País da Fundição (*)","Schmelzhütten: Land (*)","País del fundidor (*)","Paese Fonderia (*)","İzabe Tesisinin Bulunduğu Ülke (*)"]
[{"$f":"B82&C82","v":"Smelter ListF4"},"Smelter List","F4","Processor ID (if assigned)","精炼厂 ID（如已分配）","加工業者識別番号（割り当て済みの場合）","광물가공업체 식별 ID(할당된 경우만 해당)","Identifiant de la fonderie (si indiqué)"]
["Smelter ListG4","Smelter List","G4","Source of Processor ID Number","精炼厂 ID 编号","加工業者識別番号の発行元","광물가공업체 식별 ID 번호의 출처","Source de l’identifiant de la fonderie"]
["Smelter ListH4","Smelter List","H4","Processor Street ","精炼厂街道","加工業者所在地：番地","광물가공업체 거리","Rue de la fonderie","Rua da Fundição","Schmelzhütten: Straße","Calle del fundidor (*)","Indirizzo Fonderia (*)","İzabe Tesisinin Bulunduğu Cadde "]
["Smelter ListI4","Smelter List","I4","Processor City","精炼厂城市","加工業者所在地：市","광물가공업체 도시","Ville de la fonderie","Cidade da Fundição","Schmelzhütten: Stadt","Ciudad del fundidor(*)","Città Fonderia (*)","İzabe Tesisinin Bulunduğu Şehir"]
["Smelter ListJ4","Smelter List","J4","Processor State / Province","精炼厂省/市/自治区/直辖市","加工施設所在地：州/県","광물가공업체 시설 위치: 시/도","Localisation de la fonderie : État/Province","Localização da Unidade de Fundição: Estado/ Província","Schmelzhütten: Bundesland/Provinz","Localización de la fabrica de fundición: Estado/Provincia","Localizzazione della Fonderia: Stato / Provincia","İzabe Tesisi Konumu: Eyalet/İl"]
["Smelter ListK4","Smelter List","K4","Processor Contact Name","精炼厂联系人姓名","加工業者連絡先担当者名","광물가공업체 문의 담당자 이름","Nom du contact de la fonderie","Nome de Contacto na fundição","Schmelzhütten-Ansprechpartner: Name ","Nombre del contacto en la fabrica del fundidor","Nome del riferimento della fonderia (*)","İzabe Tesisi İrtibat Kişisinin Adı"]
["Smelter ListL4","Smelter List","L4","Processor Contact Email","精炼厂联系人电子邮件地址","加工業者連絡先電子メール","광물가공업체 문의 담당자 이메일","Email du contact de la fonderie","Email de Contacto na fundição","Schmelzhütten-Ansprechpartner: E-mail","Email de contacto en la fabrica del fundidor","Email del riferimento della fonderia (*)","İzabe Tesisi İrtibat Kişisinin E-posta Adresi"]
["Smelter ListM4","Smelter List","M4","Processor Contact Phone Number","精炼厂联系人电话号码","加工業者連絡先電話番号","광물가공업체 문의 담당자 전화번호","Numéro de téléphone de la personne de contact de la fonderie","Próximos passos propostos","Vorgeschlagenen nächsten Schritte","Siguientes pasos propuestos","Prossimi passi proposti","Sonrası için önerilen adımlar"]
["Smelter ListN4","Smelter List","N4","Name of Mine(s) supplying the Processor or if synthetic mica, enter \"synthetic\"","所有提供精炼的矿井名称，或如为合成云母，输入“合成”","加工業者に供給する鉱山の名前を記入。合成マイカを使用している場合は「synthetic」（合成）と記入","광물가공업체에 공급하는 광업소 이름, 또는 합성 마이카의 경우 \"synthetic(합성)\"을 입력하십시오.","Nom des Mine(s) qui fournissent la fonderie, ou s’il s’agit de mica synthétique, entrez « synthétique »","Nome da(s) Mina(s) ou caso seja de fonte de material reciclado ou desperdício, inserir \"reciclado\" ou \"desperdício\"","Name der Mine(n) oder falls aus Recycling oder Schrott, tragen Sie \"recycled\" oder \"Schrott\" ein","Nombre de la mina(s) o si es reciclado o proviene de desecho, mencione \" reciclado\" o \"desecho\"","Nome della miniera(e) o se riciclato o provenienti da scorie, dichiarare/scrivere riciclato o scorie","Maden(ler)in Adları veya geri dönüşüm ya da hurda kaynaklı ise “geri dönüştürülmüş” ya da “hurda” girdisi"]
["Smelter ListO4","Smelter List","O4","Location (Country) of Mine(s) or if synthetic mica, enter \"synthetic\"","矿井所在的国家名称，或如为合成云母，输入“合成”","鉱山の所在地（国）を記入。合成マイカを使用している場合は「synthetic」（合成）と記入","광업소의 위치(국가)를 입력하거나,또는 합성 마이카의 경우 \"synthetic(합성)\"을 입력하십시오.","Localisation (Pays) des Mine(s) ou s’il s’agit de mica synthétique, entrez « synthétique »","Localização (País) da(s) mina(s), ou caso seja de fonte de material reciclado ou desperdício, inserir \"reciclado\" ou \"desperdício\"","Standort (Land) von Minen, falls aus Recycling oder Schrott gekauft, geben Sie \"recycled\" oder \"Schrott\" ein","Localización (país) de la mina(s) o si es reciclado o proviene de desecho, mencione \"reciclado\" o \"desecho\"","Localizzazione (Paese) della miniera (e) o se riciclato o preveniente da scorie, dichiarare/scrivere riciclato o scorie","Maden(ler)in Konumu (Ülke) veya geri dönüşüm ya da hurda kaynaklı ise “geri dönüştürülmüş” ya da “hurda” girdisi"]
[{"$f":"B92&C92","v":"Smelter ListP4"},"Smelter List","P4","Does some (or all) of the Processor input originate from artisanal or small scale mining?","源自手工或小规模采矿部分（全部）精炼厂输入？","加工業者がプロセスに投入する原料の一部（または全部）は零細又は小規模採掘から調達していますか？","광물가공업체의 투입물 일부 또는 전체가 영세 또는 소규모 광업소에서 공급된 것입니까? ","Est-ce qu’une partie (ou la totalité) de la matière première de la fonderie provient de l’exploitation minière artisanale ou à petite échelle ?"]
["Smelter ListQ4","Smelter List","Q4","Does 100% of the smelter’s feedstock originate from synthetic sources?","冶炼厂的被冶炼物料 100% 完全来自合成吗？","加工業者の原料は、すべて合成原料ですか？","광물가공업체의 공급 원료의 100%가 합성 원료에서 유래한 것입니까?","\r\n100 % des matières premières utilisées par la fonderie proviennent-elles de sources synthétiques ?","Tem 100% da matéria prima origem em fontes de reciclagem ou desperdício?","Stammen 100% der Ausgangsstoffe der Schmelzhütte aus Recycling oder Schrott?","El 100 % de la materia prima del fundidor proviene de alguna fuente de reciclado o deshecho?","Il 100% delle materie prime della fonderia provengono da riciclato o da scorie?","İzabe tesisinin hammaddeleri %100 oranda geri dönüşüm veya hurda kaynaklarından mı geliyor?"]
["Smelter ListR4","Smelter List","R4","Comments","注释","備考","의견","Commentaires","Comentários","Kommentare","Comentarios","Commenti","Açıklamalar"]
["Smelter ListJ2","Smelter List","J2","Link to \"RMAP Conformant Smelter List\"","链接至“RMAP 合规冶炼厂目录”","「RMAP適合製錬業者リスト」へのリンク","\"RMAP 준수 제련소 목록\"의 링크","Lien vers la liste des fonderies conformes au programme RMAP (« RMAP Conformant Smelter List »)","Link para a \"Lista de Fundições cumpridoras do CFS\"","Link zur \"CFS Conformant Smelter\"- Liste","Liga a \" lista de fundidores que cumplen con RMAP\"","Riferimento a \"CFS Conformant Smelter List\"","\"RMAP Uyumlu İzabe Tesisi Listesi\" bağlantısı"]
["Smelter ListB2","Smelter List","B2","TO BEGIN:","首先：","開始するには\n","시작하려면:","POUR COMMENCER :","PARA INICIAR:","UM ZU BEGINNEN:","PARA COMENZAR:","PER INIZIARE:\n","BAŞLAMAK İÇİN:\n"]
[{"$f":"B97&C97","v":"Smelter ListD3"},"Smelter List","D3","Mandatory fields are noted with an asterisk (*).  Consult the instructions tab for guidance on completing this form.","必填字段标记为星号 (*)。参考说明选项卡，获取关于如何完成本表单的指南。","必須欄は（*）で表示。このフォームに必要事項を記入する方法については、「 instructions」（説明）タブを参照してください。","필수 기재란은 별표(*)로 표시됩니다. 본 양식을 작성하는 방법은 지침 탭을 참조하십시오. ","Les champs obligatoires sont indiqués par un astérisque (*). Consultez l’onglet Instructions pour vous guider dans la manière de remplir ce formulaire.","\nOpção A: Se souber o número de identificação de fundição, coloque-o na coluna A (as colunas B, C, E, F, G, I, e J são de preenchimento automático); D estará bloqueada.\n\nOpção B:  Se tiver uma combinação de nomes da Lista de Referência de Fundições e Metal, execute as seguintes etapas:\nEtapa 1. Selecione Metal na coluna B\nEtapa 2. Selecione da lista suspensa na coluna C\n\nOpção C: Se tiver uma combinação de nomes de fundições e metal, conclua as seguintes etapas:\nEtapa 1. Selecione Metal na coluna B\nEtapa 2: Selecione “Fundição não faz parte da lista” no menu suspenso Lista de Referência de Fundições e complete as colunas D e E\nEtapa 3. Digite todas as informações disponíveis da fundição nas colunas H até Q\n\n(*) Os campos obrigatórios estão marcados com um asterisco.\n(1) Entrada requerida quando a Lista de Referência de Fundições = “Fundição não faz parte da lista”\n\nOBSERVAÇÃO: É possível usar uma combinação das Opções A, B e C para preencher a guia Lista de fundições.  Não altere as células de preenchimento automático.  Todos os erros na Lista de Referência de Fundições devem ser relatados à RMI pelo e-mail RMI@ResponsibleBusiness.org.","\nOption A: Wenn Sie die Schmelzofenidentifizierungsnummer kennen, geben Sie die Nummer in Spalte A ein (Spalten B, C, E, F, G, I, und J füllen sich automatisch aus); D graut aus.\n\nOption B:  Falls Sie eine Metall- und Schmelzofen-Suchnamenkombination haben, führen Sie die folgenden Schritte aus:\nSchritt 1. Wählen Sie das Metall in Spalte Baus.\nSchritt 2. Wählen Sie aus dem Dropdown-Menü in Spalte C\n\nOption C: Falls Sie eine Metall- und Schmelzofen-Namenkombination haben, führen Sie die folgenden Schritte aus:\nSchritt 1. Wählen Sie das Metall in Spalte Baus.\nSchritt 2: Wählen Sie „Schmelzofen nicht aufgeführt“ aus dem Drop-down-Menü der Schmelzofensuche aus und vervollständigen Sie die Spalten D und E\nSchritt 3. Geben Sie alle verfügbaren Schmelzofeninformationen in die Spalten H bis Q ein\n\n(*) Pflichtfelder sind mit einem Sternchen gekennzeichnet.\n(1) Eingabe erforderlich falls Schmelzofensuche = „Schmelzofen nicht aufgeführt“\n\nHINWEIS: Eine Kombination der Optionen A, B und C kann zur Vervollständigung der Schmelzofenliste verwendet werden.  Ändern Sie keine automatisch ausgefüllten Felder.  Alle Fehler in der Schmelzofensuche sollten über RMI@ResponsibleBusiness.org an CSFI gemeldet werden.","\nOpción A: Si conoce el número de identificación de la fundidora, ingréselo en la columna A (las columnas B, C, E, F, G, I y J se llenarán automáticamente); la columna D cambiará a color gris.\n\nOpción B:  Si tiene un nombre combinado de metales y fundidoras, siga los pasos a continuación:\nPaso 1. Seleccione Metal en la columna B.\nPaso 2. Seleccione una opción de la lista desplegable de la columna C.\n\nOpción C: Si tiene un nombre combinado de metales y fundidoras, siga los pasos a continuación:\nPaso 1. Seleccione Metal en la columna B.\nPaso 2: Seleccione \"Fundidora no está en la lista\" en el menú desplegable y llene las columnas D y E\nPaso 3. Ingrese toda la información disponible sobre la fundidora en las columnas H a Q\n\nLos campos obligatorios están marcados con un asterisco (*).\n(1) Campo requerido para la búsqueda de fundidoras = \"Fundidora no está en la lista\"\n\nNOTA: Se puede usar una combinación de las Opciones A, B y C para completar la pestaña Lista de fundidoras.  No haga cambios en las celdas que se llenan automáticamente.  Todos los errores en la pestaña de búsqueda de fundidoras deberán reportarse a RMI enviando un correo electrónico a RMI@ResponsibleBusiness.org.","\nOpzione A: Se si dispone del numero di identificazione della fonderia, immetterlo nella colonna A (le colonne B, C, E, F, G, I, e J verranno popolate automaticamente); la colonna D sarà disabilitata.\n\nOpzione B:  Se si dispone della combinazione di nomi per la ricerca del metallo e della fonderia, procedere come indicato di seguito:\nFase 1. Selezionare il metallo nella colonna B\nFase 2. Selezionare dal menu a tendina nella colonna C \n\nOpzione C: Se si dispone della combinazione di nomi per la ricerca del metallo e della fonderia, procedere come indicato di seguito:\nFase 1. Selezionare il metallo nella colonna B\nFase 2. Selezionare \"Fonderia non elencata\" nel menu a tendina della Ricerca fonderia e completare le colonne D & E\nFase 3. Inserire tutti i dati disponibili sulla fonderia nelle colonne da H a Q\n\n(*) I campi obbligatori sono contrassegnati con un asterisco.\n(1) Voce richiesta se la Ricerca fonderia = \"Fonderia non elencata\"\n\nNOTA: Per completare la scheda della lista delle fonderie è possibile utilizzare una combinazione delle Opzioni A e B.  Non modificare le celle popolate automaticamente.  Tutti gli errori presenti nella scheda Ricerca fonderia devono essere segnalati alla RMI tramite l’indirizzo e-mail RMI@ResponsibleBusiness.org.","\nA Seçeneği: İzabe Tesisi Tanımlama Numarasını biliyorsanız, numarayı A sütununa (B, C, E, F, G, I ve J sütunları otomatik olarak doldurulur) girin; D sütunu açık gri olur.\n\nB Seçeneği:  Metal ve İzabe Tesisi Arama Listesi ad kombinasyonuna sahipseniz, aşağıdaki adımları tamamlayın:\n1. Adım: B sütununda Metal ögesini seçin\n2. Adım: C sütunundaki açılır menüden seçim yapın \n\nC Seçeneği: Metal ve İzabe Tesisi Adı kombinasyonuna sahipseniz, aşağıdaki adımları tamamlayın:\n1. Adım: B sütununda Metal ögesini seçin\n2. Adım: İzabe Tesisi Arama açılır menüsünden \"İzabe Tesisi Listelenmemiş\"i seçin ve D ve E sütunlarını doldurun\n3. Adım: Elinizdeki tüm izabe tesisi bilgilerini H ila Q sütunlarına girin\n\nDoldurulması zorunlu alanlar yıldız imi (*) ile gösterilmiştir.\n(1) İzabe Tesisi Arama = \"İzabe Tesisi Listelenmemiş\" olduğunda giriş gerekir\n\nNOT: İzabe Tesisi Listesi sekmesini doldurmak için, A, B ve C seçeneklerinin bir kombinasyonu kullanılabilir.  Otomatik doldurulan hücreleri değiştirmeyin.  İzabe Tesisi Arama sekmesinde görülen tüm hatalar RMI@ResponsibleBusiness.org adresi yoluyla iletişim kurularak RMI'ya bildirilmelidir."]
["Smelter ListAH5","Smelter List","AH5","Yes","是","はい","예","Oui","Sim","Ja","Si","sì","Evet"]
["Smelter ListAH6","Smelter List","AH6","No","否","いいえ","아니요","No","Não","Nein","No","no","Hayır"]
["Smelter ListAH7","Smelter List","AH7","Unknown","不知道","不明","모름","Inconnu","Desconhecido","Nicht bekannt","Desconocido","Ignoto","Bilinmiyor"]
["CheckerA1","Checker","A1","To ensure all required fields have been populated before submitting to your customers review form for any line items highlighted in red","在提交报告给客户检查本报告红色提示内容前， 请确保所有必填栏目已填写完成。","顧客に回答を提出する前に、赤で表示されている必須項目について、すべて記入されているかを確認してください。","고객에게 제출하기 전에 모든 필수 항목이 입력되었는지 확인하려면 빨간색으로 강조 표시된 모든 줄의 품목에 대해 양식을 검토하십시오. ","Afin de s'assurer que tous les champs obligatoires ont été complétés avant de soumettre le document à vos clients, merci de vérifier tous les champs surlignés en rouge","Para garantir que todos os campos obrigatórios foram replicados antes de submeter o relatório aos clientes, rever todas as linhas  que aparecem a vermelho.","Um sicherzustellen, dass alle erforderlichen Felder vor dem Versand an ihren Kunden ausgefüllt sind, alle rot markierten Felder beachten.","Para asegurase que todos los campos requeridos han sido llenados antes de enviarlos al cliente revise la forma si contiene cualquier cosa marcada en rojo","Al fine di assicurarsi che tutti campi siano stati compilati, prima di inviare il questionario al cliente, verificare tutti i campi evidenziati in rosso","Müşterilerinize göndermeden önce tüm zorunlu alanların doldurulduğundan emin olun. Kırmızı renkle vurgulanmış olan satır öğelerinin bulunup bulunmadığını inceleyin."]
["CheckerD1","Checker","D1","Required fields remaining to be completed","待完成的必填栏目","未記入の必須項目があります","남아 있는 완료할 필수 항목","Champs obligatoires non complétés","Campos obrigatórios por completar","Erforderliche Felder bitte vervollständigen.","Los restantes campos requeridos debe ser completados","Campi obbligatori ancora da completare","Doldurulması gereken zorunlu alanlar"]
["CheckerA3","Checker","A3","Required Fields","必填栏目","必須項目","필수 항목","Champs obligatoires","Campos Obrigatórios","Erforderliche Felder","Campos requeridos","Campi obbligatori","Zorunlu Alanlar"]
["CheckerB3","Checker","B3","Answer provided","已提供的答案","回答","답변 작성함","Réponse fournie","Resposta fornecida","Antwort ist vorhanden","Respuestas requeridos","Risposta fornita","Yanıt verildi"]
["CheckerC3","Checker","C3","Notes","备注","注","참고","Remarques","Notas","Notizen","Notas","Note","Notlar"]
["CheckerD3","Checker","D3","Hyperlink to source","信息源链接","該当箇所へのリンク","출처 하이퍼링크","Lien au document d'origine","Link para a fonte","Hyperlink zum Ursprung","Origen de Hipervínculo","Collegamento ipertestuale alla fonte ","Kaynağa giden köprü bağlantı"]
["CheckerB62","Checker","B62","No smelter names provided on Smelter List tab","在“冶炼厂目录”选项卡中未提供冶炼厂名称","製錬業者リスト（Smelter List）タブに製錬業者名が記入されていない","제련소 목록(Smelter List) 탭에 제련소 명칭이 없습니다. ","Aucun nom de fonderie indiqué sur l'onglet Liste de fonderies","Nenhum nome de fundição fornecido na guia Lista de fundições","Keine Schmelzofennamen auf dem Reiter „Schmelzofenliste“ bereitgestellt","No hay nombres de fundidores en la pestaña Smelter List (Lista de fundidores)","Non ci sono nomi di fonderie forniti nella scheda della Lista delle Fonderie","İzabe Listesi sekmesinde herhangi bir izabe listesi adı verilmedi"]
["CheckerB63","Checker","B63","No smelter names provided on Smelter List tab","在“冶炼厂目录”选项卡中未提供冶炼厂名称","製錬業者リスト（Smelter List）タブに製錬業者名が記入されていない","제련소 목록(Smelter List) 탭에 제련소 명칭이 없습니다. ","Aucun nom de fonderie indiqué sur l'onglet Liste de fonderies","Nenhum nome de fundição fornecido na guia Lista de fundições","Keine Schmelzofennamen auf dem Reiter „Schmelzofenliste“ bereitgestellt","No hay nombres de fundidores en la pestaña Smelter List (Lista de fundidores)","Non ci sono nomi di fonderie forniti nella scheda della Lista delle Fonderie","İzabe Listesi sekmesinde herhangi bir izabe listesi adı verilmedi"]
["CheckerB64","Checker","B64","No smelter names provided on Smelter List tab","在“冶炼厂目录”选项卡中未提供冶炼厂名称","製錬業者リスト（Smelter List）タブに製錬業者名が記入されていない","제련소 목록(Smelter List) 탭에 제련소 명칭이 없습니다. ","Aucun nom de fonderie indiqué sur l'onglet Liste de fonderies","Nenhum nome de fundição fornecido na guia Lista de fundições","Keine Schmelzofennamen auf dem Reiter „Schmelzofenliste“ bereitgestellt","No hay nombres de fundidores en la pestaña Smelter List (Lista de fundidores)","Non ci sono nomi di fonderie forniti nella scheda della Lista delle Fonderie","İzabe Listesi sekmesinde herhangi bir izabe listesi adı verilmedi"]
["CheckerB65","Checker","B65","No smelter names provided on Smelter List tab","在“冶炼厂目录”选项卡中未提供冶炼厂名称","製錬業者リスト（Smelter List）タブに製錬業者名が記入されていない","제련소 목록(Smelter List) 탭에 제련소 명칭이 없습니다. ","Aucun nom de fonderie indiqué sur l'onglet Liste de fonderies","Nenhum nome de fundição fornecido na guia Lista de fundições","Keine Schmelzofennamen auf dem Reiter „Schmelzofenliste“ bereitgestellt","No hay nombres de fundidores en la pestaña Smelter List (Lista de fundidores)","Non ci sono nomi di fonderie forniti nella scheda della Lista delle Fonderie","İzabe Listesi sekmesinde herhangi bir izabe listesi adı verilmedi"]
["CheckerCOMP","Checker","COMP","Complete","填写","記入済","완료","Complétez","Concluído","Vollständig","Complete","Completare","Doldurun"]
["CheckerJ4","Checker","J4","Provide your company name on the Declaration tab cell D8","在“申报”选项卡 D8 单元格中提供您的公司名称","「申告（Declaration）」タブのD8セルに貴社名を記入してください","신고(Declaration) 탭의 D8 셀에 회사 명칭을 제공하십시오. ","Indiquez le nom de votre entreprise dans la cellule D8 de l'onglet Déclaration ","Forneça o nome de sua empresa na célula D8 da guia Declaração","Geben Sie den Namen Ihres Unternehmens in der Reiterzelle D8 der Erklärung an","Proporcione el nombre de su compañía en la pestaña Declaration (Declaración), celda D8","Fornire il nome della propria società nella cella D8 della scheda della Dichiarazione","Şirketinizin adını Beyan sekmesi hücre D8'de belirtin."]
["CheckerJ5","Checker","J5","Select the scope of declaration on the Declaration tab cell D9","在“申报”选项卡 D9 单元格中选择申报范围","「申告（Declaration）」タブのD9セルで申告範囲を選択してください","신고(Declaration) 탭의 D9 셀에서 신고 범위를 선택하십시오. ","Sélectionnez le champ d'application de la déclaration dans la cellule D9 de l'onglet Déclaration ","Selecione o âmbito da declaração na célula D9 da guia Declaração","Wählen Sie den Umfang der Erklärung in der Reiterzelle D9 der Erklärung aus","Seleccione el enfoque de la declaración en la pestaña Declaration (Declaración), celda D9","Selezionare l'ambito della dichiarazione nella cella D9 della scheda della Dichiarazione","Beyan kapsamını Beyan sekmesi hücre D9'da belirtin."]
["CheckerJ6","Checker","J6","Provide description of scope on Declaration tab cell D10","在“申报”选项卡 D10 单元格中提供范围说明","「申告（Declaration）」タブのD10セルに申告範囲の説明を記入してください","신고(Declaration) 탭의 D10 셀에 범위 설명을 제공하십시오. ","Saisissez une description du champ d'application dans la cellule D10 de l'onglet Déclaration ","Forneça a descrição do âmbito na célula D10 da guia Declaração","Geben Sie eine Beschreibung des Umfangs in der Reiterzelle D10 der Erklärung an","Proporcione una descripción del enfoque en la pestaña Declaration (Declaración), celda D10","Fornire la descrizione dell'ambito nella cella D10 della scheda della Dichiarazione","Kapsam açıklamasını Beyan sekmesi hücre D10'da belirtin."]
["CheckerJ7","Checker","J7","Provide contact name in Declaration tab cell D15","在“申报”选项卡 D15 单元格中提供联系人姓名","「申告（Declaration）」タブのD15セルに連絡先担当者名を記入してください","신고(Declaration) 탭의 D15 셀에 담당자 이름을 제공하십시오. ","Saisissez le nom de contact dans la cellule D15 de l'onglet Déclaration","Forneça o nome do contato na célula D15 da guia Declaração","Geben Sie einen Kontaktnamen in der Reiterzelle D15 der Erklärung an","Proporcione el nombre del contacto en la pestaña Declaration (Declaración), celda D15","Fornire il nome di contatto nella cella D15 della scheda della Dichiarazione","İrtibat kişisi adını Beyan sekmesi hücre D15'te belirtin."]
["CheckerJ8","Checker","J8","Provide a valid email for contact in Declaration tab cell D16","在“申报”选项卡 D16 单元格中提供联系人有效的电子邮件地址","「申告（Declaration）」タブのD16セルに連絡先担当者の有効な電子メールを記入してください","신고(Declaration) 탭의 D16 셀에 올바른 담당자 이메일을 입력하십시오. ","Saisissez une adresse e-mail de contact valide dans la cellule D16 de l’onglet Déclaration","Forneça um e-mail válido para contato na célula D16 da guia Declaração","Geben Sie eine gültige Kontakt-E-Mail-Adresse in der Reiterzelle D16 der Erklärung an","Proporcione un correo electrónico válido del contacto en la pestaña Declaration (Declaración), celda D16","Fornire un’email di contatto valida nella cella D16 della scheda della Dichiarazione","İrtibat kişisi için geçerli bir e-posta adresini Beyan sekmesi hücre D16’da belirtin."]
["CheckerJ9","Checker","J9","Provide a phone number for contact in Declaration tab cell D17","在“申报”选项卡 D17 单元格中提供联系人的电话号码","「申告（Declaration）」タブのD17セルに連絡先担当者の電話番号を記入してください","신고(Declaration) 탭의 D17 셀에 담당자 전화 번호를 제공하십시오. ","Saisissez un numéro de téléphone de contact dans la cellule D17 de l'onglet Déclaration","Forneça um número de telefone para contato na célula D17 da guia Declaração","Geben Sie eine Kontakttelefonnummer in der Reiterzelle D17 der Erklärung an","Proporcione el teléfono del contacto en la pestaña Declaration (Declaración), celda D17","Fornire un numero di telefono di contatto nella cella D17 della scheda della Dichiarazione","İrtibat kişisi telefon numarasını Beyan sekmesi hücre D17'de belirtin."]
["CheckerJ10","Checker","J10","Provide authorized company representative contact name in Declaration tab cell D18","在“申报”选项卡 D18 单元格中提供授权公司代表联系人姓名","「申告（Declaration）」タブのD18セルに会社から正式に認められた代表者の連絡先担当者名を記入してください","신고(Declaration) 탭의 D18 셀에 회사 대표 정보책임 담당자 이름을 제공하십시오. ","Saisissez le nom de contact du représentant agréé de l'entreprise dans la cellule D18 de l'onglet Déclaration","Forneça o nome de contato do representante autorizado pela empresa na célula D18 da guia Declaração","Geben Sie den Kontaktnamen eines bevollmächtigten Unternehmensvertreters in der Reiterzelle D18 der Erklärung an","Proporcione el nombre de contacto del representante autorizado de la compañía en la pestaña Declaration (Declaración), celda D18","Fornire il nome di contatto del rappresentante della società autorizzata nella cella D18 della scheda della Dichiarazione","Beyan sekmesinde, hücre D18'e yetkili şirket temsilcisinin adını ekleyin."]
["CheckerJ11","Checker","J11","Provide an email for authorized company representative on Declaration tab cell D20","在“申报”选项卡 D20 单元格中提供授权公司代表的有效的电子邮件地址","「申告（Declaration）」タブのD20セルに会社から正式に認められた代表者の有効な電子メールを記入してください","신고(Declaration) 탭의 D20 셀에 회사 대표 정보책임 담당자 이메일을 제공하십시오. ","Saisissez une adresse e-mail valide du représentant agréé de la société dans la cellule D20 de l’onglet Déclaration","Forneça um e-mail válido do representante autorizado da empresa na célula D20 da guia Declaração\n","Geben Sie eine gültige E-Mail-Adresse eines bevollmächtigten Unternehmensvertreters in der Reiterzelle D20 der Erklärung an","Proporcione un correo electrónico válido del representante autorizado de la compañía en la pestaña Declaration (Declaración), celda D20","Fornire un’email valida del rappresentante della società autorizzata nella cella D20 della scheda della Dichiarazione","Beyan sekmesinde, hücre D20’e yetkili şirket temsilcisi için geçerli bir e-posta adresi ekleyin."]
["CheckerJ12","Checker","J12","Provide a phone number for authorized company representative on Declaration tab cell D21","在“申报”选项卡 D21 单元格中提供授权公司代表的电话号码","「申告（Declaration）」タブのD21セルに会社から正式に認められた代表者の電話番号を記入してください","신고(Declaration) 탭의 D21 셀에 회사 대표 정보책임 담당자 전화 번호를 제공하십시오. ","Saisissez le numéro de téléphone du représentant agréé de l'entreprise dans la cellule D21 de l'onglet Déclaration","Forneça um número de telefone para o representante autorizado pela empresa na célula D21 da guia Declaração","Geben Sie eine Telefonnummer eines bevollmächtigten Unternehmensvertreters in der Reiterzelle D21 der Erklärung an","Proporcione un teléfono del representante autorizado de la compañía en la pestaña Declaration (Declaración), celda D21","Fornire un numero di telefono del rappresentante della società autorizzata nella cella D21 della scheda della Dichiarazione","Beyan sekmesinde, hücre D21'e yetkili şirket temsilcisi için bir telefon numarası ekleyin."]
["CheckerJ13","Checker","J13","Provide date the form was completed on Declaration tab cell D22","在“申报”选项卡 D22 单元格中提供表格填写日期","「申告（Declaration）」タブのD22セルに書式への記入日を記入してください","신고(Declaration) 탭의 D22 셀에 양식이 작성된 날짜를 제공하십시오. ","Saisissez la date de remplissage du formulaire dans la cellule D22 de l'onglet Déclaration ","Forneça a data em que o formulário foi preenchido na célula D22 da guia Declaração","Geben Sie das Datum der Vervollständigung des Formulars in der Reiterzelle D22 der Erklärung an","Proporcione la fecha en la que se completó el formato en la pestaña Declaration (Declaración), celda D22","Fornire la data in cui il modulo è stato completato nella cella D22 della scheda della Dichiarazione","Beyan sekmesi hücre D22'ye formun doldurulduğu tarihi girin."]
["CheckerJ15","Checker","J15","Declare if cobalt is intentionally added to your products on Declaration tab cell D26","在“申报”选项卡 D26 单元格中申报是否有意将钴增加到贵公司的产品中","コバルトが貴社製品に意図的に付加された場合は「申告（Declaration）」タブのD26セルに申告してください","신고(Declaration) 탭의 D26 셀에 코발트가 의도적으로 제품에 추가되었는지 여부를 신고하십시오. ","Déclarez si du tantale est intentionnellement ajouté à vos produits dans la cellule D26 de l'onglet Déclaration ","Declare se o tântalo é intencionalmente adicionado aos seus produtos na célula D26 da guia Declaração","Erklären Sie in der Reiterzelle D26 der Erklärung, ob Tantalum Ihren Produkten absichtlich hinzugefügt wird","Declare si se agrega tantalio intencionalmente a sus productos en la pestaña Declaration (Declaración), celda D26","Dichiarare se il Tantalio è aggiunto intenzionalmente ai propri prodotti nella cella D26 della scheda della Dichiarazione","Tantalın ürünlerinize kasti olarak eklenip eklenmediğini Beyan sekmesi hücre D26'da belirtin."]
["CheckerJ16","Checker","J16",{"$nulls":4},"Déclarez si de l’étain est intentionnellement ajouté à vos produits dans la cellule D27 de l’onglet Déclaration","Declare se o estanho é intencionalmente adicionado aos seus produtos na célula D27 da guia Declaração","Erklären Sie in der Reiterzelle D27 der Erklärung, ob Zinn Ihren Produkten absichtlich hinzugefügt wird","Declare si se agrega estaño intencionalmente a sus productos en la pestaña Declaration (Declaración), celda D27","Dichiarare se lo Stagno è aggiunto intenzionalmente ai propri prodotti nella cella D27 della scheda della Dichiarazione","Kalayın ürünlerinize kasti olarak eklenip eklenmediğini Beyan sekmesi hücre D27'de belirtin."]
["CheckerJ17","Checker","J17",{"$nulls":4},"Déclarez si de l’or est intentionnellement ajouté à vos produits dans la cellule D28 de l’onglet Déclaration ","Declare se o ouro é intencionalmente adicionado aos seus produtos na célula D28 da guia Declaração","Erklären Sie in der Reiterzelle D28 der Erklärung, ob Gold Ihren Produkten absichtlich hinzugefügt wird","Declare si se agrega oro intencionalmente a sus productos en la pestaña Declaration (Declaración), celda D28","Dichiarare se l'Oro è aggiunto intenzionalmente ai propri prodotti nella cella D28 della scheda della Dichiarazione","Altının ürünlerinize kasti olarak eklenip eklenmediğini Beyan sekmesi hücre D28'de belirtin."]
["CheckerJ18","Checker","J18",{"$nulls":4},"Déclarez si du tungstène est intentionnellement ajouté à vos produits dans la cellule D29 de l’onglet Déclaration","Declare se o tungstênio é intencionalmente adicionado aos seus produtos na célula D29 da guia Declaração","Erklären Sie in der Reiterzelle D29 der Erklärung, ob Tungsten Ihren Produkten absichtlich hinzugefügt wird","Declare si se agrega tungsteno intencionalmente a sus productos en la pestaña Declaration (Declaración), celda D29","Dichiarare se il Tungsteno è aggiunto intenzionalmente ai propri prodotti nella cella D29 della scheda della Dichiarazione","Tungstenin ürünlerinize kasti olarak eklenip eklenmediğini Beyan sekmesi hücre D29'da belirtin."]
["CheckerJ20","Checker","J20","Declare if cobalt used within the scope of products declared within this survey response originated from a Conflict-Affected and High-Risk Area (CAHRA) on the Declaration tab cell D32","在“申报”选项卡 D32 单元格中申报此调查\n回答中所申报产品范围内使用的钴的源产地是否为受冲突影响和高风险地区 (CAHRA)","本調査回答で申告された製品範囲内で使用されるコバルトが紛争地域および高リスク地域（CAHRA）を原産とする場合は、「申告（Declaration）」タブのD32セルに申告してください","본 설문조사 응답에서 신고된 제품의 범위 내에서 사용된 코발트가 분쟁 및 고위험 지역(CAHRA)에서 유래되었는지 여부를 신고(Declaration) 탭의 D32 셀에서 신고하십시오.","Déclarez si le cobalt utilisé dans la portée des produits déclarés dans cette réponse d’enquête provient d’une zone touchée par des conflits et à haut risque dans la cellule D32 de l’onglet Déclaration.","Declare se o cobalto usado no escopo dos produtos declarados nesta resposta da pesquisa se originou de uma área afetada por conflitos e de alto risco (CAHRA) na célula da guia Declaração D32","Erklären Sie in der Reiterzelle D32, ob innerhalb des Umfangs der in dieser Umfrage angegebenen Produkte verwendetes Kobalt aus einem Konflikt- oder Hochrisikogebiet (CAHRA) stammt","Especifique si el cobalto utilizado dentro del alcance de los productos declarados en esta respuesta a la encuesta se originó en una zona afectada por conflictos y de alto riesgo (CAHRA) en la celda de la pestaña Declaración D32.","Dichiarare se il cobalto utilizzato nell’ambito dei prodotti dichiarati all’interno di questa risposta del sondaggio ha origine da una zona di conflitto e ad alto rischio (CAHRA) nella cella della scheda Dichiarazione D32","Bu anket yanıtında beyan edilen ürünler kapsamında kullanılan kobaltın Çatışmadan Etkilenen ve Yüksek Riskli bir Bölgeden (CAHRA) kaynaklanıp kaynaklanmadığını Beyan sekmesi D32 hücresinde beyan edin"]
[{"$f":"B127&C127","v":"CheckerJ21"},"Checker","J21",{"$nulls":4},"Déclarez si l'étain utilisé dans le cadre de produits déclarés dans les réponses à cette enquête est originaire de la RDC ou d'un pays voisin  dans la cellule D39 de l'onglet Déclaration","Declare se o estanho utilizado no âmbito dos produtos declarados nesta resposta da pesquisa é originário da República Democrática do Congo ou de um país vizinho na célula D39 da guia Declaração","Erklären Sie in der Reiterzelle D39 der Erklärung, ob innerhalb des Umfangs der in dieser Umfrage angegebenen Produkte verwendetes Zinn aus der Demokratischen Republik Kongo oder einem benachbarten Land stammt","Declare si el estaño utilizado en el enfoque de los productos declarados en la respuesta de esta encuesta proviene del DRC o un país contiguo en la pestaña Declaration (Declaración), celda D39","Dichiarare se lo Stagno usato nell'ambito dei prodotti dichiarati nella risposta a questo sondaggio proviene dalla Repubblica Democratica del Congo oppure da un Paese confinante nella cella D39 della scheda della Dichiarazione","Bu anket yanıtlarında bildirilen ürünler kapsamında kullanılan Kalayın DKC veya komşu ülkelerinden edinilip edinilmediğini Beyan sekmesi hücre D39'da belirtin."]
["CheckerJ22","Checker","J22",{"$nulls":4},"Déclarez si l'or utilisé dans le cadre des produits déclarés dans les réponses à cette enquête est originaire de la RDC ou d'un pays voisin dans la cellule D40 de l'onglet Déclaration ","Declare se o ouro utilizado no âmbito dos produtos declarados nesta resposta da pesquisa é originário da República Democrática do Congo ou de um país vizinho na célula D40 da guia Declaração","Erklären Sie in der Reiterzelle D40 der Erklärung, ob innerhalb des Umfangs der in dieser Umfrage angegebenen Produkte verwendetes Gold aus der Demokratischen Republik Kongo oder einem benachbarten Land stammt","Declare si el oro utilizado en el enfoque de los productos declarados en la respuesta de esta encuesta proviene del DRC o un país contiguo en la pestaña Declaration (Declaración), celda D40","Dichiarare se l'Oro usato nell'ambito dei prodotti dichiarati nella risposta a questo sondaggio proviene dalla Repubblica Democratica del Congo oppure da un Paese confinante nella cella D40 della scheda della Dichiarazione","Bu anket yanıtlarında bildirilen ürünler kapsamında kullanılan Altının DKC veya komşu ülkelerinden edinilip edinilmediğini Beyan sekmesi hücre D40'da belirtin."]
["CheckerJ23","Checker","J23",{"$nulls":4},"Déclarez si le tungstène utilisé dans le cadre des produits déclarés dans les réponses à cette enquête est originaire de la RDC ou d'un pays voisin dans la cellule D41 de l'onglet Déclaration.","Declare se o tungstênio utilizado no âmbito dos produtos declarados nesta resposta da pesquisa é originário da República Democrática do Congo ou de um país vizinho na célula D41 da guia Declaração","Erklären Sie in der Reiterzelle D41 der Erklärung, ob innerhalb des Umfangs der in dieser Umfrage angegebenen Produkte verwendetes Tungsten aus der Demokratischen Republik Kongo oder einem benachbarten Land stammt","Declare si el tungsteno utilizado en el enfoque de los productos declarados en la respuesta de esta encuesta proviene del DRC o un país contiguo en la pestaña Declaration (Declaración), celda D41","Dichiarare se il Tungsteno usato nell'ambito dei prodotti dichiarati nella risposta a questo sondaggio proviene dalla Repubblica Democratica del Congo oppure da un Paese confinante nella cella D41 della scheda della Dichiarazione","Bu anket yanıtlarında bildirilen ürünler kapsamında kullanılan Tungstenin DKC veya komşu ülkelerinden edinilip edinilmediğini Beyan sekmesi hücre D41'de belirtin."]
["CheckerJ25","Checker","J25","Declare if cobalt used within the scope of products declared within this survey response originated entirely from a recycled or scrap source on the Declaration tab cell D44","在“申报”选项卡 D44 单元格中申报在此调查回答中所申报产品范围内使用的钴是否完全来自回收料或报废料","本調査回答で申告された製品範囲内で使用されるコバルトの100％がリサイクル又はスクラップ資源を由来としている場合は、「申告（Declaration）」タブのD38セルに申告してください","신고(Declaration) 탭의 D44 셀에 이 설문조사의 응답내용 내에서 신고된 제품 범위 내에 사용된 코발트가 전적으로 재활용이나 폐자원에서 나온 것인지 여부를 신고하십시오. ","Déclarez si le tantale utilisé dans le cadre des produits déclarés dans cette réponse à l'enquête provient d'une source entièrement recyclée ou de débris dans la cellule D44 de l'onglet Déclaration","Declare se o tântalo utilizado no âmbito dos produtos declarados nesta resposta da pesquisa é originado inteiramente a partir uma fonte reciclada ou de sucata na célula D44 da guia Declaração","Erklären Sie in der Reiterzelle D44 der Erklärung, ob innerhalb des Umfangs der in dieser Umfrage angegebenen Produkte verwendetes Tantalum vollständig aus Recycling oder Schrott stammt","Declare si el tántalo utilizado en el enfoque de los productos declarados en la respuesta de esta encuesta proviene completamente de una fuente reciclada o de residuos en la pestaña Declaration (Declaración), celda D44","Dichiarare se il Tantalio usato nell'ambito dei prodotti dichiarati nella risposta a questo sondaggio proviene interamente da una fonte riciclata o di scarti nella cella D44 della scheda della Dichiarazione","Bu anket yanıtlarında bildirilen ürünler kapsamında kullanılan Tantalın geri dönüşüm veya hurda kaynaklarından edinilip edinilmediğini Beyan sekmesi hücre D44'te belirtin."]
["CheckerJ26","Checker","J26",{"$nulls":4},"Déclarez si l'étain utilisé dans le cadre des produits déclarés dans cette réponse à l'enquête provient d'une source entièrement recyclée ou de débris dans la cellule D45 de l'onglet Déclaration","Declare se o estanho utilizado no âmbito dos produtos declarados nesta resposta da pesquisa é originado inteiramente a partir uma fonte reciclada ou de sucata na célula D45 da guia Declaração","Erklären Sie in der Reiterzelle D45 der Erklärung, ob innerhalb des Umfangs der in dieser Umfrage angegebenen Produkte verwendetes Zinn vollständig aus Recycling oder Schrott stammt","Declare si el estaño utilizado en el enfoque de los productos declarados en la respuesta de esta encuesta proviene completamente de una fuente reciclada o de residuos en la pestaña Declaration (Declaración), celda D45","Dichiarare se lo Stagno usato nell'ambito dei prodotti dichiarati nella risposta a questo sondaggio proviene interamente da una fonte riciclata o di scarti nella cella D45 della scheda della Dichiarazione","Bu anket yanıtlarında bildirilen ürünler kapsamında kullanılan Kalayın geri dönüşüm veya hurda kaynaklarından edinilip edinilmediğini Beyan sekmesi hücre D45'te belirtin."]
["CheckerJ27","Checker","J27",{"$nulls":4},"Déclarez si l'or utilisé dans le cadre des produits déclarés dans cette réponse à l'enquête provient d'une source entièrement recyclée ou de débris dans la cellule D46 de l'onglet Déclaration","Declare se o ouro utilizado no âmbito dos produtos declarados nesta resposta da pesquisa é originado inteiramente a partir uma fonte reciclada ou de sucata na célula D46 da guia Declaração","Erklären Sie in der Reiterzelle D46 der Erklärung, ob innerhalb des Umfangs der in dieser Umfrage angegebenen Produkte verwendetes Gold vollständig aus Recycling oder Schrott stammt","Declare si el oro utilizado en el enfoque de los productos declarados en la respuesta de esta encuesta proviene completamente de una fuente reciclada o de residuos en la pestaña Declaration (Declaración), celda D46","Dichiarare se l'Oro usato nell'ambito dei prodotti dichiarati nella risposta a questo sondaggio proviene interamente da una fonte riciclata o di scarti nella cella D46 della scheda della Dichiarazione","Bu anket yanıtlarında bildirilen ürünler kapsamında kullanılan Altının geri dönüşüm veya hurda kaynaklarından edinilip edinilmediğini Beyan sekmesi hücre D46'da belirtin."]
["CheckerJ28","Checker","J28",{"$nulls":4},"Déclarez si le tungstène utilisé dans le cadre de produits déclarés dans de cette réponse à l'enquête provient d'une source entièrement recyclée ou de débris dans la cellule D47 de l'onglet Déclaration","Declare se o tungstênio utilizado no âmbito dos produtos declarados nesta resposta da pesquisa é originado inteiramente a partir uma fonte reciclada ou de sucata na célula D47 da guia Declaração","Erklären Sie in der Reiterzelle D47 der Erklärung, ob innerhalb des Umfangs der in dieser Umfrage angegebenen Produkte verwendetes Tungsten vollständig aus Recycling oder Schrott stammt","Declare si el tungsteno utilizado en el enfoque de los productos declarados en la respuesta de esta encuesta proviene completamente de una fuente reciclada o de residuos en la pestaña Declaration (Declaración), celda D47","Dichiarare se il Tungsteno usato nell'ambito dei prodotti dichiarati nella risposta a questo sondaggio proviene interamente da una fonte riciclata o di scarti nella cella D47 della scheda della Dichiarazione","Bu anket yanıtlarında bildirilen ürünler kapsamında kullanılan Tungstenin geri dönüşüm veya hurda kaynaklarından edinilip edinilmediğini Beyan sekmesi hücre D47'de belirtin."]
["CheckerJ30","Checker","J30","Provide % of completeness of supplier's smelter information on Declaration tab cell D44","在“申报”选项卡 D44 单元格中提供供应商的冶炼厂信息填写百分比","サプライヤーの製錬業者情報の回答率を割合（%）で「申告（Declaration）」タブのD44セルに記入してください","신고(Declaration) 탭의 D44 셀에 공급업체의 제련소 정보에 대한 완전성 비율(%)을 제공하십시오. ","Indiquez le pourcentage d'exhaustivité des informations sur la fonderie données par le fournisseur dans la cellule D44 de l'onglet Déclaration","Forneça a porcentagem de conclusão das informações da fundição do fornecedor na célula D44 da guia Declaração","Geben Sie den Vollständigkeitsgrad der Schmelzofeninformationen des Anbieters in Prozent in der Reiterzelle D44 der Erklärung an","Escriba el porcentaje de información completada del fundidor del proveedor en la pestaña Declaration (Declaración), celda D44","Fornire la percentuale (%) di completezza delle informazioni della fonderia del fornitore nella cella D44 della scheda della Dichiarazione","Tedarikçinin izabe tesisi bilgilerinin eksiksizliğini Beyan sekmesi, hücre D44'de belirtin."]
["CheckerJ31","Checker","J31",{"$nulls":4},"Indiquez le pourcentage d'exhaustivité des informations sur la fonderie données par le fournisseur dans la cellule D51 de l'onglet Déclaration ","Forneça a porcentagem de conclusão das informações da fundição do fornecedor na célula D51 da guia Declaração","Geben Sie den Vollständigkeitsgrad der Schmelzofeninformationen des Anbieters in Prozent in der Reiterzelle D51 der Erklärung an","Escriba el porcentaje de información completada del fundidor del proveedor en la pestaña Declaration (Declaración), celda D51","Fornire la percentuale (%) di completezza delle informazioni della fonderia del fornitore nella cella D51 della scheda della Dichiarazione","Tedarikçinin izabe tesisi bilgilerinin eksiksizliğini Beyan sekmesi, hücre D51'de belirtin."]
["CheckerJ32","Checker","J32",{"$nulls":4},"Indiquez le pourcentage d'exhaustivité des informations sur la fonderie données par le fournisseur dans la cellule D52 de l'onglet Déclaration ","Forneça a porcentagem de conclusão das informações da fundição do fornecedor na célula D52 da guia Declaração","Geben Sie den Vollständigkeitsgrad der Schmelzofeninformationen des Anbieters in Prozent in der Reiterzelle D52 der Erklärung an","Escriba el porcentaje de información completada del fundidor del proveedor en la pestaña Declaration (Declaración), celda D52","Fornire la percentuale (%) di completezza delle informazioni della fonderia del fornitore nella cella D52 della scheda della Dichiarazione","Tedarikçinin izabe tesisi bilgilerinin eksiksizliğini Beyan sekmesi, hücre D52'de belirtin."]
["CheckerJ33","Checker","J33",{"$nulls":4},"Indiquez le pourcentage d'exhaustivité des informations sur la fonderie données par le fournisseur dans la cellule D53 de l'onglet Déclaration ","Forneça a porcentagem de conclusão das informações da fundição do fornecedor na célula D53 da guia Declaração","Geben Sie den Vollständigkeitsgrad der Schmelzofeninformationen des Anbieters in Prozent in der Reiterzelle D53 der Erklärung an","Escriba el porcentaje de información completada del fundidor del proveedor en la pestaña Declaration (Declaración), celda D53","Fornire la percentuale (%) di completezza delle informazioni della fonderia del fornitore nella cella D53 della scheda della Dichiarazione","Tedarikçinin izabe tesisi bilgilerinin eksiksizliğini Beyan sekmesi, hücre D53'te belirtin."]
["CheckerJ35","Checker","J35","Declare if all smelter names have been provided in this survey response under the scope of products declared on the Declaration tab cell D50","在“申报”选项卡 D50 单元格中申报是否在此调查回答内的申报产品范围下面提供了所有冶炼厂名称","申告範囲内で全ての製錬業者名が本調査回答で提供された場合は、「申告」タブのD50セルに申告してください","신고(Declaration) 탭의 D50 셀에 이 설문조사 응답내용에 신고된 제품 범위에 해당하는 모든 제련소 명칭이 제공되었는지 여부를 신고하십시오. ","Déclarez si tous les noms de la fonderie ont été fournis dans cette réponse à l'enquête dans le cadre du champ d'application des produits déclarés dans la cellule D50 de l'onglet Déclaration","Declare se todos os nomes de fundições foram fornecidos nesta resposta à pesquisa no âmbito dos produtos declarados na célula D50 da guia Declaração","Geben Sie in der Reiterzelle D50 der Erklärung an, ob alle Schmelzofennamen in der Antwort auf diese Umfrage im Umfang der angegebenen Produkte zur Verfügung gestellt worden sind ","Declare si se han suministrado todos los nombres de los fundidores en la respuesta de esta encuesta bajo el enfoque de los productos declarados en la pestaña Declaration (Declaración), celda D50","Dichiarare se tutti i nomi delle fonderie sono stati forniti nella risposta a questo sondaggio nell'ambito dei prodotti dichiarati nella cella D50 della scheda della Dichiarazione","Bildirilen ürünler kapsamında, bu anket yanıtında tüm izabe tesisi adlarının verilip verilmediğini Beyan sekmesi hücre D50'da belirtin."]
["CheckerJ36","Checker","J36",{"$nulls":4},"Déclarez si tous les noms de la fonderie ont été fournis dans cette réponse à l'enquête dans le cadre du champ d'application des produits déclarés dans la cellule D57 de l'onglet Déclaration","Declare se todos os nomes de fundições foram fornecidos nesta resposta à pesquisa no âmbito dos produtos declarados na célula D57 da guia Declaração","Geben Sie in der Reiterzelle D57 der Erklärung an, ob alle Schmelzofennamen in der Antwort auf diese Umfrage im Umfang der angegebenen Produkte zur Verfügung gestellt worden sind ","Declare si se han suministrado todos los nombres de los fundidores en la respuesta de esta encuesta bajo el enfoque de los productos declarados en la pestaña Declaration (Declaración), celda D57","Dichiarare se tutti i nomi delle fonderie sono stati forniti nella risposta a questo sondaggio nell'ambito dei prodotti dichiarati nella cella D57 della scheda della Dichiarazione","Bildirilen ürünler kapsamında, bu anket yanıtında tüm izabe tesisi adlarının verilip verilmediğini Beyan sekmesi hücre D57'de belirtin."]
["CheckerJ37","Checker","J37",{"$nulls":4},"Déclarez si tous les noms de la fonderie ont été fournis dans cette réponse à l'enquête dans le cadre du champ d'application des produits déclarés dans la cellule D58 de l'onglet Déclaration","Declare se todos os nomes de fundições foram fornecidos nesta resposta à pesquisa no âmbito dos produtos declarados na célula D58 da guia Declaração","Geben Sie in der Reiterzelle D58 der Erklärung an, ob alle Schmelzofennamen in der Antwort auf diese Umfrage im Umfang der angegebenen Produkte zur Verfügung gestellt worden sind ","Declare si se han suministrado todos los nombres de los fundidores en la respuesta de esta encuesta bajo el enfoque de los productos declarados en la pestaña Declaration (Declaración), celda D58","Dichiarare se tutti i nomi delle fonderie sono stati forniti nella risposta a questo sondaggio nell'ambito dei prodotti dichiarati nella cella D58 della scheda della Dichiarazione","Bildirilen ürünler kapsamında, bu anket yanıtında tüm izabe tesisi adlarının verilip verilmediğini Beyan sekmesi hücre D58'de belirtin."]
["CheckerJ38","Checker","J38",{"$nulls":4},"Déclarez si tous les noms de fonderie ont été fournis dans cette réponse à l'enquête avec le champ d'application des produits déclarés dans la cellule D59 de l'onglet Déclaration","Declare se todos os nomes de fundições foram fornecidos nesta resposta à pesquisa no âmbito dos produtos declarados na célula D59 da guia Declaração","Geben Sie in der Reiterzelle D59 der Erklärung an, ob alle Schmelzofennamen in der Antwort auf diese Umfrage im Umfang der angegebenen Produkte zur Verfügung gestellt worden sind ","Declare si se han suministrado todos los nombres de los fundidores en la respuesta de esta encuesta bajo el enfoque de los productos declarados en la pestaña Declaration (Declaración), celda D59","Dichiarare se tutti i nomi delle fonderie sono stati forniti nella risposta a questo sondaggio nell'ambito dei prodotti dichiarati nella cella D59 della scheda della Dichiarazione","Bildirilen ürünler kapsamında, bu anket yanıtında tüm izabe tesisi adlarının verilip verilmediğini Beyan sekmesi hücre D59'da belirtin."]
["CheckerJ40","Checker","J40","Declare if all applicable cobalt smelter information has been provided on Declaration tab cell D56","在“申报”选项卡 D56 单元格中申报是否已提供所有适用钴冶炼厂信息","全ての該当するコバルト製錬業者情報が提供された場合は、「申告（Declaration）」タブのD56セルに申告してください","신고(Declaration) 탭의 D56 셀에 코발트 제련소에 대한 모든 해당 정보가 제공되었는지 여부를 신고하십시오. ","Déclarez si toutes les informations applicables sur la fonderie de tantale ont été fournies dans la cellule D56 de l'onglet Déclaration","Declare se todas as informações aplicáveis sobre o tântalo na fundição foram fornecidas na célula D56 da guia Declaração","Geben Sie in der Reiterzelle D56 der Erklärung an, ob alle Informationen über Tantalum-Schmelzöfen zur Verfügung gestellt worden sind ","Declare si se ha suministrado toda la información aplicable del fundidor de tántalo en la pestaña Declaration (Declaración), celda D56","Dichiarare se tutte le informazioni sulla fonderia del Tantalio pertinenti sono state fornite nella cella D56 della scheda della Dichiarazione","Tüm uygulanabilir Tantal izabe tesisi bilgilerinin verilip verilmediğini hücre D56'de belirtin"]
["CheckerJ41","Checker","J41",{"$nulls":4},"Déclarez si toutes les informations applicables sur la fonderie d'étain ont été fournies dans la cellule D63 de l'onglet Déclaration","Declare se todas as informações aplicáveis sobre o estanho na fundição foram fornecidas na célula D63 da guia Declaração","Geben Sie in der Reiterzelle D63 der Erklärung an, ob alle Informationen über Zinn-Schmelzöfen zur Verfügung gestellt worden sind ","Declare si se ha suministrado toda la información aplicable del fundidor de estaño en la pestaña Declaration (Declaración), celda D63","Dichiarare se tutte le informazioni sulla fonderia dello Stagno pertinenti sono state fornite nella cella D63 della scheda della Dichiarazione","Tüm uygulanabilir Kalay izabe tesisi bilgilerinin verilip verilmediğini hücre D63'te belirtin"]
["CheckerJ42","Checker","J42",{"$nulls":4},"Déclarez si toutes les informations applicables sur la fonderie d'or ont été fournies dans la cellule D64 de l'onglet Déclaration","Declare se todas as informações aplicáveis sobre o ouro na fundição foram fornecidas na célula D64 da guia Declaração","Geben Sie in der Reiterzelle D64 der Erklärung an, ob alle Informationen über Gold-Schmelzöfen zur Verfügung gestellt worden sind ","Declare si se ha suministrado toda la información aplicable del fundidor de oro en la pestaña Declaration (Declaración), celda D64","Dichiarare se tutte le informazioni sulla fonderia dell'Oro pertinenti sono state fornite nella cella D64 della scheda della Dichiarazione","Tüm uygulanabilir Altın izabe tesisi bilgilerinin verilip verilmediğini hücre D64'te belirtin"]
["CheckerJ43","Checker","J43",{"$nulls":4},"Déclarez si toutes les informations applicables sur la fonderie de tungstène ont été fournies dans la cellule D65 de l'onglet Déclaration","Declare se todas as informações aplicáveis sobre o tungstênio na fundição foram fornecidas na célula D65 da guia Declaração","Geben Sie in der Reiterzelle D65 der Erklärung an, ob alle Informationen über Tungsten-Schmelzöfen zur Verfügung gestellt worden sind ","Declare si se ha suministrado toda la información aplicable del fundidor de tungsteno en la pestaña Declaration (Declaración), celda D65","Dichiarare se tutte le informazioni sulla fonderia del Tungsteno pertinenti sono state fornite nella cella D65 della scheda della Dichiarazione","Tüm uygulanabilir Tungsten izabe tesisi bilgilerinin verilip verilmediğini hücre D65'te belirtin"]
["CheckerJ45","Checker","J45","Answer if your company has a publicly available cobalt sourcing policy on the Declaration tab cell D63","在“申报”选项卡 D63 单元格中回答贵公司是否有可公开查阅的钴采购政策","貴社が、公に利用可能なコバルト調達方針がある場合は、「申告（Declaration）」タブのD63セルに回答してください","신고(Declaration) 탭의 D63 셀에 귀사가 공개적으로 사용 가능한 코발트 조달 정책을 보유하고 있는지 여부를 답변하십시오. ","Répondez dans la cellule D69 de l'onglet Déclaration si votre entreprise a une politique d'approvisionnement hors conflit avec la RDC","Responda se a sua empresa tem uma Política de fornecimento livre de conflitos da República Democrática do Congo na célula D69 da guia Declaração","Geben Sie in der Reiterzelle D69 der Erklärung an, ob Ihr Unternehmen eine Richtlinie zur DRC-konfliktfreien Beschaffung hat","Responda si su compañía cuenta con una política de abastecimiento libre de conflictos DRC en la pestaña Declaration (Declaración), celda D69","Rispondere se la propria società ha una linea di condotta in tema di fonti in aree senza conflitto (conflict-free sourcing) per la Repubblica Democratica del Congo nella cella D69 della scheda della Dichiarazione","Şirketinizin bir DKC ihtilafı içermeyen kaynak politikası olup olmadığını Beyan sekmesinde hücre D69'da belirtin"]
[{"$f":"B147&C147","v":"CheckerJ46"},"Checker","J46","Enter the URL in Declaration worksheet cell G65 if you answer \"Yes\" for question A. The format of the URL should be \"www.companyname.com\"","如果您对问题 A 回答“是”，则在“申报”工作表的 G65 单元格中输入 URL。URL 的格式应为“www.companyname.com”","貴社の企業方針が、OECDデューディリジェンスガイダンスAnnex IIモデル指針の全てのリスク、および最悪の形態の児童労働、を最低限包含する場合は、「申告（Declaration）」タブのD65セルに回答してください","질문 A에 \"예(Yes)\"라고 답할 경우, 신고(Declaration) 워크시트의 G65 셀에 URL을 입력하십시오. URL 형식은 \"www.companyname.com\"이 되어야 합니다. ","Saisissez l'URL dans la cellule D71 de l'onglet Déclaration si vous répondez par « Oui » à la question B. Le format de l'URL doit être : www.nomdelentreprise.com","Digite o URL na célula G71 da planilha Declaração se você responder “Sim” à pergunta B. O formato do URL deve ser “www.nomedaempresa.com”","Geben Sie in der Arbeitsblattzelle D71 der Erklärung den URL an, falls Sie Frage B mit „Ja“ beantworten. Das Format des URL sollte „www.companyname.com“ entsprechen ","Ingrese la URL en la hoja de trabajo de Declaration (Declaración), celda G71 si responde \"Sí\" en la pregunta B. El formato de la URL debe ser \"www.nombredelacompañía.com\"","Inserire l'URL nella cella G71 del foglio di lavoro della Dichiarazione se si risponde \"Sì\" per la domanda B. Il formato dell'URL deve essere \"www.nomeazienda.com\"","B sorusuna \"Evet\" yanıtı verdiyseniz, Beyan çalışma sayfasında hücre G71'e URL'yi girin. URL \"www.sirketadi.com\" biçiminde olmalıdır"]
["CheckerJ47","Checker","J47","Answer if your company's policy covers, at a minimum, all risks in the OECD Due Diligence Guidance Annex II Model Policy, as well as the worst forms of child labor, on the Declaration tab cell D65","在“申报”选项卡 D65 单元格中回答贵公司的政策是否至\n少涵盖《经合组织尽职调查指南》附录二《示范政策》中的所有风险以及童工问题的最恶劣形式","質問Aの回答が「Yes」の場合は、申告（Declaration）シートのG65セルにURLを記入を記入してください。URLの形式は「www.companyname.com」にしてください。","귀사의 정책은 최소한 OECD 실사 지침 부속서 II 모델 정책에 포함된 모든 위험뿐만 아니라 최악의 형태의 아동 노동을 다루고 있는지 여부를 신고(Declaration) 탭의 D65 셀에 답변하십시오. ","Répondez dans la cellule D65 de l'onglet Déclaration si votre entreprise a rendu publiquement disponible sur son site Web sa politique d'approvisionnement hors  conflit avec la RDC","Responda se a sua empresa colocou sua Política de fornecimento livre de conflitos da República Democrática do Congo à disposição do público em seu site na célula D71 da guia Declaração","Geben Sie in der Reiterzelle D71 der Erklärung an, ob Ihr Unternehmen Ihre Richtlinie zur DRC-konfliktfreien Beschaffung auf Ihrer Website öffentlich verfügbar gemacht hat","Responda si su compañía tiene la política de abastecimiento libre de conflictos DRC públicamente disponible en la pestaña Declaration (Declaración), celda D71","Rispondere se la propria società ha reso pubblicamente disponibile sul suo sito web la linea di condotta in tema di fonti in aree senza conflitto (conflict-free sourcing) per la Repubblica Democratica del Congo nella cella D71 della scheda della Dichiarazione","Şirketinizin DKC ihtilafı içermeyen kaynak edinme politikasını web sitesinde genel erişime açık bir şekilde sunup sunmadığını Beyan sekmesinde hücre D71'de belirtin."]
["CheckerJ48","Checker","J48","Answer if you implement cobalt due diligence measures on the Declaration tab cell D67","在“申报”选项卡 D67 单元格中回答贵公司是否实施了钴尽职调查措施","貴社がコバルトのデューディリジェンス対策を実施する場合は、「申告（Declaration）」タブのD67セルに回答してください","귀사가 코발트 실사 조치를 시행하고 있는지 여부를 신고(Declaration) 탭 셀 D67에 답변하십시오. ","Répondez dans la cellule D73 de l'onglet Déclaration si vous voulez que vos fournisseurs directs soient hors conflit avec la RDC ","Responda se você precisa que seus fornecedores diretos sejam livres de conflito na República Democrática do Congo na célula D73 da guia Declaração","Geben Sie in der Reiterzelle D73 der Erklärung an, ob Sie Ihre Lieferanten zur DRC-konfliktfreien Beschaffung verpflichtet haben","Responda si requiere que sus proveedores directos estén libres de conflictos en la pestaña Declaration (Declaración), celda D73","Rispondere se si richiede ai propri fornitori diretti di essere conflict-free per la Repubblica Democratica del Congo nella cella D73 della scheda della Dichiarazione","Doğrudan tedarikçilerinizin DKC ihtilafı içermemesini şart koşup koşmadığınızı Beyan sekmesi hücre D73'te belirtin."]
["CheckerJ49","Checker","J49","Answer if you require your direct suppliers to exercise due diligence over cobalt supply chains on Declaration tab cell D69","在“申报”选项卡 D69 单元格中回答贵公司是否要求贵公司的直接供应商针对钴供应链实施尽职调查","貴社が貴社の直接サプライヤーに対し、コバルトサプライチェーンを通じてデューディリジェンスの実施を要求する場合は、「申告（Declaration）」タブのD69に回答してください","귀사가 귀사의 직접 공급업체에게 코발트 공급망에 대해 실사를 실시하도록 요구하는지 여부를 신고(Declaration) 탭 셀 D69에 답변하십시오. ","Répondez dans la cellule D75 de l'onglet Déclaration si vous voulez que vos fournisseurs directs s'approvisionnent auprès de fondeurs agrées comme n'ayant pas de conflits avec la RDC et adhérant à la liste de fondeurs respectant l'Initiative d'approvisionnement hors conflit","Responda se você exige que seus fornecedores diretos busquem seus suprimentos em fundições validadas como livres de conflito na República Democrática do Congo utilizando a lista de fundições em conformidade com a RMI na célula D75 da guia Declaração","Geben Sie in der Reiterzelle D75 der Erklärung an, ob Sie Ihre Lieferanten zur Beschaffung aus Schmelzöfen verpflichtet haben, die als DRC-konfliktfrei in der Liste der konformen Schmelzöfen der Konfliktfreien Beschaffungsinitiative - Conflict-Free Sourcing Inititiave - bestätigt worden sind","Responda si requiere que sus proveedores directos se abastezcan de los fundidores validados como libres de conflicto DRC utilizando la lista de fundidores que cumplen con la Iniciativa de Abastecimiento libre de conflictos en la pestaña Declaration (Declaración), celda D75","Rispondere se si richiede ai propri fornitori diretti di approvvigionarsi da fonderie convalidate come conflict-free per la Repubblica Democratica del Congo utilizzando la lista di fonderie conforme alla Conflict-Free Sourcing Inititiave nella cella D75 della scheda della Dichiarazione","Doğrudan tedarikçilerinizin İhtilafsız Kaynak Edinme Girişimi uyumlu izabe tesisi listesini kullanarak DKC ihtilafı içermediği onaylanmış izabe tesislerini kullanmasını şart koşup koşmadığınızı Beyan sekmesi hücre D75'te belirtin."]
["CheckerJ50","Checker","J50","Answer if you require direct supplier to source cobalt from independently validated smelters on Declaration tab cell D71","在“申报”选项卡 D71 单元格中回答贵公司是否要求直接供应商从经独立验证的冶炼厂采购钴","貴社が貴社の直接サプライヤーに対し、第三者検証をうけた製錬業者からコバルトを調達することを要求する場合は、「申告（Declaration）」タブのD71セルに回答してください","귀사가 직접 공급업체에게 독립적으로 검증된 제련소에서 코발트를 조달하도록 요구하는지 여부를 신고(Declaration) 탭 셀 D71에 답변하십시오. ","Répondez dans la cellule D77 de l'onglet Déclaration si vous avez mis en œuvre des mesures de vigilance relatives à l'approvisionnement en minéraux hors conflits ","Responda se você tiver implementado medidas de diligência devida para o fornecimento de minerais livres de conflito na célula D77 da guia Declaração","Geben Sie in der Reiterzelle D77 der Erklärung an, ob Sie Due-Diligence-Maßnahmen zur Beschaffung konfliktfreier Mineralien getroffen haben","Responda si ha implementado las medidas de debida diligencia del abastecimiento de minerales libre de conflictos en la pestaña Declaration (Declaración), celda D77","Rispondere se sono state implementate le misure della dovuta diligenza per il conflict-free minerals sourcing nella cella D77 della scheda della Dichiarazione","İhtilafsız maden kaynak edinimi durum tespiti tedbirlerini uygulamaya koyup koymadığınızı Beyan sekmesi hücre D77'de belirtin."]
["CheckerJ51","Checker","J51","Answer if you require smelter's due diligence practices to cover, at a minimum, all risks in the OECD Due Diligence Guidance Annex II Model Policy, as well as the worst forms of child labor, on Declaration tab cell D73","在“申报”选项卡 D73 单元格中回答贵公司是否要求冶炼\n厂的尽职调查实践至少涵盖《经合组织尽职调查指南》附录二《示范政策》中的所有风险以及童工问题的最恶劣形式","貴社が、製錬業者のデューディリジェンスに、OECDデューディリジェンスガイダンスAnnex IIモデル指針の全てのリスク、および最悪の形態の児童労働を最低限包含することを要求する場合は、「申告（Declaration）」タブのD73セルに回答してください","귀사는 제련소의 실사 관행이 최소한 OECD 실사 지침 부속서 II 모델 정책에 포함된 모든 위험뿐만 아니라 최악의 형태의 아동 노동을 다루도록 요구하는지 여부를 신고(Declaration) 탭 셀 D73에 답변하십시오. ","Répondez dans la cellule D79 de l'onglet Déclaration si vous demandez à vos fournisseurs de remplir ce modèle de rapport sur les minéraux en conflit","Responda se você solicita a seus fornecedores que preencham este Modelo de relatório de minerais de conflito na célula D79 da guia Declaração","Geben Sie in der Reiterzelle D79 der Erklärung an, ob Sie von Ihren Lieferanten verlangen, diese Vorlage zur Berichterstattung über Konfliktmineralien auszufüllen","Responda si solicita que sus proveedores llenen esta plantilla de reporte de minerales en conflicto en la pestaña Declaration (Declaración), D79","Rispondere se si richiede ai propri fornitori di completare il Modello del Rapporto sui Minerali del Conflitto nella cella D79 della scheda della Dichiarazione","Tedarikçilerinizin bu İhtilaf Konusu Maden Raporlama Şablonunu doldurmasını şart koşup koşmadığınızı Beyan sekmesi hücre D79'da belirtin."]
["CheckerJ52","Checker","J52",{"$nulls":4},"Répondez dans la cellule D81 de l'onglet Déclaration si vous demandez à vos fournisseurs de vous fournir les noms des fondeurs","Responda se você solicita nomes de fundições aos seus fornecedores na célula D81 da guia Declaração","Geben Sie in der Reiterzelle D81 der Erklärung an, ob Sie von Ihren Lieferanten Namen von Schmelzöfen verlangen","Responda si solicita los nombres de los fundidores de sus proveedores en la pestaña Declaration (Declaración), celda D81","Rispondere se si richiede ai propri fornitori i nomi delle fonderie nella cella D81 della scheda della Dichiarazione","Tedarikçilerinizin izabe tesisi adı vermelerini şart koşup koşmadığınızı Beyan sekmesi hücre D81'de belirtin."]
["CheckerJ53","Checker","J53","Answer if you conduct cobalt supply chain surveys on the declaration tab cell D75","在“申报”选项卡 D75 单元格中回答贵公司是否实施钴供\n应链调查","貴社がコバルト･サプライチェーン調査を実施する場合は、「申告（Declaration）」タブのD75セルに回答してください","귀사가 코발트 공급망 설문조사를 실시하는지 여부를 신고(Declaration) 탭 셀 D75에 답변하십시오. ","Répondez dans la cellule D83 de l'onglet Déclaration si vous validez les réponses de vos fournisseurs par rapport aux attentes de votre entreprise","Responda se você verifica as respostas de seus fornecedores com relação às expectativas da sua empresa na célula D83 da guia Declaração","Geben Sie in der Reiterzelle D83 der Erklärung an, ob Sie Antworten der Lieferanten auf die Anforderungen Ihres Unternehmens überprüfen","Responda si verifica las respuestas de sus proveedores frente a las expectativas de su compañía en la pestaña Declaration (Declaración), celda D83","Rispondere se si verificano le risposte dei propri fornitori rispetto alle aspettative della propria società nella cella D83 della scheda della Dichiarazione","Tedarikçi yanıtlarını şirket beklentileri ile karşılaştırarak doğrulayıp doğrulamadığınızı Beyan sekmesi hücre D83'te belirtin."]
["CheckerJ54","Checker","J54","Answer if you verify responses from your suppliers against your company's expectations on Declaration tab cell D77","在“申报”选项卡 D85 单元格中回答贵公司的验证流程是否包括纠正措施管理","サプライヤーからの回答を貴社の期待と照らして検証する場合は、「申告（Declaration）」タブのD77セルに回答してください","신고(Declaration) 탭의 D77 셀에 귀사의 기대사항과 비교해 귀사의 공급업체로부터의 응답내용을 확인하는지 여부를 답변하십시오. ","Répondez dans la cellule D85 de l'onglet Déclaration si votre processus de validation comprend des actions correctives de la part de la direction","Responda se o seu processo de verificação inclui a gestão de ações corretivas na célula D85 da guia Declaração","Geben Sie in der Reiterzelle D85 der Erklärung an, ob Ihr Prüfungsverfahren ein Abhilfemaßnahmen-Management umfasst","Responda si su proceso de verificación incluye la gestión de medidas correctivas en la pestaña Declaration (Declaración), celda D85","Rispondere se il proprio processo di verifica include la gestione di azioni correttive nella cella D85 della scheda della Dichiarazione","Doğrulama sürecinizin düzeltici eylem yönetimini içerip içermediğini Beyan sekmesi hücre D85'te belirtin."]
["CheckerJ55","Checker","J55","Answer if your verification process includes corrective action management on Declaration tab cell D79","在“申报”选项卡 D87 单元格中回答贵公司是否必须遵守 SEC 披露要求","貴社の検証プロセスに是正措置管理を含む場合は、「申告（Declaration）」タブのD79セルに回答してください","신고(Declaration) 탭의 D79 셀에 귀사의 확인 프로세스에 시정 조치 관리가 포함되어 있는지 여부를 답변하십시오. ","Répondez dans la cellule D87 de l'onglet Déclaration si vous êtes soumis aux exigences de divulgation de la SEC","Responda se você está sujeito à obrigação de divulgação na SEC na célula D87 da guia Declaração","Geben Sie in der Reiterzelle D87 der Erklärung an, ob Sie der Offenlegungspflicht gegenüber der SEC unterliegen","Responda si está sujeto al requerimiento de divulgación de la SEC en la pestaña Declaration (Declaración), celda D87","Rispondere se si è soggetti alla richiesta di Divulgazione della SEC (Security and Exchange Commission) nella cella D87 della scheda della Dichiarazione","SEC Açıklama gerekliliğine tâbi olup olmadığınızı Beyan sekmesi hücre D87'de belirtin."]
["CheckerJ56","Checker","J56","If applicable, provide 1 or more Products or Item Numbers this declaration applies to. From Declaration tab select hyperlink in cell 11H  to enter Product List tab","如果合适，提供此申报所适用的一个或多个产品或项目编号。从“申报”选项卡 11H 单元格中，选择超链接进入“产品列表”选项卡","この申告に該当する製造者の1つ以上の製品または製品番号を「Product List」タブに記入してください。Declarationタブの11HセルのリンクをクリックするとProduct Listタブにつながります","해당할 경우, 이 신고가 적용되는 1개 이상의 제품이나 항목 번호를 제공하십시오. 신고(Declaration) 탭의 11H 셀에서 하이퍼링크를 선택하여 제품 목록(Product List) 탭으로 갑니다. ","Le cas échéant, fournissez un ou plusieurs numéros de produits ou d'articles auxquels cette déclaration s'applique. Dans l'onglet Déclaration, sélectionnez le lien hypertexte de la cellule 11H pour ouvrir l'onglet Liste de produits","Se aplicável, forneça um ou mais Produtos ou Números de itens aos quais esta declaração se aplica. Na guia Declaração, selecione o hiperlink na célula 11H para inserir a guia Lista de produtos","Nennen Sie ggf. ein oder mehr Produkte oder Gegenstandsnummern, auf die diese Erklärung anwendbar ist. Wählen Sie im Erklärungsreiter Hyperlink in Zelle 11H, um den Reiter „Produktliste“ einzugeben","Si corresponde, proporcione uno o más productos o números de artículo a los que se aplica esta declaración. De la pestaña Declaration (Declaración), seleccione el hipervínculo en la celda 11H para ingresar a la pestaña Product List (Lista de productos)","Fornire, se pertinente, 1 o più Prodotti oppure Numeri di Articoli ai quali questa dichiarazione si applica. Dalla scheda della Dichiarazione selezionare l'hyperlink nella cella 11H per inserire la scheda della Lista dei Prodotti","Uygulanabilir ise, bu beyanın geçerli olduğu 1 veya daha fazla Ürün ya da Öğe Numarası sağlayın. Ürün Listesi sekmesine girmek için Beyan sekmesi hücre 11H'den köprü bağlantı seçin"]
["CheckerJ57","Checker","J57","Provide list of cobalt refiners contributing material to supply chain on Smelter List tab","在“冶炼厂目录”选项卡中提供向供应链提供材料的钴冶炼厂目录","サプライチェーンに鉱物を提供しているコバルト製錬業者のリストを、「製錬業者リスト（Smelter List）」タブに記入してください","제련소 목록(Smelter List) 탭에서 공급망에 재료를 공급하는 코발트 제련소 목록을 제공하십시오. ","Saisissez la liste de fondeurs de tantale qui contribuent de manière importante à la chaîne d'approvisionnement sur l'onglet Liste de fondeurs.","Forneça a lista de fundições de tântalo que contribuem com materiais para a cadeia de suprimentos na guia Lista de fundições","Geben Sie im Reiter „Schmelzöfenliste“ eine Liste von Tantalum-Schmelzöfen ein, die Material für die Lieferkette beitragen  ","Proporcione una lista del material de contribución de los fundidores de tántalo a la cadena de suministro de la pestaña Smelter List (Lista de fundidores)","Fornire la lista delle fonderie di tantalio che contribuiscono a fornire il materiale alla catena di fornitura nella scheda della Lista delle Fonderie","İzabe Tesisi Listesi sekmesinde tedarik zincirine materyal katkısı sunan tantal izabe tesislerinin listesini sağlayın"]
["CheckerJ58","Checker","J58",{"$nulls":4},"Saisissez la liste de fondeurs d'étain qui contribuent de manière importante à la chaîne d'approvisionnement sur l'onglet Liste de fondeurs.","Forneça a lista de fundições de estanho que contribuem com materiais para a cadeia de suprimentos na guia Lista de fundições","Geben Sie im Reiter „Schmelzöfenliste“ eine Liste von Zinn-Schmelzöfen ein, die Material für die Lieferkette beitragen  ","Proporcione una lista del material de contribución de los fundidores de estaño a la cadena de suministro de la pestaña Smelter List (Lista de fundidores)","Fornire la lista delle fonderie di stagno che contribuiscono a fornire il materiale alla catena di fornitura nella scheda della Lista delle Fonderie","İzabe Tesisi Listesi sekmesinde tedarik zincirine materyal katkısı sunan kalay izabe tesislerinin listesini sağlayın"]
["CheckerJ59","Checker","J59",{"$nulls":4},"Saisissez la liste de fondeurs d'or qui contribuent de manière importante à la chaîne d'approvisionnement sur l'onglet Liste de fondeurs.","Forneça a lista de fundições de ouro que contribuem com materiais para a cadeia de suprimentos na guia Lista de fundições","Geben Sie im Reiter „Schmelzöfenliste“ eine Liste von Gold-Schmelzöfen ein, die Material für die Lieferkette beitragen  ","Proporcione una lista del material de contribución de los fundidores de oro a la cadena de suministro de la pestaña Smelter List (Lista de fundidores)","Fornire la lista delle fonderie di oro che contribuiscono a fornire il materiale alla catena di fornitura nella scheda della Lista delle Fonderie","İzabe Tesisi Listesi sekmesinde tedarik zincirine materyal katkısı sunan altın izabe tesislerinin listesini sağlayın"]
["CheckerJ60","Checker","J60",{"$nulls":4},"Saisissez une liste de fondeurs de tungstène qui contribuent de manière importante à la chaîne d'approvisionnement sur l'onglet Liste de fondeurs.","Forneça a lista de fundições de tungstênio que contribuem com materiais para a cadeia de suprimentos na guia Lista de fundições","Geben Sie im Reiter „Schmelzöfenliste“ eine Liste von Tungsten-Schmelzöfen ein, die Material für die Lieferkette beitragen  ","Proporcione una lista del material de contribución de los fundidores de tungsteno a la cadena de suministro de la pestaña Smelter List (Lista de fundidores)","Fornire la lista delle fonderie di tungsteno che contribuiscono a fornire il materiale alla catena di fornitura nella scheda della Lista delle Fonderie","İzabe Tesisi Listesi sekmesinde tedarik zincirine materyal katkısı sunan tungsten izabe tesislerinin listesini sağlayın"]
["CheckerJ61","Checker","J61","Please answer Question 1 on Declaration tab","在“申报”选项卡中回答问题 1","Declaration（申告）タブの質問1にお答えください","신고(Declaration) 탭에서 질문 1에 대한 답변을 해주십시오. ","S'il vous plaît répondre aux questions 1 et 2 sur l'onglet Déclaration","Por favor, responda às questões 1 e 2 na guia Declaração","Bitte beantworten Sie die Fragen 1 und 2 auf Erklärung Registerkarte","Por favor conteste las preguntas 1 y 2 de la pestaña Declaración","Si prega di rispondere a domande 1 e 2 nella scheda Dichiarazione","Lütfen Beyan sekmesindeki 1. ve 2. Soruları yanıtlayın"]
["CheckerJ62","Checker","J62",{"$nulls":4},"S'il vous plaît répondre aux questions 1 et 2 sur l'onglet Déclaration","Por favor, responda às questões 1 e 2 na guia Declaração","Bitte beantworten Sie die Fragen 1 und 2 auf Erklärung Registerkarte","Por favor conteste las preguntas 1 y 2 de la pestaña Declaración","Si prega di rispondere a domande 1 e 2 nella scheda Dichiarazione","Lütfen Beyan sekmesindeki 1. ve 2. Soruları yanıtlayın"]
["CheckerJ63","Checker","J63",{"$nulls":4},"S'il vous plaît répondre aux questions 1 et 2 sur l'onglet Déclaration","Por favor, responda às questões 1 e 2 na guia Declaração","Bitte beantworten Sie die Fragen 1 und 2 auf Erklärung Registerkarte","Por favor conteste las preguntas 1 y 2 de la pestaña Declaración","Si prega di rispondere a domande 1 e 2 nella scheda Dichiarazione","Lütfen Beyan sekmesindeki 1. ve 2. Soruları yanıtlayın"]
["CheckerJ64","Checker","J64",{"$nulls":4},"S'il vous plaît répondre aux questions 1 et 2 sur l'onglet Déclaration","Por favor, responda às questões 1 e 2 na guia Declaração","Bitte beantworten Sie die Fragen 1 und 2 auf Erklärung Registerkarte","Por favor conteste las preguntas 1 y 2 de la pestaña Declaración","Si prega di rispondere a domande 1 e 2 nella scheda Dichiarazione","Lütfen Beyan sekmesindeki 1. ve 2. Soruları yanıtlayın"]
[{"$f":"B166&C166","v":"CheckerL57"},"Checker","L57","Please answer Question 1 on Declaration tab. If you answered \"Yes\" and this field is still red, please add cobalt smelters to the smelter list tab.","在“申报”选项卡中回答问题 1","Declaration（申告）タブの質問1にお答えください","신고(Declaration) 탭에서 질문 1에 대한 답변을 해주십시오. ","S'il vous plaît répondre aux questions 1 et 2 sur l'onglet Déclaration","Por favor, responda às questões 1 e 2 na guia Declaração","Bitte beantworten Sie die Fragen 1 und 2 auf Erklärung Registerkarte","Por favor conteste las preguntas 1 y 2 de la pestaña Declaración","Si prega di rispondere a domande 1 e 2 nella scheda Dichiarazione","Lütfen Beyan sekmesindeki 1. ve 2. Soruları yanıtlayın"]
["Product ListA1","Product List","A1","Completion required only if reporting level \"Product (or List of Products)\" selected on the 'Declaration' worksheet.","在“申报“工作表上选择报告等级为“产品（或产品目录）”项时才必须完成此栏。","「Declaration（申告）」シートの申告範囲で「製品」レベルを選択した場合のみ記入が必須となります","신고(Declaration)' 워크시트에서 선택한 \"제품 (또는 제품 목록)\" 수준을 보고하는 경우에만 완료가 필요합니다. ","Champ à compléter uniquement si le périmètre \"Produit (ou liste de produits)\" a été sélectionné dans la feuille 'Déclaration'","Completar somente se o nível do relatório \"Produto (ou lista de produtos)\" for selecionado na folha de cálculo da 'declaração'.","Abschluss nur erforderlich, wenn die Ebene \"Produkt (oder eine Liste von Produkten)\" auf der \"Erklärung\" Arbeitsblatt ausgewählt wurde-","Se requiere completar solamente si el nivel de reporte  \"Producto ( o Lista de productos)\" se selecciona en la pestaña de \"Declaración\".","Campo da compilare solo se  è stato selezionato il livello  \"Prodotto (o lista di prodotti)\" nel foglio \"Dichiarazione\"","Yalnızca 'Beyan' çalışma sayfasında bildirim düzeyi olarak \"Ürün (veya Ürün Listesi)\" seçili olduğunda doldurulması gerekmektedir."]
["Product ListB5","Product List","B5","Manufacturer’s Product Number (*)","制造商产品编号 (*)","製造者の製品番号(*)","제조사의 제품 번호(*)","Référence du produit (*)","Número do produto do fabricante (*)","Produkt- oder Artikelnummer (*)","Numero de producto del manufacturador (*)","Codice del costruttore del prodotto (*)","İmalatçının Ürün Numarası (*)"]
["Product ListC5","Product List","C5","Manufacturer’s Product Name","制造商产品名称","製造者の製品名","제조사의 제품명","Nom du produit","Nome do produto do fabricante","Produkt- oder Artikelbeschreibung","Nombre del producto del manufacturador","Denominazione del costruttore del prodotto","İmalatçının Ürün Adı"]
["Product ListD5","Product List","D5","Comments","备注","備考","의견","Commentaires","Comentários","Kommentare","Comentarios","Commenti","Açıklamalar"]
["GeneralCpy","General","Cpy","© 2020 Responsible Minerals Initiative. All rights reserved.","© 2020 负责任矿物计划。保留所有权利。\n","© 2020 Responsible Minerals Initiative. 無断転載・再配布禁止。","© 2020 Responsible Minerals Initiative. 무단 전재 및 재배포 금지.","© 2020 Responsible Minerals Initiative. Tous droits réservés.","© 2020 Responsible Minerals Initiative. Todos os direitos reservados.","© 2020 Responsible Minerals Initiative. Alle Rechte vorbehalten.","© 2020 Responsible Minerals Initiative. Todos los derechos reservados.","© 2020 Responsible Minerals Initiative. Tutti i diritti riservati.","© 2020 Responsible Minerals Initiative. Tüm hakları saklıdır."]
["GeneralCpy","General"]
[]
["Comments",null,null,"Select your company's Declaration Scope.  The options for scope are:\nA.  Company\nB.  Product-level \nC.  User-Defined\n","选择贵公司的申报范围。范围的选项为：\nA. 公司\nB. 产品级别\nC. 自定义\n","貴社の申告範囲を選択してください。申告範囲の選択肢は以下のとおりです。\nA. Company（会社）\nB. Product-level（製品レベル）\nC. User-Defined（ユーザー定義）","귀사의 선언 범위를 선택하십시오. 선언 범위의 선택사항은 다음과 같습니다:\nA.  회사\nB.  제품 수준 \nC.  사용자 정의","Sélectionnez la portée de la déclaration de votre société. Les options de portée sont les suivantes :\nA. Société\nB. Produit (ou liste de produits)\nC. Définie par l’utilisateur","Selecione o Escopo da Declaração da sua empresa. As opções são:\nA. Empresa\nB. Produto (ou Lista de produtos)\nC. Definido pelo usuário","Wählen Sie den Erklärungsumfang Ihres Unternehmens aus. Die Auswahlmöglichkeiten für den Umfang sind:\nA. Unternehmen\nB. Produkt (oder Produktliste)\nC. Nutzerdefiniert","Seleccione el Enfoque de la declaración de su compañía. Las opciones para el enfoque son:\nA. Compañía\nB. Producto (o lista de productos)\nC. Definido por el usuario","Selezionare il perimetro di dichiarazione dell’Azienda. Le opzioni per il perimetro sono:\nA. Azienda\nB. Prodotto (o lista dei prodotti)\nC. Definito dall’utilizzatore/utente campi","Şirketinizin Beyan Kapsamını seçin. Kapsam seçenekleri aşağıdaki gibidir:\nA. Şirket\nB. Ürün (veya Ürün Listesi)\nC. Kullanıcı Tanımlı\n"]
["Comments",null,null,"Enter a valid email address for contact person here","在这里输入公司代表的有效电邮地址。","連絡先担当者の有効な電子メールアドレスを入力してください","문의담당자 이메일 주소를 기입하시오.","Indiquer l' adresse email valide du contact","Adicione aqui um endereço de email válido para a pessoa de contacto.","Geben Sie hier eine gültige E-mail Adresse für den Ansprechpartner ein","Capture una dirección de email valida del contacto de la compañía aquí","Inserire un indizzo email valido della persona di riferimento","İrtibat kişisi için geçerli e-posta adresini buraya girin"]
["Comments",null,null,"Enter a valid email address for authorizing person here","在这里输入一个公司授权代表的有效电邮地址。","回答責任者の有効な電子メールアドレスを入力してください","정보책임 담당자 이메일 주소를 기입하시오.","Indiquer l' adresse email valide de la personne responsible","Adicione aqui um endereço de email válido para o representante legal da empresa.","Geben Sie eine gültige E-Mail Adresse für die bevollmächtigte Person hier ein","Capture una dirección de email valida del representante legal de la compañía aquí","Inserire un indirizzo email del rappresentante legale della società","İzin yetkilisi için geçerli e-posta adresini buraya girin"]
["Comments",null,null,"Please note the date this form was completed by your company\nDate must be displayed in international format DD-MMM-YYYY\n","请注意贵公司完成此模板的日期。\n日期必须是以日-月-年国际格式来显示。\n","この書類が作成された日付を記入してください\n日付はDD-MMM-YYYYという形式で記述します（例: 01-JAN-2012)\n","문서 작성 완료 날짜를 기입하시오.  날짜는 DD-MMM-YYYY (예: 12-Jul-2012)로 표기하시오.","Merci d'indiquer la date à laquelle ce formulaire a été complété par votre entreprise. La date doit être indiquée au format international : JJ-MMM-AAAA.","Por favor, registe a data em que este formulário  foi preenchido pela sua empresa. A data deve ser apresentada em formato internacional DD-MMM-AAAA.","Bitte geben Sie das Datum an, an dem dieser Fragebogen von ihrer Firma ausgefüllt wurde.\nDas Datum muss im internationalen Format TT-MM-JJJJ  eingegeben werden.\n","Por favor anote la fecha en la cual esta forma se completo\nLa fecha debe ser escrita en el formato internacional  DD-MMM-AAAA\n","Indicare cortesemente la data di compilazione del presente modulo da parte della vostra società. La data deve essere indicata secondo il formato internazionale GG-MM-AAAA","Lütfen şirketinizin bu formu doldurduğu tarihi not edin\nTarih, uluslararası biçimde, GG-AAA-YYYY şeklinde yazılmalıdır\n"]
["Comments",null,null,"From the dropdown choose a response of \"Yes\" or \"No\"","从下拉列表中选择“是” 或 “不是”","ドロップダウンメニューから「Yes（はい）」又は「No（いいえ）」を選択してください","Yes = 예, No = 아니오","Sélectionner \"Yes\" (Oui) ou  \"No\" (Non) dans la liste déroulante","A partir da lista selecione a resposta: \"Sim\" ou \"Não\".","Wählen Sie aus der Drop-down Liste eine Antwort: \"Ja\" oder \"Nein\"","De las opciones elija la respuesta \"Si\" o \"No\" ","Dalle presente lista, scegliete la risposta: \"Si\" o \"No\"","Açılır menüden \"Evet\" veya \"Hayır\" yanıtını seçin"]
["Comments",null,null,"From the dropdown choose a response of \"Yes\", \"No\", or \"Unknown\"","从下拉菜单中选一个回应: “是“，“不是“， 或“不详“","ドロップダウンメニューから、「Yes（はい）」、「No（いいえ）」又は「Unknown（不明）」を選択してください","Yes=예, No=아니오, Unknown= 파악되지 않음","Sélectionner \"Yes\" (Oui) ou  \"No\" (Non) ou \"Unknown\" (Inconnu) dans la liste déroulante","A partir da lista seleccione a resposta \"Sim\", \"Não\", ou \"desconhecido\".","Wählen Sie aus der Drop-down Liste eine Antwort:  \"Ja\", \"Nein\" oder \"Unbekannt\"","Del menú elija una respuesta de \"Si\", \"No\", o \"Desconocido\"","Dalle presente lista, scegliete la risposta: \"Si\", \"No\" o \"Non conosciuto\"","Açılır menüden \"Evet\", \"Hayır\" veya \"Bilinmiyor\" yanıtını seçin"]
["Comments",null,null,"From the dropdown choose a response of: “Yes, 100%”; “No, but greater than 75%”; “No, but greater than 50%”; “No, but greater than 25%”; “ No, but greater than 25%”; or “No, but less than 25%”; or “None”","从下拉菜单中选择一个回应: 是； 不是，但大于75%； 不是，但大于50%；不是，但大于25%；不是，但小于25%； 或 不是，完全没有。","ドロップダウンメニューから、「100%」、「Greater than 90%（90%超）」、「Greater than 75%（75%超）」、「Greater than 50%（50%超）」、「50% or less（50%以下）」又は「None（ゼロ）」を選択してください","드랍다운 메뉴에서 하나를 선택하시오: 예 100%; 아니오 하지만 75% 이상;  아니오 하지만 50% 이상; 아니오 하지만 25% 이상; 아니오 하지만 25% 미만; None = 없음","Dans le menu déroulant, choisir la réponse : Oui, Non mais > 75%, Non mais > 50%, Non mais > 25%, Non mais , 25 % ou Non - Aucun","A partir da lista seleccione a resposta: \"Sim, 100%\"; \"Não, mas superior a 75%\"; \"Não, mas superior a 50%\"; \"Não, mas superior a 25%\"; \"Não, mas inferior a 25%\"; ou \"Nenhum\".","Wählen Sie aus der Drop-down Liste eine Antwort:  \"Ja 100 %\",  \"Nein, aber mehr als 75 %\",  \"Nein, aber mehr als 50 %\",  \"Nein, aber mehr als 25 %\", \" Nein, aber mehr als 25 %\" oder \"Nein, aber weniger als 25 %\" oder \"Nein\"","Del menú elija una respuesta de \"Si, 100%\"; \" No, pero  > 75%\",\" No, pero  > 50%\", \"No, pero  >25%\", \"No, pero < 25%\", o No-ninguno","Dalla presente lista, scegliete la risposta: Si, ma non > 75%, No ma non  > 50%, No ma non  > 25%, No ma non < 25%, or No - niente","Açılır menüden aşağıdaki yanıtlardan birini seçin: “Evet, %100”; “Hayır, ancak %75'ten fazla”; “Hayır, ancak %50'den fazla”; “Hayır, ancak %25'ten fazla”; “Hayır, ancak %25'ten fazla” veya “Hayır, ancak %25'ten az” veya “Hiçbiri”"]

{"sheet":"C","index":9,"n_rows":250,"n_cols":2,"rows_kept":250,"cut":false,"hidden":true,"merged":[]}
["COUNTRY CODE LIST","FULL NAME"]
["AF","AFGHANISTAN"]
["AX","ÅLAND ISLANDS"]
["AL","ALBANIA"]
["DZ","ALGERIA"]
["AS","AMERICAN SAMOA"]
["AD","ANDORRA"]
["AO","ANGOLA"]
["AI","ANGUILLA"]
["AQ","ANTARCTICA"]
["AG","ANTIGUA AND BARBUDA"]
["AR","ARGENTINA"]
["AM","ARMENIA"]
["AW","ARUBA"]
["AU","AUSTRALIA"]
["AT","AUSTRIA"]
["AZ","AZERBAIJAN"]
["BS","BAHAMAS"]
["BH","BAHRAIN"]
["BD","BANGLADESH"]
["BB","BARBADOS"]
["BY","BELARUS"]
["BE","BELGIUM"]
["BZ","BELIZE"]
["BJ","BENIN"]
["BM","BERMUDA"]
["BT","BHUTAN"]
["BO","BOLIVIA (PLURINATIONAL STATE OF)"]
["BQ","BONAIRE, SINT EUSTATIUS AND SABA"]
["BA","BOSNIA AND HERZEGOVINA"]
["BW","BOTSWANA"]
["BV","BOUVET ISLAND"]
["BR","BRAZIL"]
["IO","BRITISH INDIAN OCEAN TERRITORY"]
["BN","BRUNEI DARUSSALAM"]
["BG","BULGARIA"]
["BF","BURKINA FASO"]
["BI","BURUNDI"]
["CV","CABO VERDE"]
["KH","CAMBODIA"]
["CM","CAMEROON"]
["CA","CANADA"]
["KY","CAYMAN ISLANDS"]
["CF","CENTRAL AFRICAN REPUBLIC"]
["TD","CHAD"]
["CL","CHILE"]
["CN","CHINA"]
["CX","CHRISTMAS ISLAND"]
["CC","COCOS (KEELING) ISLANDS"]
["CO","COLOMBIA"]
["KM","COMOROS"]
["CG","CONGO"]
["CD","CONGO, DEMOCRATIC REPUBLIC OF THE"]
["CK","COOK ISLANDS"]
["CR","COSTA RICA"]
["CI","CÔTE D'IVOIRE"]
["HR","CROATIA"]
["CU","CUBA"]
["CW","CURAÇAO"]
["CY","CYPRUS"]
["CZ","CZECHIA"]
["DK","DENMARK"]
["DJ","DJIBOUTI"]
["DM","DOMINICA"]
["DO","DOMINICAN REPUBLIC"]
["EC","ECUADOR"]
["EG","EGYPT"]
["SV","EL SALVADOR"]
["GQ","EQUATORIAL GUINEA"]
["ER","ERITREA"]
["EE","ESTONIA"]
["SZ","ESWATINI"]
["ET","ETHIOPIA"]
["FK","FALKLAND ISLANDS (MALVINAS)"]
["FO","FAROE ISLANDS"]
["FJ","FIJI"]
["FI","FINLAND"]
["FR","FRANCE"]
["GF","FRENCH GUIANA"]
["PF","FRENCH POLYNESIA"]
["TF","FRENCH SOUTHERN TERRITORIES"]
["GA","GABON"]
["GM","GAMBIA"]
["GE","GEORGIA"]
["DE","GERMANY"]
["GH","GHANA"]
["GI","GIBRALTAR"]
["GR","GREECE"]
["GL","GREENLAND"]
["GD","GRENADA"]
["GP","GUADELOUPE"]
["GU","GUAM"]
["GT","GUATEMALA"]
["GG","GUERNSEY"]
["GN","GUINEA"]
["GW","GUINEA-BISSAU"]
["GY","GUYANA"]
["HT","HAITI"]
["HM","HEARD ISLAND AND MCDONALD ISLANDS"]
["VA","HOLY SEE"]
["HN","HONDURAS"]
["HK","HONG KONG"]
["HU","HUNGARY"]
["IS","ICELAND"]
["IN","INDIA"]
["ID","INDONESIA"]
["IR","IRAN (ISLAMIC REPUBLIC OF)"]
["IQ","IRAQ"]
["IE","IRELAND"]
["IM","ISLE OF MAN"]
["IL","ISRAEL"]
["IT","ITALY"]
["JM","JAMAICA"]
["JP","JAPAN"]
["JE","JERSEY"]
["JO","JORDAN"]
["KZ","KAZAKHSTAN"]
["KE","KENYA"]
["KI","KIRIBATI"]
["KP","KOREA (DEMOCRATIC PEOPLE'S REPUBLIC OF)"]
["KR","KOREA, REPUBLIC OF"]
["KW","KUWAIT"]
["KG","KYRGYZSTAN"]
["LA","LAO PEOPLE'S DEMOCRATIC REPUBLIC"]
["LV","LATVIA"]
["LB","LEBANON"]
["LS","LESOTHO"]
["LR","LIBERIA"]
["LY","LIBYA"]
["LI","LIECHTENSTEIN"]
["LT","LITHUANIA"]
["LU","LUXEMBOURG"]
["MO","MACAO"]
["MK","MACEDONIA, THE FORMER YUGOSLAV REPUBLIC OF"]
["MG","MADAGASCAR"]
["MW","MALAWI"]
["MY","MALAYSIA"]
["MV","MALDIVES"]
["ML","MALI"]
["MT","MALTA"]
["MH","MARSHALL ISLANDS"]
["MQ","MARTINIQUE"]
["MR","MAURITANIA"]
["MU","MAURITIUS"]
["YT","MAYOTTE"]
["MX","MEXICO"]
["FM","MICRONESIA (FEDERATED STATES OF)"]
["MD","MOLDOVA, REPUBLIC OF"]
["MC","MONACO"]
["MN","MONGOLIA"]
["ME","MONTENEGRO"]
["MS","MONTSERRAT"]
["MA","MOROCCO"]
["MZ","MOZAMBIQUE"]
["MM","MYANMAR"]
["NA","NAMIBIA"]
["NR","NAURU"]
["NP","NEPAL"]
["NL","NETHERLANDS"]
["NC","NEW CALEDONIA"]
["NZ","NEW ZEALAND"]
["NI","NICARAGUA"]
["NE","NIGER"]
["NG","NIGERIA"]
["NU","NIUE"]
["NF","NORFOLK ISLAND"]
["MP","NORTHERN MARIANA ISLANDS"]
["NO","NORWAY"]
["OM","OMAN"]
["PK","PAKISTAN"]
["PW","PALAU"]
["PS","PALESTINE, STATE OF"]
["PA","PANAMA"]
["PG","PAPUA NEW GUINEA"]
["PY","PARAGUAY"]
["PE","PERU"]
["PH","PHILIPPINES"]
["PN","PITCAIRN"]
["PL","POLAND"]
["PT","PORTUGAL"]
["PR","PUERTO RICO"]
["QA","QATAR"]
["RE","RÉUNION"]
["RO","ROMANIA"]
["RU","RUSSIAN FEDERATION"]
["RW","RWANDA"]
["BL","SAINT BARTHÉLEMY"]
["SH","SAINT HELENA, ASCENSION AND TRISTAN DA CUNHA"]
["KN","SAINT KITTS AND NEVIS"]
["LC","SAINT LUCIA"]
["MF","SAINT MARTIN (FRENCH PART)"]
["PM","SAINT PIERRE AND MIQUELON"]
["VC","SAINT VINCENT AND THE GRENADINES"]
["WS","SAMOA"]
["SM","SAN MARINO"]
["ST","SAO TOME AND PRINCIPE"]
["SA","SAUDI ARABIA"]
["SN","SENEGAL"]
["RS","SERBIA"]
["SC","SEYCHELLES"]
["SL","SIERRA LEONE"]
["SG","SINGAPORE"]
["SX","SINT MAARTEN (DUTCH PART)"]
["SK","SLOVAKIA"]
["SI","SLOVENIA"]
["SB","SOLOMON ISLANDS"]
["SO","SOMALIA"]
["ZA","SOUTH AFRICA"]
["GS","SOUTH GEORGIA AND THE SOUTH SANDWICH ISLANDS"]
["SS","SOUTH SUDAN"]
["ES","SPAIN"]
["LK","SRI LANKA"]
["SD","SUDAN"]
["SR","SURINAME"]
["SJ","SVALBARD AND JAN MAYEN"]
["SE","SWEDEN"]
["CH","SWITZERLAND"]
["SY","SYRIAN ARAB REPUBLIC"]
["TW","TAIWAN, PROVINCE OF CHINA"]
["TJ","TAJIKISTAN"]
["TZ","TANZANIA, UNITED REPUBLIC OF"]
["TH","THAILAND"]
["TL","TIMOR-LESTE"]
["TG","TOGO"]
["TK","TOKELAU"]
["TO","TONGA"]
["TT","TRINIDAD AND TOBAGO"]
["TN","TUNISIA"]
["TR","TURKEY"]
["TM","TURKMENISTAN"]
["TC","TURKS AND CAICOS ISLANDS"]
["TV","TUVALU"]
["UG","UGANDA"]
["UA","UKRAINE"]
["AE","UNITED ARAB EMIRATES"]
["GB","UNITED KINGDOM OF GREAT BRITAIN AND NORTHERN  IRELAND"]
["UM","UNITED STATES MINOR OUTLYING ISLANDS"]
["US","UNITED STATES OF AMERICA"]
["UY","URUGUAY"]
["UZ","UZBEKISTAN"]
["VU","VANUATU"]
["VE","VENEZUELA (BOLIVARIAN REPUBLIC OF)"]
["VN","VIET NAM"]
["VG","VIRGIN ISLANDS (BRITISH)"]
["VI","VIRGIN ISLANDS (U.S.)"]
["WF","WALLIS AND FUTUNA"]
["EH","WESTERN SAHARA *"]
["YE","YEMEN"]
["ZM","ZAMBIA"]
["ZW","ZIMBABWE"]

{"sheet":"SorP","index":10,"n_rows":6230,"n_cols":2,"rows_kept":6230,"cut":false,"hidden":true,"merged":[]}
["Code","State / Province Name"]
["YE-AD","‘Adan"]
["JO-AJ","‘Ajlūn"]
["AE-AJ","‘Ajmān"]
["LB-AK","‘Akkār"]
["DJ-AS","‘Alī Şabīḩ"]
["YE-AM","‘Amrān"]
["ER-AN","‘Anseba"]
["DJ-AR","‘Artā"]
["ES-C","A Coruña [La Coruña]"]
["LB-AK","Aakkâr"]
["WS-AA","A'ana"]
["WS-AA","A'ana"]
["CH-AG","Aargau"]
["GB-ABE","Aberdeen City"]
["GB-ABD","Aberdeenshire"]
["NG-AB","Abia"]
["CI-AB","Abidjan"]
["UG-314","Abim"]
["GE-AB","Abkhazia"]
["PH-ABR","Abra"]
["PH-ABR","Abra"]
["IT-65","Abruzzo"]
["AZ-ABS","Abşeron"]
["AE-AZ","Abū Z̧aby"]
["NG-FC","Abuja Federal Capital Territory"]
["YE-AB","Abyan"]
["ID-AC","Aceh"]
["BS-AK","Acklins"]
["SM-01","Acquaviva"]
["BR-AC","Acre"]
["OM-DA","Ad Dākhilīyah"]
["YE-DA","Aḑ Ḑāli‘"]
["EG-DK","Ad Daqahlīyah"]
["QA-DA","Ad Dawḩah"]
["CM-AD","Adamaoua"]
["CM-AD","Adamaoua"]
["NG-AD","Adamawa"]
["TR-01","Adana"]
["LV-011","Ādažu novads"]
["ET-AA","Addis Ababa"]
["MV-01","Addu"]
["MV-01","Addu City"]
["ET-AA","Ādīs Ābeba"]
["TR-02","Adıyaman"]
["UG-301","Adjumani"]
["DZ-01","Adrar"]
["MR-07","Adrar"]
["RU-AD","Adygeja, Respublika"]
["RU-AD","Adygeya, Respublika"]
["MH-ALK","Aelok"]
["MH-ALL","Aelōn̄ḷapḷap"]
["ET-AF","Afar"]
["ET-AF","Āfar"]
["TR-03","Afyonkarahisar"]
["NE-1","Agadez"]
["MA-AGD","Agadir-Ida-Ou-Tanane"]
["UG-322","Agago"]
["MU-AG","Agalega Islands"]
["AZ-AGC","Ağcabədi"]
["AZ-AGM","Ağdam"]
["AZ-AGS","Ağdaş"]
["GR-69","Ágion Óros"]
["LV-001","Aglonas novads"]
["TR-04","Ağrı"]
["IT-AG","Agrigento"]
["AZ-AGA","Ağstafa"]
["AZ-AGU","Ağsu"]
["MX-AGU","Aguascalientes"]
["PH-AGN","Agusan del Norte"]
["PH-AGS","Agusan del Sur"]
["TM-A","Ahal"]
["SV-AH","Ahuachapán"]
["FI-01","Ahvenanmaan maakunta"]
["JP-23","Aichi"]
["WS-AL","Aiga-i-le-Tai"]
["WS-AL","Aiga-i-le-Tai"]
["TL-AL","Aileu"]
["TL-AL","Aileu"]
["MH-ALL","Ailinglaplap"]
["MH-ALK","Ailuk"]
["PW-002","Aimeliik"]
["PW-002","Aimeliik"]
["FR-01","Ain"]
["DZ-44","Aïn Defla"]
["DZ-46","Aïn Témouchent"]
["TL-AN","Ainaro"]
["TL-AN","Ainaru"]
["PW-004","Airai"]
["PW-004","Airai"]
["CL-AI","Aisén del General Carlos Ibañez del Campo"]
["FR-02","Aisne"]
["JP-23","Aiti"]
["NR-01","Aiwo"]
["NR-01","Aiwo"]
["LV-002","Aizkraukles novads"]
["LV-003","Aizputes novads"]
["GE-AJ","Ajaria"]
["SI-001","Ajdovščina"]
["NO-02","Akershus"]
["NO-02","Akershus"]
["JP-05","Akita"]
["PH-AKL","Aklan"]
["PH-AKL","Aklan"]
["LT-01","Akmenė"]
["KZ-AKM","Akmolinskaja oblast'"]
["KZ-AKM","Akmolinskaya oblast'"]
["LV-004","Aknīstes novads"]
["TR-68","Aksaray"]
["KZ-AKT","Aktjubinskaja oblast'"]
["KZ-AKT","Aktyubinskaya oblast'"]
["NG-AK","Akwa Ibom"]
["JO-AQ","Al ‘Aqabah"]
["BH-13","Al ‘Āşimah"]
["KW-KU","Al ‘Āşimah"]
["JO-AM","Al ‘A̅şimah"]
["KW-AH","Al Aḩmadī"]
["IQ-AN","Al Anbār"]
["ER-MA","Al Awsaţ"]
["IL-M","Al Awsaţ"]
["SA-11","Al Bāḩah"]
["EG-BA","Al Baḩr al Aḩmar"]
["SD-RS","Al Baḩr al Aḩmar"]
["JO-BA","Al Balqā’"]
["IQ-BA","Al Başrah"]
["TD-BA","Al Baţḩah"]
["YE-BA","Al Bayḑā’"]
["LB-BI","Al Biqā‘"]
["EG-BH","Al Buḩayrah"]
["TD-LC","Al Buḩayrah"]
["OM-BU","Al Buraymī"]
["LY-BU","Al Buţnān"]
["KW-FA","Al Farwānīyah"]
["EG-FYM","Al Fayyūm"]
["AE-FU","Al Fujayrah"]
["EG-GH","Al Gharbīyah"]
["MA-HAO","Al Haouz"]
["SY-HA","Al Ḩasakah"]
["MA-HOC","Al Hoceïma"]
["YE-HU","Al Ḩudaydah"]
["SA-08","Al Ḩudūd ash Shamālīyah"]
["EG-ALX","Al Iskandarīyah"]
["EG-IS","Al Ismā'īlīyah"]
["LY-JA","Al Jabal al Akhḑar"]
["LY-JG","Al Jabal al Gharbī"]
["LY-JI","Al Jafārah"]
["KW-JA","Al Jahrā’"]
["LB-JA","Al Janūb"]
["ER-DU","Al Janūbī"]
["IL-D","Al Janūbī"]
["BH-14","Al Janūbīyah"]
["SA-12","Al Jawf"]
["YE-JA","Al Jawf"]
["SD-GZ","Al Jazīrah"]
["EG-GZ","Al Jīzah"]
["LY-JU","Al Jufrah"]
["JO-KA","Al Karak"]
["PS-HBN","Al Khalīl"]
["SD-KH","Al Kharţūm"]
["QA-KH","Al Khawr wa adh Dhakhīrah"]
["LY-KF","Al Kufrah"]
["SY-LA","Al Lādhiqīyah"]
["SA-03","Al Madīnah al Munawwarah"]
["JO-MA","Al Mafraq"]
["YE-MR","Al Mahrah"]
["YE-MW","Al Maḩwīt"]
["LY-MJ","Al Marj"]
["LY-MB","Al Marqab"]
["EG-MNF","Al Minūfīyah"]
["EG-MN","Al Minyā"]
["BH-15","Al Muḩarraq"]
["IQ-MU","Al Muthanná"]
["SD-GD","Al Qaḑārif"]
["IQ-QA","Al Qādisīyah"]
["EG-C","Al Qāhirah"]
["EG-KB","Al Qalyūbīyah"]
["SA-05","Al Qaşīm"]
["IL-JM","Al Quds"]
["PS-JEM","Al Quds"]
["SY-QU","Al Qunayţirah"]
["EG-LX","Al Uqşur"]
["EG-WAD","Al Wādī al Jadīd"]
["LY-WA","Al Wāḩāt"]
["QA-WA","Al Wakrah"]
["OM-WU","Al Wusţá"]
["US-AL","Alabama"]
["ES-A","Alacant*"]
["BR-AL","Alagoas"]
["CR-A","Alajuela"]
["US-AK","Alaska"]
["ES-VI","Álava"]
["RO-AB","Alba"]
["ES-AB","Albacete"]
["PH-ALB","Albay"]
["PH-ALB","Albay"]
["CA-AB","Alberta"]
["CA-AB","Alberta"]
["IR-32","Alborz"]
["UG-323","Alebtong"]
["IT-AL","Alessandria"]
["DZ-16","Alger"]
["DJ-AS","Ali Sabieh"]
["BJ-AL","Alibori"]
["ES-A","Alicante"]
["FR-03","Allier"]
["KZ-ALM","Almatinskaja oblast'"]
["KZ-ALM","Almatinskaya oblast'"]
["KZ-ALA","Almaty"]
["KZ-ALA","Almaty"]
["KZ-ALA","Almaty"]
["KZ-ALM","Almaty oblysy"]
["ES-AL","Almería"]
["WF-AL","Alo"]
["LV-005","Alojas novads"]
["FR-04","Alpes-de-Haute-Provence"]
["FR-06","Alpes-Maritimes"]
["LV-006","Alsungas novads"]
["GT-AV","Alta Verapaz"]
["RU-AL","Altaj, Respublika"]
["RU-ALT","Altajskij kraj"]
["RU-AL","Altay, Respublika"]
["RU-ALT","Altayskiy kray"]
["PY-16","Alto Paraguay"]
["PY-10","Alto Paraná"]
["LV-007","Alūksnes novads"]
["LT-AL","Alytaus apskritis"]
["LT-02","Alytaus miestas"]
["LT-03","Alytus"]
["RW-03","Amajyaruguru"]
["RW-05","Amajyepfo"]
["PY-13","Amambay"]
["YE-SA","Amānat al ‘Āşimah [city]"]
["BR-AP","Amapá"]
["ET-AM","Amara"]
["ET-AM","Āmara"]
["PE-AMA","Amarumayu"]
["PE-AMA","Amasunu"]
["TR-05","Amasya"]
["LV-008","Amatas novads"]
["BR-AM","Amazonas"]
["CO-AMA","Amazonas"]
["PE-AMA","Amazonas"]
["VE-Z","Amazonas"]
["US-AS","American Samoa (see also separate country code entry under AS)"]
["CY-04","Ammochostos"]
["TH-37","Amnat Charoen"]
["UG-315","Amolatar"]
["LK-33","Ampāntōṭṭai"]
["LK-52","Ampara"]
["LK-52","Ampāra"]
["LK-52","Ampāṟai"]
["UG-324","Amudat"]
["UG-216","Amuria"]
["RU-AMU","Amurskaja oblast'"]
["RU-AMU","Amurskaya oblast'"]
["UG-316","Amuru"]
["IE-CN","An Cabhán"]
["IE-CE","An Clár"]
["VN-44","An Giang"]
["IE-WH","An Iarmhí"]
["IE-LD","An Longfort"]
["IE-MH","An Mhí"]
["IE-M","An Mhumhain"]
["LB-NA","An Nabaţīyah"]
["IQ-NA","An Najaf"]
["SD-NW","An Nīl al Abyaḑ"]
["SD-NB","An Nīl al Azraq"]
["LY-NQ","An Nuqāţ al Khams"]
["NR-02","Anabar"]
["NR-02","Anabar"]
["NG-AN","Anambra"]
["GR-A","Anatolikí Makedonía kai Thráki"]
["PE-ANC","Ancash"]
["IT-AN","Ancona"]
["ES-AN","Andalucía"]
["IN-AN","Andaman and Nicobar Islands"]
["IN-AP","Andhra Pradesh"]
["UZ-AN","Andijon"]
["KM-G","Andjazîdja"]
["KM-A","Andjouân"]
["AD-07","Andorra la Vella"]
["ME-01","Andrijevica"]
["MD-AN","Anenii Noi"]
["NR-03","Anetan"]
["NR-03","Anetan"]
["MH-ENI","Ānewetak & Wūjlan̄"]
["TH-15","Ang Thong"]
["PW-010","Angaur"]
["PW-010","Angaur"]
["GB-ANS","Angus"]
["CN-AH","Anhui Sheng"]
["NR-04","Anibare"]
["NR-04","Anibare"]
["KM-G","Anjazījah"]
["KM-A","Anjouan"]
["KM-A","Anjwān"]
["TR-06","Ankara"]
["SI-213","Ankaran"]
["PE-ANC","Ankashu"]
["DZ-23","Annaba"]
["GQ-AN","Annobon"]
["GQ-AN","Annobón"]
["GQ-AN","Ano Bom"]
["PE-ANC","Anqash"]
["SC-02","Ans Bwalo"]
["SC-03","Ans Etwal"]
["SC-01","Ans o Pen"]
["SC-05","Ans Royal"]
["ER-AN","Ansabā"]
["SC-01","Anse aux Pins"]
["SC-01","Anse aux Pins"]
["SC-02","Anse Boileau"]
["SC-02","Anse Boileau"]
["SC-03","Anse Etoile"]
["SC-03","Anse Étoile"]
["LC-01","Anse la Raye"]
["SC-05","Anse Royale"]
["SC-05","Anse Royale"]
["TR-07","Antalya"]
["MG-T","Antananarivo"]
["PH-ANT","Antike"]
["CO-ANT","Antioquia"]
["PH-ANT","Antique"]
["CL-AN","Antofagasta"]
["GB-ANN","Antrim and Newtownabbey"]
["MG-D","Antsiranana"]
["BE-VAN","Antwerpen"]
["LK-71","Anuradhapura"]
["LK-71","Anurādhapura"]
["LK-71","Anurātapuram"]
["LT-04","Anykščiai"]
["VE-B","Anzoátegui"]
["CN-MO","Aomen Tebiexingzhengqu (see also separate country code entry under MO)"]
["JP-02","Aomori"]
["IT-AO","Aosta"]
["IT-AO","Aoste"]
["MA-AOU","Aousserd (EH)"]
["UG-302","Apac"]
["SI-195","Apače"]
["PH-APA","Apayao"]
["PH-APA","Apayaw"]
["LV-009","Apes novads"]
["CH-AR","Appenzell Ausserrhoden"]
["CH-AI","Appenzell Innerrhoden"]
["VE-C","Apure"]
["PE-APU","Apurímac"]
["PE-APU","Apurimaq"]
["PE-APU","Apurimaq"]
["KZ-AKM","Aqmola oblysy"]
["KZ-AKT","Aqtöbe oblysy"]
["SY-RA","Ar Raqqah"]
["QA-RA","Ar Rayyān"]
["SA-01","Ar Riyāḑ"]
["ES-VI","Araba*"]
["MK-02","Aračinovo"]
["RO-AR","Arad"]
["AM-AG","Aragac̣otn"]
["ES-AR","Aragón"]
["VE-D","Aragua"]
["AM-AR","Ararat"]
["CO-ARA","Arauca"]
["IQ-AR","Arbīl"]
["IR-03","Ardabīl"]
["TR-75","Ardahan"]
["FR-07","Ardèche"]
["FR-08","Ardennes"]
["GB-AND","Ards and North Down"]
["PE-ARE","Arequipa"]
["IT-AR","Arezzo"]
["RO-AG","Argeș"]
["GB-AGB","Argyll and Bute"]
["MN-073","Arhangay"]
["RU-ARK","Arhangel'skaja oblast'"]
["MV-00","Ariatholhu Dhekunuburi"]
["MV-02","Ariatholhu Uthuruburi"]
["CL-AP","Arica y Parinacota"]
["FR-09","Ariège"]
["PS-JRH","Arīḩā wal Aghwār"]
["PE-ARE","Arikipa"]
["TT-ARI","Arima"]
["PE-ARE","Ariqipa"]
["US-AZ","Arizona"]
["US-AR","Arkansas"]
["YE-SU","Arkhabīl Suquţrá"]
["RU-ARK","Arkhangel'skaya oblast'"]
["GB-ABC","Armagh, Banbridge and Craigavon"]
["AM-AV","Armavir"]
["MH-ARN","Arno"]
["MH-ARN","Arṇo"]
["DJ-AR","Arta"]
["CU-15","Artemisa"]
["HT-AR","Artibonite"]
["UY-AR","Artigas"]
["TR-08","Artvin"]
["UG-303","Arua"]
["NL-AW","Aruba (see also separate country code entry under AW)"]
["IN-AR","Arunachal Pradesh"]
["TZ-01","Arusha"]
["IQ-SU","As Sulaymānīyah"]
["SY-SU","As Suwaydā'"]
["EG-SUZ","As Suways"]
["SH-AC","Ascension"]
["IT-AP","Ascoli Piceno"]
["TM-S","Aşgabat"]
["QA-MS","Ash Shamāl"]
["IL-Z","Ash Shamālī"]
["BH-17","Ash Shamālīyah"]
["SD-NO","Ash Shamālīyah"]
["AE-SH","Ash Shāriqah"]
["EG-SHR","Ash Sharqīyah"]
["SA-04","Ash Sharqīyah"]
["QA-SH","Ash Shīḩānīyah"]
["LB-AS","Ash Shimāl"]
["GH-AH","Ashanti"]
["SA-14","'Asīr"]
["MR-03","Assaba"]
["IN-AS","Assam"]
["MA-ASZ","Assa-Zag (EH-partial)"]
["KZ-AST","Astana"]
["KZ-AST","Astana"]
["KZ-AST","Astana"]
["AZ-AST","Astara"]
["IT-AT","Asti"]
["RU-AST","Astrahanskaja oblast'"]
["RU-AST","Astrakhanskaya oblast'"]
["ES-O","Asturias"]
["ES-AS","Asturias, Principado de"]
["PY-ASU","Asunción"]
["EG-ASN","Aswān"]
["EG-AST","Asyūţ"]
["JO-AT","Aţ Ţafīlah"]
["CL-AT","Atacama"]
["BJ-AK","Atacora"]
["CO-ATL","Atlántico"]
["HN-AT","Atlántida"]
["BJ-AQ","Atlantique"]
["LA-AT","Attapu"]
["MT-01","Attard"]
["MT-01","Attard"]
["GR-I","Attikí"]
["WS-AT","Atua"]
["WS-AT","Atua"]
["KZ-ATY","Atyraū oblysy"]
["KZ-ATY","Atyrauskaja oblast'"]
["KZ-ATY","Atyrauskaya oblast'"]
["SC-04","Au Cap"]
["SC-04","Au Cap"]
["FR-10","Aube"]
["LV-010","Auces novads"]
["NZ-AUK","Auckland"]
["FR-11","Aude"]
["MH-AUR","Aur"]
["MH-AUR","Aur"]
["PH-AUR","Aurora"]
["PH-AUR","Aurora"]
["NO-09","Aust-Agder"]
["NO-09","Aust-Agder"]
["AU-ACT","Australian Capital Territory"]
["IS-7","Austurland"]
["PH-14","Autonomous Region in Muslim Mindanao (ARMM)"]
["FR-ARA","Auvergne-Rhône-Alpes"]
["GL-AV","Avannaata Kommunia"]
["PT-01","Aveiro"]
["IT-AV","Avellino"]
["FR-12","Aveyron"]
["ES-AV","Ávila"]
["UA-43","Avtonomna Respublika Krym"]
["DJ-OB","Awbūk"]
["SO-AW","Awdal"]
["PE-AYA","Ayacucho"]
["PE-AYA","Ayakuchu"]
["PE-AYA","Ayaquchu"]
["TR-09","Aydın"]
["MM-07","Ayeyarwady"]
["QA-ZA","Az̧ Z̧a‘āyin"]
["OM-ZA","Az̧ Z̧āhirah"]
["JO-AZ","Az Zarqā’"]
["LY-ZA","Az Zāwiyah"]
["PK-JK","Azad Jammu and Kashmir"]
["PK-JK","Āzād Jammūñ o Kashmīr"]
["IR-02","Āz̄ārbāyjān-e Ghārbī"]
["IR-01","Āz̄ārbāyjān-e Shārqī"]
["MA-AZI","Azilal"]
["DO-02","Azua"]
["EC-A","Azuay"]
["LB-BH","B‘alabak-Al Hirmil"]
["FJ-01","Ba"]
["VN-43","Bà Rịa - Vũng Tàu"]
["LB-BH","Baalbek-Hermel"]
["KH-2","Baat Dambang"]
["AZ-BAB","Babək"]
["IQ-BB","Bābil"]
["LV-012","Babītes novads"]
["VN-54","Bắc Giang"]
["VN-53","Bắc Kạn"]
["VN-55","Bạc Liêu"]
["VN-56","Bắc Ninh"]
["RO-BC","Bacău"]
["HU-BK","Bács-Kiskun"]
["ES-BA","Badajoz"]
["AF-BDS","Badakhshān"]
["AF-BDS","Badakhshān"]
["DE-BW","Baden-Württemberg"]
["AF-BDG","Bādghīs"]
["AF-BDG","Bādghīs"]
["LK-81","Badulla"]
["LK-81","Badulla"]
["CY-05","Baf"]
["GW-BA","Bafatá"]
["BD-05","Bagerhat"]
["IQ-BG","Baghdād"]
["AF-BGL","Baghlān"]
["AF-BGL","Baghlān"]
["NP-BA","Bagmati"]
["MM-02","Bago"]
["BR-BA","Bahia"]
["TD-BG","Baḩr al Ghazāl"]
["TD-BG","Bahr el Ghazal"]
["SC-06","Baie Lazare"]
["SC-06","Baie Lazare"]
["SC-07","Baie Sainte Anne"]
["SC-07","Baie Sainte-Anne"]
["IE-D","Baile Átha Cliath"]
["NR-05","Baitsi"]
["NR-05","Baitsi"]
["MX-BCN","Baja California"]
["MX-BCS","Baja California Sur"]
["GT-BV","Baja Verapaz"]
["KZ-BAY","Bajkonyr"]
["UM-81","Baker Island"]
["AZ-BA","Bakı"]
["SO-BK","Bakool"]
["MW-BA","Balaka"]
["MW-BA","Balaka"]
["AZ-BAL","Balakən"]
["LV-013","Baldones novads"]
["BF-BAL","Balé"]
["ES-PM","Balears [Baleares]"]
["ID-BA","Bali"]
["TR-10","Balıkesir"]
["TM-B","Balkan"]
["AF-BAL","Balkh"]
["AF-BAL","Balkh"]
["PK-BA","Balochistan"]
["PK-BA","Balōchistān"]
["MD-BA","Bălți"]
["LV-014","Baltinavas novads"]
["LV-015","Balvu novads"]
["MT-02","Balzan"]
["MT-02","Balzan"]
["LI-01","Balzers"]
["BF-BAM","Bam"]
["ML-BKO","Bamako"]
["CF-BB","Bamïngï-Bangoran"]
["CF-BB","Bamingui-Bangoran"]
["AF-BAM","Bāmyān"]
["AF-BAM","Bāmyān"]
["SO-BN","Banaadir"]
["BD-01","Bandarban"]
["LY-BA","Banghāzī"]
["CF-BGF","Bangî"]
["CF-BGF","Bangui"]
["EG-BNS","Banī Suwayf"]
["GM-B","Banjul"]
["SK-BC","Banskobystrický kraj"]
["KH-1","Banteay Mean Chey"]
["KH-1","Bântéay Méanchey"]
["ID-BT","Banten"]
["BF-BAN","Banwa"]
["DO-03","Baoruco"]
["ME-02","Bar"]
["DO-04","Barahona"]
["HU-BA","Baranya"]
["AG-10","Barbuda"]
["ES-B","Barcelona [Barcelona]"]
["BD-02","Barguna"]
["IT-BA","Bari"]
["SO-BR","Bari"]
["GY-BA","Barima-Waini"]
["VE-E","Barinas"]
["KE-01","Baringo"]
["BD-A","Barisal"]
["BD-06","Barisal"]
["GB-BDG","Barking and Dagenham"]
["IT-BT","Barletta-Andria-Trani"]
["GB-BNE","Barnet"]
["GB-BNS","Barnsley"]
["TR-74","Bartın"]
["MD-BS","Basarabeasca"]
["CH-BL","Basel-Landschaft"]
["CH-BS","Basel-Stadt"]
["RU-BA","Bashkortostan, Respublika"]
["PH-BAS","Basilan"]
["PH-BAS","Basilan"]
["IT-77","Basilicata"]
["RU-BA","Baškortostan, Respublika"]
["LK-1","Basnāhira paḷāta"]
["FR-67","Bas-Rhin"]
["CI-BS","Bas-Sassandra"]
["CF-BK","Basse-Kotto"]
["CD-BU","Bas-Uélé"]
["PH-BAN","Bataan"]
["PH-BAN","Bataan"]
["PH-BTN","Batanes"]
["PH-BTN","Batanes"]
["PH-BTG","Batangas"]
["PH-BTG","Batangas"]
["KH-2","Bătdâmbâng"]
["GB-BAS","Bath and North East Somerset"]
["TD-BA","Batha"]
["KG-B","Batken"]
["KG-B","Batkenskaja oblast'"]
["KG-B","Batkenskaya oblast'"]
["TR-72","Batman"]
["DZ-05","Batna"]
["LK-51","Batticaloa"]
["KZ-ZAP","Batys Qazaqstan oblysy"]
["TL-BA","Baucau"]
["NG-BA","Bauchi"]
["TL-BA","Baukau"]
["LV-016","Bauskas novads"]
["SO-BY","Bay"]
["NZ-BOP","Bay of Plenty"]
["MN-069","Bayanhongor"]
["MN-071","Bayan-Ölgiy"]
["TR-69","Bayburt"]
["NG-BY","Bayelsa"]
["DE-BY","Bayern"]
["KZ-BAY","Baykonyr"]
["KZ-BAY","Bayqongyr"]
["LB-BA","Bayrūt"]
["PS-BTH","Bayt Laḩm"]
["BF-BAZ","Bazèga"]
["SC-06","Be Lazar"]
["SC-07","Be Sent Ann"]
["MU-BR","Beau Bassin-Rose Hill"]
["SC-08","Beau Vallon"]
["SC-08","Beau Vallon"]
["DZ-08","Béchar"]
["GB-BDF","Bedford"]
["CN-BJ","Beijing Shi"]
["PT-02","Beja"]
["TN-31","Béja"]
["DZ-06","Béjaïa"]
["HU-BE","Békés"]
["HU-BC","Békéscsaba"]
["SC-09","Bel Air"]
["SC-09","Bel Air"]
["SC-10","Bel Ombre"]
["SC-10","Bel Ombre"]
["BN-BE","Belait"]
["BN-BE","Belait"]
["SC-09","Beler"]
["GB-BFS","Belfast"]
["RU-BEL","Belgorodskaja oblast'"]
["RU-BEL","Belgorodskaya oblast'"]
["BZ-BZ","Belize"]
["IT-BL","Belluno"]
["SC-10","Belonm"]
["SI-002","Beltinci"]
["TN-13","Ben Arous"]
["VN-50","Bến Tre"]
["MD-BD","Bender [Tighina]"]
["SI-148","Benedikt"]
["CZ-201","Benešov"]
["IT-BN","Benevento"]
["PH-BEN","Benget"]
["ID-BE","Bengkulu"]
["AO-BGO","Bengo"]
["AO-BGU","Benguela"]
["PH-BEN","Benguet"]
["MA-BEM","Béni Mellal"]
["MA-05","Béni Mellal-Khénifra"]
["ET-BE","Benshangul-Gumaz"]
["MA-BES","Benslimane"]
["NG-BE","Benue"]
["RS-00","Beograd"]
["LB-BI","Béqaa"]
["ME-03","Berane"]
["AL-01","Berat"]
["AZ-BAR","Bərdə"]
["LS-D","Berea"]
["LS-D","Berea"]
["IT-BG","Bergamo"]
["MA-BER","Berkane"]
["DE-BE","Berlin"]
["CH-BE","Bern"]
["CH-BE","Berne"]
["CZ-202","Beroun"]
["MK-03","Berovo"]
["MA-BRR","Berrechid"]
["BS-BY","Berry Islands"]
["PS-BTH","Bethlehem"]
["LV-017","Beverīnas novads"]
["GB-BEX","Bexley"]
["GN-BE","Beyla"]
["AZ-BEY","Beyləqan"]
["LB-BA","Beyrouth"]
["NP-BH","Bheri"]
["BD-07","Bhola"]
["PH-05","Bicol (Region V)"]
["AO-BIE","Bié"]
["IT-BI","Biella"]
["IN-BR","Bihar"]
["RO-BH","Bihor"]
["ME-04","Bijelo Polje"]
["MH-KIL","Bikini & Kili"]
["TR-11","Bilecik"]
["AZ-BIL","Biləsuvar"]
["PH-BIL","Biliran"]
["PH-BIL","Biliran"]
["BS-BI","Bimini"]
["TR-12","Bingöl"]
["VN-31","Bình Định"]
["VN-57","Bình Dương"]
["VN-58","Bình Phước"]
["VN-40","Bình Thuận"]
["ET-BE","Bīnshangul Gumuz"]
["CL-BI","Biobío"]
["GQ-BN","Bioko Nord"]
["GQ-BN","Bioko Norte"]
["GQ-BN","Bioko Norte"]
["GQ-BS","Bioko Sud"]
["GQ-BS","Bioko Sul"]
["GQ-BS","Bioko Sur"]
["GW-BM","Biombo"]
["MT-03","Birgu"]
["MT-03","Birgu"]
["FI-11","Birkaland"]
["MT-04","Birkirkara"]
["MT-04","Birkirkara"]
["GB-BIR","Birmingham"]
["LT-05","Birštono"]
["LT-06","Biržai"]
["MT-05","Birżebbuġa"]
["MT-05","Birżebbuġa"]
["KG-GB","Bishkek"]
["DZ-07","Biskra"]
["GW-BS","Bissau"]
["SI-149","Bistrica ob Sotli"]
["RO-BN","Bistrița-Năsăud"]
["TR-13","Bitlis"]
["MK-04","Bitola"]
["TN-23","Bizerte"]
["ES-BI","Bizkaia"]
["HR-07","Bjelovarsko-bilogorska županija"]
["BS-BP","Black Point"]
["MU-BL","Black River"]
["GB-BBD","Blackburn with Darwen"]
["GB-BPL","Blackpool"]
["GB-BGW","Blaenau Gwent"]
["BG-01","Blagoevgrad"]
["CZ-641","Blansko"]
["MW-BL","Blantyre"]
["MW-BL","Blantyre"]
["SI-003","Bled"]
["SE-K","Blekinge län [SE-10]"]
["DZ-09","Blida"]
["SI-150","Bloke"]
["SD-NB","Blue Nile"]
["CV-BV","Boa Vista"]
["NI-BO","Boaco"]
["TL-BO","Bobonaro"]
["TL-BO","Bobonaru"]
["PA-1","Bocas del Toro"]
["NR-06","Boe"]
["NR-06","Boe"]
["GN-BF","Boffa"]
["MK-05","Bogdanci"]
["MK-06","Bogovinje"]
["BD-03","Bogra"]
["SI-004","Bohinj"]
["PH-BOH","Bohol"]
["PH-BOH","Bohol"]
["GN-B","Boké"]
["GN-BK","Boké"]
["LA-BK","Bokèo"]
["ZA-NW","Bokone Bophirima"]
["GW-BL","Bolama"]
["LA-BL","Bolikhamxai"]
["CO-BOL","Bolívar"]
["EC-B","Bolívar"]
["VE-F","Bolívar"]
["IT-BO","Bologna"]
["GB-BOL","Bolton"]
["TR-14","Bolu"]
["IT-BZ","Bolzano"]
["KE-02","Bomet"]
["LR-BM","Bomi"]
["BQ-BO","Bonaire"]
["BQ-BO","Bonaire"]
["NL-BQ1","Bonaire (see also separate country code entry under BQ)"]
["BQ-BO","Boneiru"]
["LR-BG","Bong"]
["PY-19","Boquerón"]
["DZ-34","Bordj Bou Arréridj"]
["SM-06","Borgo Maggiore"]
["BJ-BO","Borgou"]
["TD-BO","Borkou"]
["MT-06","Bormla"]
["MT-06","Bormla"]
["NG-BO","Borno"]
["SI-005","Borovnica"]
["RS-14","Borski okrug"]
["HU-BZ","Borsod-Abaúj-Zemplén"]
["MK-07","Bosilovo"]
["RO-BT","Botoșani"]
["FR-13","Bouches-du-Rhône"]
["BF-01","Boucle du Mouhoun"]
["CG-11","Bouenza"]
["PG-NSB","Bougainville"]
["BF-BGR","Bougouriba"]
["DZ-10","Bouira"]
["MA-BOD","Boujdour (EH)"]
["MA-BOM","Boulemane"]
["BF-BLG","Boulgou"]
["BF-BLK","Boulkiemdé"]
["DZ-35","Boumerdès"]
["FR-BFC","Bourgogne-Franche-Comté"]
["GB-BMH","Bournemouth"]
["SC-08","Bovalon"]
["SI-006","Bovec"]
["CO-BOY","Boyacá"]
["IT-BZ","Bozen"]
["BE-WBR","Brabant wallon"]
["GB-BRC","Bracknell Forest"]
["GB-BRD","Bradford"]
["PT-03","Braga"]
["PT-04","Bragança"]
["BD-04","Brahmanbaria"]
["RO-BR","Brăila"]
["MR-05","Brakna"]
["DE-BB","Brandenburg"]
["RS-11","Braničevski okrug"]
["SI-151","Braslovče"]
["RO-BV","Brașov"]
["SK-BL","Bratislavský kraj"]
["CV-BR","Brava"]
["CG-BZV","Brazzaville"]
["BA-BRC","Brčko distrikt"]
["BA-BRC","Brčko distrikt"]
["BA-BRC","Brčko distrikt"]
["SI-007","Brda"]
["CZ-644","Břeclav"]
["DE-HB","Bremen"]
["GB-BEN","Brent"]
["IT-BS","Brescia"]
["BY-BR","Bresckaja voblasć"]
["BY-BR","Brestskaja oblast'"]
["BY-BR","Brestskaya oblast'"]
["BY-BR","Brestskaya voblasts'"]
["FR-BRE","Bretagne"]
["SI-009","Brežice"]
["SI-008","Brezovica"]
["MD-BR","Briceni"]
["GB-BGE","Bridgend [Pen-y-bont ar Ogwr GB-POG]"]
["GB-BNH","Brighton and Hove"]
["IT-BR","Brindisi"]
["GB-BST","Bristol, City of"]
["CA-BC","British Columbia"]
["RU-BRY","Brjanskaja oblast'"]
["CZ-642","Brno-město"]
["CZ-643","Brno-venkov"]
["LV-018","Brocēnu novads"]
["HR-12","Brodsko-posavska županija"]
["SR-BR","Brokopondo"]
["GB-BRY","Bromley"]
["GH-BA","Brong-Ahafo"]
["BN-BM","Brunei-Muara"]
["BN-BM","Brunei-Muara"]
["CZ-801","Bruntál"]
["BE-BRU","Brussels Hoofdstedelijk Gewest"]
["BE-BRU","Bruxelles-Capitale, Région de"]
["MK-08","Brvenica"]
["RU-BRY","Bryanskaya oblast'"]
["FJ-02","Bua"]
["NR-07","Buada"]
["NR-07","Buada"]
["BI-BB","Bubanza"]
["BI-BB","Bubanza"]
["GB-BKM","Buckinghamshire"]
["RO-B","București"]
["UG-217","Budaka"]
["HU-BU","Budapest"]
["UG-218","Bududa"]
["ME-05","Budva"]
["TH-38","Bueng Kan"]
["AR-B","Buenos Aires"]
["UG-201","Bugiri"]
["UG-235","Bugweri"]
["UG-420","Buhweju"]
["UG-117","Buikwe"]
["BI-BM","Bujumbura Mairie"]
["BI-BM","Bujumbura Mairie"]
["BI-BL","Bujumbura Rural"]
["BI-BL","Bujumbura Rural"]
["UG-219","Bukedea"]
["PH-BUK","Bukidnon"]
["PH-BUK","Bukidnon"]
["UG-118","Bukomansibi"]
["UG-220","Bukwa"]
["PH-BUL","Bulacan"]
["PH-BUL","Bulakan"]
["UG-225","Bulambuli"]
["ZW-BU","Bulawayo"]
["MN-067","Bulgan"]
["UG-416","Buliisa"]
["BT-33","Bumthang"]
["UG-401","Bundibugyo"]
["KE-03","Bungoma"]
["UG-430","Bunyangabu"]
["EG-PTS","Būr Sa‘īd"]
["TR-15","Burdur"]
["BG-02","Burgas"]
["AT-1","Burgenland"]
["ES-BU","Burgos"]
["TH-31","Buri Ram"]
["RU-BU","Burjatija, Respublika"]
["TD-BO","Būrkū"]
["TR-16","Bursa"]
["LV-019","Burtnieku novads"]
["BI-BR","Bururi"]
["BI-BR","Bururi"]
["GB-BUR","Bury"]
["RU-BU","Buryatiya, Respublika"]
["KR-26","Busan-gwangyeoksi"]
["IR-06","Būshehr"]
["UG-402","Bushenyi"]
["KE-04","Busia"]
["UG-202","Busia"]
["NO-06","Buskerud"]
["NO-06","Buskerud"]
["UG-221","Butaleja"]
["UG-119","Butambala"]
["UG-233","Butebo"]
["LS-B","Butha-Buthe"]
["LS-B","Butha-Buthe"]
["UG-120","Buvuma"]
["UZ-BU","Buxoro"]
["UG-226","Buyende"]
["RO-BZ","Buzău"]
["VN-59","Cà Mau"]
["PY-5","Caaguazú"]
["PY-6","Caazapá"]
["SV-CA","Cabañas"]
["AO-CAB","Cabinda"]
["MZ-P","Cabo Delgado"]
["ES-CC","Cáceres"]
["GW-CA","Cacheu"]
["ES-CA","Cádiz"]
["GB-CAY","Caerphilly [Caerffili GB-CAF]"]
["PH-CAG","Cagayan"]
["PH-02","Cagayan Valley (Region II)"]
["IT-CA","Cagliari"]
["MD-CA","Cahul"]
["PE-CAJ","Cajamarca"]
["FJ-03","Cakaudrove"]
["PH-40","Calabarzon (Region IV-A)"]
["IT-78","Calabria"]
["MD-CL","Călărași"]
["RO-CL","Călărași"]
["CO-CAL","Caldas"]
["GB-CLD","Calderdale"]
["US-CA","California"]
["IT-CL","Caltanissetta"]
["FR-14","Calvados"]
["CU-09","Camagüey"]
["PH-CAN","Camarines Norte"]
["PH-CAS","Camarines Sur"]
["GB-CAM","Cambridgeshire"]
["GB-CMD","Camden"]
["PH-CAM","Camiguin"]
["IT-72","Campania"]
["MX-CAM","Campeche"]
["IT-CB","Campobasso"]
["VN-CT","Can Tho"]
["TR-17","Çanakkale"]
["EC-F","Cañar"]
["ES-CN","Canarias"]
["LC-12","Canaries"]
["UY-CA","Canelones"]
["AD-02","Canillo"]
["PY-14","Canindeyú"]
["TR-18","Çankırı"]
["SI-152","Cankova"]
["BI-CA","Cankuzo"]
["BI-CA","Cankuzo"]
["ES-CB","Cantabria"]
["ES-S","Cantabria"]
["FR-15","Cantal"]
["MD-CT","Cantemir"]
["NZ-CAN","Canterbury"]
["VN-04","Cao Bằng"]
["LU-CA","Capellen"]
["LU-CA","Capellen"]
["SB-CT","Capital Territory (Honiara)"]
["PH-CAP","Capiz"]
["CO-CAQ","Caquetá"]
["VE-G","Carabobo"]
["PH-13","Caraga (Region XIII)"]
["RO-CS","Caraș-Severin"]
["NI-CA","Carazo"]
["IT-CI","Carbonia-Iglesias"]
["EC-C","Carchi"]
["GB-CRF","Cardiff [Caerdydd GB-CRD]"]
["MU-CC","Cargados Carajos Shoals"]
["IE-CW","Carlow"]
["GB-CMN","Carmarthenshire [Sir Gaerfyrddin GB-GFY]"]
["LV-020","Carnikavas novads"]
["CR-C","Cartago"]
["MA-CAS","Casablanca"]
["MA-06","Casablanca-Settat"]
["CO-CAS","Casanare"]
["SC-11","Cascade"]
["SC-11","Cascade"]
["BF-02","Cascades"]
["IT-CE","Caserta"]
["MK-80","Čaška"]
["ES-CS","Castelló*"]
["ES-CS","Castellón"]
["PT-05","Castelo Branco"]
["ES-CL","Castilla y León"]
["ES-CM","Castilla-La Mancha"]
["LC-02","Castries"]
["BS-CI","Cat Island"]
["ES-CT","Catalunya [Cataluña]"]
["AR-K","Catamarca"]
["PH-CAT","Catanduanes"]
["IT-CT","Catania"]
["IT-CZ","Catanzaro"]
["CO-CAU","Cauca"]
["MD-CS","Căușeni"]
["GB-CCG","Causeway Coast and Glens"]
["IE-CN","Cavan"]
["PH-CAV","Cavite"]
["BZ-CY","Cayo"]
["BR-CE","Ceará"]
["IE-CW","Ceatharlach"]
["AZ-CAB","Cəbrayıl"]
["PH-CEB","Cebu"]
["RU-CE","Čečenskaja Respublika"]
["AZ-CAL","Cəlilabad"]
["RU-CHE","Čeljabinskaja oblast'"]
["SI-011","Celje"]
["MK-78","Centar Župa"]
["BW-CE","Central"]
["FJ-C","Central"]
["GH-CP","Central"]
["NP-1","Central"]
["PG-CPM","Central"]
["PY-11","Central"]
["SB-CE","Central"]
["UG-C","Central"]
["ZM-02","Central"]
["BS-CO","Central Abaco"]
["BS-CS","Central Andros"]
["GB-CBF","Central Bedfordshire"]
["SD-DC","Central Darfur"]
["BS-CE","Central Eleuthera"]
["SS-EC","Central Equatoria"]
["PH-03","Central Luzon (Region III)"]
["LK-2","Central Province"]
["MW-C","Central Region"]
["GM-M","Central River"]
["SG-01","Central Singapore"]
["PH-07","Central Visayas (Region VII)"]
["TG-C","Centrale"]
["BF-03","Centre"]
["CM-CE","Centre"]
["CM-CE","Centre"]
["HT-CE","Centre"]
["BF-04","Centre-Est"]
["BF-05","Centre-Nord"]
["BF-06","Centre-Ouest"]
["BF-07","Centre-Sud"]
["FR-CVL","Centre-Val de Loire"]
["GQ-CS","Centro Sud"]
["GQ-CS","Centro Sul"]
["GQ-CS","Centro Sur"]
["GB-CGN","Ceredigion [Sir Ceredigion]"]
["SI-012","Cerklje na Gorenjskem"]
["SI-013","Cerknica"]
["SI-014","Cerkno"]
["SI-153","Cerkvenjak"]
["UY-CL","Cerro Largo"]
["CO-CES","Cesar"]
["MK-81","Češinovo-Obleševo"]
["CZ-511","Česká Lípa"]
["CZ-311","České Budějovice"]
["CZ-312","Český Krumlov"]
["LV-022","Cēsu novads"]
["LV-021","Cesvaines novads"]
["ME-06","Cetinje"]
["ES-CE","Ceuta"]
["TH-24","Chachoengsao"]
["AR-H","Chaco"]
["KP-04","Chagang-do"]
["TT-CHA","Chaguanas"]
["IR-08","Chahār Maḩāl va Bakhtīārī"]
["TH-18","Chai Nat"]
["TH-36","Chaiyaphum"]
["MW-N","Chakumpoto"]
["MW-S","Chakumwera"]
["SV-CH","Chalatenango"]
["LA-CH","Champasak"]
["IN-CH","Chandigarh"]
["BD-09","Chandpur"]
["TW-CHA","Changhua"]
["TH-22","Chanthaburi"]
["BD-45","Chapai Nawabganj"]
["MW-C","Chapakati"]
["LK-9","Chappirakamuva mākāṇam"]
["FR-16","Charente"]
["FR-17","Charente-Maritime"]
["TD-CB","Chari-Baguirmi"]
["VC-01","Charlotte"]
["NZ-CIT","Chatham Islands Territory"]
["CZ-411","Cheb"]
["RU-CE","Chechenskaya Respublika"]
["MA-CHE","Chefchaouen"]
["RU-CHE","Chelyabinskaya oblast'"]
["FR-18","Cher"]
["UA-71","Cherkaska oblast"]
["UA-74","Chernihivska oblast"]
["UA-77","Chernivetska oblast"]
["GB-CHE","Cheshire East"]
["GB-CHW","Cheshire West and Chester"]
["IN-CT","Chhattisgarh"]
["BT-12","Chhukha"]
["TH-50","Chiang Mai"]
["TH-57","Chiang Rai"]
["MX-CHP","Chiapas"]
["TW-CYI","Chiayi"]
["TW-CYQ","Chiayi"]
["JP-12","Chiba"]
["MA-CHI","Chichaoua"]
["SM-02","Chiesanuova"]
["IT-CH","Chieti"]
["MX-CHH","Chihuahua"]
["MW-CK","Chikwawa"]
["MW-CK","Chikwawa"]
["GT-CM","Chimaltenango"]
["EC-H","Chimborazo"]
["PG-CPK","Chimbu"]
["MM-14","Chin"]
["NI-CI","Chinandega"]
["GT-CQ","Chiquimula"]
["MW-CR","Chiradzulu"]
["MW-CR","Chiradzulu"]
["PA-4","Chiriquí"]
["MD-CU","Chișinău"]
["MW-CT","Chitipa"]
["MW-CT","Chitipa"]
["BD-B","Chittagong"]
["BD-10","Chittagong"]
["DZ-02","Chlef"]
["BW-CH","Chobe"]
["CO-CHO","Chocó"]
["LC-03","Choiseul"]
["SB-CH","Choiseul"]
["HN-CH","Choluteca"]
["CZ-422","Chomutov"]
["TH-20","Chon Buri"]
["CN-CQ","Chongqing Shi"]
["NI-CO","Chontales"]
["BB-01","Christ Church"]
["KN-01","Christ Church Nichola Town"]
["CZ-531","Chrudim"]
["MA-CHT","Chtouka-Ait Baha"]
["BD-12","Chuadanga"]
["AR-U","Chubut"]
["RU-CHU","Chukotskiy avtonomnyy okrug"]
["TH-86","Chumphon"]
["KR-43","Chungcheongbuk-do"]
["KR-44","Chungcheongnam-do"]
["BO-H","Chuquisaca"]
["FM-TRK","Chuuk"]
["RU-CU","Chuvashskaya Respublika"]
["KG-C","Chüy"]
["KG-C","Chuyskaya oblast'"]
["IE-KY","Ciarraí"]
["DO-33","Cibao Nordeste"]
["DO-34","Cibao Noroeste"]
["DO-35","Cibao Norte"]
["DO-36","Cibao Sur"]
["BI-CI","Cibitoke"]
["BI-CI","Cibitoke"]
["LV-023","Ciblas novads"]
["CU-08","Ciego de Ávila"]
["CU-06","Cienfuegos"]
["IE-KK","Cill Chainnigh"]
["IE-KE","Cill Dara"]
["IE-WW","Cill Mhantáin"]
["MD-CM","Cimișlia"]
["SI-196","Cirkulane"]
["BS-FP","City of Freeport"]
["RW-01","City of Kigali"]
["AR-C","Ciudad Autónoma de Buenos Aires"]
["MX-CMX","Ciudad de México"]
["ES-CR","Ciudad Real"]
["GB-CLK","Clackmannanshire"]
["IE-CE","Clare"]
["JM-13","Clarendon"]
["LU-CL","Clerf"]
["LU-CL","Clervaux"]
["FR-CP","Clipperton"]
["RO-CJ","Cluj"]
["MX-COA","Coahuila de Zaragoza"]
["TZ-19","Coast"]
["BO-C","Cochabamba"]
["PA-2","Coclé"]
["PT-06","Coimbra"]
["VE-H","Cojedes"]
["MX-COL","Colima"]
["BJ-CO","Collines"]
["CA-BC","Colombie-Britannique"]
["LK-11","Colombo"]
["HN-CL","Colón"]
["PA-3","Colón"]
["UY-CO","Colonia"]
["US-CO","Colorado"]
["HN-CM","Comayagua"]
["BD-08","Comilla"]
["SR-CM","Commewijne"]
["IT-CO","Como"]
["BF-COM","Comoé"]
["CI-CM","Comoé"]
["PH-COM","Compostela Valley"]
["GN-C","Conakry"]
["PY-1","Concepción"]
["IE-C","Connacht"]
["IE-C","Connaught"]
["US-CT","Connecticut"]
["RO-CT","Constanța"]
["DZ-25","Constantine"]
["GB-CWY","Conwy"]
["HN-CP","Copán"]
["ZM-08","Copperbelt"]
["CL-CO","Coquimbo"]
["IE-CO","Corcaigh"]
["PY-3","Cordillera"]
["PH-15","Cordillera Administrative Region (CAR)"]
["AR-X","Córdoba"]
["CO-COR","Córdoba"]
["ES-CO","Córdoba"]
["IE-CO","Cork"]
["GB-CON","Cornwall"]
["SR-CR","Coronie"]
["BZ-CZL","Corozal"]
["FR-19","Corrèze"]
["AR-W","Corrientes"]
["FR-COR","Corse"]
["FR-2A","Corse-du-Sud"]
["HN-CR","Cortés"]
["TR-19","Çorum"]
["IT-CS","Cosenza"]
["NI-AN","Costa Caribe Norte"]
["NI-AS","Costa Caribe Sur"]
["PH-NCO","Cotabato"]
["FR-21","Côte-d'Or"]
["FR-22","Côtes-d'Armor"]
["EC-X","Cotopaxi"]
["BJ-KO","Couffo"]
["TT-CTT","Couva-Tabaquite-Talparo"]
["TL-CO","Cova Lima"]
["RO-CV","Covasna"]
["GB-COV","Coventry"]
["BD-11","Cox's Bazar"]
["GN-CO","Coyah"]
["IT-CR","Cremona"]
["SI-015","Črenšovci"]
["FR-23","Creuse"]
["MD-CR","Criuleni"]
["SI-016","Črna na Koroškem"]
["SI-017","Črnomelj"]
["BS-CK","Crooked Island and Long Cay"]
["NG-CR","Cross River"]
["IT-KR","Crotone"]
["GB-CRY","Croydon"]
["HU-CS","Csongrád"]
["MK-82","Čučer Sandevo"]
["ES-CU","Cuenca"]
["KG-C","Čujskaja oblast'"]
["RU-CHU","Čukotskij avtonomnyj okrug"]
["AZ-CUL","Culfa"]
["GB-CMA","Cumbria"]
["CO-CUN","Cundinamarca"]
["AO-CNN","Cunene"]
["IT-CN","Cuneo"]
["NL-CW","Curaçao (see also separate country code entry under CW)"]
["MU-CU","Curepipe"]
["SV-CU","Cuscatlán"]
["PE-CUS","Cusco"]
["RU-CU","Čuvašskaja Respublika"]
["CG-8","Cuvette"]
["CG-15","Cuvette-Ouest"]
["GY-CU","Cuyuni-Mazaruni"]
["VN-DN","Da Nang"]
["GN-DB","Dabola"]
["IN-DN","Dadra and Nagar Haveli"]
["KR-27","Daegu-gwangyeoksi"]
["KR-30","Daejeon-gwangyeoksi"]
["BT-22","Dagana"]
["LV-024","Dagdas novads"]
["RU-DA","Dagestan, Respublika"]
["RU-DA","Dagestan, Respublika"]
["IQ-DA","Dahūk"]
["DO-05","Dajabón"]
["VN-33","Đắk Lắk"]
["VN-72","Đắk Nông"]
["SN-DK","Dakar"]
["MA-12","Dakhla-Oued Ed-Dahab (EH)"]
["MR-08","Dakhlet Nouâdhibou"]
["LK-3","Dakuṇu paḷāta"]
["GN-DL","Dalaba"]
["SE-W","Dalarnas län [SE-20]"]
["IN-DD","Daman and Diu"]
["RO-DB","Dâmbovița"]
["ME-07","Danilovgrad"]
["TZ-02","Dar es Salaam"]
["SY-DR","Dar'ā"]
["MN-037","Darhan uul"]
["PA-5","Darién"]
["GB-DAL","Darlington"]
["LY-DR","Darnah"]
["AZ-DAS","Daşkəsən"]
["TM-D","Daşoguz"]
["LV-DGV","Daugavpils"]
["LV-025","Daugavpils novads"]
["PH-11","Davao (Region XI)"]
["PH-DAV","Davao del Norte"]
["PH-DAS","Davao del Sur"]
["PH-DVO","Davao Occidental"]
["PH-DAO","Davao Oriental"]
["AF-DAY","Dāykundī"]
["AF-DAY","Dāykundī"]
["PS-DEB","Dayr al Balaḩ"]
["SY-DY","Dayr az Zawr"]
["MK-21","Debar"]
["MK-22","Debarca"]
["HU-DE","Debrecen"]
["ER-DU","Debub"]
["ER-DK","Debubawi K’eyyĭḥ Baḥri"]
["CZ-421","Děčín"]
["MW-DE","Dedza"]
["MW-DE","Dedza"]
["PS-DEB","Deir El Balah"]
["US-DE","Delaware"]
["MK-23","Delčevo"]
["IN-DL","Delhi"]
["NG-DE","Delta"]
["VE-Y","Delta Amacuro"]
["GY-DE","Demerara-Mahaica"]
["MK-25","Demir Hisar"]
["MK-24","Demir Kapija"]
["GB-DEN","Denbighshire [Sir Ddinbych GB-DDB]"]
["CI-DN","Denguélé"]
["NR-08","Denigomodu"]
["NR-08","Denigomodu"]
["TR-20","Denizli"]
["LC-05","Dennery"]
["VE-W","Dependencias Federales"]
["GB-DER","Derby"]
["GB-DBY","Derbyshire"]
["GB-DRS","Derry and Strabane"]
["SI-018","Destrnik"]
["FR-79","Deux-Sèvres"]
["GB-DEV","Devon"]
["BD-C","Dhaka"]
["BD-13","Dhaka"]
["YE-DH","Dhamār"]
["NP-DH","Dhawalagiri"]
["IQ-DQ","Dhī Qār"]
["AL-09","Dibër"]
["TT-DMN","Diego Martin"]
["LU-DI","Diekirch"]
["LU-DI","Diekirch"]
["LU-DI","Diekrech"]
["VN-71","Điện Biên"]
["NE-2","Diffa"]
["IQ-DA","Dihok"]
["DJ-DI","Dikhil"]
["DJ-DI","Dikhīl"]
["TL-DI","Díli"]
["TL-DI","Díli"]
["SY-DI","Dimashq"]
["PH-DIN","Dinagat Islands"]
["BD-14","Dinajpur"]
["MT-07","Dingli"]
["MT-07","Dingli"]
["GN-DI","Dinguiraye"]
["SN-DB","Diourbel"]
["ET-DD","Dire Dawa"]
["ET-DD","Dirē Dawa"]
["US-DC","District of Columbia"]
["VE-A","Distrito Capital"]
["CO-DC","Distrito Capital de Bogotá"]
["BR-DF","Distrito Federal"]
["DO-01","Distrito Nacional (Santo Domingo)"]
["SI-019","Divača"]
["IQ-DI","Diyālá"]
["TR-21","Diyarbakır"]
["DZ-17","Djelfa"]
["DJ-DJ","Djibouti"]
["UA-12","Dnipropetrovska oblast"]
["LV-026","Dobeles novads"]
["SI-154","Dobje"]
["SI-020","Dobrepolje"]
["BG-08","Dobrich"]
["SI-155","Dobrna"]
["SI-021","Dobrova-Polhov Gradec"]
["SI-156","Dobrovnik"]
["TZ-03","Dodoma"]
["MK-26","Dojran"]
["UG-317","Dokolo"]
["CF-BK","Do-Kötö"]
["SI-022","Dol pri Ljubljani"]
["SI-157","Dolenjske Toplice"]
["RO-DJ","Dolj"]
["MK-27","Dolneni"]
["PL-02","Dolnośląskie"]
["SM-03","Domagnano"]
["CZ-321","Domažlice"]
["SI-023","Domžale"]
["GB-DNC","Doncaster"]
["MD-DO","Dondușeni"]
["IE-DL","Donegal"]
["UA-14","Donetska oblast"]
["VN-39","Đồng Nai"]
["VN-45","Đồng Tháp"]
["BJ-DO","Donga"]
["FR-24","Dordogne"]
["SI-024","Dornava"]
["MN-061","Dornod"]
["MN-063","Dornogovĭ"]
["GB-DOR","Dorset"]
["NE-3","Dosso"]
["FR-25","Doubs"]
["MW-DO","Dowa"]
["MW-DO","Dowa"]
["MA-08","Drâa-Tafilalet"]
["SI-025","Dravograd"]
["NL-DR","Drenthe"]
["MA-DRI","Driouch"]
["MD-DR","Drochia"]
["FR-26","Drôme"]
["LT-07","Druskininkai"]
["DO-06","Duarte"]
["MD-DU","Dubăsari"]
["AE-DU","Dubayy"]
["IE-D","Dublin"]
["GN-DU","Dubréka"]
["HR-19","Dubrovačko-neretvanska županija"]
["GB-DUD","Dudley"]
["GB-DGY","Dumfries and Galloway"]
["EG-DT","Dumyāţ"]
["IE-DL","Dún na nGall"]
["HU-DU","Dunaújváros"]
["LV-027","Dundagas novads"]
["GB-DND","Dundee City"]
["MN-059","Dundgovĭ"]
["SI-026","Duplek"]
["MX-DUR","Durango"]
["UY-DU","Durazno"]
["LV-028","Durbes novads"]
["GB-DUR","Durham County"]
["AL-02","Durrës"]
["TJ-DU","Dushanbe"]
["TR-81","Düzce"]
["GR-G","Dytikí Elláda"]
["GR-C","Dytikí Makedonía"]
["KG-J","Džalal-Abadskaja oblast'"]
["MN-057","Dzavhan"]
["KG-J","Dzhalal-Abadskaya oblast'"]
["GB-EAL","Ealing"]
["CM-ES","East"]
["GB-EAY","East Ayrshire"]
["GY-EB","East Berbice-Corentyne"]
["SD-DE","East Darfur"]
["GB-EDU","East Dunbartonshire"]
["BS-EG","East Grand Bahama"]
["GB-ELN","East Lothian"]
["PG-EBR","East New Britain"]
["GB-ERW","East Renfrewshire"]
["GB-ERY","East Riding of Yorkshire"]
["PG-ESW","East Sepik"]
["GB-ESX","East Sussex"]
["FJ-E","Eastern"]
["GH-EP","Eastern"]
["NP-4","Eastern"]
["RW-02","Eastern"]
["SL-E","Eastern"]
["UG-E","Eastern"]
["ZM-03","Eastern"]
["ZA-EC","Eastern Cape"]
["SS-EE","Eastern Equatoria"]
["PG-EHG","Eastern Highlands"]
["LK-5","Eastern Province"]
["PH-EAS","Eastern Samar"]
["PH-08","Eastern Visayas (Region VIII)"]
["MH-EBO","Ebon"]
["NG-EB","Ebonyi"]
["LU-EC","Echternach"]
["LU-EC","Echternach"]
["GB-EDH","Edinburgh, City of"]
["MD-ED","Edineț"]
["TR-22","Edirne"]
["NG-ED","Edo"]
["FI-19","Egentliga Finland"]
["FI-06","Egentliga Tavastland"]
["HU-EG","Eger"]
["JP-38","Ehime"]
["GB-ELS","Eilean Siar"]
["NG-EK","Ekiti"]
["DZ-32","El Bayadh"]
["BO-B","El Beni"]
["PE-CAL","El Callao"]
["MA-HAJ","El Hajeb"]
["MA-JDI","El Jadida"]
["MA-KES","El Kelâa des Sraghna"]
["EC-O","El Oro"]
["DZ-39","El Oued"]
["HN-EP","El Paraíso"]
["GT-PR","El Progreso"]
["DO-08","El Seibo"]
["DZ-36","El Tarf"]
["DO-37","El Valle"]
["TR-23","Elazığ"]
["AL-03","Elbasan"]
["LT-08","Elektrėnai"]
["KE-05","Elgeyo/Marakwet"]
["DO-07","Elías Piña"]
["MH-LIB","Ellep"]
["PA-EM","Emberá"]
["KE-06","Embu"]
["IT-45","Emilia-Romagna"]
["AD-03","Encamp"]
["MH-ENI","Enewetak & Ujelang"]
["GB-ENF","Enfield"]
["PG-EPW","Enga"]
["GB-ENG","England"]
["GB-EAW","England and Wales"]
["SC-16","English River"]
["LV-029","Engures novads"]
["IT-EN","Enna"]
["TD-EE","Ennedi-Est"]
["TD-EO","Ennedi-Ouest"]
["DO-38","Enriquillo"]
["AR-E","Entre Ríos"]
["NG-EN","Enugu"]
["MH-EBO","Epoon"]
["CD-EQ","Équateur"]
["HU-ER","Érd"]
["AM-ER","Erevan"]
["LV-030","Ērgļu novads"]
["TL-ER","Ermera"]
["TL-ER","Ermera"]
["NA-ER","Erongo"]
["MA-ERR","Errachidia"]
["TR-24","Erzincan"]
["TR-25","Erzurum"]
["AD-08","Escaldes-Engordany"]
["LU-ES","Esch an der Alzette"]
["LI-02","Eschen"]
["LU-ES","Esch-sur-Alzette"]
["LU-ES","Esch-Uelzecht"]
["GT-ES","Escuintla"]
["IR-04","Eşfahān"]
["TR-26","Eskişehir"]
["EC-E","Esmeraldas"]
["DO-09","Espaillat"]
["BR-ES","Espírito Santo"]
["MA-ESI","Essaouira"]
["MA-ESM","Es-Semara (EH-partial)"]
["GY-ES","Essequibo Islands-West Demerara"]
["GB-ESS","Essex"]
["FR-91","Essonne"]
["BF-08","Est"]
["CM-ES","Est"]
["RW-02","Est"]
["NI-ES","Estelí"]
["GA-1","Estuaire"]
["FI-02","Etelä-Karjala"]
["FI-03","Etelä-Pohjanmaa"]
["FI-04","Etelä-Savo"]
["TO-01","'Eua"]
["TO-01","'Eua"]
["FR-27","Eure"]
["FR-28","Eure-et-Loir"]
["ES-PV","Euskal Herria"]
["PT-07","Évora"]
["RU-YEV","Evrejskaja avtonomnaja oblast'"]
["NR-09","Ewa"]
["NR-09","Ewa"]
["ES-EX","Extremadura"]
["CM-EN","Extrême-Nord"]
["BS-EX","Exuma"]
["MV-03","Faadhippolhu"]
["MV-03","Faadhippolhu"]
["WS-FA","Fa'asaleleaga"]
["WS-FA","Fa'asaleleaga"]
["SM-04","Faetano"]
["MA-FAH","Fahs-Anjra"]
["VE-I","Falcón"]
["MD-FA","Fălești"]
["GB-FAL","Falkirk"]
["CM-EN","Far North"]
["NP-5","Far Western"]
["AF-FRA","Farāh"]
["AF-FRA","Farāh"]
["GN-F","Faranah"]
["GN-FA","Faranah"]
["UZ-FA","Farg‘ona"]
["BD-15","Faridpur"]
["PT-08","Faro"]
["IR-14","Fārs"]
["AF-FYB","Fāryāb"]
["AF-FYB","Fāryāb"]
["SN-FK","Fatick"]
["BA-BIH","Federacija Bosne i Hercegovine"]
["BA-BIH","Federacija Bosne i Hercegovine"]
["BA-BIH","Federacija Bosne i Hercegovine"]
["PK-TA","Federally Administered Tribal Areas"]
["HU-FE","Fejér"]
["MV-04","Felidheatholhu"]
["MV-04","Felidhu Atoll"]
["BD-16","Feni"]
["GB-FMO","Fermanagh and Omagh"]
["IT-FM","Fermo"]
["IT-FE","Ferrara"]
["MA-FES","Fès"]
["MA-03","Fès- Meknès"]
["MT-08","Fgura"]
["MT-08","Fgura"]
["MG-F","Fianarantsoa"]
["AL-04","Fier"]
["GB-FIF","Fife"]
["MA-FIG","Figuig"]
["FR-29","Finistère"]
["NO-20","Finnmark"]
["NO-20","Finnmark"]
["NO-20","Finnmárku"]
["SM-05","Fiorentino"]
["IT-FI","Firenze"]
["MU-FL","Flacq"]
["NL-FL","Flevoland"]
["GB-FLN","Flintshire [Sir y Fflint GB-FFL]"]
["UY-FS","Flores"]
["MD-FL","Florești"]
["MT-09","Floriana"]
["MT-09","Floriana"]
["US-FL","Florida"]
["UY-FD","Florida"]
["IT-FG","Foggia"]
["MT-10","Fontana"]
["MT-10","Fontana"]
["MC-FO","Fontvieille"]
["GN-FO","Forécariah"]
["ZA-FS","Foreisetata"]
["IT-FC","Forlì-Cesena"]
["AR-P","Formosa"]
["MA-FQH","Fquih Ben Salah"]
["HN-FM","Francisco Morazán"]
["BW-FR","Francistown"]
["ZA-FS","Free State"]
["ZA-FS","Free State"]
["CH-FR","Freiburg"]
["ZA-FS","Freistata"]
["ZA-FS","Freistata"]
["ZA-FS","Freyistata"]
["GN-FR","Fria"]
["CH-FR","Fribourg"]
["IT-36","Friuli-Venezia Giulia"]
["IT-FR","Frosinone"]
["CZ-802","Frýdek Místek"]
["NL-FR","Fryslân"]
["CN-FJ","Fujian Sheng"]
["JP-18","Fukui"]
["JP-40","Fukuoka"]
["JP-07","Fukushima"]
["ZA-FS","Fuleyisitata"]
["TV-FUN","Funafuti"]
["ZA-FS","Fureisitata"]
["MV-29","Fuvammulah"]
["MV-29","Fuvammulah"]
["AZ-FUZ","Füzuli"]
["TN-81","Gabès"]
["BW-GA","Gaborone"]
["BG-07","Gabrovo"]
["GW-GA","Gabú"]
["TN-71","Gafsa"]
["WS-GE","Gaga'emauga"]
["WS-GE","Gaga'emauga"]
["WS-GI","Gagaifomauga"]
["WS-GI","Gagaifomauga"]
["MD-GA","Găgăuzia, Unitatea teritorială autonomă (UTAG)"]
["BD-19","Gaibandha"]
["IE-G","Gaillimh"]
["EC-W","Galápagos"]
["RO-GL","Galați"]
["SO-GA","Galguduud"]
["ES-GA","Galicia [Galicia]"]
["LK-31","Gālla"]
["LK-31","Galle"]
["IE-G","Galway"]
["ET-GA","Gambēla Hizboch"]
["ET-GA","Gambela Peoples"]
["LK-12","Gampaha"]
["LK-12","Gampaha"]
["LI-03","Gamprin"]
["NP-P4","Gandaki"]
["NP-P4","Gandaki"]
["NP-GA","Gandaki"]
["KR-42","Gangwon-do"]
["CN-GS","Gansu Sheng"]
["BF-GAN","Ganzourgou"]
["ML-7","Gao"]
["GN-GA","Gaoual"]
["FR-30","Gard"]
["KE-07","Garissa"]
["LV-031","Garkalnes novads"]
["BT-GA","Gasa"]
["ER-GB","Gash-Barka"]
["GB-GAT","Gateshead"]
["ZA-GT","Gauteng"]
["ZA-GT","Gauteng"]
["ZA-GT","Gauteng"]
["ZA-GT","Gauteng"]
["ZA-GT","Gauteng"]
["ZA-GT","Gauteng"]
["ZA-GT","Gauteng"]
["ZA-GT","Gauteng"]
["SE-X","Gävleborgs län [SE-21]"]
["MZ-G","Gaza"]
["PS-GZA","Gaza"]
["TR-27","Gaziantep"]
["BD-18","Gazipur"]
["ZA-NL","GaZulu-Natala"]
["LR-GP","Gbarpolu"]
["SD-GD","Gedaref"]
["AZ-GAD","Gədəbəy"]
["SO-GE","Gedo"]
["AM-GR","Geġark'unik'"]
["TZ-27","Geita"]
["NL-GE","Gelderland"]
["AZ-GA","Gəncə"]
["CH-GE","Genève"]
["IT-GE","Genova"]
["US-GA","Georgia"]
["FR-32","Gers"]
["MK-18","Gevgelija"]
["SD-GZ","Gezira"]
["MT-13","Għajnsielem"]
["MT-13","Għajnsielem"]
["BW-GH","Ghanzi"]
["MT-14","Għarb"]
["MT-14","Għarb"]
["SD-DW","Gharb Dārfūr"]
["SD-GK","Gharb Kurdufān"]
["DZ-47","Ghardaïa"]
["MT-15","Għargħur"]
["MT-15","Għargħur"]
["MT-16","Għasri"]
["MT-16","Għasri"]
["LY-GT","Ghāt"]
["MT-17","Għaxaq"]
["MT-17","Għaxaq"]
["AF-GHA","Ghaznī"]
["AF-GHA","Ghaznī"]
["PS-GZA","Ghazzah"]
["AF-GHO","Ghōr"]
["AF-GHO","Ghōr"]
["VN-30","Gia Lai"]
["JP-21","Gifu"]
["JP-21","Gihu"]
["IR-19","Gīlān"]
["KI-G","Gilbert Islands"]
["PK-GB","Gilgit-Baltistan"]
["PK-GB","Gilgit-Baltistān"]
["PH-GUI","Gimaras"]
["ES-SS","Gipuzkoa"]
["TR-28","Giresun"]
["CF-KB","Gïrïbïngï"]
["CY-06","Girne"]
["ES-GI","Girona [Gerona]"]
["FR-33","Gironde"]
["NZ-GIS","Gisborne"]
["BI-GI","Gitega"]
["BI-GI","Gitega"]
["RO-GR","Giurgiu"]
["AL-05","Gjirokastër"]
["SC-12","Glacis"]
["SC-12","Glacis"]
["CH-GL","Glarus"]
["GB-GLG","Glasgow City"]
["SC-12","Glasi"]
["MD-GL","Glodeni"]
["GB-GLS","Gloucestershire"]
["BF-GNA","Gnagna"]
["IN-GA","Goa"]
["CI-GD","Gôh-Djiboua"]
["BR-GO","Goiás"]
["IR-27","Golestān"]
["UG-121","Gomba"]
["NG-GO","Gombe"]
["BY-HO","Gomel'skaja oblast'"]
["BY-HO","Gomel'skaya oblast'"]
["BD-17","Gopalganj"]
["AZ-GOR","Goranboy"]
["SI-027","Gorenja vas-Poljane"]
["MR-04","Gorgol"]
["SI-028","Gorišnica"]
["IT-GO","Gorizia"]
["RO-GJ","Gorj"]
["SI-207","Gorje"]
["SI-029","Gornja Radgona"]
["SI-030","Gornji Grad"]
["SI-031","Gornji Petrovci"]
["KG-GB","Gorod Bishkek"]
["KG-GB","Gorod Biškek"]
["BY-HM","Gorod Minsk"]
["BY-HM","Gorod Minsk"]
["KG-GO","Gorod Oš"]
["KG-GO","Gorod Osh"]
["ID-GO","Gorontalo"]
["MK-19","Gostivar"]
["SE-I","Gotlands län [SE-09]"]
["BF-GOU","Gourma"]
["MN-065","Govĭ-Altay"]
["MN-064","Govĭ-Sümber"]
["AZ-GOY","Göyçay"]
["AZ-GYG","Göygöl"]
["HN-GD","Gracias a Dios"]
["SI-158","Grad"]
["HR-21","Grad Zagreb"]
["MK-20","Gradsko"]
["ES-GR","Granada"]
["NI-GR","Granada"]
["SC-13","Grand Ans Mae"]
["SC-14","Grand Ans Pralen"]
["SC-13","Grand Anse Mahe"]
["SC-14","Grand Anse Praslin"]
["LR-GB","Grand Bassa"]
["LR-CM","Grand Cape Mount"]
["BS-GC","Grand Cay"]
["LR-GG","Grand Gedeh"]
["LR-GK","Grand Kru"]
["MU-GP","Grand Port"]
["HT-GA","Grandans"]
["SC-13","Grand'Anse Mahé"]
["SC-14","Grand'Anse Praslin"]
["KM-G","Grande Comore"]
["HT-GA","Grande’Anse"]
["FR-GES","Grand-Est"]
["CU-12","Granma"]
["CH-GR","Graubünden"]
["GB-GBN","Great Britain"]
["GH-AA","Greater Accra"]
["GB-GRE","Greenwich"]
["LU-GR","Gréivemaacher"]
["VC-06","Grenadines"]
["LU-GR","Grevenmacher"]
["LU-GR","Grevenmacher"]
["CF-KB","Gribingui"]
["CH-GR","Grigioni"]
["CH-GR","Grischun"]
["CH-GR","Grisons"]
["LV-032","Grobiņas novads"]
["BY-HR","Grodnenskaja oblast'"]
["BY-HR","Grodnenskaya oblast'"]
["NL-GR","Groningen"]
["LC-06","Gros Islet"]
["IT-GR","Grosseto"]
["SI-032","Grosuplje"]
["ES-GU","Guadalajara"]
["SB-GU","Guadalcanal"]
["FR-GUA","Guadeloupe"]
["FR-GP","Guadeloupe (see also separate country code entry under GP)"]
["CO-GUA","Guainía"]
["PY-4","Guairá"]
["US-GU","Guam (see also separate country code entry under GU)"]
["CR-G","Guanacaste"]
["MX-GUA","Guanajuato"]
["CN-GD","Guangdong Sheng"]
["CN-GX","Guangxi Zhuangzu Zizhiqu"]
["CU-14","Guantánamo"]
["PT-09","Guarda"]
["VE-J","Guárico"]
["GT-GU","Guatemala"]
["CO-GUV","Guaviare"]
["EC-G","Guayas"]
["MT-11","Gudja"]
["MT-11","Gudja"]
["GN-GU","Guékédou"]
["DZ-24","Guelma"]
["MA-GUE","Guelmim"]
["MA-10","Guelmim-Oued Noun (EH-partial)"]
["TD-GR","Guéra"]
["MA-GUF","Guercif"]
["MX-GRO","Guerrero"]
["MR-10","Guidimaka"]
["PH-GUI","Guimaras"]
["CN-GZ","Guizhou Sheng"]
["IN-GJ","Gujarat"]
["LV-033","Gulbenes novads"]
["PG-GPK","Gulf"]
["UG-304","Gulu"]
["TR-29","Gümüşhane"]
["PA-KY","Guna Yala"]
["JP-10","Gunma"]
["GE-GU","Guria"]
["ME-22","Gusinje"]
["FR-GF","Guyane (française) (see also separate country code entry under GF)"]
["KR-29","Gwangju-gwangyeoksi"]
["GB-GWN","Gwynedd"]
["KR-41","Gyeonggi-do"]
["KR-47","Gyeongsangbuk-do"]
["KR-48","Gyeongsangnam-do"]
["HU-GY","Győr"]
["HU-GS","Győr-Moson-Sopron"]
["MT-12","Gżira"]
["MT-12","Gżira"]
["VN-03","Hà Giang"]
["VN-63","Hà Nam"]
["VN-HN","Ha Noi"]
["VN-23","Hà Tĩnh"]
["BT-13","Haa"]
["TO-02","Ha'apai"]
["TO-02","Ha'apai"]
["RU-KHA","Habarovskij kraj"]
["BD-20","Habiganj"]
["AZ-HAC","Hacıqabul"]
["GB-HCK","Hackney"]
["IL-D","HaDarom"]
["TD-HL","Hadjer Lamis"]
["YE-HD","Ḩaḑramawt"]
["MV-05","Hahdhunmathi"]
["MV-05","Hahdhunmathi"]
["VN-61","Hải Dương"]
["VN-HP","Hai Phong"]
["SA-06","Ḩā'il"]
["CN-HI","Hainan Sheng"]
["BE-WHT","Hainaut"]
["SI-159","Hajdina"]
["HU-HB","Hajdú-Bihar"]
["YE-HJ","Ḩajjah"]
["TD-HL","Ḩajjar Lamīs"]
["RU-KK","Hakasija, Respublika"]
["TR-30","Hakkâri"]
["SY-HL","Ḩalab"]
["SE-N","Hallands län [SE-13]"]
["GB-HAL","Halton"]
["IR-24","Hamadān"]
["SY-HM","Ḩamāh"]
["LK-33","Hambantota"]
["LK-33","Hambantŏṭa"]
["DE-HH","Hamburg"]
["IL-M","HaMerkaz"]
["KP-09","Hamgyǒng-bukto"]
["KP-08","Hamgyǒng-namdo"]
["KP-08","Hamkyeongnamto"]
["KP-09","Hamkyeongpukto"]
["GB-HMF","Hammersmith and Fulham"]
["GB-HAM","Hampshire"]
["MT-18","Ħamrun"]
["MT-18","Ħamrun"]
["JM-09","Hanover"]
["RU-KHM","Hanty-Mansijskij avtonomnyj okrug"]
["ZW-HA","Harare"]
["ET-HA","Harari People"]
["BS-HI","Harbour Island"]
["NA-HA","Hardap"]
["ET-HA","Hārerī Hizb"]
["RO-HR","Harghita"]
["GB-HRY","Haringey"]
["EE-37","Harjumaa"]
["GB-HRW","Harrow"]
["GB-HPL","Hartlepool"]
["IN-HR","Haryana"]
["BG-26","Haskovo"]
["TR-31","Hatay"]
["DO-30","Hato Mayor"]
["PW-050","Hatohobei"]
["PW-050","Hatohobei"]
["IL-Z","HaTsafon"]
["VN-73","Hậu Giang"]
["FR-2B","Haute-Corse"]
["FR-31","Haute-Garonne"]
["CF-HK","Haute-Kotto"]
["FR-43","Haute-Loire"]
["FR-52","Haute-Marne"]
["FR-05","Hautes-Alpes"]
["CF-HS","Haute-Sangha / Mambéré-Kadéï"]
["FR-70","Haute-Saône"]
["FR-74","Haute-Savoie"]
["FR-65","Hautes-Pyrénées"]
["FR-87","Haute-Vienne"]
["CD-HK","Haut-Katanga"]
["CD-HL","Haut-Lomami"]
["CF-HM","Haut-Mbomou"]
["GA-2","Haut-Ogooué"]
["FR-68","Haut-Rhin"]
["BF-09","Hauts-Bassins"]
["FR-HDF","Hauts-de-France"]
["FR-92","Hauts-de-Seine"]
["CD-HU","Haut-Uélé"]
["GB-HAV","Havering"]
["CZ-631","Havlíčkův Brod"]
["US-HI","Hawaii"]
["KW-HA","Ḩawallī"]
["NZ-HKB","Hawke's Bay"]
["IL-HA","Ḩayfā"]
["ZA-NL","Hazolo-Natala"]
["ZA-NL","HaZulu-Natal"]
["CN-HE","Hebei Sheng"]
["PS-HBN","Hebron"]
["NO-04","Hedmark"]
["NO-04","Hedmark"]
["IL-HA","H̱efa"]
["CN-HL","Heilongjiang Sheng"]
["PG-HLA","Hela"]
["AF-HEL","Helmand"]
["AF-HEL","Helmand"]
["CN-HA","Henan Sheng"]
["MN-039","Hentiy"]
["AF-HER","Herāt"]
["AF-HER","Herāt"]
["FR-34","Hérault"]
["ME-08","Herceg-Novi"]
["CR-H","Heredia"]
["GB-HEF","Herefordshire"]
["DO-19","Hermanas Mirabal"]
["PA-6","Herrera"]
["GB-HRT","Hertfordshire"]
["DE-HE","Hessen"]
["HU-HE","Heves"]
["IQ-AR","Hewlêr"]
["SZ-HH","Hhohho"]
["SZ-HH","Hhohho"]
["MX-HID","Hidalgo"]
["GB-HLD","Highland"]
["DO-39","Higuamo"]
["SO-HI","Hiiraan"]
["EE-39","Hiiumaa"]
["PH-AGN","Hilagang Agusan"]
["PH-DAV","Hilagang Dabaw"]
["PH-ILN","Hilagang Iloko"]
["PH-CAN","Hilagang Kamarines"]
["PH-LAN","Hilagang Lanaw"]
["PH-NSA","Hilagang Samar"]
["PH-ZAN","Hilagang Sambuwangga"]
["PH-SUN","Hilagang Surigaw"]
["GB-HIL","Hillingdon"]
["IN-HP","Himachal Pradesh"]
["SY-HI","Ḩimş"]
["MD-HI","Hîncești"]
["JP-34","Hiroshima"]
["JP-34","Hirosima"]
["VN-SG","Ho Chi Minh"]
["VN-14","Hòa Bình"]
["SI-160","Hoče-Slivnica"]
["MR-01","Hodh ech Chargui"]
["MR-02","Hodh el Gharbi"]
["HU-HV","Hódmezővásárhely"]
["CZ-645","Hodonín"]
["SI-161","Hodoš"]
["IS-1","Höfuðborgarsvæði"]
["UG-403","Hoima"]
["JP-01","Hokkaido"]
["JP-01","Hokkaidô"]
["CU-11","Holguín"]
["KE-08","Homa Bay"]
["BY-HO","Homieĺskaja voblasć"]
["BY-HO","Homyel'skaya voblasts'"]
["CN-HK","Hong Kong SAR (see also separate country code entry under HK)"]
["BS-HT","Hope Town"]
["BY-HM","Horad Minsk"]
["BY-HM","Horad Minsk"]
["NO-12","Hordaland"]
["NO-12","Hordaland"]
["SI-162","Horjul"]
["IR-23","Hormozgān"]
["LA-HO","Houaphan"]
["BF-HOU","Houet"]
["GB-HNS","Hounslow"]
["MN-043","Hovd"]
["DK-84","Hovedstaden"]
["MN-041","Hövsgöl"]
["UM-84","Howland Island"]
["CZ-521","Hradec Králové"]
["SI-034","Hrastnik"]
["BY-HR","Hrodzenskaya voblasts'"]
["BY-HR","Hrodzienskaja voblasć"]
["SI-035","Hrpelje-Kozina"]
["TW-HSZ","Hsinchu"]
["TW-HSQ","Hsinchu"]
["TW-HUA","Hualien"]
["AO-HUA","Huambo"]
["PE-HUV","Huancavelica"]
["PE-HUC","Huánuco"]
["CN-HB","Hubei Sheng"]
["GT-HU","Huehuetenango"]
["ES-H","Huelva"]
["ES-HU","Huesca"]
["CO-HUI","Huila"]
["AO-HUI","Huíla"]
["JP-18","Hukui"]
["JP-40","Hukuoka"]
["JP-07","Hukusima"]
["CN-HN","Hunan Sheng"]
["RO-HD","Hunedoara"]
["VN-66","Hưng Yên"]
["PE-JUN","Hunin"]
["MV-28","Huvadhuatholhu Dhekunuburi"]
["MV-27","Huvadhuatholhu Uthuruburi"]
["KP-06","Hwanghae-bukto"]
["KP-05","Hwanghae-namdo"]
["KP-05","Hwanghainamto"]
["KP-06","Hwanghaipukto"]
["JP-28","Hyogo"]
["JP-28","Hyôgo"]
["RO-IL","Ialomița"]
["MD-IA","Ialoveni"]
["RO-IS","Iași"]
["UG-417","Ibanda"]
["JP-08","Ibaraki"]
["YE-IB","Ibb"]
["RW-02","Iburasirazuba"]
["RW-04","Iburengerazuba"]
["PE-ICA","Ica"]
["US-ID","Idaho"]
["EE-44","Ida-Virumaa"]
["SY-ID","Idlib"]
["SI-036","Idrija"]
["LV-034","Iecavas novads"]
["LU-EC","Iechternach"]
["MA-IFR","Ifrane"]
["ZA-FS","iFreyistata"]
["PH-IFU","Ifugao"]
["SI-037","Ig"]
["UG-203","Iganga"]
["ZA-GT","iGauteng"]
["TR-76","Iğdır"]
["LT-09","Ignalina"]
["NR-10","Ijuw"]
["NR-10","Ijuw"]
["PE-ICA","Ika"]
["PE-ICA","Ika"]
["MT-19","Iklin"]
["MT-19","Iklin"]
["LV-035","Ikšķiles novads"]
["ZA-NL","iKwaZulu-Natal"]
["IR-05","Īlām"]
["FR-IDF","Île-de-France"]
["CA-PE","Île-du-Prince-Édouard"]
["RO-IF","Ilfov"]
["CV-B","Ilhas de Barlavento"]
["CV-S","Ilhas de Sotavento"]
["MK-34","Ilinden"]
["SI-038","Ilirska Bistrica"]
["FR-35","Ille-et-Vilaine"]
["ES-IB","Illes Balears [Islas Baleares]"]
["US-IL","Illinois"]
["DZ-33","Illizi"]
["PH-01","Ilocos (Region I)"]
["PH-ILN","Ilocos Norte"]
["PH-ILS","Ilocos Sur"]
["PH-ILI","Iloilo"]
["PH-ILI","Iloilo"]
["LV-036","Ilūkstes novads"]
["EC-I","Imbabura"]
["GE-IM","Imereti"]
["AZ-IMI","İmişli"]
["NG-IM","Imo"]
["IT-IM","Imperia"]
["ZA-MP","iMpumalanga"]
["BS-IN","Inagua"]
["KR-28","Incheon-gwangyeoksi"]
["MR-12","Inchiri"]
["LV-037","Inčukalna novads"]
["DO-10","Independencia"]
["US-IN","Indiana"]
["FR-36","Indre"]
["FR-37","Indre-et-Loire"]
["MA-INE","Inezgane-Ait Melloul"]
["RU-IN","Ingušetija, Respublika"]
["RU-IN","Ingushetiya, Respublika"]
["MZ-I","Inhambane"]
["HN-IN","Intibucá"]
["GB-IVC","Inverclyde"]
["BF-IOB","Ioba"]
["GR-F","Ionía Nísia"]
["US-IA","Iowa"]
["GR-D","Ípeiros"]
["PH-IFU","Ipugaw"]
["ZA-EC","iPumalanga-Kapa"]
["LK-91","Irattiṉapuri"]
["JO-IR","Irbid"]
["TZ-04","Iringa"]
["RU-IRK","Irkutskaja oblast'"]
["RU-IRK","Irkutskaya oblast'"]
["SB-IS","Isabel"]
["PH-ISA","Isabela"]
["PH-ISA","Isabela"]
["FR-38","Isère"]
["IT-IS","Isernia"]
["JP-17","Ishikawa"]
["JP-17","Isikawa"]
["UG-418","Isingiro"]
["KE-09","Isiolo"]
["MT-20","Isla"]
["MT-20","Isla"]
["CU-99","Isla de la Juventud"]
["PK-IS","Islamabad"]
["PK-IS","Islāmābād"]
["HN-IB","Islas de la Bahía"]
["GB-AGY","Isle of Anglesey [Sir Ynys Môn GB-YNM]"]
["GB-IOW","Isle of Wight"]
["GB-IOS","Isles of Scilly"]
["GB-ISL","Islington"]
["AZ-ISM","İsmayıllı"]
["TR-32","Isparta"]
["KG-Y","Issyk-Kul'skaja oblast'"]
["KG-Y","Issyk-Kul'skaya oblast'"]
["TR-34","İstanbul"]
["HR-18","Istarska županija"]
["PY-7","Itapúa"]
["ZA-WC","iTjhingalanga-Kapa"]
["ZA-NC","iTlhagwini-Kapa"]
["ZA-NW","iTlhagwini-Tjhingalanga"]
["CD-IT","Ituri"]
["SI-039","Ivančna Gorica"]
["UA-26","Ivano-Frankivska oblast"]
["RU-IVA","Ivanovskaja oblast'"]
["RU-IVA","Ivanovskaya oblast'"]
["JP-03","Iwate"]
["GT-IZ","Izabal"]
["TR-35","İzmir"]
["SI-040","Izola"]
["LB-JL","Jabal Lubnān"]
["MH-JAB","Jabat"]
["RS-23","Jablanički okrug"]
["CZ-512","Jablonec nad Nisou"]
["ES-J","Jaén"]
["LK-41","Jaffna"]
["KP-04","Jakangto"]
["ID-JK","Jakarta Raya"]
["KG-J","Jalal-Abad"]
["GT-JA","Jalapa"]
["MX-JAL","Jalisco"]
["MH-JAL","Jaluit"]
["MH-JAL","Jālwōj"]
["RU-YAN","Jamalo-Neneckij avtonomnyj okrug"]
["BD-21","Jamalpur"]
["ID-JA","Jambi"]
["IN-JK","Jammu and Kashmir"]
["SE-Z","Jämtlands län [SE-23]"]
["NO-22","Jan Mayen (Arctic Region) (see also separate country code entry under SJ)"]
["NO-22","Jan Mayen (Arctic Region) (see also separate country code entry under SJ)"]
["NP-JA","Janakpur"]
["PS-JEN","Janīn"]
["OM-BJ","Janūb al Bāţinah"]
["OM-SJ","Janūb ash Sharqīyah"]
["SD-DS","Janūb Dārfūr"]
["SD-KS","Janūb Kurdufān"]
["EG-JS","Janūb Sīnā'"]
["ER-DK","Janūbī al Baḩrī al Aḩmar"]
["JO-JA","Jarash"]
["MC-JE","Jardin Exotique"]
["RU-YAR","Jaroslavskaja oblast'"]
["EE-51","Järvamaa"]
["UM-86","Jarvis Island"]
["HU-JN","Jász-Nagykun-Szolnok"]
["LV-038","Jaunjelgavas novads"]
["LV-039","Jaunpiebalgas novads"]
["LV-040","Jaunpils novads"]
["ID-JW","Jawa"]
["ID-JB","Jawa Barat"]
["ID-JT","Jawa Tengah"]
["ID-JI","Jawa Timur"]
["SA-09","Jāzān"]
["MH-JAB","Jebat"]
["MK-35","Jegunovce"]
["KR-49","Jeju-teukbyeoljachido"]
["LV-JKB","Jēkabpils"]
["LV-042","Jēkabpils novads"]
["LV-JEL","Jelgava"]
["LV-041","Jelgavas novads"]
["TN-32","Jendouba"]
["PS-JEN","Jenin"]
["KR-45","Jeollabuk-do"]
["KR-46","Jeollanam-do"]
["MA-JRA","Jerada"]
["PS-JRH","Jericho and Al Aghwar"]
["PS-JEM","Jerusalem"]
["SI-041","Jesenice"]
["CZ-711","Jeseník"]
["BD-22","Jessore"]
["SI-163","Jezersko"]
["BD-25","Jhalakathi"]
["IN-JH","Jharkhand"]
["BD-23","Jhenaidah"]
["CN-JS","Jiangsu Sheng"]
["CN-JX","Jiangxi Sheng"]
["DJ-DJ","Jībūtī"]
["CZ-522","Jičín"]
["NG-JI","Jigawa"]
["CZ-632","Jihlava"]
["CZ-31","Jihočeský kraj"]
["CZ-64","Jihomoravský kraj"]
["DZ-18","Jijel"]
["CN-JL","Jilin Sheng"]
["CZ-313","Jindřichův Hradec"]
["UG-204","Jinja"]
["NI-JI","Jinotega"]
["PG-JWK","Jiwaka"]
["UZ-JI","Jizzax"]
["EE-49","Jõgevamaa"]
["UM-67","Johnston Atoll"]
["MY-01","Johor"]
["LT-10","Jonava"]
["SS-JG","Jonglei"]
["LT-11","Joniškis"]
["SE-F","Jönköpings län [SE-06]"]
["AF-JOW","Jowzjān"]
["AF-JOW","Jowzjān"]
["BD-24","Joypurhat"]
["SO-JD","Jubbada Dhexe"]
["SO-JH","Jubbada Hoose"]
["AR-Y","Jujuy"]
["PE-JUN","Junin"]
["PE-JUN","Junín"]
["CH-JU","Jura"]
["FR-39","Jura"]
["LT-12","Jurbarkas"]
["LV-JUR","Jūrmala"]
["SI-042","Juršinci"]
["GT-JU","Jutiapa"]
["RS-06","Južnobački okrug"]
["RS-04","Južnobanatski okrug"]
["BW-JW","Jwaneng"]
["UG-318","Kaabong"]
["UG-404","Kabale"]
["RU-KB","Kabardino-Balkarskaja Respublika"]
["RU-KB","Kabardino-Balkarskaya Respublika"]
["UG-405","Kabarole"]
["UG-213","Kaberamaido"]
["PH-CAV","Kabite"]
["AF-KAB","Kābul"]
["AF-KAB","Kābul"]
["MM-11","Kachin"]
["FJ-04","Kadavu"]
["BF-KAD","Kadiogo"]
["NG-KD","Kaduna"]
["KH-23","Kaeb"]
["LK-92","Kægalla"]
["SN-KA","Kaffrine"]
["EG-KFS","Kafr ash Shaykh"]
["UG-427","Kagadi"]
["JP-37","Kagawa"]
["PH-CAG","Kagayan"]
["TZ-05","Kagera"]
["JP-46","Kagoshima"]
["JP-46","Kagosima"]
["TR-46","Kahramanmaraş"]
["FI-05","Kainuu"]
["TN-41","Kairouan"]
["LT-13","Kaišiadorys"]
["FI-05","Kajanaland"]
["KE-10","Kajiado"]
["KE-11","Kakamega"]
["GE-KA","K'akheti"]
["UG-428","Kakumiro"]
["UG-101","Kalangala"]
["TH-46","Kalasin"]
["LK-31","Kāli"]
["ID-KA","Kalimantan"]
["ID-KB","Kalimantan Barat"]
["ID-KS","Kalimantan Selatan"]
["ID-KT","Kalimantan Tengah"]
["ID-KI","Kalimantan Timur"]
["ID-KU","Kalimantan Utara"]
["PH-KAL","Kalinga"]
["PH-KAL","Kalinga"]
["RU-KGD","Kaliningradskaja oblast'"]
["RU-KGD","Kaliningradskaya oblast'"]
["UG-222","Kaliro"]
["MT-21","Kalkara"]
["MT-21","Kalkara"]
["PE-CAL","Kallao"]
["SE-H","Kalmar län [SE-08]"]
["RU-KL","Kalmykija, Respublika"]
["RU-KL","Kalmykiya, Respublika"]
["UG-122","Kalungu"]
["LK-13","Kalutara"]
["LK-13","Kaḷutara"]
["LK-13","Kaḷuttuṟai"]
["RU-KLU","Kaluzhskaya oblast'"]
["RU-KLU","Kalužskaja oblast'"]
["LT-14","Kalvarijos"]
["RU-KAM","Kamčatskij kraj"]
["RU-KAM","Kamchatskiy kray"]
["PH-CAM","Kamigin"]
["SI-043","Kamnik"]
["LK-12","Kampahā"]
["UG-102","Kampala"]
["TH-62","Kamphaeng Phet"]
["KH-3","Kampong Chaam"]
["KH-3","Kâmpóng Cham"]
["KH-4","Kampong Chhnang"]
["KH-4","Kâmpóng Chhnăng"]
["KH-5","Kâmpóng Spœ"]
["KH-5","Kampong Spueu"]
["KH-6","Kampong Thum"]
["KH-6","Kâmpóng Thum"]
["KH-7","Kampot"]
["KH-7","Kâmpôt"]
["UG-205","Kamuli"]
["UG-413","Kamwenge"]
["JP-14","Kanagawa"]
["SI-044","Kanal"]
["TH-71","Kanchanaburi"]
["KH-8","Kandaal"]
["AF-KAN","Kandahār"]
["AF-KAN","Kandahār"]
["KH-8","Kândal"]
["LV-043","Kandavas novads"]
["LK-21","Kandy"]
["TD-KA","Kanem"]
["KP-07","Kangweonto"]
["KP-07","Kangwǒn-do"]
["TD-KA","Kānim"]
["GN-K","Kankan"]
["GN-KA","Kankan"]
["PH-DVO","Kanlurang Dabaw"]
["PH-MDC","Kanlurang Mindoro"]
["PH-MSC","Kanlurang Misamis"]
["PH-NEC","Kanlurang Negros"]
["NG-KN","Kano"]
["US-KS","Kansas"]
["FI-06","Kanta-Häme"]
["LK-21","Kaṇṭi"]
["UG-414","Kanungu"]
["KH-9","Kaoh Kong"]
["KH-9","Kaôh Kŏng"]
["TW-KHH","Kaohsiung"]
["SN-KL","Kaolack"]
["ZA-WC","Kapa Bodikela"]
["ZA-EC","Kapa Bohlabela"]
["ZA-NC","Kapa Bokone"]
["ZA-WC","Kapa Bophirima"]
["ZA-WC","Kapa Bophirimela"]
["ZA-EC","Kapa Botjhabela"]
["ZA-EC","Kapa Botlhaba"]
["ZA-NC","Kapa Devhula"]
["ZA-NC","Kapa Leboya"]
["ZA-NC","Kapa Leboya"]
["ZA-EC","Kapa Vhubvaḓuvha"]
["ZA-WC","Kapa Vhukovhela"]
["ZA-NC","Kapa-N'walungu"]
["ZA-WC","Kapa-Vupeladyambu"]
["ZA-EC","Kapa-Vuxa"]
["UG-206","Kapchorwa"]
["UG-236","Kapelebyong"]
["LU-CA","Kapellen"]
["PH-CAP","Kapis"]
["AF-KAP","Kāpīsā"]
["AF-KAP","Kāpīsā"]
["HU-KV","Kaposvár"]
["TG-K","Kara"]
["TR-78","Karabük"]
["RU-KC","Karačaevo-Čerkesskaja Respublika"]
["RU-KC","Karachayevo-Cherkesskaya Respublika"]
["KZ-KAR","Karagandinskaja oblast'"]
["KZ-KAR","Karagandinskaya oblast'"]
["TR-70","Karaman"]
["NA-KA","Karas"]
["IQ-KA","Karbalā’"]
["MK-37","Karbinci"]
["BG-09","Kardzhali"]
["RU-KR","Karelija, Respublika"]
["RU-KR","Kareliya, Respublika"]
["HR-04","Karlovačka županija"]
["CZ-41","Karlovarský kraj"]
["CZ-412","Karlovy Vary"]
["NP-P6","Karnali"]
["NP-P6","Karnali"]
["NP-KA","Karnali"]
["IN-KA","Karnataka"]
["AT-2","Kärnten"]
["MW-KR","Karonga"]
["MW-KR","Karonga"]
["TR-36","Kars"]
["LV-044","Kārsavas novads"]
["BI-KR","Karuzi"]
["BI-KR","Karuzi"]
["CZ-803","Karviná"]
["CD-KS","Kasaï"]
["CD-KC","Kasaï Central"]
["CD-KE","Kasaï Oriental"]
["UG-126","Kasanda"]
["UG-406","Kasese"]
["PE-CAJ","Kashamarka"]
["SC-11","Kaskad"]
["TZ-06","Kaskazini Pemba"]
["TZ-07","Kaskazini Unguja"]
["SD-KA","Kassala"]
["SD-KA","Kassalā"]
["TN-42","Kasserine"]
["TR-37","Kastamonu"]
["MW-KS","Kasungu"]
["MW-KS","Kasungu"]
["UG-207","Katakwi"]
["PH-CAT","Katanduwanes"]
["TZ-28","Katavi"]
["PH-SLE","Katimogang Leyte"]
["NG-KT","Katsina"]
["LT-16","Kaunas"]
["LT-KU","Kauno apskritis"]
["LT-15","Kauno miestas"]
["MK-36","Kavadarci"]
["NA-KE","Kavango East"]
["NA-KW","Kavango West"]
["MM-12","Kayah"]
["PW-100","Kayangel"]
["PW-100","Kayangel"]
["BI-KY","Kayanza"]
["BI-KY","Kayanza"]
["ML-1","Kayes"]
["MM-13","Kayin"]
["TR-38","Kayseri"]
["UG-112","Kayunga"]
["LT-17","Kazlų Rūdos"]
["KH-23","Kêb"]
["NG-KE","Kebbi"]
["TN-73","Kébili"]
["HU-KM","Kecskemét"]
["MY-02","Kedah"]
["LT-18","Kėdainiai"]
["SN-KE","Kédougou"]
["TW-KEE","Keelung"]
["LK-92","Kegalla"]
["LV-051","Ķeguma novads"]
["LK-92","Kekālai"]
["LV-052","Ķekavas novads"]
["MY-03","Kelantan"]
["AZ-KAL","Kəlbəcər"]
["LT-19","Kelmė"]
["RU-KEM","Kemerovskaja oblast'"]
["RU-KEM","Kemerovskaya oblast'"]
["CF-KG","Kemö-Gïrïbïngï"]
["CF-KG","Kémo-Gribingui"]
["BF-KEN","Kénédougou"]
["AZ-KAN","Kǝngǝrli"]
["MA-KEN","Kénitra"]
["GB-KEC","Kensington and Chelsea"]
["GB-KEN","Kent"]
["GR-B","Kentrikí Makedonía"]
["US-KY","Kentucky"]
["ID-BB","Kepulauan Bangka Belitung"]
["ID-KR","Kepulauan Riau"]
["IN-KL","Kerala"]
["MT-22","Kerċem"]
["MT-22","Kerċem"]
["KE-12","Kericho"]
["IR-15","Kermān"]
["IR-17","Kermānshāh"]
["GN-KE","Kérouané"]
["IE-KY","Kerry"]
["CY-06","Keryneia"]
["FI-07","Keski-Pohjanmaa"]
["FI-08","Keski-Suomi"]
["PH-QUE","Keson"]
["BW-KG","Kgalagadi"]
["BW-KL","Kgatleng"]
["ZA-GT","Kgauteng"]
["RU-KHA","Khabarovskiy kray"]
["BD-29","Khagrachhari"]
["PK-KP","Khaībar Pakhtūnkhwā"]
["RU-KK","Khakasiya, Respublika"]
["LA-KH","Khammouan"]
["PS-KYS","Khan Yunis"]
["PS-KYS","Khān Yūnis"]
["VN-34","Khánh Hòa"]
["RU-KHM","Khanty-Mansiyskiy avtonomnyy okrug"]
["UA-63","Kharkivska oblast"]
["SD-KH","Khartoum"]
["TJ-KT","Khatlon"]
["MA-KHE","Khemisset"]
["DZ-40","Khenchela"]
["MA-KHN","Khenifra"]
["UA-65","Khersonska oblast"]
["UA-68","Khmelnytska oblast"]
["NA-KH","Khomas"]
["TH-40","Khon Kaen"]
["IR-29","Khorāsān-e Jonūbī"]
["IR-30","Khorāsān-e Raẕavī"]
["IR-31","Khorāsān-e Shomālī"]
["AF-KHO","Khōst"]
["AF-KHO","Khōst"]
["MA-KHO","Khouribga"]
["BD-D","Khulna"]
["BD-27","Khulna"]
["IR-10","Khūzestān"]
["PK-KP","Khyber Pakhtunkhwa"]
["KE-13","Kiambu"]
["UG-407","Kibaale"]
["UG-103","Kiboga"]
["UG-227","Kibuku"]
["MK-40","Kičevo"]
["ML-8","Kidal"]
["SI-045","Kidričevo"]
["VN-47","Kiến Giang"]
["GQ-KN","Kié-Ntem"]
["GQ-KN","Kié-Ntem"]
["GQ-KN","Kié-Ntem"]
["TZ-08","Kigoma"]
["UG-432","Kikuube"]
["LK-5","Kil̮akku mākāṇam"]
["IE-KE","Kildare"]
["KE-14","Kilifi"]
["TZ-09","Kilimanjaro"]
["LK-42","Kilinochchi"]
["LK-42","Kilinŏchchi"]
["LK-42","Kiḷinochchi"]
["TR-79","Kilis"]
["IE-KK","Kilkenny"]
["GN-D","Kindia"]
["GN-KD","Kindia"]
["UM-89","Kingman Reef"]
["JM-01","Kingston"]
["GB-KHL","Kingston upon Hull"]
["GB-KTT","Kingston upon Thames"]
["TW-KIN","Kinmen"]
["CD-KN","Kinshasa"]
["TR-71","Kırıkkale"]
["PH-QUI","Kirino"]
["KE-15","Kirinyaga"]
["TR-39","Kırklareli"]
["GB-KIR","Kirklees"]
["MT-23","Kirkop"]
["MT-23","Kirkop"]
["IQ-KI","Kirkūk"]
["UA-35","Kirovohradska oblast"]
["RU-KIR","Kirovskaja oblast'"]
["RU-KIR","Kirovskaya oblast'"]
["TR-40","Kırşehir"]
["UG-419","Kiruhura"]
["BI-KI","Kirundo"]
["BI-KI","Kirundo"]
["UG-421","Kiryandongo"]
["BD-26","Kishoreganj"]
["KE-16","Kisii"]
["UG-408","Kisoro"]
["GN-KS","Kissidougou"]
["KE-17","Kisumu"]
["UG-305","Kitgum"]
["KE-18","Kitui"]
["CZ-203","Kladno"]
["LT-21","Klaipėda"]
["LT-KL","Klaipėdos apskritis"]
["LT-20","Klaipėdos miestas"]
["CZ-322","Klatovy"]
["LU-CL","Klierf"]
["GB-KWL","Knowsley"]
["SI-046","Kobarid"]
["SI-047","Kobilje"]
["UG-319","Koboko"]
["TR-41","Kocaeli"]
["MK-42","Kočani"]
["LV-045","Kocēnu novads"]
["SI-048","Kočevje"]
["JP-39","Kochi"]
["NG-KO","Kogi"]
["IR-18","Kohgīlūyeh va Bowyer Aḩmad"]
["LV-046","Kokneses novads"]
["LK-11","Kŏḷamba"]
["ME-09","Kolašin"]
["SN-KD","Kolda"]
["UG-325","Kole"]
["MV-08","Kolhumadulu"]
["MV-08","Kolhumadulu"]
["CZ-204","Kolín"]
["RS-09","Kolubarski okrug"]
["LK-11","Kŏl̮umpu"]
["HU-KE","Komárom-Esztergom"]
["SI-049","Komen"]
["SI-164","Komenda"]
["RU-KO","Komi, Respublika"]
["RU-KO","Komi, Respublika"]
["GL-KU","Kommune Kujalleq"]
["GL-QT","Kommune Qeqertalik"]
["GL-SM","Kommuneqarfik Sermersooq"]
["BF-KMD","Komondjari"]
["BF-KMP","Kompienga"]
["VN-28","Kon Tum"]
["MK-41","Konče"]
["CD-BC","Kongo Central"]
["TR-42","Konya"]
["SI-050","Koper"]
["HR-06","Koprivničko-križevačka županija"]
["AL-06","Korçë"]
["IR-16","Kordestān"]
["PW-150","Koror"]
["PW-150","Koror"]
["SI-197","Kosanjevica na Krki"]
["NP-KO","Kosi"]
["SK-KI","Košický kraj"]
["RS-KM","Kosovo-Metohija"]
["RS-25","Kosovski okrug"]
["RS-28","Kosovsko-Mitrovački okrug"]
["RS-29","Kosovsko-Pomoravski okrug"]
["FM-KSA","Kosrae"]
["BF-KOS","Kossi"]
["KZ-KUS","Kostanajskaja oblast'"]
["KZ-KUS","Kostanayskaya oblast'"]
["SI-165","Kostel"]
["RU-KOS","Kostromskaja oblast'"]
["RU-KOS","Kostromskaya oblast'"]
["PH-NCO","Kotabato"]
["AM-KT","Kotayk'"]
["JP-39","Kôti"]
["UG-306","Kotido"]
["ME-10","Kotor"]
["GN-KB","Koubia"]
["CG-5","Kouilou"]
["ML-2","Koulikoro"]
["BF-KOP","Koulpélogo"]
["GN-KN","Koundara"]
["BF-KOT","Kouritenga"]
["GN-KO","Kouroussa"]
["BF-KOW","Kourwéogo"]
["TL-CO","Kovalima"]
["SI-051","Kozje"]
["TH-81","Krabi"]
["KH-10","Kracheh"]
["KH-10","Krâchéh"]
["CZ-63","Kraj Vysočina"]
["CZ-52","Královéhradecký kraj"]
["SI-052","Kranj"]
["SI-053","Kranjska Gora"]
["HR-02","Krapinsko-zagorska županija"]
["LV-047","Krāslavas novads"]
["RU-KDA","Krasnodarskij kraj"]
["RU-KDA","Krasnodarskiy kray"]
["RU-KYA","Krasnojarskij kraj"]
["RU-KYA","Krasnoyarskiy kray"]
["MK-43","Kratovo"]
["LT-22","Kretinga"]
["LV-048","Krimuldas novads"]
["GR-M","Kríti"]
["MK-44","Kriva Palanka"]
["MK-45","Krivogaštani"]
["SI-166","Križevci"]
["CZ-721","Kroměříž"]
["SE-G","Kronobergs län [SE-07]"]
["SI-054","Krško"]
["TH-10","Krung Thep Maha Nakhon"]
["MK-46","Kruševo"]
["LV-049","Krustpils novads"]
["AO-CCU","Kuando Kubango"]
["TJ-GB","Kŭhistoni Badakhshon"]
["PL-04","Kujawsko-pomorskie"]
["AL-07","Kukës"]
["LV-050","Kuldīgas novads"]
["JP-43","Kumamoto"]
["MK-47","Kumanovo"]
["UG-208","Kumi"]
["AF-KNR","Kunaṟ"]
["AF-KNR","Kunaṟ"]
["AF-KDZ","Kunduz"]
["AF-KDZ","Kunduz"]
["NA-KU","Kunene"]
["SI-055","Kungota"]
["LT-23","Kupiškis"]
["AZ-KUR","Kürdəmir"]
["RU-KGN","Kurganskaja oblast'"]
["RU-KGN","Kurganskaya oblast'"]
["BD-28","Kurigram"]
["RU-KRS","Kurskaja oblast'"]
["RU-KRS","Kurskaya oblast'"]
["LK-61","Kuruṇægala"]
["LK-61","Kurunākal"]
["LK-61","Kurunegala"]
["BD-30","Kushtia"]
["TZ-10","Kusini Pemba"]
["TZ-11","Kusini Unguja"]
["PE-CUS","Kusku"]
["TR-43","Kütahya"]
["CZ-205","Kutná Hora"]
["MH-KWA","Kuwajleen"]
["SI-056","Kuzma"]
["GE-KK","Kvemo Kartli"]
["MH-KWA","Kwajalein"]
["KE-19","Kwale"]
["CD-KG","Kwango"]
["UG-333","Kwania"]
["AO-CNO","Kwanza Norte"]
["AO-CUS","Kwanza Sul"]
["NG-KW","Kwara"]
["ZA-NL","Kwazulu-Natal"]
["ZA-NL","Kwazulu-Natal"]
["ZA-NL","KwaZulu-Natal"]
["ZA-NL","KwaZulu-Natal"]
["ZA-NL","KwaZulu-Natala"]
["ZA-NL","KwaZulu-Natali"]
["ZA-NL","KwaZulu-Natali"]
["UG-228","Kween"]
["BW-KW","Kweneng"]
["CD-KL","Kwilu"]
["UG-123","Kyankwanzi"]
["UG-422","Kyegegwa"]
["UG-415","Kyenjojo"]
["UA-30","Kyiv"]
["UA-32","Kyivska oblast"]
["FI-09","Kymenlaakso"]
["FI-09","Kymmenedalen"]
["UG-125","Kyotera"]
["JP-26","Kyoto"]
["JP-26","Kyôto"]
["BG-10","Kyustendil"]
["KZ-KZY","Kyzylordinskaja oblast'"]
["KZ-KZY","Kyzylordinskaya oblast'"]
["DO-11","La Altagracia"]
["CL-AR","La Araucanía"]
["MC-CL","La Colle"]
["MC-CO","La Condamine"]
["SC-15","La Digue"]
["SC-15","La Digue"]
["MC-GA","La Gare"]
["CO-LAG","La Guajira"]
["CU-03","La Habana"]
["PE-LAL","La Libertad"]
["PE-LAL","La Libertad"]
["SV-LI","La Libertad"]
["TN-14","La Manouba"]
["AD-04","La Massana"]
["AR-L","La Pampa"]
["BO-L","La Paz"]
["HN-LP","La Paz"]
["SV-PA","La Paz"]
["FR-LRE","La Réunion"]
["FR-RE","La Réunion (see also separate country code entry under RE)"]
["AR-F","La Rioja"]
["ES-RI","La Rioja"]
["ES-LO","La Rioja"]
["SC-16","La Rivière Anglaise"]
["DO-12","La Romana"]
["MC-SO","La Source"]
["IT-SP","La Spezia"]
["PH-LUN","La Union"]
["SV-UN","La Unión"]
["PH-LUN","La Unyon"]
["DO-13","La Vega"]
["EE-57","Läänemaa"]
["EE-59","Lääne-Virumaa"]
["MA-LAA","Laâyoune (EH)"]
["MA-11","Laâyoune-Sakia El Hamra (EH-partial)"]
["GN-L","Labé"]
["GN-LA","Labé"]
["LC-07","Laborie"]
["TD-LC","Lac"]
["AZ-LAC","Laçın"]
["CI-LC","Lacs"]
["SC-15","Ladig"]
["MH-LAE","Lae"]
["MH-LAE","Lae"]
["AF-LAG","Laghmān"]
["AF-LAG","Laghmān"]
["DZ-03","Laghouat"]
["NG-LA","Lagos"]
["PH-LAG","Laguna"]
["PH-LAG","Laguna"]
["CI-LG","Lagunes"]
["YE-LA","Laḩij"]
["VN-01","Lai Châu"]
["IE-L","Laighin"]
["KE-20","Laikipia"]
["SS-LK","Lakes"]
["IN-LD","Lakshadweep"]
["BD-31","Lakshmipur"]
["PH-MOU","Lalawigang Bulubundukin"]
["BD-32","Lalmonirhat"]
["VN-35","Lâm Đồng"]
["PH-COM","Lambak ng Kompostela"]
["PE-LAM","Lambayeque"]
["PE-LAM","Lambayeque"]
["GB-LBH","Lambeth"]
["PE-LAM","Lampalliqi"]
["TH-52","Lampang"]
["TH-51","Lamphun"]
["ID-LA","Lampung"]
["KE-21","Lamu"]
["UG-326","Lamwo"]
["PH-LAN","Lanao del Norte"]
["PH-LAS","Lanao del Sur"]
["GB-LAN","Lancashire"]
["FR-40","Landes"]
["FI-01","Landskapet Åland"]
["VN-09","Lạng Sơn"]
["VN-02","Lào Cai"]
["IE-LS","Laois"]
["IE-LS","Laois"]
["FI-10","Lappi"]
["FI-10","Lappland"]
["IT-AQ","L'Aquila"]
["VE-K","Lara"]
["MA-LAR","Larache"]
["TN-12","L'Ariana"]
["SC-16","Larivyer Anglez"]
["CY-03","Larnaka"]
["CY-03","Larnaka"]
["MC-LA","Larvotto"]
["ES-GC","Las Palmas"]
["CU-10","Las Tunas"]
["SI-057","Laško"]
["HT-AR","Latibonit"]
["IT-LT","Latina"]
["FJ-05","Lau"]
["TL-LA","Lautein"]
["TL-LA","Lautém"]
["UY-LA","Lavalleja"]
["LT-24","Lazdijai"]
["IT-62","Lazio"]
["TN-33","Le Kef"]
["TM-L","Lebap"]
["ZA-NW","Lebowa Bodikela"]
["ZA-NW","Leboya (le) Bophirima"]
["IT-LE","Lecce"]
["IT-LC","Lecco"]
["GB-LDS","Leeds"]
["CY-01","Lefkoşa"]
["CY-01","Lefkosia"]
["GB-LCE","Leicester"]
["GB-LEC","Leicestershire"]
["IE-L","Leinster"]
["PT-10","Leiria"]
["IE-LM","Leitrim"]
["CG-2","Lékoumou"]
["GN-LE","Lélouma"]
["SC-24","Lemamel"]
["CY-02","Lemesos"]
["HN-LE","Lempira"]
["SI-058","Lenart"]
["SI-059","Lendava"]
["RU-LEN","Leningradskaja oblast'"]
["RU-LEN","Leningradskaya oblast'"]
["AZ-LA","Lənkəran"]
["AZ-LAN","Lənkəran"]
["ES-LE","León"]
["NI-LE","León"]
["MD-LE","Leova"]
["BF-LER","Léraba"]
["LS-C","Leribe"]
["LS-C","Leribe"]
["AZ-LER","Lerik"]
["SC-24","Les Mamelles"]
["SC-24","Les Mamelles"]
["GW-L","Leste"]
["LU-LU","Lëtzebuerg"]
["GB-LEW","Lewisham"]
["CY-02","Leymasun"]
["PH-LEY","Leyte"]
["PH-LEY","Leyte"]
["AL-08","Lezhë"]
["BT-44","Lhuentse"]
["CN-LN","Liaoning Sheng"]
["IE-LM","Liatroim"]
["MH-LIB","Lib"]
["LB-AS","Liban-Nord"]
["LB-JA","Liban-Sud"]
["CZ-513","Liberec"]
["CZ-51","Liberecký kraj"]
["CL-LI","Libertador General Bernardo O'Higgins"]
["HR-09","Ličko-senjska županija"]
["BE-WLG","Liège"]
["LV-053","Lielvārdes novads"]
["TW-LIE","Lienchiang"]
["LV-LPX","Liepāja"]
["LV-055","Līgatnes novads"]
["IT-42","Liguria"]
["MT-24","Lija"]
["MT-24","Lija"]
["MH-LIK","Likiep"]
["MH-LIK","Likiep"]
["TL-LI","Likisá"]
["MW-LK","Likoma"]
["MW-LK","Likoma"]
["CG-7","Likouala"]
["MW-LI","Lilongwe"]
["MW-LI","Lilongwe"]
["PE-LIM","Lima"]
["PE-LIM","Lima"]
["PE-LIM","Lima"]
["PE-LMA","Lima hatun llaqta"]
["PE-LMA","Lima llaqta suyu"]
["LV-054","Limbažu novads"]
["BE-VLI","Limburg"]
["NL-LI","Limburg"]
["IE-LK","Limerick"]
["CR-L","Limón"]
["ZA-LP","Limpopo"]
["ZA-LP","Limpopo"]
["ZA-LP","Limpopo"]
["ZA-LP","Limpopo"]
["ZA-LP","Limpopo"]
["ZA-LP","Limpopo"]
["ZA-LP","Limpopo"]
["ZA-LP","Limpopo"]
["ZA-LP","Limpopo"]
["ZA-LP","Limpopo"]
["GB-LIN","Lincolnshire"]
["TZ-12","Lindi"]
["KI-L","Line Islands"]
["RU-LIP","Lipeckaja oblast'"]
["RU-LIP","Lipetskaya oblast'"]
["MK-48","Lipkovo"]
["TL-LI","Liquiça"]
["UG-307","Lira"]
["PT-11","Lisboa"]
["GB-LBC","Lisburn and Castlereagh"]
["SI-060","Litija"]
["CZ-423","Litoměřice"]
["GQ-LI","Litoral"]
["GQ-LI","Litoral"]
["BJ-LI","Littoral"]
["CM-LT","Littoral"]
["CM-LT","Littoral"]
["GQ-LI","Littoral"]
["LV-056","Līvānu novads"]
["GB-LIV","Liverpool"]
["IT-LI","Livorno"]
["SI-061","Ljubljana"]
["SI-062","Ljubno"]
["SI-063","Ljutomer"]
["ES-L","Lleida [Lérida]"]
["BW-LO","Lobatse"]
["CF-LB","Lobaye"]
["CF-LB","Lobâye"]
["IE-WX","Loch Garman"]
["IT-LO","Lodi"]
["PL-10","Łódzkie"]
["TH-42","Loei"]
["LR-LO","Lofa"]
["AF-LOG","Lōgar"]
["AF-LOG","Lōgar"]
["SI-064","Logatec"]
["SI-208","Log-Dragomer"]
["TD-LO","Logone-Occidental"]
["TD-LR","Logone-Oriental"]
["FR-42","Loire"]
["FR-44","Loire-Atlantique"]
["FR-45","Loiret"]
["FR-41","Loir-et-Cher"]
["EC-L","Loja"]
["GN-LO","Lola"]
["FJ-06","Lomaiviti"]
["CD-LO","Lomami"]
["IT-25","Lombardia"]
["GB-LND","London, City of"]
["VN-41","Long An"]
["BS-LI","Long Island"]
["IE-LD","Longford"]
["TH-16","Lop Buri"]
["IR-20","Lorestān"]
["PE-LOR","Loreto"]
["AM-LO","Loṙi"]
["MA-02","L'Oriental"]
["BF-LOR","Loroum"]
["CL-LL","Los Lagos"]
["CL-LR","Los Ríos"]
["EC-R","Los Ríos"]
["PA-7","Los Santos"]
["SI-065","Loška Dolina"]
["SI-066","Loški Potok"]
["FR-46","Lot"]
["FR-47","Lot-et-Garonne"]
["LA-LM","Louang Namtha"]
["LA-LP","Louangphabang"]
["SN-LG","Louga"]
["US-LA","Louisiana"]
["CZ-424","Louny"]
["IE-LH","Louth"]
["BG-11","Lovech"]
["SI-167","Lovrenc na Pohorju"]
["GM-L","Lower River"]
["FR-48","Lozère"]
["MK-49","Lozovo"]
["IE-LH","Lú"]
["CD-LU","Lualaba"]
["AO-LUA","Luanda"]
["ZM-04","Luapula"]
["LV-057","Lubānas novads"]
["PL-06","Lubelskie"]
["SZ-LU","Lubombo"]
["SZ-LU","Lubombo"]
["PL-08","Lubuskie"]
["IT-LU","Lucca"]
["SI-067","Luče"]
["LV-058","Ludzas novads"]
["ES-LU","Lugo [Lugo]"]
["UA-09","Luhanska oblast"]
["IE-LK","Luimneach"]
["SI-068","Lukovica"]
["NP-LU","Lumbini"]
["AO-LNO","Lunda Norte"]
["AO-LSU","Lunda Sul"]
["MT-25","Luqa"]
["MT-25","Luqa"]
["TD-LO","Lūqūn al Gharbī"]
["TD-LR","Lūqūn ash Sharqī"]
["PE-LOR","Luritu"]
["PE-LOR","Luritu"]
["ZM-09","Lusaka"]
["GB-LUT","Luton"]
["UG-229","Luuka"]
["UG-104","Luwero"]
["BE-WLX","Luxembourg"]
["LU-LU","Luxembourg"]
["LU-LU","Luxemburg"]
["CH-LU","Luzern"]
["UA-46","Lvivska oblast"]
["UG-124","Lwengo"]
["HT-OU","Lwès"]
["UG-114","Lyantonde"]
["MA-MDF","M’diq-Fnideq"]
["JO-MN","Ma‘ān"]
["ER-MA","Ma’ĭkel"]
["YE-MA","Ma’rib"]
["MV-MLE","Maale"]
["MV-26","Maaleatholhu"]
["MV-20","Maalhosmadulu Dhekunuburi"]
["MV-13","Maalhosmadulu Uthuruburi"]
["CN-MO","Macao SAR (see also separate country code entry under MO)"]
["CN-MO","Macau SAR (see also separate country code entry under MO)"]
["GN-MC","Macenta"]
["IT-MC","Macerata"]
["KE-22","Machakos"]
["MW-MH","Machinga"]
["MW-MH","Machinga"]
["FJ-07","Macuata"]
["RS-08","Mačvanski okrug"]
["JO-MD","Mādabā"]
["LK-51","Maḍakalapuva"]
["PG-MPM","Madang"]
["BD-36","Madaripur"]
["NP-2","Madhya Pashchimanchal"]
["IN-MP","Madhya Pradesh"]
["LK-2","Madhyama paḷāta"]
["NP-1","Madhyamanchal"]
["TD-ND","Madīnat Injamīnā"]
["LV-059","Madonas novads"]
["PE-MDD","Madre de Dios"]
["PE-MDD","Madre de Dios"]
["ES-M","Madrid"]
["ES-MD","Madrid, Comunidad de"]
["NI-MD","Madriz"]
["TH-58","Mae Hong Son"]
["LS-E","Mafeteng"]
["LS-E","Mafeteng"]
["RU-MAG","Magadanskaja oblast'"]
["RU-MAG","Magadanskaya oblast'"]
["CL-MA","Magallanes"]
["CO-MAG","Magdalena"]
["PH-MAG","Magindanaw"]
["PH-MAG","Maguindanao"]
["BD-37","Magura"]
["CY-04","Mağusa"]
["MM-03","Magway"]
["TH-44","Maha Sarakham"]
["GY-MA","Mahaica-Berbice"]
["MG-M","Mahajanga"]
["NP-MA","Mahakali"]
["LK-21","Mahanuvara"]
["IN-MH","Maharashtra"]
["TN-53","Mahdia"]
["BY-MA","Mahilioŭskaja voblasć"]
["BY-MA","Mahilyowskaya voblasts'"]
["IE-MO","Maigh Eo"]
["CD-MN","Mai-Ndombe"]
["US-ME","Maine"]
["FR-49","Maine-et-Loire"]
["CV-MA","Maio"]
["MH-MEJ","Mājej"]
["MH-MAJ","Mājro"]
["SI-069","Majšperk"]
["MH-MAJ","Majuro"]
["BI-MA","Makamba"]
["BI-MA","Makamba"]
["MK-51","Makedonska Kamenica"]
["MK-52","Makedonski Brod"]
["SB-MK","Makira-Ulawa"]
["SA-02","Makkah al Mukarramah"]
["SI-198","Makole"]
["KE-23","Makueni"]
["ES-MA","Málaga"]
["SB-ML","Malaita"]
["VU-MAP","Malampa"]
["VU-MAP","Malampa"]
["AO-MAL","Malange"]
["TR-44","Malatya"]
["MC-MA","Malbousquet"]
["UY-MA","Maldonado"]
["MV-MLE","Male"]
["MV-26","Male Atoll"]
["GN-ML","Mali"]
["MH-MAL","Maloelap"]
["MH-MAL","Ṃaḷoeḷap"]
["PL-12","Małopolskie"]
["LV-061","Mālpils novads"]
["ID-ML","Maluku"]
["ID-MA","Maluku"]
["ID-MU","Maluku Utara"]
["GN-M","Mamou"]
["GN-MM","Mamou"]
["EC-M","Manabí"]
["UG-223","Manafwa"]
["NI-MN","Managua"]
["TL-MT","Manatuto"]
["TL-MT","Manatutu"]
["NZ-MWT","Manawatu Whanganui"]
["NZ-MWT","Manawatu-Wanganui"]
["FR-50","Manche"]
["GB-MAN","Manchester"]
["JM-12","Manchester"]
["MM-04","Mandalay"]
["KE-24","Mandera"]
["GN-MD","Mandiana"]
["TD-MA","Mandoul"]
["TD-MA","Māndūl"]
["KZ-MAN","Mangghystaū oblysy"]
["KZ-MAN","Mangistauskaya oblast'"]
["MW-MG","Mangochi"]
["MW-MG","Mangochi"]
["BS-MC","Mangrove Cay"]
["KZ-MAN","Mangystauskaja oblast'"]
["MZ-B","Manica"]
["ZW-MA","Manicaland"]
["CD-MA","Maniema"]
["BD-33","Manikganj"]
["IN-MN","Manipur"]
["TR-45","Manisa"]
["CA-MB","Manitoba"]
["CA-MB","Manitoba"]
["LK-43","Mannar"]
["LK-43","Maṉṉār"]
["LK-43","Mannārama"]
["IT-MN","Mantova"]
["TL-MF","Manufahi"]
["TL-MF","Manufahi"]
["PG-MRL","Manus"]
["TZ-26","Manyara"]
["SZ-MA","Manzini"]
["SZ-MA","Manzini"]
["MZ-MPM","Maputo"]
["MZ-L","Maputo"]
["TZ-13","Mara"]
["UG-320","Maracha"]
["NE-4","Maradi"]
["RO-MM","Maramureș"]
["BR-MA","Maranhão"]
["IT-57","Marche"]
["TR-47","Mardin"]
["LR-MG","Margibi"]
["DO-14","María Trinidad Sánchez"]
["SI-070","Maribor"]
["RU-ME","Marij Èl, Respublika"]
["LT-25","Marijampolė"]
["LT-MR","Marijampolės apskritis"]
["PH-MAD","Marinduke"]
["PH-MAD","Marinduque"]
["TG-M","Maritime (Région)"]
["RU-ME","Mariy El, Respublika"]
["IR-22","Markazī"]
["SI-168","Markovci"]
["NZ-MBH","Marlborough"]
["FR-51","Marne"]
["SR-MA","Marowijne"]
["MA-MAR","Marrakech"]
["MA-07","Marrakech-Safi"]
["MT-26","Marsa"]
["MT-26","Marsa"]
["KE-25","Marsabit"]
["MT-27","Marsaskala"]
["MT-27","Marsaskala"]
["MT-28","Marsaxlokk"]
["MT-28","Marsaxlokk"]
["FR-MQ","Martinique (see also separate country code entry under MQ)"]
["LV-062","Mārupes novads"]
["TM-M","Mary"]
["LR-MY","Maryland"]
["US-MD","Maryland"]
["UG-105","Masaka"]
["AZ-MAS","Masallı"]
["NI-MS","Masaya"]
["PH-MAS","Masbate"]
["PH-MAS","Masbate"]
["DZ-29","Mascara"]
["LS-A","Maseru"]
["LS-A","Maseru"]
["ZW-MC","Mashonaland Central"]
["ZW-ME","Mashonaland East"]
["ZW-MW","Mashonaland West"]
["UG-409","Masindi"]
["OM-MA","Masqaţ"]
["IT-MS","Massa-Carrara"]
["US-MA","Massachusetts"]
["ZW-MV","Masvingo"]
["ZW-MN","Matabeleland North"]
["ZW-MS","Matabeleland South"]
["NI-MT","Matagalpa"]
["LK-22","Matale"]
["LK-22","Mātale"]
["SN-MT","Matam"]
["CU-04","Matanzas"]
["LK-32","Matara"]
["LK-32","Mātara"]
["IT-MT","Matera"]
["BR-MT","Mato Grosso"]
["BR-MS","Mato Grosso do Sul"]
["EG-MT","Maţrūḩ"]
["LK-51","Maṭṭakkaḷappu"]
["LK-22","Māttaḷai"]
["LK-32","Māttaṛai"]
["LK-2","Mattiya mākāṇam"]
["CL-ML","Maule"]
["LI-04","Mauren"]
["MK-50","Mavrovo i Rostuša"]
["CU-16","Mayabeque"]
["BS-MG","Mayaguana"]
["TT-MRC","Mayaro-Rio Claro"]
["FR-53","Mayenne"]
["IE-MO","Mayo"]
["TD-ME","Mayo-Kebbi-Est"]
["TD-MO","Mayo-Kebbi-Ouest"]
["FR-MAY","Mayotte"]
["FR-YT","Mayotte (see also separate country code entry under YT)"]
["IQ-MA","Maysān"]
["TD-MO","Māyū Kībbī al Gharbī"]
["TD-ME","Māyū Kībbī ash Sharqī"]
["UG-214","Mayuge"]
["PE-MDD","Mayutata"]
["IR-21","Māzandarān"]
["LT-26","Mažeikiai"]
["PL-14","Mazowieckie"]
["LV-060","Mazsalacas novads"]
["UG-209","Mbale"]
["UG-410","Mbarara"]
["TZ-14","Mbeya"]
["CF-MB","Mbomou"]
["CF-MB","Mbömü"]
["MW-MC","Mchinji"]
["MW-MC","Mchinji"]
["MT-29","Mdina"]
["MT-29","Mdina"]
["IE-MH","Meath"]
["NP-ME","Mechi"]
["DE-MV","Mecklenburg-Vorpommern"]
["DZ-26","Médéa"]
["TN-82","Médenine"]
["HR-20","Međimurska županija"]
["IT-VS","Medio Campidano"]
["MA-MED","Médiouna"]
["SI-071","Medvode"]
["GB-MDW","Medway"]
["IN-ML","Meghalaya"]
["RO-MH","Mehedinți"]
["BD-39","Meherpur"]
["MH-MEJ","Mejit"]
["MA-MEK","Meknès"]
["LK-1","Mel mākāṇam"]
["MY-04","Melaka"]
["PW-212","Melekeok"]
["PW-212","Melekeok"]
["ES-ML","Melilla"]
["FI-08","Mellersta Finland"]
["FI-07","Mellersta Österbotten"]
["MT-30","Mellieħa"]
["MT-30","Mellieħa"]
["CZ-206","Mělník"]
["ML-9","Ménaka"]
["AR-M","Mendoza"]
["NR-11","Meneng"]
["NR-11","Meneng"]
["SI-072","Mengeš"]
["VE-L","Mérida"]
["LU-ME","Mersch"]
["LU-ME","Mersch"]
["TR-33","Mersin"]
["LV-063","Mērsraga novads"]
["GB-MTY","Merthyr Tydfil [Merthyr Tudful GB-MTU]"]
["GB-MRT","Merton"]
["KE-26","Meru"]
["IT-ME","Messina"]
["CO-MET","Meta"]
["SI-073","Metlika"]
["FR-54","Meurthe-et-Moselle"]
["FR-55","Meuse"]
["MX-MEX","México"]
["SI-074","Mežica"]
["MT-31","Mġarr"]
["MT-31","Mġarr"]
["TW-MIA","Miaoli"]
["US-MI","Michigan"]
["MX-MIC","Michoacán de Ocampo"]
["LC-08","Micoud"]
["GB-MEA","Mid and East Antrim"]
["GB-MUL","Mid Ulster"]
["NP-2","Mid Western"]
["GB-MDB","Middlesbrough"]
["MA-MID","Midelt"]
["ZW-MI","Midlands"]
["GB-MLN","Midlothian"]
["DK-82","Midtjylland"]
["UM-71","Midway Islands"]
["JP-24","Mie"]
["LU-ME","Miersch"]
["KE-27","Migori"]
["SI-169","Miklavž na Dravskem Polju"]
["DZ-43","Mila"]
["MV-25","Miladhunmadulu Dhekunuburi"]
["MV-24","Miladhunmadulu Uthuruburi"]
["IT-MI","Milano"]
["MH-MIL","Mile"]
["MH-MIL","Mili"]
["PG-MBA","Milne Bay"]
["GB-MIK","Milton Keynes"]
["PH-41","Mimaropa (Region IV-B)"]
["BR-MG","Minas Gerais"]
["PH-MDC","Mindoro Occidental"]
["PH-MDR","Mindoro Oriental"]
["AZ-MI","Mingəçevir"]
["US-MN","Minnesota"]
["BY-MI","Minskaja oblast'"]
["BY-MI","Minskaja voblasć"]
["BY-MI","Minskaya oblast'"]
["BY-MI","Minskaya voblasts'"]
["VE-M","Miranda"]
["SI-075","Miren-Kostanjevica"]
["SI-212","Mirna"]
["SI-170","Mirna Peč"]
["PH-MSC","Misamis Occidental"]
["PH-MSR","Misamis Oriental"]
["AR-N","Misiones"]
["PY-8","Misiones"]
["HU-MI","Miskolc"]
["SI-076","Mislinja"]
["LY-MI","Mişrātah"]
["US-MS","Mississippi"]
["US-MO","Missouri"]
["UG-423","Mitooma"]
["UG-115","Mityana"]
["JP-04","Miyagi"]
["JP-45","Miyazaki"]
["IN-MZ","Mizoram"]
["TZ-15","Mjini Magharibi"]
["CZ-207","Mladá Boleslav"]
["ZA-NC","Mntla-Koloni"]
["ZA-NW","Mntla-Ntshona"]
["IT-MO","Modena"]
["MK-53","Mogila"]
["BY-MA","Mogilevskaja oblast'"]
["BY-MA","Mogilevskaya oblast'"]
["LS-F","Mohale's Hoek"]
["LS-F","Mohale's Hoek"]
["MA-MOH","Mohammadia"]
["KM-M","Mohéli"]
["ME-11","Mojkovac"]
["MU-MO","Moka"]
["LS-J","Mokhotlong"]
["LS-J","Mokhotlong"]
["SI-199","Mokronog-Trebelno"]
["LT-27","Molėtai"]
["IT-67","Molise"]
["KE-28","Mombasa"]
["MM-15","Mon"]
["SC-17","Mon Bikston"]
["SC-18","Mon Fleri"]
["MC-MO","Monaco-Ville"]
["VE-N","Monagas"]
["IE-MN","Monaghan"]
["LK-82","Monaragala"]
["LK-82","Mŏṇarāgala"]
["LK-82","Mŏṉarākalai"]
["TN-52","Monastir"]
["KH-11","Mondol Kiri"]
["KH-11","Môndól Kiri"]
["MC-MG","Moneghetti"]
["CD-MO","Mongala"]
["BT-42","Monggar"]
["GB-MON","Monmouthshire [Sir Fynwy GB-FYN]"]
["BJ-MO","Mono"]
["DO-28","Monseñor Nouel"]
["SC-17","Mont Buxton"]
["SC-17","Mont Buxton"]
["SC-18","Mont Fleuri"]
["SC-18","Mont Fleuri"]
["CI-MG","Montagnes"]
["BG-12","Montana"]
["US-MT","Montana"]
["DO-15","Monte Cristi"]
["DO-29","Monte Plata"]
["MC-MC","Monte-Carlo"]
["SM-08","Montegiardino"]
["UY-MO","Montevideo"]
["LB-JL","Mont-Liban"]
["LR-MO","Montserrado"]
["IT-MB","Monza e Brianza"]
["BS-MI","Moore's Island"]
["ML-5","Mopti"]
["PE-MOQ","Moquegua"]
["PE-MOQ","Moqwegwa"]
["SI-077","Moravče"]
["RS-17","Moravički okrug"]
["SI-078","Moravske Toplice"]
["CZ-80","Moravskoslezský kraj"]
["GB-MRY","Moray"]
["SV-MO","Morazán"]
["FR-56","Morbihan"]
["RU-MO","Mordovija, Respublika"]
["RU-MO","Mordoviya, Respublika"]
["NO-15","Møre og Romsdal"]
["NO-15","Møre og Romsdal"]
["MX-MOR","Morelos"]
["PG-MPL","Morobe"]
["TZ-16","Morogoro"]
["EC-S","Morona Santiago"]
["UG-308","Moroto"]
["FR-57","Moselle"]
["RU-MOS","Moskovskaja oblast'"]
["RU-MOS","Moskovskaya oblast'"]
["RU-MOW","Moskva"]
["RU-MOW","Moskva"]
["CZ-425","Most"]
["MT-32","Mosta"]
["MT-32","Mosta"]
["DZ-27","Mostaganem"]
["CV-MO","Mosteiros"]
["KM-M","Moûhîlî"]
["BF-MOU","Mouhoun"]
["MA-MOU","Moulay Yacoub"]
["MC-MU","Moulins"]
["BD-38","Moulvibazar"]
["PH-MOU","Mountain Province"]
["AO-MOX","Moxico"]
["TD-MC","Moyen-Chari"]
["GA-3","Moyen-Ogooué"]
["UG-309","Moyo"]
["SI-079","Mozirje"]
["UG-106","Mpigi"]
["ZA-EC","Mpuma-Koloni"]
["ZA-MP","Mpumalanga"]
["ZA-MP","Mpumalanga"]
["ZA-MP","Mpumalanga"]
["ZA-MP","Mpumalanga"]
["ZA-MP","Mpumalanga"]
["ZA-MP","Mpumalanga"]
["ZA-MP","Mpumalanga"]
["ZA-MP","Mpumalanga"]
["ZA-MP","Mpumalanga"]
["ZA-MP","Mpumalanga"]
["ZA-EC","Mpumalanga-Kapa"]
["MT-33","Mqabba"]
["MT-33","Mqabba"]
["MT-34","Msida"]
["MT-34","Msida"]
["DZ-28","M'sila"]
["MT-35","Mtarfa"]
["MT-35","Mtarfa"]
["GE-MM","Mtskheta-Mtianeti"]
["TZ-17","Mtwara"]
["KW-MU","Mubārak al Kabīr"]
["UG-107","Mubende"]
["ZM-10","Muchinga"]
["SO-MU","Mudug"]
["TR-48","Muğla"]
["KM-M","Mūhīlī"]
["IE-MN","Muineachán"]
["TH-49","Mukdahan"]
["UG-108","Mukono"]
["MV-12","Mulakatholhu"]
["MV-12","Mulaku Atoll"]
["MW-MU","Mulanje"]
["MW-MU","Mulanje"]
["LK-45","Mulativ"]
["LK-45","Mullaittivu"]
["LK-45","Mullaittīvu"]
["PE-LMA","Municipalidad Metropolitana de Lima"]
["BD-35","Munshiganj"]
["IE-M","Munster"]
["MT-36","Munxar"]
["MT-36","Munxar"]
["PE-MOQ","Muqiwa"]
["BI-MU","Muramvya"]
["BI-MU","Muramvya"]
["KE-29","Murang'a"]
["ES-MU","Murcia"]
["ES-MC","Murcia, Región de"]
["RO-MS","Mureș"]
["NZ-STL","Murihiku"]
["RU-MUR","Murmanskaja oblast'"]
["RU-MUR","Murmanskaya oblast'"]
["SI-080","Murska Sobota"]
["LY-MQ","Murzuq"]
["TR-49","Muş"]
["OM-MU","Musandam"]
["SI-081","Muta"]
["BI-MY","Muyinga"]
["BI-MY","Muyinga"]
["KM-M","Mwali"]
["MW-MW","Mwanza"]
["MW-MW","Mwanza"]
["TZ-18","Mwanza"]
["BI-MW","Mwaro"]
["BI-MW","Mwaro"]
["UA-48","Mykolaivska oblast"]
["BD-H","Mymensingh"]
["BD-34","Mymensingh"]
["MW-MZ","Mzimba"]
["MW-MZ","Mzimba"]
["DZ-45","Naama"]
["LB-NA","Nabatîyé"]
["TN-21","Nabeul"]
["UG-334","Nabilatuk"]
["PS-NBS","Nablus"]
["PS-NBS","Nāblus"]
["CZ-523","Náchod"]
["MA-NAD","Nador"]
["FJ-08","Nadroga and Navosa"]
["MT-37","Nadur"]
["MT-37","Nadur"]
["LK-5","Næ̆gĕnahira paḷāta"]
["ES-NA","Nafarroa*"]
["ES-NC","Nafarroako Foru Komunitatea*"]
["AZ-NA","Naftalan"]
["IN-NL","Nagaland"]
["JP-20","Nagano"]
["JP-42","Nagasaki"]
["PH-14","Nagsasariling Rehiyon ng Muslim sa Mindanaw"]
["HU-NK","Nagykanizsa"]
["BF-NAO","Nahouri"]
["SD-NR","Nahr an Nīl"]
["KE-30","Nairobi City"]
["FJ-09","Naitasiri"]
["SA-10","Najrān"]
["UG-311","Nakapiripirit"]
["UG-116","Nakaseke"]
["UG-109","Nakasongola"]
["TH-26","Nakhon Nayok"]
["TH-73","Nakhon Pathom"]
["TH-48","Nakhon Phanom"]
["TH-30","Nakhon Ratchasima"]
["TH-60","Nakhon Sawan"]
["TH-80","Nakhon Si Thammarat"]
["SI-082","Naklo"]
["KE-31","Nakuru"]
["LY-NL","Nālūt"]
["VN-67","Nam Định"]
["UZ-NG","Namangan"]
["UG-230","Namayingo"]
["MH-NMK","Naṃdik"]
["MH-NMK","Namdrik"]
["BF-NAM","Namentenga"]
["AO-NAM","Namibe"]
["UG-234","Namisindwa"]
["MH-NMU","Naṃo"]
["FJ-10","Namosi"]
["KP-14","Namp’o"]
["KP-14","Nampho"]
["MZ-N","Nampula"]
["MH-NMU","Namu"]
["BE-WNA","Namur"]
["UG-224","Namutumba"]
["TH-55","Nan"]
["CF-NM","Nana-Mambéré"]
["CF-NM","Nanä-Mbaere"]
["KE-32","Nandi"]
["AF-NAN","Nangarhār"]
["AF-NAN","Nangarhār"]
["TW-NAN","Nantou"]
["TV-NMG","Nanumaga"]
["TV-NMA","Nanumea"]
["BD-48","Naogaon"]
["UG-327","Napak"]
["EC-N","Napo"]
["IT-NA","Napoli"]
["JP-29","Nara"]
["BD-43","Narail"]
["TH-96","Narathiwat"]
["BD-40","Narayanganj"]
["NP-NA","Narayani"]
["CO-NAR","Nariño"]
["KE-33","Narok"]
["BD-42","Narsingdi"]
["KG-N","Naryn"]
["KG-N","Narynskaja oblast'"]
["KG-N","Narynskaya oblast'"]
["NG-NA","Nasarawa"]
["PG-NCD","National Capital District (Port Moresby)"]
["PH-00","National Capital Region"]
["BD-44","Natore"]
["LV-064","Naukšēnu novads"]
["ES-NA","Navarra"]
["ES-NC","Navarra, Comunidad Foral de"]
["UM-76","Navassa Island"]
["UZ-NW","Navoiy"]
["AZ-NX","Naxçıvan"]
["AZ-NV","Naxçıvan"]
["MT-38","Naxxar"]
["MT-38","Naxxar"]
["MM-18","Nay Pyi Taw"]
["BF-NAY","Nayala"]
["MX-NAY","Nayarit"]
["SI-083","Nazarje"]
["KM-A","Ndzuwani"]
["RO-NT","Neamț"]
["GB-NTL","Neath Port Talbot [Castell-nedd Port Talbot GB-CTL]"]
["UG-310","Nebbi"]
["US-NE","Nebraska"]
["PY-12","Ñeembucú"]
["AZ-NEF","Neftçala"]
["MY-05","Negeri Sembilan"]
["MK-54","Negotino"]
["PH-NEC","Negros Occidental"]
["PH-NER","Negros Oriental"]
["CN-NM","Nei Mongol Zizhiqu"]
["NZ-NSN","Nelson"]
["RU-NEN","Neneckij avtonomnyj okrug"]
["RU-NEN","Nenetskiy avtonomnyy okrug"]
["MW-NE","Neno"]
["MW-NE","Neno"]
["LV-065","Neretas novads"]
["LT-28","Neringa"]
["BD-41","Netrakona"]
["CH-NE","Neuchâtel"]
["AR-Q","Neuquén"]
["US-NV","Nevada"]
["KN-N","Nevis"]
["TR-50","Nevşehir"]
["CA-NB","New Brunswick"]
["US-NH","New Hampshire"]
["PG-NIK","New Ireland"]
["US-NJ","New Jersey"]
["US-NM","New Mexico"]
["BS-NP","New Providence"]
["AU-NSW","New South Wales"]
["TW-NWT","New Taipei"]
["US-NY","New York"]
["GB-NET","Newcastle upon Tyne"]
["CA-NL","Newfoundland and Labrador"]
["GB-NWM","Newham"]
["GB-NWP","Newport [Casnewydd GB-CNW]"]
["GB-NMD","Newry, Mourne and Down"]
["PW-214","Ngaraard"]
["PW-214","Ngaraard"]
["PW-218","Ngarchelong"]
["PW-218","Ngarchelong"]
["PW-222","Ngardmau"]
["PW-222","Ngardmau"]
["PW-224","Ngatpang"]
["PW-224","Ngatpang"]
["KM-G","Ngazidja"]
["PW-226","Ngchesar"]
["PW-226","Ngchesar"]
["PW-227","Ngeremlengui"]
["PW-227","Ngeremlengui"]
["VN-22","Nghệ An"]
["PW-228","Ngiwal"]
["PW-228","Ngiwal"]
["PA-NB","Ngöbe-Buglé"]
["UG-231","Ngora"]
["GA-4","Ngounié"]
["BI-NG","Ngozi"]
["BI-NG","Ngozi"]
["NE-8","Niamey"]
["CG-9","Niari"]
["MZ-A","Niassa"]
["NR-12","Nibok"]
["NR-12","Nibok"]
["LV-066","Nīcas novads"]
["SR-NI","Nickerie"]
["CH-NW","Nidwalden"]
["AT-3","Niederösterreich"]
["DE-NI","Niedersachsen"]
["FR-58","Nièvre"]
["TR-51","Niğde"]
["NG-NI","Niger"]
["JP-15","Niigata"]
["ME-12","Nikšić"]
["MV-17","Nilandheatholhu Dhekunuburi"]
["MV-14","Nilandheatholhu Uthuruburi"]
["BD-46","Nilphamari"]
["LR-NI","Nimba"]
["AF-NIM","Nīmrōz"]
["AF-NIM","Nīmrōz"]
["IQ-NI","Nīnawá"]
["CN-NX","Ningxia Huizi Zizhiqu"]
["VN-18","Ninh Bình"]
["VN-36","Ninh Thuận"]
["HT-NI","Nip"]
["HT-NI","Nippes"]
["RS-20","Nišavski okrug"]
["MD-NI","Nisporeni"]
["SK-NI","Nitriansky kraj"]
["TO-03","Niuas"]
["TO-03","Niuas"]
["TV-NIT","Niutao"]
["RU-NIZ","Nižegorodskaja oblast'"]
["RU-NIZ","Nizhegorodskaya oblast'"]
["TZ-29","Njombe"]
["MW-NB","Nkhata Bay"]
["MW-NB","Nkhata Bay"]
["MW-NK","Nkhotakota"]
["MW-NK","Nkhotakota"]
["HT-ND","Nò"]
["BD-47","Noakhali"]
["HT-NE","Nòdès"]
["HT-NO","Nòdwès"]
["HU-NO","Nógrád"]
["TJ-RA","nohiyahoi tobei jumhurí"]
["TH-39","Nong Bua Lam Phu"]
["TH-43","Nong Khai"]
["TH-12","Nonthaburi"]
["NL-NB","Noord-Brabant"]
["NL-NH","Noord-Holland"]
["ZA-NC","Noord-Kaap"]
["ZA-NW","Noordwes"]
["BF-10","Nord"]
["CM-NO","Nord"]
["FR-59","Nord"]
["HT-ND","Nord"]
["RW-03","Nord"]
["HT-NE","Nord-Est"]
["DK-81","Nordjylland"]
["CD-NK","Nord-Kivu"]
["NO-18","Nordland"]
["NO-18","Nordland"]
["CM-NW","Nord-Ouest"]
["HT-NO","Nord-Ouest"]
["DE-NW","Nordrhein-Westfalen"]
["CD-NU","Nord-Ubangi"]
["IS-6","Norðurland eystra"]
["IS-5","Norðurland vestra"]
["GB-NFK","Norfolk"]
["FR-NOR","Normandie"]
["FI-13","Norra Karelen"]
["FI-14","Norra Österbotten"]
["FI-15","Norra Savolax"]
["SE-BD","Norrbottens län [SE-25]"]
["GW-N","Norte"]
["CO-NSA","Norte de Santander"]
["CM-NO","North"]
["BS-NO","North Abaco"]
["BS-NS","North Andros"]
["MV-02","North Ari Atoll"]
["GB-NAY","North Ayrshire"]
["GM-N","North Bank"]
["US-NC","North Carolina"]
["LK-7","North Central Province"]
["US-ND","North Dakota"]
["SD-DN","North Darfur"]
["BW-NE","North East"]
["SG-02","North East"]
["GB-NEL","North East Lincolnshire"]
["BS-NE","North Eleuthera"]
["PS-NGZ","North Gaza"]
["MV-27","North Huvadhu Atoll"]
["SD-KN","North Kordofan"]
["GB-NLK","North Lanarkshire"]
["GB-NLN","North Lincolnshire"]
["MV-13","North Maalhosmadulu"]
["MV-24","North Miladhunmadulu"]
["MV-14","North Nilandhe Atoll"]
["GB-NSM","North Somerset"]
["MV-07","North Thiladhunmathi"]
["GB-NTY","North Tyneside"]
["BW-NW","North West"]
["SG-03","North West"]
["SL-NW","North Western"]
["LK-6","North Western Province"]
["GB-NYK","North Yorkshire"]
["GB-NTH","Northamptonshire"]
["FJ-N","Northern"]
["GH-NP","Northern"]
["PG-NPP","Northern"]
["RW-03","Northern"]
["SD-NO","Northern"]
["SL-N","Northern"]
["UG-N","Northern"]
["ZM-05","Northern"]
["SS-BN","Northern Bahr el Ghazal"]
["ZA-NC","Northern Cape"]
["GB-NIR","Northern Ireland"]
["US-MP","Northern Mariana Islands (see also separate country code entry under MP)"]
["PH-10","Northern Mindanao (Region X)"]
["LK-4","Northern Province"]
["MW-N","Northern Region"]
["PH-NSA","Northern Samar"]
["AU-NT","Northern Territory"]
["NZ-NTL","Northland"]
["GB-NBL","Northumberland"]
["CM-NW","North-West"]
["ZA-NW","North-West"]
["CA-NT","Northwest Territories"]
["ZM-06","North-Western"]
["GR-L","Notío Aigaío"]
["GB-NGM","Nottingham"]
["GB-NTT","Nottinghamshire"]
["MA-NOU","Nouaceur"]
["MR-14","Nouakchott Nord"]
["MR-13","Nouakchott Ouest"]
["MR-15","Nouakchott Sud"]
["BF-NOU","Noumbiel"]
["CA-NB","Nouveau-Brunswick"]
["FR-NAQ","Nouvelle-Aquitaine"]
["FR-NC","Nouvelle-Calédonie (see also separate country code entry under NC)"]
["CA-NS","Nouvelle-Écosse"]
["SI-084","Nova Gorica"]
["CA-NS","Nova Scotia"]
["MK-55","Novaci"]
["IT-NO","Novara"]
["RU-NGR","Novgorodskaja oblast'"]
["RU-NGR","Novgorodskaya oblast'"]
["SI-085","Novo Mesto"]
["MK-56","Novo Selo"]
["RU-NVS","Novosibirskaja oblast'"]
["RU-NVS","Novosibirskaya oblast'"]
["CZ-804","Nový Jičín"]
["MW-NS","Nsanje"]
["MW-NS","Nsanje"]
["MW-NU","Ntcheu"]
["MW-NU","Ntcheu"]
["MW-NI","Ntchisi"]
["MW-NI","Ntchisi"]
["UG-424","Ntoroko"]
["ZA-WC","Ntshona-Koloni"]
["ZA-WC","Ntshonalanga-Kapa"]
["UG-411","Ntungamo"]
["CL-NB","Ñuble"]
["PH-NUE","Nueva Ecija"]
["VE-O","Nueva Esparta"]
["NI-NS","Nueva Segovia"]
["PH-NUV","Nueva Vizcaya"]
["MX-NLE","Nuevo León"]
["SO-NU","Nugaal"]
["TV-NUI","Nui"]
["TV-NKF","Nukufetau"]
["TV-NKL","Nukulaelae"]
["CA-NU","Nunavut"]
["CA-NU","Nunavut"]
["IT-NU","Nuoro"]
["AF-NUR","Nūristān"]
["AF-NUR","Nūristān"]
["ID-NU","Nusa Tenggara"]
["ID-NB","Nusa Tenggara Barat"]
["ID-NT","Nusa Tenggara Timur"]
["LK-23","Nuvara Ĕliya"]
["LK-23","Nuvarĕliyā"]
["MR-13","Nuwākshūţ al Gharbīyah"]
["MR-15","Nuwākshūţ al Janūbīyah"]
["MR-14","Nuwākshūţ ash Shamālīyah"]
["LK-23","Nuwara Eliya"]
["PH-NUV","Nuweva Biskaya"]
["PH-NUE","Nuweva Esiha"]
["ZA-NW","N'walungu-Vupeladyambu"]
["UG-328","Nwoya"]
["ZA-NC","Nyakatho-Kapa"]
["ZA-NW","Nyakatho-Ntshonalanga"]
["KE-34","Nyamira"]
["KE-35","Nyandarua"]
["GA-5","Nyanga"]
["KE-36","Nyeri"]
["HU-NY","Nyíregyháza"]
["FI-18","Nyland"]
["CZ-208","Nymburk"]
["GN-N","Nzérékoré"]
["GN-NZ","Nzérékoré"]
["SC-04","O Kap"]
["NZ-OTA","Ō Tākou"]
["MX-OAX","Oaxaca"]
["AT-4","Oberösterreich"]
["DJ-OB","Obock"]
["CH-OW","Obwalden"]
["FR-OCC","Occitanie"]
["MD-OC","Ocnița"]
["HN-OC","Ocotepeque"]
["UA-51","Odeska oblast"]
["IN-OR","Odisha"]
["SI-086","Odranci"]
["TL-OE","Oé-Cusse Ambeno"]
["TL-OE","Oekusi-Ambenu"]
["IE-OY","Offaly"]
["IT-OG","Ogliastra"]
["GA-6","Ogooué-Ivindo"]
["GA-7","Ogooué-Lolo"]
["GA-8","Ogooué-Maritime"]
["LV-067","Ogres novads"]
["NG-OG","Ogun"]
["AZ-OGU","Oğuz"]
["NA-OW","Ohangwena"]
["US-OH","Ohio"]
["MK-58","Ohrid"]
["GW-OI","Oio"]
["FR-60","Oise"]
["JP-44","Oita"]
["JP-44","Ôita"]
["JP-33","Okayama"]
["JP-47","Okinawa"]
["US-OK","Oklahoma"]
["LV-068","Olaines novads"]
["HN-OL","Olancho"]
["IT-OT","Olbia-Tempio"]
["GB-OLD","Oldham"]
["CZ-712","Olomouc"]
["CZ-71","Olomoucký kraj"]
["RO-OT","Olt"]
["NA-OH","Omaheke"]
["CF-MP","Ömbëlä-Pökö"]
["CF-MP","Ombella-Mpoko"]
["MN-053","Ömnögovĭ"]
["UG-331","Omoro"]
["RU-OMS","Omskaja oblast'"]
["RU-OMS","Omskaya oblast'"]
["NA-OS","Omusati"]
["NG-ON","Ondo"]
["CA-ON","Ontario"]
["CA-ON","Ontario"]
["ZA-EC","Oos-Kaap"]
["BE-VOV","Oost-Vlaanderen"]
["CZ-805","Opava"]
["SI-171","Oplotnica"]
["PL-16","Opolskie"]
["NO-05","Oppland"]
["NO-05","Oppland"]
["DZ-31","Oran"]
["BZ-OW","Orange Walk"]
["AD-05","Ordino"]
["TR-52","Ordu"]
["AZ-ORD","Ordubad"]
["SE-T","Örebro län [SE-18]"]
["US-OR","Oregon"]
["EC-D","Orellana"]
["RU-ORE","Orenburgskaja oblast'"]
["RU-ORE","Orenburgskaya oblast'"]
["MD-OR","Orhei"]
["MN-035","Orhon"]
["IT-OR","Oristano"]
["GB-ORK","Orkney Islands"]
["RU-ORL","Orlovskaja oblast'"]
["RU-ORL","Orlovskaya oblast'"]
["SI-087","Ormož"]
["FR-61","Orne"]
["ET-OR","Oromia"]
["ET-OR","Oromīya"]
["BO-O","Oruro"]
["JP-27","Osaka"]
["JP-27","Ôsaka"]
["KG-O","Osh"]
["KG-GO","Osh"]
["NA-ON","Oshana"]
["NA-OT","Oshikoto"]
["KG-O","Oshskaya oblast'"]
["SI-088","Osilnica"]
["HR-14","Osječko-baranjska županija"]
["NO-03","Oslo"]
["NO-03","Oslo"]
["TR-80","Osmaniye"]
["KG-O","Ošskaja oblast'"]
["FI-12","Österbotten"]
["SE-E","Östergötlands län [SE-05]"]
["NO-01","Østfold"]
["NO-01","Østfold"]
["CZ-806","Ostrava-město"]
["NG-OS","Osun"]
["NZ-OTA","Otago"]
["KH-22","Otdar Mean Chey"]
["KH-22","Ŏtdâr Méanchey"]
["NA-OD","Otjozondjupa"]
["UG-329","Otuke"]
["TD-OD","Ouaddaï"]
["CF-UK","Ouaka"]
["DZ-30","Ouargla"]
["MA-OUA","Ouarzazate"]
["BF-OUB","Oubritenga"]
["BF-OUD","Oudalan"]
["LA-OU","Oudômxai"]
["MA-OUD","Oued Ed-Dahab (EH)"]
["BJ-OU","Ouémé"]
["CM-OU","Ouest"]
["HT-OU","Ouest"]
["RW-04","Ouest"]
["MA-OUZ","Ouezzane"]
["CF-AC","Ouham"]
["CF-OP","Ouham-Pendé"]
["MA-OUJ","Oujda-Angad"]
["DZ-04","Oum el Bouaghi"]
["ES-OR","Ourense [Orense]"]
["NL-OV","Overijssel"]
["MN-055","Övörhangay"]
["GB-OXF","Oxfordshire"]
["UG-321","Oyam"]
["NG-OY","Oyo"]
["DO-40","Ozama"]
["LV-069","Ozolnieku novads"]
["BD-49","Pabna"]
["UG-312","Pader"]
["IT-PD","Padova"]
["CY-05","Pafos"]
["LT-29","Pagėgiai"]
["MY-06","Pahang"]
["FI-16","Päijänne-Tavastland"]
["FI-16","Päijät-Häme"]
["KH-24","Pailin"]
["KH-24","Pailĭn"]
["ES-PV","País Vasco"]
["LT-30","Pakruojis"]
["AF-PKA","Paktīkā"]
["AF-PKA","Paktīkā"]
["AF-PIA","Paktiyā"]
["AF-PIA","Paktiyā"]
["UG-332","Pakwach"]
["LT-31","Palangos miestas"]
["WS-PA","Palauli"]
["WS-PA","Palauli"]
["PH-PLW","Palawan"]
["PH-PLW","Palawan"]
["ES-P","Palencia"]
["IT-PA","Palermo"]
["UG-210","Pallisa"]
["UM-95","Palmyra Atoll"]
["PH-00","Pambansang Punong Rehiyon"]
["PH-PAM","Pampanga"]
["PH-PAM","Pampanga"]
["MU-PA","Pamplemousses"]
["PA-8","Panamá"]
["PA-10","Panamá Oeste"]
["BD-52","Panchagarh"]
["BO-N","Pando"]
["LT-PN","Panevėžio apskritis"]
["LT-32","Panevėžio miestas"]
["LT-33","Panevėžys"]
["PH-PAN","Pangasinan"]
["PH-PAN","Pangasinan"]
["PK-PB","Panjāb"]
["AF-PAN","Panjshayr"]
["AF-PAN","Panjshayr"]
["MT-39","Paola"]
["MT-39","Paola"]
["ID-PP","Papua"]
["ID-PA","Papua"]
["ID-PB","Papua Barat"]
["SR-PR","Para"]
["BR-PA","Pará"]
["PY-9","Paraguarí"]
["BR-PB","Paraíba"]
["SR-PM","Paramaribo"]
["BR-PR","Paraná"]
["CZ-532","Pardubice"]
["CZ-53","Pardubický kraj"]
["LV-070","Pārgaujas novads"]
["FR-75","Paris"]
["IT-PR","Parma"]
["EE-67","Pärnumaa"]
["BT-11","Paro"]
["AF-PAR","Parwān"]
["AF-PAR","Parwān"]
["PE-PAS","Pasco"]
["FR-62","Pas-de-Calais"]
["NP-3","Pashchimanchal"]
["PE-PAS","Pasqu"]
["PE-PAS","Pasqu"]
["BF-PAS","Passoré"]
["EC-Y","Pastaza"]
["LT-34","Pasvalys"]
["TH-13","Pathum Thani"]
["TH-94","Pattani"]
["BD-51","Patuakhali"]
["LK-81","Patuḷai"]
["CV-PA","Paul"]
["IT-PV","Pavia"]
["LV-071","Pāvilostas novads"]
["KZ-PAV","Pavlodar oblysy"]
["KZ-PAV","Pavlodarskaja oblast'"]
["KZ-PAV","Pavlodarskaya oblast'"]
["UY-PA","Paysandú"]
["FR-PDL","Pays-de-la-Loire"]
["BG-13","Pazardzhik"]
["RS-24","Pčinjski okrug"]
["RS-26","Pećki okrug"]
["HU-PS","Pécs"]
["DO-16","Pedernales"]
["MK-60","Pehčevo"]
["PW-350","Peleliu"]
["PW-350","Peleliu"]
["CZ-633","Pelhřimov"]
["GR-J","Peloponnísos"]
["BT-43","Pemagatshel"]
["TZ-06","Pemba North"]
["TZ-10","Pemba South"]
["MT-40","Pembroke"]
["MT-40","Pembroke"]
["GB-PEM","Pembrokeshire [Sir Benfro GB-BNF]"]
["TT-PED","Penal-Debe"]
["VU-PAM","Pénama"]
["VU-PAM","Pénama"]
["TW-PEN","Penghu"]
["US-PA","Pennsylvania"]
["RU-PNZ","Penzenskaja oblast'"]
["RU-PNZ","Penzenskaya oblast'"]
["MY-08","Perak"]
["DO-17","Peravia"]
["MY-09","Perlis"]
["RU-PER","Permskij kraj"]
["RU-PER","Permskiy kray"]
["BR-PE","Pernambuco"]
["BG-14","Pernik"]
["GB-PKN","Perth and Kinross"]
["IT-PG","Perugia"]
["IT-PU","Pesaro e Urbino"]
["IT-PE","Pescara"]
["SI-089","Pesnica"]
["HU-PE","Pest"]
["GT-PE","Petén"]
["GB-PTE","Peterborough"]
["ME-23","Petnjica"]
["MK-59","Petrovec"]
["MW-PH","Phalombe"]
["MW-PH","Phalombe"]
["TH-82","Phangnga"]
["TH-93","Phatthalung"]
["TH-S","Phatthaya"]
["TH-56","Phayao"]
["TH-67","Phetchabun"]
["TH-76","Phetchaburi"]
["TH-66","Phichit"]
["TH-65","Phitsanulok"]
["KH-12","Phnom Penh"]
["KH-12","Phnum Pénh"]
["KI-P","Phoenix Islands"]
["LA-PH","Phôngsali"]
["TH-14","Phra Nakhon Si Ayutthaya"]
["TH-54","Phrae"]
["VN-68","Phú Thọ"]
["VN-32","Phú Yên"]
["TH-83","Phuket"]
["KP-02","Phyeongannamto"]
["KP-03","Phyeonganpukto"]
["KP-01","Phyeongyang"]
["IT-PC","Piacenza"]
["BR-PI","Piauí"]
["EC-P","Pichincha"]
["IT-21","Piemonte"]
["MT-41","Pietà"]
["MT-41","Pietà"]
["MH-KIL","Pikinni & Kōle"]
["CU-01","Pinar del Río"]
["TW-PIF","Pingtung"]
["SI-090","Piran"]
["FI-11","Pirkanmaa"]
["BD-50","Pirojpur"]
["RS-22","Pirotski okrug"]
["IT-PI","Pisa"]
["CZ-314","Písek"]
["IT-PT","Pistoia"]
["GN-PI","Pita"]
["PE-PIU","Piura"]
["PE-PIU","Piura"]
["SI-091","Pivka"]
["PE-PIU","Piwra"]
["MU-PW","Plaines Wilhems"]
["SC-19","Plaisance"]
["SC-19","Plaisance"]
["LI-05","Planken"]
["MK-61","Plasnica"]
["BJ-PL","Plateau"]
["NG-PL","Plateau"]
["BF-11","Plateau-Central"]
["CG-14","Plateaux"]
["TG-P","Plateaux"]
["ME-13","Plav"]
["LV-072","Pļaviņu novads"]
["BG-15","Pleven"]
["SC-19","Plezans"]
["ME-14","Pljevlja"]
["BG-16","Plovdiv"]
["LT-35","Plungė"]
["ME-15","Plužine"]
["GB-PLY","Plymouth"]
["CZ-324","Plzeň-jih"]
["CZ-323","Plzeň-město"]
["CZ-325","Plzeň-sever"]
["CZ-32","Plzeňský kraj"]
["SI-092","Podčetrtek"]
["ME-16","Podgorica"]
["PL-18","Podkarpackie"]
["PL-20","Podlaskie"]
["SI-172","Podlehnik"]
["RS-10","Podunavski okrug"]
["SI-093","Podvelka"]
["FI-12","Pohjanmaa"]
["FI-13","Pohjois-Karjala"]
["FI-14","Pohjois-Pohjanmaa"]
["FI-15","Pohjois-Savo"]
["FM-PNI","Pohnpei"]
["TT-PTF","Point Fortin"]
["SC-20","Pointe La Rue"]
["SC-20","Pointe Larue"]
["CG-16","Pointe-Noire"]
["LK-72","Pŏlaṉṉaṛuvai"]
["SI-200","Poljčane"]
["LK-72","Pŏḷŏnnaruva"]
["LK-72","Polonnaruwa"]
["UA-53","Poltavska oblast"]
["EE-65","Põlvamaa"]
["FR-PF","Polynésie française (see also separate country code entry under PF)"]
["SI-173","Polzela"]
["GY-PM","Pomeroon-Supenaam"]
["RS-13","Pomoravski okrug"]
["PL-22","Pomorskie"]
["BF-PON","Poni"]
["ES-PO","Pontevedra [Pontevedra]"]
["CG-12","Pool"]
["GB-POL","Poole"]
["IT-PN","Pordenone"]
["SC-21","Porglo"]
["SC-21","Port Glaud"]
["SC-21","Port Glaud"]
["IE-WD","Port Láirge"]
["MU-PL","Port Louis"]
["MU-PU","Port Louis"]
["TT-POS","Port of Spain"]
["PT-12","Portalegre"]
["MC-PH","Port-Hercule"]
["JM-04","Portland"]
["PT-13","Porto"]
["CV-PN","Porto Novo"]
["GB-POR","Portsmouth"]
["VE-P","Portuguesa"]
["SI-094","Postojna"]
["GY-PT","Potaro-Siparuni"]
["IT-PZ","Potenza"]
["BO-P","Potosí"]
["KH-15","Pousaat"]
["KH-15","Poŭthĭsăt"]
["GB-POW","Powys"]
["HR-11","Požeško-slavonska županija"]
["CZ-315","Prachatice"]
["TH-25","Prachin Buri"]
["TH-77","Prachuap Khiri Khan"]
["NP-P1","Pradesh 1"]
["NP-P2","Pradesh 2"]
["NP-P3","Pradesh 3"]
["NP-P5","Pradesh 5"]
["NP-P7","Pradesh 7"]
["CZ-10","Praha, Hlavní mešto"]
["CZ-209","Praha-východ"]
["CZ-20A","Praha-západ"]
["RO-PH","Prahova"]
["CV-PR","Praia"]
["IT-PO","Prato"]
["KH-18","Preah Sihanouk"]
["KH-18","Preăh Sihanouk"]
["KH-13","Preah Vihear"]
["KH-13","Preăh Vihéar"]
["SI-174","Prebold"]
["SI-095","Preddvor"]
["LV-073","Preiļu novads"]
["CZ-714","Přerov"]
["PY-15","Presidente Hayes"]
["SK-PV","Prešovský kraj"]
["SI-175","Prevalje"]
["KH-14","Prey Veaeng"]
["KH-14","Prey Vêng"]
["CZ-20B","Příbram"]
["LV-074","Priekules novads"]
["LV-075","Priekuļu novads"]
["LT-36","Prienai"]
["MK-62","Prilep"]
["RU-PRI","Primorskij kraj"]
["RU-PRI","Primorskiy kray"]
["HR-08","Primorsko-goranska županija"]
["CA-PE","Prince Edward Island"]
["TT-PRT","Princes Town"]
["ST-P","Príncipe"]
["RS-27","Prizrenski okrug"]
["MK-63","Probištip"]
["CZ-713","Prostějov"]
["FR-PAC","Provence-Alpes-Côte-d’Azur"]
["NP-P1","Province 1"]
["NP-P2","Province 2"]
["NP-P3","Province 3"]
["NP-P5","Province 5"]
["NP-P7","Province 7"]
["RU-PSK","Pskovskaja oblast'"]
["RU-PSK","Pskovskaya oblast'"]
["SI-096","Ptuj"]
["SI-097","Puconci"]
["IN-PY","Puducherry"]
["MX-PUE","Puebla"]
["DO-18","Puerto Plata"]
["US-PR","Puerto Rico (see also separate country code entry under PR)"]
["IT-75","Puglia"]
["MY-07","Pulau Pinang"]
["PH-DIN","Pulo ng Dinagat"]
["BT-23","Punakha"]
["IN-PB","Punjab"]
["PK-PB","Punjab"]
["PE-PUN","Puno"]
["PE-PUN","Puno"]
["CR-P","Puntarenas"]
["PE-PUN","Punu"]
["NP-4","Purwanchal"]
["LK-62","Puttalam"]
["LK-62","Puttaḷam"]
["LK-62","Puttalama"]
["CO-PUT","Putumayo"]
["FR-63","Puy-de-Dôme"]
["TZ-19","Pwani"]
["SC-20","Pwent Lari"]
["KP-03","P'yǒngan-bukto"]
["KP-02","P'yǒngan-namdo"]
["KP-01","P'yǒngyang"]
["FR-64","Pyrénées-Atlantiques"]
["FR-66","Pyrénées-Orientales"]
["LS-H","Qacha's Nek"]
["LS-H","Qacha's Nek"]
["PE-CAJ","Qajamarka"]
["MT-42","Qala"]
["MT-42","Qala"]
["PE-CAL","Qallaw"]
["PS-QQA","Qalqilya"]
["PS-QQA","Qalqīlyah"]
["KZ-KAR","Qaraghandy oblysy"]
["ER-GB","Qāsh-Barkah"]
["UZ-QA","Qashqadaryo"]
["AZ-QAX","Qax"]
["AZ-QAZ","Qazax"]
["IR-28","Qazvīn"]
["AZ-QAB","Qəbələ"]
["GL-QE","Qeqqata Kommunia"]
["EG-KN","Qinā"]
["CN-QH","Qinghai Sheng"]
["TD-GR","Qīrā"]
["PE-LAL","Qispi kay"]
["AZ-QOB","Qobustan"]
["IR-26","Qom"]
["UZ-QR","Qoraqalpog‘iston Respublikasi"]
["MT-43","Qormi"]
["MT-43","Qormi"]
["KZ-KUS","Qostanay oblysy"]
["MT-44","Qrendi"]
["MT-44","Qrendi"]
["VN-24","Quảng Bình"]
["VN-27","Quảng Nam"]
["VN-29","Quảng Ngãi"]
["VN-13","Quảng Ninh"]
["VN-25","Quảng Trị"]
["MU-QB","Quatre Bornes"]
["AZ-QBA","Quba"]
["AZ-QBI","Qubadlı"]
["CA-QC","Quebec"]
["CA-QC","Québec"]
["AU-QLD","Queensland"]
["MX-QUE","Querétaro"]
["GT-QZ","Quetzaltenango"]
["PH-QUE","Quezon"]
["GT-QC","Quiché"]
["GW-QU","Quinara"]
["CO-QUI","Quindío"]
["MX-ROO","Quintana Roo"]
["PH-QUI","Quirino"]
["AZ-QUS","Qusar"]
["PE-CUS","Qusqu"]
["LS-G","Quthing"]
["LS-G","Quthing"]
["KZ-KZY","Qyzylorda oblysy"]
["FJ-11","Ra"]
["AE-RK","Ra’s al Khaymah"]
["MA-RAB","Rabat"]
["MT-45","Rabat Għawdex"]
["MT-45","Rabat Gozo"]
["MT-46","Rabat Malta"]
["MT-46","Rabat Malta"]
["MA-04","Rabat-Salé-Kénitra"]
["SI-098","Rače-Fram"]
["GE-RL","Rach'a-Lechkhumi-Kvemo Svaneti"]
["SI-099","Radeče"]
["SI-100","Radenci"]
["SI-101","Radlje ob Dravi"]
["MK-64","Radoviš"]
["SI-102","Radovljica"]
["LT-37","Radviliškis"]
["PS-RFH","Rafah"]
["PS-RFH","Rafaḩ"]
["BS-RI","Ragged Island"]
["IT-RG","Ragusa"]
["IN-RJ","Rajasthan"]
["BD-53","Rajbari"]
["BD-E","Rajshahi"]
["BD-54","Rajshahi"]
["UG-110","Rakai"]
["MM-16","Rakhine"]
["CZ-20C","Rakovník"]
["MH-L","Ralik chain"]
["MH-L","Ralik chain"]
["PS-RBH","Rām Allāh wal Bīrah"]
["PS-RBH","Ramallah"]
["BD-56","Rangamati"]
["BD-F","Rangpur"]
["BD-55","Rangpur"]
["MK-65","Rankovce"]
["TH-85","Ranong"]
["EE-70","Raplamaa"]
["NP-RA","Rapti"]
["LT-38","Raseiniai"]
["KP-13","Raseon"]
["RS-19","Rasinski okrug"]
["RS-18","Raški okrug"]
["KP-13","Rasǒn"]
["MH-T","Ratak chain"]
["MH-T","Ratak chain"]
["TH-70","Ratchaburi"]
["LK-91","Ratnapura"]
["LK-91","Ratnapura"]
["LV-076","Raunas novads"]
["IT-RA","Ravenna"]
["SI-103","Ravne na Koroškem"]
["YE-RA","Raymah"]
["TH-21","Rayong"]
["BG-17","Razgrad"]
["SI-176","Razkrižje"]
["GB-RDG","Reading"]
["SI-209","Rečica ob Savinji"]
["SD-RS","Red Sea"]
["LU-RD","Redange"]
["GB-RDB","Redbridge"]
["GB-RCC","Redcar and Cleveland"]
["LU-RD","Redingen"]
["AG-11","Redonda"]
["IT-RC","Reggio Calabria"]
["IT-RE","Reggio Emilia"]
["PT-30","Região Autónoma da Madeira"]
["PT-20","Região Autónoma dos Açores"]
["GQ-C","Região Continental"]
["GQ-I","Região Insular"]
["GQ-C","Región Continental"]
["GQ-C","Région Continentale"]
["GQ-I","Région Insulaire"]
["GQ-I","Región Insular"]
["CL-RM","Región Metropolitana de Santiago"]
["MA-REH","Rehamna"]
["PH-15","Rehiyon ng Administratibo ng Kordilyera"]
["PH-05","Rehiyon ng Bikol"]
["PH-40","Rehiyon ng Calabarzon"]
["PH-11","Rehiyon ng Dabaw"]
["PH-07","Rehiyon ng Gitnang Bisaya"]
["PH-03","Rehiyon ng Gitnang Luson"]
["PH-10","Rehiyon ng Hilagang Mindanaw"]
["PH-01","Rehiyon ng Iloko"]
["PH-06","Rehiyon ng Kanlurang Bisaya"]
["PH-13","Rehiyon ng Karaga"]
["PH-02","Rehiyon ng Lambak ng Kagayan"]
["PH-41","Rehiyon ng Mimaropa"]
["PH-08","Rehiyon ng Silangang Bisaya"]
["PH-12","Rehiyon ng Soccsksargen"]
["PH-09","Rehiyon ng Tangway ng Sambuwangga"]
["LU-RD","Réiden-Atert"]
["LU-RM","Réimech"]
["DZ-48","Relizane"]
["LU-RM","Remich"]
["LU-RM","Remich"]
["SI-201","Renče-Vogrsko"]
["GB-RFW","Renfrewshire"]
["SB-RB","Rennell and Bellona"]
["BA-SRP","Republika Srpska"]
["BA-SRP","Republika Srpska"]
["BA-SRP","Republika Srpska"]
["MK-66","Resen"]
["GT-RE","Retalhuleu"]
["FJ-12","Rewa"]
["LV-REZ","Rēzekne"]
["LV-077","Rēzeknes novads"]
["MD-RE","Rezina"]
["ZA-GT","Rhawuti"]
["DE-RP","Rheinland-Pfalz"]
["US-RI","Rhode Island"]
["GB-RCT","Rhondda, Cynon, Taff [Rhondda, Cynon,Taf]"]
["FR-69","Rhône"]
["ID-RI","Riau"]
["CV-RB","Ribeira Brava"]
["CV-RG","Ribeira Grande"]
["CV-RS","Ribeira Grande de Santiago"]
["SI-104","Ribnica"]
["SI-177","Ribnica na Pohorju"]
["GB-RIC","Richmond upon Thames"]
["LV-078","Riebiņu novads"]
["LT-39","Rietavo"]
["IT-RI","Rieti"]
["SY-RD","Rīf Dimashq"]
["LV-RIX","Rīga"]
["IT-RN","Rimini"]
["BR-RJ","Rio de Janeiro"]
["BR-RN","Rio Grande do Norte"]
["BR-RS","Rio Grande do Sul"]
["AR-R","Río Negro"]
["UY-RN","Río Negro"]
["NI-SJ","Río San Juan"]
["PH-RIZ","Risal"]
["CO-RIS","Risaralda"]
["MD-RI","Rîșcani"]
["NI-RI","Rivas"]
["LR-RI","River Cess"]
["LR-RG","River Gee"]
["SD-NR","River Nile"]
["UY-RV","Rivera"]
["NG-RI","Rivers"]
["MU-RR","Rivière du Rempart"]
["UA-56","Rivnenska oblast"]
["PH-RIZ","Rizal"]
["TR-53","Rize"]
["RU-RYA","Rjazanskaja oblast'"]
["UY-RO","Rocha"]
["GB-RCH","Rochdale"]
["SC-25","Roche Caiman"]
["SC-25","Roche Caïman"]
["MU-RO","Rodrigues Island"]
["NO-11","Rogaland"]
["NO-11","Rogaland"]
["SI-106","Rogaška Slatina"]
["SI-105","Rogašovci"]
["SI-107","Rogatec"]
["TH-45","Roi Et"]
["LV-079","Rojas novads"]
["LT-40","Rokiškis"]
["CZ-326","Rokycany"]
["IT-RM","Roma"]
["PH-ROM","Romblon"]
["PH-ROM","Romblon"]
["NO-19","Romsa"]
["BR-RO","Rondônia"]
["MH-RON","Rongelap"]
["MH-RON","Ron̄ḷap"]
["LV-080","Ropažu novads"]
["BR-RR","Roraima"]
["IE-RN","Ros Comáin"]
["SC-25","Ros Kaiman"]
["IE-RN","Roscommon"]
["MK-67","Rosoman"]
["RU-ROS","Rostovskaja oblast'"]
["RU-ROS","Rostovskaya oblast'"]
["KH-16","Rotanak Kiri"]
["KH-16","Rôtânôkiri"]
["GB-ROT","Rotherham"]
["FJ-R","Rotuma"]
["IT-RO","Rovigo"]
["ME-17","Rožaje"]
["UG-429","Rubanda"]
["UG-425","Rubirizi"]
["LV-081","Rucavas novads"]
["LV-082","Rugāju novads"]
["LI-06","Ruggell"]
["LV-084","Rūjienas novads"]
["UG-431","Rukiga"]
["UG-412","Rukungiri"]
["TZ-20","Rukwa"]
["BS-RC","Rum Cay"]
["BI-RM","Rumonge"]
["BI-RM","Rumonge"]
["MW-RU","Rumphi"]
["MW-RU","Rumphi"]
["LV-083","Rundāles novads"]
["BG-18","Ruse"]
["SI-108","Ruše"]
["BI-RT","Rutana"]
["BI-RT","Rutana"]
["GB-RUT","Rutland"]
["TZ-21","Ruvuma"]
["BI-RY","Ruyigi"]
["BI-RY","Ruyigi"]
["KP-10","Ryanggang-do"]
["KP-10","Ryangkangto"]
["RU-RYA","Ryazanskaya oblast'"]
["CZ-524","Rychnov nad Kněžnou"]
["TH-27","Sa Kaeo"]
["EE-74","Saaremaa"]
["DE-SL","Saarland"]
["AZ-SAT","Saatlı"]
["BQ-SA","Saba"]
["BQ-SA","Saba"]
["BQ-SA","Saba"]
["NL-BQ2","Saba (see also separate country code entry under BQ)"]
["MY-12","Sabah"]
["LK-9","Sabaragamuva paḷāta"]
["LK-9","Sabaragamuwa Province"]
["LY-SB","Sabhā"]
["AZ-SAB","Sabirabad"]
["AZ-SBN","Şabran"]
["GT-SA","Sacatepéquez"]
["DE-SN","Sachsen"]
["DE-ST","Sachsen-Anhalt"]
["YE-SD","Şāʻdah"]
["MA-SAF","Safi"]
["MT-47","Safi"]
["MT-47","Safi"]
["JP-41","Saga"]
["MM-01","Sagaing"]
["NP-SA","Sagarmatha"]
["RU-SA","Saha, Respublika"]
["RU-SAK","Sahalinskaja oblast'"]
["AZ-SAH","Şahbuz"]
["BF-12","Sahel"]
["DZ-20","Saïda"]
["BB-02","Saint Andrew"]
["DM-02","Saint Andrew"]
["GD-01","Saint Andrew"]
["JM-02","Saint Andrew"]
["VC-02","Saint Andrew"]
["JM-06","Saint Ann"]
["KN-02","Saint Anne Sandy Point"]
["JM-14","Saint Catherine"]
["DM-03","Saint David"]
["GD-02","Saint David"]
["VC-03","Saint David"]
["JM-11","Saint Elizabeth"]
["AG-03","Saint George"]
["BB-03","Saint George"]
["DM-04","Saint George"]
["GD-03","Saint George"]
["VC-04","Saint George"]
["KN-03","Saint George Basseterre"]
["KN-04","Saint George Gingerland"]
["SH-HL","Saint Helena"]
["BB-04","Saint James"]
["JM-08","Saint James"]
["KN-05","Saint James Windward"]
["AG-04","Saint John"]
["BB-05","Saint John"]
["DM-05","Saint John"]
["GD-04","Saint John"]
["MT-49","Saint John"]
["KN-06","Saint John Capisterre"]
["KN-07","Saint John Figtree"]
["BB-06","Saint Joseph"]
["DM-06","Saint Joseph"]
["MT-48","Saint Julian's"]
["KN-K","Saint Kitts"]
["MT-50","Saint Lawrence"]
["SC-22","Saint Louis"]
["MT-53","Saint Lucia's"]
["BB-07","Saint Lucy"]
["DM-07","Saint Luke"]
["DM-08","Saint Mark"]
["GD-05","Saint Mark"]
["AG-05","Saint Mary"]
["JM-05","Saint Mary"]
["KN-08","Saint Mary Cayon"]
["BB-08","Saint Michael"]
["DM-09","Saint Patrick"]
["GD-06","Saint Patrick"]
["VC-05","Saint Patrick"]
["AG-06","Saint Paul"]
["DM-10","Saint Paul"]
["KN-09","Saint Paul Capisterre"]
["KN-10","Saint Paul Charlestown"]
["MT-51","Saint Paul's Bay"]
["AG-07","Saint Peter"]
["BB-09","Saint Peter"]
["DM-11","Saint Peter"]
["KN-11","Saint Peter Basseterre"]
["AG-08","Saint Philip"]
["BB-10","Saint Philip"]
["BB-11","Saint Thomas"]
["JM-03","Saint Thomas"]
["KN-12","Saint Thomas Lowland"]
["KN-13","Saint Thomas Middle Island"]
["FR-BL","Saint-Barthélemy (see also separate country code entry under BL)"]
["MC-SD","Sainte-Dévote"]
["SC-22","Saint-Louis"]
["SN-SL","Saint-Louis"]
["FR-MF","Saint-Martin (see also separate country code entry under MF)"]
["FR-PM","Saint-Pierre-et-Miquelon (see also separate country code entry under PM)"]
["MC-SR","Saint-Roman"]
["JP-11","Saitama"]
["TR-54","Sakarya"]
["RU-SA","Sakha, Respublika"]
["RU-SAK","Sakhalinskaya oblast'"]
["LT-41","Šakiai"]
["TH-47","Sakon Nakhon"]
["CV-SL","Sal"]
["LV-086","Salacgrīvas novads"]
["IQ-SD","Şalāḩ ad Dīn"]
["RO-SJ","Sălaj"]
["ES-SA","Salamanca"]
["TD-SA","Salamat"]
["TD-SA","Salāmāt"]
["LV-085","Salas novads"]
["LV-087","Salaspils novads"]
["LA-SL","Salavan"]
["LT-42","Šalčininkai"]
["LV-088","Saldus novads"]
["MA-SAL","Salé"]
["IT-SA","Salerno"]
["PS-SLT","Salfit"]
["PS-SLT","Salfīt"]
["GB-SLF","Salford"]
["HU-ST","Salgótarján"]
["MW-SA","Salima"]
["MW-SA","Salima"]
["SI-033","Šalovci"]
["AR-A","Salta"]
["UY-SA","Salto"]
["AZ-SAL","Salyan"]
["AT-5","Salzburg"]
["DO-20","Samaná"]
["AF-SAM","Samangān"]
["AF-SAM","Samangān"]
["PH-WSA","Samar"]
["PH-WSA","Samar"]
["UZ-SA","Samarqand"]
["RU-SAM","Samarskaja oblast'"]
["RU-SAM","Samarskaya oblast'"]
["AZ-SMI","Şamaxı"]
["PH-ZMB","Sambales"]
["KE-37","Samburu"]
["PH-ZSI","Sambuwangga Sibugay"]
["BT-45","Samdrup Jongkhar"]
["GE-SZ","Samegrelo-Zemo Svaneti"]
["TR-55","Samsun"]
["BT-14","Samtse"]
["GE-SJ","Samtskhe-Javakheti"]
["TH-11","Samut Prakan"]
["TH-74","Samut Sakhon"]
["TH-75","Samut Songkhram"]
["AZ-SMX","Samux"]
["CO-SAP","San Andrés, Providencia y Santa Catalina"]
["DO-21","San Cristóbal"]
["TT-SFO","San Fernando"]
["MT-48","San Ġiljan"]
["MT-49","San Ġwann"]
["CR-SJ","San José"]
["UY-SJ","San José"]
["DO-31","San José de Ocoa"]
["AR-J","San Juan"]
["DO-22","San Juan"]
["TT-SJL","San Juan-Laventille"]
["MT-50","San Lawrenz"]
["AR-D","San Luis"]
["MX-SLP","San Luis Potosí"]
["GT-SM","San Marcos"]
["SM-07","San Marino"]
["PE-SAM","San Martin"]
["PE-SAM","San Martín"]
["PE-SAM","San Martín"]
["SV-SM","San Miguel"]
["MT-51","San Pawl il-Baħar"]
["PY-2","San Pedro"]
["DO-23","San Pedro de Macorís"]
["BS-SS","San Salvador"]
["SV-SS","San Salvador"]
["SV-SV","San Vicente"]
["YE-SN","Şanʻā’"]
["SO-SA","Sanaag"]
["DO-24","Sánchez Ramírez"]
["CU-07","Sancti Spíritus"]
["GB-SAW","Sandwell"]
["CF-SE","Sangä"]
["CF-SE","Sangha"]
["CG-13","Sangha"]
["TT-SGE","Sangre Grande"]
["BF-SNG","Sanguié"]
["CH-SG","Sankt Gallen"]
["RU-SPE","Sankt-Peterburg"]
["RU-SPE","Sankt-Peterburg"]
["CD-SA","Sankuru"]
["TR-63","Şanlıurfa"]
["VU-SAM","Sanma"]
["VU-SAM","Sanma"]
["BF-SMT","Sanmatenga"]
["MT-52","Sannat"]
["MT-52","Sannat"]
["HT-CE","Sant"]
["AD-06","Sant Julià de Lòria"]
["SV-SA","Santa Ana"]
["HN-SB","Santa Bárbara"]
["BR-SC","Santa Catarina"]
["CV-CA","Santa Catarina"]
["CV-CF","Santa Catarina do Fogo"]
["AR-Z","Santa Cruz"]
["BO-S","Santa Cruz"]
["CV-CR","Santa Cruz"]
["ES-TF","Santa Cruz de Tenerife"]
["EC-SE","Santa Elena"]
["AR-S","Santa Fe"]
["MT-53","Santa Luċija"]
["GT-SR","Santa Rosa"]
["MT-54","Santa Venera"]
["MT-54","Santa Venera"]
["CO-SAN","Santander"]
["PT-14","Santarém"]
["DO-25","Santiago"]
["CU-13","Santiago de Cuba"]
["AR-G","Santiago del Estero"]
["DO-26","Santiago Rodríguez"]
["DO-32","Santo Domingo"]
["EC-SD","Santo Domingo de los Tsáchilas"]
["CV-SD","São Domingos"]
["CV-SF","São Filipe"]
["CV-SO","São Lourenço dos Órgãos"]
["CV-SM","São Miguel"]
["BR-SP","São Paulo"]
["CV-SS","São Salvador do Mundo"]
["ST-S","São Tomé"]
["CV-SV","São Vicente"]
["FR-71","Saône-et-Loire"]
["TH-19","Saraburi"]
["SR-SA","Saramacca"]
["PH-SAR","Sarangani"]
["PH-SAR","Sarangani"]
["RU-SAR","Saratovskaja oblast'"]
["RU-SAR","Saratovskaya oblast'"]
["MY-13","Sarawak"]
["IT-88","Sardegna"]
["AF-SAR","Sar-e Pul"]
["AF-SAR","Sar-e Pul"]
["BT-31","Sarpang"]
["FR-72","Sarthe"]
["CA-SK","Saskatchewan"]
["CA-SK","Saskatchewan"]
["CI-SM","Sassandra-Marahoué"]
["IT-SS","Sassari"]
["FI-17","Satakunda"]
["FI-17","Satakunta"]
["BD-58","Satkhira"]
["RO-SM","Satu Mare"]
["TH-91","Satun"]
["WS-SA","Satupa'itea"]
["WS-SA","Satupa'itea"]
["LV-089","Saulkrastu novads"]
["CI-SV","Savanes"]
["TG-S","Savanes"]
["LA-SV","Savannakhét"]
["MU-SA","Savanne"]
["ME-18","Šavnik"]
["FR-73","Savoie"]
["IT-SV","Savona"]
["LI-07","Schaan"]
["CH-SH","Schaffhausen"]
["LI-08","Schellenberg"]
["DE-SH","Schleswig-Holstein"]
["CH-SZ","Schwyz"]
["GB-SCT","Scotland"]
["GB-SCB","Scottish Borders, The"]
["PH-CEB","Sebu"]
["AZ-SAD","Sədərək"]
["SN-SE","Sédhiou"]
["MA-SEF","Sefrou"]
["GB-SFT","Sefton"]
["ML-4","Ségou"]
["ES-SG","Segovia"]
["FR-77","Seine-et-Marne"]
["FR-76","Seine-Maritime"]
["FR-93","Seine-Saint-Denis"]
["LV-090","Sējas novads"]
["KR-50","Sejong"]
["AZ-SA","Şəki"]
["AZ-SAK","Şəki"]
["MY-10","Selangor"]
["MN-049","Selenge"]
["BW-SP","Selibe Phikwe"]
["SI-178","Selnica ob Dravi"]
["UG-111","Sembabule"]
["SI-109","Semič"]
["ER-SK","Semienawi K’eyyĭḥ Baḥri"]
["CZ-514","Semily"]
["AZ-SKR","Şəmkir"]
["IR-12","Semnān"]
["SI-183","Šempeter-Vrtojba"]
["SC-22","Sen Lwi"]
["SI-117","Šenčur"]
["SD-SI","Sennar"]
["BF-SEN","Séno"]
["SI-118","Šentilj"]
["SI-119","Šentjernej"]
["SI-120","Šentjur"]
["SI-211","Šentrupert"]
["KR-11","Seoul-teukbyeolsi"]
["UG-232","Serere"]
["BR-SE","Sergipe"]
["SM-09","Serravalle"]
["FJ-13","Serua"]
["AZ-SAR","Şərur"]
["NP-SE","Seti"]
["DZ-19","Sétif"]
["MA-SET","Settat"]
["PT-15","Setúbal"]
["UA-40","Sevastopol"]
["RU-SE","Severnaja Osetija, Respublika"]
["RU-SE","Severnaya Osetiya, Respublika"]
["RS-01","Severnobački okrug"]
["RS-03","Severnobanatski okrug"]
["KZ-SEV","Severo-Kazahstanskaja oblast'"]
["KZ-SEV","Severo-Kazakhstanskaya oblast'"]
["ES-SE","Sevilla"]
["SI-110","Sevnica"]
["SI-111","Sežana"]
["TN-61","Sfax"]
["CN-SN","Shaanxi Sheng"]
["SO-SD","Shabeellaha Dhexe"]
["SO-SH","Shabeellaha Hoose"]
["YE-SH","Shabwah"]
["OM-BS","Shamāl al Bāţinah"]
["OM-SS","Shamāl ash Sharqīyah"]
["SD-DN","Shamāl Dārfūr"]
["PS-NGZ","Shamāl Ghazzah"]
["EG-SIN","Shamāl Sīnā'"]
["MM-17","Shan"]
["CN-SD","Shandong Sheng"]
["CN-SH","Shanghai Shi"]
["CN-SX","Shanxi Sheng"]
["TD-MC","Shārī al Awsaţ"]
["TD-CB","Shārī Bāqirmī"]
["BD-62","Shariatpur"]
["SD-DE","Sharq Dārfūr"]
["UG-426","Sheema"]
["VU-SEE","Shéfa"]
["VU-SEE","Shéfa"]
["GB-SHF","Sheffield"]
["BD-57","Sherpur"]
["GB-ZET","Shetland Islands"]
["SD-KN","Shiamāl Kurdufān"]
["GE-SK","Shida Kartli"]
["JP-25","Shiga"]
["ER-SK","Shimālī al Baḩrī al Aḩmar"]
["JP-32","Shimane"]
["TZ-22","Shinyanga"]
["SZ-SH","Shiselweni"]
["SZ-SH","Shiselweni"]
["JP-22","Shizuoka"]
["AL-10","Shkodër"]
["GB-SHR","Shropshire"]
["BG-27","Shumen"]
["KZ-VOS","Shyghys Qazaqstan oblysy"]
["KZ-SHY","Shymkent"]
["KZ-SHY","Shymkent"]
["TH-33","Si Sa Ket"]
["LT-44","Šiauliai"]
["LT-SA","Šiaulių apskritis"]
["LT-43","Šiaulių miestas"]
["KE-38","Siaya"]
["HR-15","Šibensko-kninska županija"]
["RO-SB","Sibiu"]
["CN-SC","Sichuan Sheng"]
["IT-82","Sicilia"]
["HT-SD","Sid"]
["HT-SE","Sidès"]
["DZ-22","Sidi Bel Abbès"]
["MA-SIB","Sidi Bennour"]
["TN-43","Sidi Bouzid"]
["MA-SIF","Sidi Ifni"]
["MA-SIK","Sidi Kacem"]
["MA-SIL","Sidi Slimane"]
["KH-17","Siem Reab"]
["KH-17","Siĕmréab"]
["IT-SI","Siena"]
["JP-25","Siga"]
["WF-SG","Sigave"]
["MT-55","Siġġiewi"]
["MT-55","Siġġiewi"]
["GN-SI","Siguiri"]
["LV-091","Siguldas novads"]
["TR-56","Siirt"]
["ML-3","Sikasso"]
["PH-SIG","Sikihor"]
["IN-SK","Sikkim"]
["TD-SI","Sila"]
["TD-SI","Sīlā"]
["LT-45","Šilalė"]
["PH-DAO","Silangang Dabaw"]
["PH-MDR","Silangang Mindoro"]
["PH-MSR","Silangang Misamis"]
["PH-NER","Silangang Negros"]
["PH-EAS","Silangang Samar"]
["TN-34","Siliana"]
["BG-19","Silistra"]
["LT-46","Šilutė"]
["JP-32","Simane"]
["TZ-30","Simiyu"]
["KZ-SHY","Šimkent"]
["MX-SIN","Sinaloa"]
["PK-SD","Sindh"]
["PK-SD","Sindh"]
["TH-17","Sing Buri"]
["MD-SI","Sîngerei"]
["TZ-23","Singida"]
["SD-SI","Sinnār"]
["LR-SI","Sinoe"]
["TR-57","Sinop"]
["BQ-SE","Sint Eustatius"]
["BQ-SE","Sint Eustatius"]
["BQ-SE","Sint Eustatius"]
["NL-BQ3","Sint Eustatius (see also separate country code entry under BQ)"]
["NL-SX","Sint Maarten (see also separate country code entry under SX)"]
["SR-SI","Sipaliwini"]
["TT-SIP","Siparia"]
["PH-SIG","Siquijor"]
["IT-SR","Siracusa"]
["BD-59","Sirajganj"]
["AM-SH","Širak"]
["UZ-SI","Sirdaryo"]
["TR-73","Şırnak"]
["UG-215","Sironko"]
["AZ-SR","Şirvan"]
["LT-47","Širvintos"]
["HR-03","Sisačko-moslavačka županija"]
["BF-SIS","Sissili"]
["IR-13","Sīstān va Balūchestān"]
["TR-58","Sivas"]
["AZ-SIY","Siyəzən"]
["JP-22","Sizuoka"]
["DK-85","Sjælland"]
["SE-M","Skåne län [SE-12]"]
["MA-SKH","Skhirate-Témara"]
["DZ-21","Skikda"]
["SI-121","Škocjan"]
["SI-122","Škofja Loka"]
["SI-123","Škofljica"]
["MK-85","Skopje"]
["LV-092","Skrīveru novads"]
["LV-093","Skrundas novads"]
["LT-48","Skuodas"]
["PL-24","Śląskie"]
["IQ-SU","Slêmanî"]
["MT-56","Sliema"]
["MT-56","Sliema"]
["IE-SO","Sligeach"]
["IE-SO","Sligo"]
["BG-20","Sliven"]
["GB-SLG","Slough"]
["SI-112","Slovenj Gradec"]
["SI-113","Slovenska Bistrica"]
["SI-114","Slovenske Konjice"]
["SI-124","Šmarje pri Jelšah"]
["SI-206","Šmarješke Toplice"]
["SI-125","Šmartno ob Paki"]
["SI-194","Šmartno pri Litiji"]
["LV-094","Smiltenes novads"]
["RU-SMO","Smolenskaja oblast'"]
["RU-SMO","Smolenskaya oblast'"]
["BG-21","Smolyan"]
["VN-52","Sóc Trăng"]
["PH-12","Soccsksargen (Region XII)"]
["SE-D","Södermanlands län [SE-04]"]
["FI-02","Södra Karelen"]
["FI-03","Södra Österbotten"]
["FI-04","Södra Savolax"]
["SI-179","Sodražica"]
["MZ-S","Sofala"]
["BG-23","Sofia"]
["BG-22","Sofia (stolitsa)"]
["NO-14","Sogn og Fjordane"]
["NO-14","Sogn og Fjordane"]
["CZ-413","Sokolov"]
["NG-SO","Sokoto"]
["SI-180","Solčava"]
["MD-SD","Șoldănești"]
["GB-SOL","Solihull"]
["GT-SO","Sololá"]
["CH-SO","Solothurn"]
["KZ-SEV","Soltüstik Qazaqstan oblysy"]
["ET-SO","Somali"]
["GB-SOM","Somerset"]
["FR-80","Somme"]
["HU-SO","Somogy"]
["VN-05","Sơn La"]
["IT-SO","Sondrio"]
["TH-90","Songkhla"]
["TZ-31","Songwe"]
["TZ-31","Songwe"]
["MX-SON","Sonora"]
["SV-SO","Sonsonate"]
["PW-370","Sonsorol"]
["PW-370","Sonsorol"]
["SO-SO","Sool"]
["MK-70","Sopište"]
["HU-SN","Sopron"]
["ES-SO","Soria"]
["UY-SO","Soriano"]
["MD-SO","Soroca"]
["UG-211","Soroti"]
["PH-SOR","Sorsogon"]
["PH-SOR","Sorsogon"]
["SI-126","Šoštanj"]
["LC-10","Soufrière"]
["DZ-41","Souk Ahras"]
["BF-SOM","Soum"]
["BF-SOR","Sourou"]
["TN-51","Sousse"]
["MA-09","Souss-Massa"]
["CM-SU","South"]
["BS-SO","South Abaco"]
["BS-SA","South Andros"]
["MV-00","South Ari Atoll"]
["AU-SA","South Australia"]
["GB-SAY","South Ayrshire"]
["US-SC","South Carolina"]
["PH-SCO","South Cotabato"]
["US-SD","South Dakota"]
["SD-DS","South Darfur"]
["BW-SE","South East"]
["SG-04","South East"]
["BS-SE","South Eleuthera"]
["GB-SGC","South Gloucestershire"]
["MV-28","South Huvadhu Atoll"]
["SD-KS","South Kordofan"]
["GB-SLK","South Lanarkshire"]
["MV-20","South Maalhosmadulu"]
["MV-25","South Miladhunmadulu"]
["MV-17","South Nilandhe Atoll"]
["MV-23","South Thiladhunmathi"]
["GB-STY","South Tyneside"]
["SG-05","South West"]
["GB-STH","Southampton"]
["GB-SOS","Southend-on-Sea"]
["BW-SO","Southern"]
["RW-05","Southern"]
["SL-S","Southern"]
["ZM-07","Southern"]
["GD-10","Southern Grenadine Islands"]
["PG-SHM","Southern Highlands"]
["PH-SLE","Southern Leyte"]
["ET-SN","Southern Nations, Nationalities and Peoples"]
["LK-3","Southern Province"]
["MW-S","Southern Region"]
["NZ-STL","Southland"]
["GB-SWK","Southwark"]
["CM-SW","South-West"]
["BW-ST","Sowa Town"]
["BS-SW","Spanish Wells"]
["MC-SP","Spélugues"]
["HR-17","Splitsko-dalmatinska županija"]
["SI-202","Središče ob Dravi"]
["RS-02","Srednjebanatski okrug"]
["RS-07","Sremski okrug"]
["GB-SHN","St. Helens"]
["GB-STS","Staffordshire"]
["BZ-SC","Stann Creek"]
["BG-24","Stara Zagora"]
["MK-71","Staro Nagoričane"]
["SI-115","Starše"]
["RU-STA","Stavropol'skij kraj"]
["RU-STA","Stavropol'skiy kray"]
["MD-SV","Ștefan Vodă"]
["AT-6","Steiermark"]
["GR-H","Stereá Elláda"]
["MD-SN","Stînga Nistrului, unitatea teritorială din"]
["MK-83","Štip"]
["GB-STG","Stirling"]
["SE-AB","Stockholms län [SE-01]"]
["GB-SKP","Stockport"]
["GB-STT","Stockton-on-Tees"]
["KH-19","Stoĕng Trêng"]
["GB-STE","Stoke-on-Trent"]
["LV-095","Stopiņu novads"]
["SI-127","Štore"]
["CZ-316","Strakonice"]
["MD-ST","Strășeni"]
["SI-203","Straža"]
["CZ-20","Středočeský kraj"]
["LV-096","Strenču novads"]
["MK-72","Struga"]
["MK-73","Strumica"]
["MK-74","Studeničani"]
["KH-19","Stueng Traeng"]
["subdivision_code","subdivision_name"]
["RO-SV","Suceava"]
["GT-SU","Suchitepéquez"]
["CO-SUC","Sucre"]
["VE-R","Sucre"]
["EC-U","Sucumbíos"]
["CM-SU","Sud"]
["HT-SD","Sud"]
["RW-05","Sud"]
["HT-SE","Sud-Est"]
["CD-SK","Sud-Kivu"]
["BF-13","Sud-Ouest"]
["CM-SW","Sud-Ouest"]
["CD-SU","Sud-Ubangi"]
["NP-5","Sudur Pashchimanchal"]
["IS-8","Suðurland"]
["IS-2","Suðurnes"]
["GB-SFK","Suffolk"]
["TJ-SU","Sughd"]
["EG-SHG","Sūhāj"]
["MN-051","Sühbaatar"]
["TH-64","Sukhothai"]
["GW-S","Sul"]
["ID-SL","Sulawesi"]
["ID-SR","Sulawesi Barat"]
["ID-SN","Sulawesi Selatan"]
["ID-ST","Sulawesi Tengah"]
["ID-SG","Sulawesi Tenggara"]
["ID-SA","Sulawesi Utara"]
["PH-SUK","Sultan Kudarat"]
["PH-SUK","Sultan Kudarat"]
["PH-SLU","Sulu"]
["PH-SLU","Sulu"]
["RS-12","Šumadijski okrug"]
["ET-SO","Sumalē"]
["ID-SM","Sumatera"]
["ID-SB","Sumatera Barat"]
["ID-SS","Sumatera Selatan"]
["ID-SU","Sumatera Utara"]
["CZ-715","Šumperk"]
["AZ-SM","Sumqayıt"]
["UA-59","Sumska oblast"]
["BD-61","Sunamganj"]
["GB-SND","Sunderland"]
["TH-72","Suphan Buri"]
["TH-84","Surat Thani"]
["PH-SUN","Surigao del Norte"]
["PH-SUR","Surigao del Sur"]
["TH-32","Surin"]
["GB-SRY","Surrey"]
["LY-SR","Surt"]
["UZ-SU","Surxondaryo"]
["AZ-SUS","Şuşa"]
["GB-STN","Sutton"]
["KH-20","Svaay Rieng"]
["NO-21","Svalbard (Arctic Region) (see also separate country code entry under SJ)"]
["NO-21","Svalbard (Arctic Region) (see also separate country code entry under SJ)"]
["KH-20","Svay Riĕng"]
["LT-49","Švenčionys"]
["RU-SVE","Sverdlovskaja oblast'"]
["RU-SVE","Sverdlovskaya oblast'"]
["SI-181","Sveta Ana"]
["SI-204","Sveta Trojica v Slovenskih Goricah"]
["SI-182","Sveti Andraž v Slovenskih Goricah"]
["SI-116","Sveti Jurij"]
["SI-210","Sveti Jurij v Slovenskih Goricah"]
["MK-69","Sveti Nikole"]
["SI-205","Sveti Tomaž"]
["CZ-533","Svitavy"]
["GB-SWA","Swansea [Abertawe GB-ATA]"]
["MT-57","Swieqi"]
["MT-57","Swieqi"]
["PL-26","Świętokrzyskie"]
["GB-SWD","Swindon"]
["DK-83","Syddanmark"]
["BD-G","Sylhet"]
["BD-60","Sylhet"]
["AM-SU","Syunik'"]
["HU-SZ","Szabolcs-Szatmár-Bereg"]
["HU-SD","Szeged"]
["HU-SF","Székesfehérvár"]
["HU-SS","Szekszárd"]
["HU-SK","Szolnok"]
["HU-SH","Szombathely"]
["MT-58","Ta' Xbiex"]
["MT-58","Ta' Xbiex"]
["KH-21","Taakaev"]
["MX-TAB","Tabasco"]
["SI-184","Tabor"]
["CZ-317","Tábor"]
["TZ-24","Tabora"]
["SA-07","Tabūk"]
["VE-S","Táchira"]
["CZ-327","Tachov"]
["PE-TAC","Tacna"]
["UY-TA","Tacuarembó"]
["DJ-TA","Tadjourah"]
["VU-TAE","Taféa"]
["VU-TAE","Taféa"]
["MR-09","Tagant"]
["NE-5","Tahoua"]
["TW-TXG","Taichung"]
["FJ-14","Tailevu"]
["TW-TNN","Tainan"]
["TW-TPE","Taipei"]
["KE-39","Taita/Taveta"]
["TW-TTT","Taitung"]
["CN-TW","Taiwan Sheng (see also separate country code entry under TW)"]
["YE-TA","Tāʻizz"]
["DJ-TA","Tājūrah"]
["TH-63","Tak"]
["SC-23","Takamaka"]
["SC-23","Takamaka"]
["SC-23","Takamaka"]
["KH-21","Takêv"]
["AF-TAK","Takhār"]
["AF-TAK","Takhār"]
["PE-TAC","Takna"]
["KG-T","Talas"]
["KG-T","Talasskaja oblast'"]
["KG-T","Talasskaya oblast'"]
["IL-TA","Tall Abīb"]
["LV-097","Talsu novads"]
["NZ-AUK","Tāmaki-makau-rau"]
["DZ-11","Tamanrasset"]
["MX-TAM","Tamaulipas"]
["SN-TC","Tambacounda"]
["RU-TAM","Tambovskaja oblast'"]
["RU-TAM","Tambovskaya oblast'"]
["GB-TAM","Tameside"]
["IN-TN","Tamil Nadu"]
["KE-40","Tana River"]
["TD-TA","Tandjilé"]
["TZ-25","Tanga"]
["BD-63","Tangail"]
["CD-TA","Tanganyika"]
["MA-TNG","Tanger-Assilah"]
["MA-01","Tanger-Tétouan-Al Hoceïma"]
["MM-05","Tanintharyi"]
["TD-TA","Tānjilī"]
["MA-TNT","Tan-Tan (EH-partial)"]
["ML-10","Taoudénit"]
["MA-TAO","Taounate"]
["MA-TAI","Taourirt"]
["TW-TAO","Taoyuan"]
["BF-TAP","Tapoa"]
["PE-TAC","Taqna"]
["NG-TA","Taraba"]
["LY-TB","Ţarābulus"]
["MD-TA","Taraclia"]
["NZ-TKI","Taranaki"]
["NZ-TKI","Taranaki"]
["IT-TA","Taranto"]
["CL-TA","Tarapacá"]
["MA-TAF","Tarfaya (EH-partial)"]
["BG-25","Targovishte"]
["BO-T","Tarija"]
["PH-TAR","Tarlac"]
["PH-TAR","Tarlak"]
["FR-81","Tarn"]
["FR-82","Tarn-et-Garonne"]
["MA-TAR","Taroudant"]
["CV-TA","Tarrafal"]
["CV-TS","Tarrafal de São Nicolau"]
["ES-T","Tarragona [Tarragona]"]
["EE-78","Tartumaa"]
["SY-TA","Ţarţūs"]
["MT-59","Tarxien"]
["MT-59","Tarxien"]
["NZ-TAS","Tasman"]
["AU-TAS","Tasmania"]
["MA-TAT","Tata"]
["HU-TB","Tatabánya"]
["TN-83","Tataouine"]
["RU-TA","Tatarstan, Respublika"]
["RU-TA","Tatarstan, Respublika"]
["LT-50","Tauragė"]
["LT-TA","Tauragės apskritis"]
["AM-TV","Tavuš"]
["PH-TAW","Tawi-Tawi"]
["PH-TAW","Tawi-Tawi"]
["VN-37","Tây Ninh"]
["MA-TAZ","Taza"]
["GE-TB","Tbilisi"]
["KH-25","Tbong Khmum"]
["KH-25","Tbong Khmŭm"]
["NZ-HKB","Te Matau a Māui"]
["NZ-BOP","Te Moana a Toi Te Huatahi"]
["NZ-NTL","Te Tai tokerau"]
["NZ-WTC","Te Taihau ā uru"]
["NZ-WGN","Te Whanga-nui-a-Tara"]
["MK-75","Tearce"]
["DZ-12","Tébessa"]
["IR-07","Tehrān"]
["TR-59","Tekirdağ"]
["IL-TA","Tel Aviv"]
["IN-TG","Telangana"]
["NO-08","Telemark"]
["NO-08","Telemark"]
["MD-TE","Telenești"]
["RO-TR","Teleorman"]
["GB-TFW","Telford and Wrekin"]
["GN-TE","Télimélé"]
["LT-51","Telšiai"]
["LT-TE","Telšių apskritis"]
["BN-TE","Temburong"]
["BN-TE","Temburong"]
["SB-TE","Temotu"]
["LK-3","Tĕṉ mākāṇam"]
["US-TN","Tennessee"]
["CZ-426","Teplice"]
["IT-TE","Teramo"]
["MY-11","Terengganu"]
["IT-TR","Terni"]
["UA-61","Ternopilska oblast"]
["CA-NL","Terre-Neuve-et-Labrador"]
["FR-TF","Terres australes françaises (see also separate country code entry under TF)"]
["FR-90","Territoire de Belfort"]
["CA-NT","Territoires du Nord-Ouest"]
["AZ-TAR","Tərtər"]
["ES-TE","Teruel"]
["LV-098","Tērvetes novads"]
["MZ-T","Tete"]
["MA-TET","Tétouan"]
["MK-76","Tetovo"]
["US-TX","Texas"]
["LS-K","Thaba-Tseka"]
["LS-K","Thaba-Tseka"]
["VN-20","Thái Bình"]
["VN-69","Thái Nguyên"]
["BD-64","Thakurgaon"]
["VN-21","Thanh Hóa"]
["KE-41","Tharaka-Nithi"]
["GR-E","Thessalía"]
["SN-TH","Thiès"]
["MV-23","Thiladhunmathee Dhekunuburi"]
["MV-07","Thiladhunmathee Uthuruburi"]
["BT-15","Thimphu"]
["VN-26","Thừa Thiên-Huế"]
["CH-TG","Thurgau"]
["DE-TH","Thüringen"]
["GB-THR","Thurrock"]
["MW-TH","Thyolo"]
["MW-TH","Thyolo"]
["CN-TJ","Tianjin Shi"]
["DZ-14","Tiaret"]
["JP-12","Tiba"]
["TD-TI","Tibastī"]
["TD-TI","Tibesti"]
["CH-TI","Ticino"]
["VN-46","Tiền Giang"]
["AR-V","Tierra del Fuego"]
["ET-TI","Tigrai"]
["ET-TI","Tigray"]
["NE-6","Tillabéri"]
["RO-TM","Timiș"]
["PH-AGS","Timog Agusan"]
["PH-DAS","Timog Dabaw"]
["PH-ILS","Timog Iloko"]
["PH-CAS","Timog Kamarines"]
["PH-SCO","Timog Kotabato"]
["PH-LAS","Timog Lanaw"]
["PH-ZAS","Timog Sambuwangga"]
["PH-SUR","Timog Surigaw"]
["DZ-37","Tindouf"]
["MA-TIN","Tinghir"]
["IE-TA","Tiobraid Árann"]
["DZ-42","Tipaza"]
["IE-TA","Tipperary"]
["AL-11","Tiranë"]
["MR-11","Tiris Zemmour"]
["AT-7","Tirol"]
["LK-53","Tirukŏṇamalai"]
["SI-010","Tišina"]
["DZ-38","Tissemsilt"]
["ME-19","Tivat"]
["DZ-15","Tizi Ouzou"]
["MA-TIZ","Tiznit"]
["RU-TYU","Tjumenskaja oblast'"]
["MX-TLA","Tlaxcala"]
["DZ-13","Tlemcen"]
["MG-A","Toamasina"]
["TT-TOB","Tobago"]
["BR-TO","Tocantins"]
["JP-09","Tochigi"]
["SO-TO","Togdheer"]
["TR-60","Tokat"]
["CF-HK","Tö-Kötö"]
["JP-36","Tokushima"]
["JP-36","Tokusima"]
["JP-13","Tokyo"]
["JP-13","Tôkyô"]
["BZ-TOL","Toledo"]
["ES-TO","Toledo"]
["MG-U","Toliara"]
["CO-TOL","Tolima"]
["SI-128","Tolmin"]
["HU-TO","Tolna"]
["GW-TO","Tombali"]
["CF-HM","Tö-Mbömü"]
["ML-6","Tombouctou"]
["RU-TOM","Tomskaja oblast'"]
["RU-TOM","Tomskaya oblast'"]
["TO-04","Tongatapu"]
["TO-04","Tongatapu"]
["RS-21","Toplički okrug"]
["VU-TOB","Torba"]
["VU-TOB","Torba"]
["GB-TOB","Torbay"]
["GB-TOF","Torfaen [Tor-faen]"]
["IT-TO","Torino"]
["UG-212","Tororo"]
["CF-HS","Tö-Sangä / Mbaere-Kadeï"]
["IT-52","Toscana"]
["UZ-TK","Toshkent"]
["UZ-TO","Toshkent"]
["JP-09","Totigi"]
["GT-TO","Totonicapán"]
["JP-31","Tottori"]
["GN-TO","Tougué"]
["MN-047","Töv"]
["AZ-TOV","Tovuz"]
["GB-TWH","Tower Hamlets"]
["JP-16","Toyama"]
["TN-72","Tozeur"]
["VN-51","Trà Vinh"]
["TR-61","Trabzon"]
["GB-TRF","Trafford"]
["LT-52","Trakai"]
["TH-92","Trang"]
["KE-42","Trans Nzoia"]
["IT-TP","Trapani"]
["MR-06","Trarza"]
["BT-TY","Trashi Yangtse"]
["BT-41","Trashigang"]
["TH-23","Trat"]
["SI-129","Trbovlje"]
["CZ-634","Třebíč"]
["SI-130","Trebnje"]
["UY-TT","Treinta y Tres"]
["JM-07","Trelawny"]
["SK-TC","Trenčiansky kraj"]
["IT-32","Trentino-Alto Adige"]
["IT-32","Trentino-Südtirol"]
["IT-TN","Trento"]
["IT-TV","Treviso"]
["LI-09","Triesen"]
["LI-10","Triesenberg"]
["IT-TS","Trieste"]
["LK-53","Trikuṇāmalaya"]
["LK-53","Trincomalee"]
["KN-15","Trinity Palmetto Point"]
["IN-TR","Tripura"]
["SH-TA","Tristan da Cunha"]
["SK-TA","Trnavský kraj"]
["SI-185","Trnovska Vas"]
["NO-19","Troms"]
["NO-19","Troms"]
["NO-23","Trøndelag"]
["NO-23","Trøndelag"]
["BT-32","Trongsa"]
["VE-T","Trujillo"]
["CZ-525","Trutnov"]
["SI-131","Tržič"]
["SI-186","Trzin"]
["CD-TO","Tshopo"]
["CD-TU","Tshuapa"]
["BT-21","Tsirang"]
["WS-TU","Tuamasaga"]
["WS-TU","Tuamasaga"]
["PS-TBS","Tubas"]
["PS-TBS","Ţūbās"]
["AR-T","Tucumán"]
["LV-099","Tukuma novads"]
["RO-TL","Tulcea"]
["PS-TKM","Tulkarm"]
["PS-TKM","Ţūlkarm"]
["RU-TUL","Tul'skaja oblast'"]
["RU-TUL","Tul'skaya oblast'"]
["PE-TUM","Tumbes"]
["PE-TUM","Tumbes"]
["PE-TUM","Tumpis"]
["TT-TUP","Tunapuna-Piarco"]
["TR-62","Tunceli"]
["EC-T","Tungurahua"]
["TN-11","Tunis"]
["NZ-GIS","Tūranga nui a Kiwa"]
["KE-43","Turkana"]
["KZ-YUZ","Turkestankaya oblast'"]
["KZ-YUZ","Turkestanskaja oblast'"]
["KZ-YUZ","Türkistan oblysy"]
["SI-132","Turnišče"]
["BN-TU","Tutong"]
["BN-TU","Tutong"]
["BF-TUI","Tuy"]
["VN-07","Tuyên Quang"]
["RU-TVE","Tverskaja oblast'"]
["RU-TVE","Tverskaya oblast'"]
["RU-TYU","Tyumenskaya oblast'"]
["RU-TY","Tyva, Respublika"]
["RU-TY","Tyva, Respublika"]
["NR-13","Uaboe"]
["NR-13","Uaboe"]
["KE-44","Uasin Gishu"]
["TH-34","Ubon Ratchathani"]
["AZ-UCA","Ucar"]
["PE-UCA","Ucayali"]
["IT-UD","Udine"]
["RU-UD","Udmurtskaja Respublika"]
["RU-UD","Udmurtskaya Respublika"]
["TH-41","Udon Thani"]
["CZ-722","Uherské Hradiště"]
["IE-OY","Uíbh Fhailí"]
["AO-UIG","Uíge"]
["MH-UJA","Ujae"]
["MH-UJA","Ujae"]
["PE-UCA","Ukayali"]
["PE-UCA","Ukayali"]
["LT-53","Ukmergė"]
["MN-1","Ulaanbaatar"]
["IE-U","Ulaidh"]
["ME-20","Ulcinj"]
["RU-ULY","Ul'janovskaja oblast'"]
["KR-31","Ulsan-gwangyeoksi"]
["IE-U","Ulster"]
["RU-ULY","Ul'yanovskaya oblast'"]
["IT-55","Umbria"]
["AE-UQ","Umm al Qaywayn"]
["QA-US","Umm Şalāl"]
["RW-01","Umujyi wa Kigali"]
["MD-UN","Ungheni"]
["GB-UKM","United Kingdom"]
["US-UM","United States Minor Outlying Islands (see also separate country code entry under UM)"]
["SS-UY","Unity"]
["GY-UD","Upper Demerara-Berbice"]
["GH-UE","Upper East"]
["SS-NU","Upper Nile"]
["GM-U","Upper River"]
["GY-UT","Upper Takutu-Upper Essequibo"]
["GH-UW","Upper West"]
["SE-C","Uppsala län [SE-03]"]
["CH-UR","Uri"]
["AF-URU","Uruzgān"]
["AF-URU","Uruzgān"]
["TR-64","Uşak"]
["CZ-42","Ústecký kraj"]
["CZ-427","Ústí nad Labem"]
["CZ-534","Ústí nad Orlicí"]
["SV-US","Usulután"]
["US-UT","Utah"]
["LT-54","Utena"]
["LT-UT","Utenos apskritis"]
["TH-61","Uthai Thani"]
["NL-UT","Utrecht"]
["MH-UTI","Utrik"]
["MH-UTI","Utrōk"]
["IN-UP","Uttar Pradesh"]
["TH-53","Uttaradit"]
["IN-UT","Uttarakhand"]
["LK-4","Uturu paḷāta"]
["LK-7","Uturumæ̆da paḷāta"]
["FI-18","Uusimaa"]
["LK-8","Ūvā mākāṇam"]
["LK-8","Ūva paḷāta"]
["LK-8","Uva Province"]
["WF-UV","Uvea"]
["MN-046","Uvs"]
["WS-VF","Va'a-o-Fonoti"]
["WS-VF","Va'a-o-Fonoti"]
["MU-VP","Vacoas-Phoenix"]
["LI-11","Vaduz"]
["LV-100","Vaiņodes novads"]
["WS-VS","Vaisigano"]
["WS-VS","Vaisigano"]
["TV-VAI","Vaitupu"]
["CF-VK","Vakaga"]
["CF-VK","Vakaga"]
["IT-23","Val d'Aoste"]
["CH-VS","Valais"]
["MK-10","Valandovo"]
["RO-VL","Vâlcea"]
["FR-94","Val-de-Marne"]
["DO-41","Valdesia"]
["FR-95","Val-d'Oise"]
["GB-VGL","Vale of Glamorgan, The [Bro Morgannwg GB-BMG]"]
["ES-V","Valencia"]
["ES-V","València*"]
["ES-VC","Valenciana, Comunidad"]
["ES-VC","Valenciana, Comunitat*"]
["EE-82","Valgamaa"]
["LV-101","Valkas novads"]
["ES-VA","Valladolid"]
["HN-VA","Valle"]
["IT-23","Valle d'Aosta"]
["CO-VAC","Valle del Cauca"]
["CI-VB","Vallée du Bandama"]
["MT-60","Valletta"]
["MT-60","Valletta"]
["MC-VR","Vallon de la Rousse"]
["LV-VMR","Valmiera"]
["CL-VS","Valparaíso"]
["DO-27","Valverde"]
["TR-65","Van"]
["FR-83","Var"]
["LV-102","Varakļānu novads"]
["HR-05","Varaždinska županija"]
["LT-55","Varėna"]
["IT-VA","Varese"]
["VE-X","Vargas"]
["LV-103","Vārkavas novads"]
["SE-S","Värmlands län [SE-17]"]
["BG-03","Varna"]
["FI-19","Varsinais-Suomi"]
["HU-VA","Vas"]
["MK-11","Vasilevo"]
["RO-VS","Vaslui"]
["SE-AC","Västerbottens län [SE-24]"]
["SE-Y","Västernorrlands län [SE-22]"]
["SE-U","Västmanlands län [SE-19]"]
["SE-O","Västra Götalands län [SE-14]"]
["LK-4","Vaṭakku mākāṇam"]
["LK-7","Vaṭamattiya mākāṇam"]
["LK-6","Vaṭamel mākāṇam"]
["FR-84","Vaucluse"]
["CH-VD","Vaud"]
["CO-VAU","Vaupés"]
["TO-05","Vava'u"]
["TO-05","Vava'u"]
["LK-44","Vavuniya"]
["LK-44","Vavuṉiyā"]
["LK-44","Vavuniyāva"]
["LK-6","Vayamba paḷāta"]
["AM-VD","Vayoć Jor"]
["LV-104","Vecpiebalgas novads"]
["LV-105","Vecumnieku novads"]
["LU-VD","Veianen"]
["SI-133","Velenje"]
["MK-13","Veles"]
["SI-187","Velika Polana"]
["SI-134","Velike Lašče"]
["BG-04","Veliko Tarnovo"]
["FR-85","Vendée"]
["IT-34","Veneto"]
["IT-VE","Venezia"]
["LV-VEN","Ventspils"]
["LV-106","Ventspils novads"]
["MX-VER","Veracruz de Ignacio de la Llave"]
["PA-9","Veraguas"]
["IT-VB","Verbano-Cusio-Ossola"]
["IT-VC","Vercelli"]
["US-VT","Vermont"]
["IT-VR","Verona"]
["SI-188","Veržej"]
["NO-10","Vest-Agder"]
["NO-10","Vest-Agder"]
["IS-4","Vestfirðir"]
["NO-07","Vestfold"]
["NO-07","Vestfold"]
["IS-3","Vesturland"]
["HU-VE","Veszprém"]
["HU-VM","Veszprém"]
["MK-12","Vevčani"]
["ZA-LP","Vhembe"]
["PT-16","Viana do Castelo"]
["LU-VD","Vianden"]
["LU-VD","Vianden"]
["LA-VI","Viangchan"]
["LA-VT","Viangchan"]
["IT-VV","Vibo Valentia"]
["IT-VI","Vicenza"]
["CO-VID","Vichada"]
["BY-VI","Viciebskaja voblasć"]
["AU-VIC","Victoria"]
["SI-135","Videm"]
["BG-05","Vidin"]
["FR-86","Vienne"]
["LV-107","Viesītes novads"]
["LC-11","Vieux Fort"]
["KE-45","Vihiga"]
["TL-VI","Vikeke"]
["PT-17","Vila Real"]
["LV-108","Viļakas novads"]
["LV-109","Viļānu novads"]
["EE-84","Viljandimaa"]
["LT-56","Vilkaviškis"]
["CU-05","Villa Clara"]
["RW-01","Ville de Kigali"]
["TD-ND","Ville de Ndjamena"]
["LT-VL","Vilniaus apskritis"]
["LT-57","Vilniaus miestas"]
["LT-58","Vilnius"]
["VN-49","Vĩnh Long"]
["VN-70","Vĩnh Phúc"]
["MK-14","Vinica"]
["UA-05","Vinnytska oblast"]
["SI-136","Vipava"]
["TL-VI","Viqueque"]
["US-VI","Virgin Islands, U.S. (see also separate country code entry under VI)"]
["US-VA","Virginia"]
["HR-10","Virovitičko-podravska županija"]
["LT-59","Visaginas"]
["PT-18","Viseu"]
["SI-137","Vitanje"]
["BY-VI","Vitebskaja oblast'"]
["BY-VI","Vitebskaya oblast'"]
["IT-VT","Viterbo"]
["BY-VI","Vitsyebskaya voblasts'"]
["BE-VLG","Vlaams Gewest"]
["BE-VBR","Vlaams-Brabant"]
["RU-VLA","Vladimirskaja oblast'"]
["RU-VLA","Vladimirskaya oblast'"]
["AL-12","Vlorë"]
["SI-138","Vodice"]
["SI-139","Vojnik"]
["RS-VO","Vojvodina"]
["RU-VGG","Volgogradskaja oblast'"]
["RU-VGG","Volgogradskaya oblast'"]
["RU-VLG","Vologodskaja oblast'"]
["RU-VLG","Vologodskaya oblast'"]
["GH-TV","Volta"]
["UA-07","Volynska oblast"]
["AT-8","Vorarlberg"]
["GR-K","Voreío Aigaío"]
["RU-VOR","Voronezhskaya oblast'"]
["RU-VOR","Voronežskaja oblast'"]
["EE-86","Võrumaa"]
["FR-88","Vosges"]
["KZ-VOS","Vostochno-Kazakhstanskaya oblast'"]
["KZ-VOS","Vostočno-Kazahstanskaja oblast'"]
["RO-VN","Vrancea"]
["SI-189","Vransko"]
["MK-16","Vrapčište"]
["BG-06","Vratsa"]
["SI-140","Vrhnika"]
["ZA-FS","Vrystaat"]
["CZ-723","Vsetín"]
["HR-16","Vukovarsko-srijemska županija"]
["SI-141","Vuzenica"]
["CZ-646","Vyškov"]
["TD-OD","Waddāy"]
["LY-WD","Wādī al Ḩayāt"]
["LY-WS","Wādī ash Shāţi’"]
["TD-WF","Wadi Fira"]
["TD-WF","Wādī Fīrā"]
["NZ-WKO","Waikato"]
["NZ-CAN","Waitaha"]
["KE-46","Wajir"]
["CF-UK","Wäkä"]
["JP-30","Wakayama"]
["UM-79","Wake Island"]
["GB-WKF","Wakefield"]
["UG-113","Wakiso"]
["GB-WLS","Wales [Cymru GB-CYM]"]
["CH-VS","Wallis"]
["FR-WF","Wallis-et-Futuna (see also separate country code entry under WF)"]
["BE-WAL","wallonne, Région"]
["GB-WLL","Walsall"]
["GB-WFT","Waltham Forest"]
["CF-AC","Wâmo"]
["CF-OP","Wâmo-Pendë"]
["GB-WND","Wandsworth"]
["BT-24","Wangdue Phodrang"]
["SR-WA","Wanica"]
["PE-HUV","Wankawelika"]
["PE-HUV","Wankawillka"]
["PE-HUC","Wanuku"]
["PE-HUC","Wanuku"]
["AF-WAR","Wardak"]
["AF-WAR","Wardak"]
["PL-28","Warmińsko-mazurskie"]
["SS-WR","Warrap"]
["GB-WRT","Warrington"]
["GB-WAR","Warwickshire"]
["SD-DC","Wasaţ Dārfūr Zālinjay"]
["US-WA","Washington"]
["IQ-WA","Wāsiţ"]
["IE-WD","Waterford"]
["GQ-WN","Wele-Nzas"]
["GQ-WN","Wele-Nzas"]
["GQ-WN","Wele-Nzas"]
["NZ-WGN","Wellington"]
["ZA-WC","Wes-Kaap"]
["CM-OU","West"]
["IN-WB","West Bengal"]
["GB-WBK","West Berkshire"]
["NZ-WTC","West Coast"]
["SD-DW","West Darfur"]
["GB-WDU","West Dunbartonshire"]
["BS-WG","West Grand Bahama"]
["SD-GK","West Kordofan"]
["GB-WLN","West Lothian"]
["PG-WBK","West New Britain"]
["KE-47","West Pokot"]
["PG-SAN","West Sepik"]
["GB-WSX","West Sussex"]
["US-WV","West Virginia"]
["FJ-W","Western"]
["GH-WP","Western"]
["GM-W","Western"]
["NP-3","Western"]
["PG-WPD","Western"]
["RW-04","Western"]
["SB-WE","Western"]
["UG-W","Western"]
["ZM-01","Western"]
["SL-W","Western Area (Freetown)"]
["AU-WA","Western Australia"]
["SS-BW","Western Bahr el  Ghazal"]
["ZA-WC","Western Cape"]
["SS-EW","Western Equatoria"]
["PG-WHM","Western Highlands"]
["LK-1","Western Province"]
["PH-06","Western Visayas (Region VI)"]
["IE-WH","Westmeath"]
["GB-WSM","Westminster"]
["JM-10","Westmoreland"]
["BE-VWV","West-Vlaanderen"]
["IE-WX","Wexford"]
["NZ-NSN","Whakatū"]
["NZ-CIT","Wharekauri"]
["SD-NW","White Nile"]
["IE-WW","Wicklow"]
["PL-30","Wielkopolskie"]
["AT-9","Wien"]
["GB-WGN","Wigan"]
["MY-14","Wilayah Persekutuan Kuala Lumpur"]
["MY-15","Wilayah Persekutuan Labuan"]
["MY-16","Wilayah Persekutuan Putrajaya"]
["GB-WIL","Wiltshire"]
["LU-WI","Wiltz"]
["LU-WI","Wiltz"]
["GB-WNM","Windsor and Maidenhead"]
["GB-WRL","Wirral"]
["US-WI","Wisconsin"]
["MH-WTJ","Wōjjā"]
["GB-WOK","Wokingham"]
["GA-9","Woleu-Ntem"]
["GB-WLV","Wolverhampton"]
["LU-WI","Wolz"]
["SO-WO","Woqooyi Galbeed"]
["GB-WOR","Worcestershire"]
["CI-WR","Woroba"]
["MH-WTH","Wotho"]
["MH-WTJ","Wotje"]
["MH-WTH","Wōtto"]
["GB-WRX","Wrexham [Wrecsam GB-WRC]"]
["US-WY","Wyoming"]
["AZ-XAC","Xaçmaz"]
["MT-61","Xagħra"]
["MT-61","Xagħra"]
["LA-XA","Xaignabouli"]
["LA-XS","Xaisômboun"]
["AZ-XA","Xankəndi"]
["LA-XE","Xékong"]
["MT-62","Xewkija"]
["MT-62","Xewkija"]
["MT-63","Xgħajra"]
["MT-63","Xgħajra"]
["CN-HK","Xianggang Tebiexingzhengqu (see also separate country code entry under HK)"]
["LA-XI","Xiangkhouang"]
["CN-XJ","Xinjiang Uygur Zizhiqu"]
["CN-XZ","Xizang Zizhiqu"]
["AZ-XIZ","Xızı"]
["AZ-XCI","Xocalı"]
["AZ-XVD","Xocavənd"]
["UZ-XO","Xorazm"]
["BF-YAG","Yagha"]
["TH-95","Yala"]
["TR-77","Yalova"]
["LK-41","Yāl̮ppāṇam"]
["JP-06","Yamagata"]
["JP-35","Yamaguchi"]
["JP-35","Yamaguti"]
["RU-YAN","Yamalo-Nenetskiy avtonomnyy okrug"]
["JP-19","Yamanashi"]
["JP-19","Yamanasi"]
["BG-28","Yambol"]
["CI-YM","Yamoussoukro"]
["MM-06","Yangon"]
["FM-YAP","Yap"]
["LK-41","Yāpanaya"]
["VE-U","Yaracuy"]
["AZ-YAR","Yardımlı"]
["NR-14","Yaren"]
["NR-14","Yaren"]
["RU-YAR","Yaroslavskaya oblast'"]
["TH-35","Yasothon"]
["BF-YAT","Yatenga"]
["IR-25","Yazd"]
["ET-SN","YeDebub Bihēroch Bihēreseboch na Hizboch"]
["VN-06","Yên Bái"]
["IL-JM","Yerushalayim"]
["AZ-YE","Yevlax"]
["AZ-YEV","Yevlax"]
["RU-YEV","Yevreyskaya avtonomnaya oblast'"]
["TW-ILA","Yilan"]
["NG-YO","Yobe"]
["ID-YO","Yogyakarta"]
["GN-YO","Yomou"]
["FR-89","Yonne"]
["GB-YOR","York"]
["HN-YO","Yoro"]
["MA-YUS","Youssoufia"]
["TR-66","Yozgat"]
["KG-Y","Ysyk-Köl"]
["MX-YUC","Yucatán"]
["CA-YT","Yukon"]
["CA-YT","Yukon"]
["DO-42","Yuma"]
["UG-313","Yumbe"]
["TW-YUN","Yunlin"]
["CN-YN","Yunnan Sheng"]
["FR-78","Yvelines"]
["RU-ZAB","Zabajkal'skij kraj"]
["RU-ZAB","Zabaykal'skiy kray"]
["MT-64","Żabbar"]
["MT-64","Żabbar"]
["ME-21","Žabljak"]
["AF-ZAB","Zābul"]
["AF-ZAB","Zābul"]
["GT-ZA","Zacapa"]
["MX-ZAC","Zacatecas"]
["PL-32","Zachodniopomorskie"]
["HR-13","Zadarska županija"]
["TN-22","Zaghouan"]
["MA-ZAG","Zagora"]
["SI-142","Zagorje ob Savi"]
["HR-01","Zagrebačka županija"]
["AO-ZAI","Zaire"]
["RS-15","Zaječarski okrug"]
["UA-21","Zakarpatska oblast"]
["HU-ZA","Zala"]
["HU-ZE","Zalaegerszeg"]
["SI-190","Žalec"]
["PH-ZMB","Zambales"]
["NA-CA","Zambezi"]
["MZ-Q","Zambézia"]
["PH-ZAN","Zamboanga del Norte"]
["PH-ZAS","Zamboanga del Sur"]
["PH-09","Zamboanga Peninsula (Region IX)"]
["PH-ZSI","Zamboanga Sibugay"]
["KZ-ZHA","Žambylskaja oblast'"]
["NG-ZA","Zamfara"]
["ES-ZA","Zamora"]
["EC-Z","Zamora Chinchipe"]
["IR-11","Zanjān"]
["CI-ZZ","Zanzan"]
["TZ-07","Zanzibar North"]
["TZ-11","Zanzibar South"]
["TZ-15","Zanzibar West"]
["RS-05","Zapadnobački okrug"]
["KZ-ZAP","Zapadno-Kazahstanskaja oblast'"]
["KZ-ZAP","Zapadno-Kazakhstanskaya oblast'"]
["UA-23","Zaporizka oblast"]
["AZ-ZAQ","Zaqatala"]
["ES-Z","Zaragoza"]
["LT-60","Zarasai"]
["SI-143","Zavrč"]
["CZ-635","Žďár nad Sázavou"]
["MT-65","Żebbuġ Għawdex"]
["MT-65","Żebbuġ Gozo"]
["MT-66","Żebbuġ Malta"]
["MT-66","Żebbuġ Malta"]
["NL-ZE","Zeeland"]
["MT-67","Żejtun"]
["MT-67","Żejtun"]
["MK-32","Zelenikovo"]
["SI-146","Železniki"]
["MK-30","Želino"]
["AZ-ZAN","Zəngilan"]
["AZ-ZAR","Zərdab"]
["SI-191","Žetale"]
["KZ-ZHA","Zhambyl oblysy"]
["KZ-ZHA","Zhambylskaya oblast'"]
["CN-ZJ","Zhejiang Sheng"]
["BT-34","Zhemgang"]
["UA-18","Zhytomyrska oblast"]
["SN-ZG","Ziguinchor"]
["SK-ZI","Žilinský kraj"]
["LV-110","Zilupes novads"]
["NE-7","Zinder"]
["SI-147","Žiri"]
["BF-ZIR","Ziro"]
["SI-192","Žirovnica"]
["RS-16","Zlatiborski okrug"]
["CZ-724","Zlín"]
["CZ-72","Zlínský kraj"]
["CZ-647","Znojmo"]
["MW-ZO","Zomba"]
["MW-ZO","Zomba"]
["UG-330","Zombo"]
["BF-ZON","Zondoma"]
["TR-67","Zonguldak"]
["BJ-ZO","Zou"]
["BF-ZOU","Zoundwéogo"]
["SI-144","Zreče"]
["MK-33","Zrnovci"]
["OM-ZU","Z̧ufār"]
["CH-ZG","Zug"]
["NL-ZH","Zuid-Holland"]
["VE-V","Zulia"]
["CH-ZH","Zürich"]
["MT-68","Żurrieq"]
["MT-68","Żurrieq"]
["SI-193","Žužemberk"]
["LV-110","Zilupes novads"]
["LV-110","Zilupes novads"]
["NE-7","Zinder"]
["NE-7","Zinder"]
["SI-147","Žiri"]
["SI-147","Žiri"]
["BF-ZIR","Ziro"]
["BF-ZIR","Ziro"]
["SI-192","Žirovnica"]
["SI-192","Žirovnica"]
["RS-16","Zlatiborski okrug"]
["RS-16","Zlatiborski okrug"]
["CZ-724","Zlín"]
["CZ-724","Zlín"]
["CZ-72","Zlínský kraj"]
["CZ-ZL","Zlínský kraj"]
["CZ-647","Znojmo"]
["CZ-627","Znojmo"]
["MW-ZO","Zomba"]
["MW-ZO","Zomba"]
["MW-ZO","Zomba"]
["MW-ZO","Zomba"]
["UG-330","Zombo"]
["UG-331","Zombo"]
["BF-ZON","Zondoma"]
["BF-ZON","Zondoma"]
["TR-67","Zonguldak"]
["TR-67","Zonguldak"]
["BJ-ZO","Zou"]
["BJ-ZO","Zou"]
["BF-ZOU","Zoundwéogo"]
["BF-ZOU","Zoundwéogo"]
["SI-144","Zreče"]
["SI-144","Zreče"]
["MK-33","Zrnovci"]
["MK-33","Zrnovci"]
["OM-ZU","Z̧ufār"]
["OM-ZU","Z̧ufār"]
["CH-ZG","Zug"]
["CH-ZG","Zug"]
["NL-ZH","Zuid-Holland"]
["NL-ZH","Zuid-Holland"]
["VE-V","Zulia"]
["VE-V","Zulia"]
["CH-ZH","Zürich"]
["CH-ZH","Zürich"]
["MT-68","Żurrieq"]
["MT-68","Żurrieq"]
["MT-68","Żurrieq"]
["MT-68","Żurrieq"]
["SI-193","Žužemberk"]
["SI-193","Žužemberk"]